{"text_format":"1","workbook":"xlsx","n_sheets":5,"sheets":["Data base original","Data base graphs 1","Data base graphs 2","FAME Persistence2","Graphs"],"not_rendered":{"charts":18,"images":7,"macros":1,"external_links":0,"defined_names":1,"comments":0,"pivot_tables":0},"unopened":[],"bounds":{"document_bytes":16777216,"sheet_cells":100000,"rows_first":2000,"rows_last":500,"rows_between":2000,"halvings":0,"cell_chars":16384,"cell_head_chars":4096},"cells_cut":0,"cells_raw":0,"read":"whole","date_system":"1900"}

{"sheet":"Data base original","index":0,"n_rows":155,"n_cols":49,"rows_kept":155,"cut":false,"hidden":false,"merged":[[0,17,0,39],[1,17,1,21],[1,22,1,28],[1,29,1,39],[0,1,0,5],[0,6,0,16],[1,1,1,5],[1,6,1,9],[1,10,1,12],[1,13,1,15],[0,41,0,48],[1,41,1,42],[1,43,1,44],[1,45,1,46],[1,47,1,48],[3,41,3,48],[4,41,4,48],[3,1,3,5],[3,6,3,16],[3,17,3,39],[4,1,4,5],[4,6,4,16],[4,17,4,39]]}
[null,"LOANS (*)",null,null,null,null,"INTEREST RATES BY TYPE  (*)",null,null,null,null,null,null,null,null,null,null,"MONETARY AGGREGATES  (*)",null,null,null,null,null,null,null,null,null,null,null,null,null,null,null,null,null,null,null,null,null,null,null,"INTEREST RATES BY MATURITY  (*)"]
[null,"loans individual balance sheets",null,null,null,null,"consumer ($)",null,null,null,"commercial ($)",null,null,"foreign trade (US$)",null,null,"mortgage (UF)","M1",null,null,null,null,"M2",null,null,null,null,null,null,"M3",null,null,null,null,null,null,null,null,null,null,null,"30 to 89 days",null,"90 days to 1 year ",null,"1 to 3 years",null,"more than 3 years"]
[null,"commercial","consumer","mortgage","foreign trade","total","consumer average","credit card","installment credit","overdraft","commercial average","credit card","overdraft","foreign trade average","export ","import",null,"monetary base","currency in circulation","current account deposits","other checkable deposits","M1","time deposits","savings deposits","mutual funds quotas in instruments with maturity of up to 1 year","deposits of savings and credit cooperatives","mutual funds investments in M2","savings and credit cooperatives investments in M2","M2","foreign currency deposits","Central Bank instruments","treasury bonds","mortgage bonds","commercial papers","corporate bonds","other mutual funds quotas","AFP voluntary savings quotas","mutual funds investments in M3","AFP investments in M3","M3",null,"deposits","loans","deposits","loans","deposits","loans","deposits","loans"]
[null,"billions of pesos",null,null,null,null,"rates on an annual basis 360 days, percentage",null,null,null,null,null,null,null,null,null,null,"billions of pesos",null,null,null,null,null,null,null,null,null,null,null,null,null,null,null,null,null,null,null,null,null,null,null,"rates on an annual basis 360 days, percentage"]
[null,"Source: Central Bank of Chile and  Superintendency of Banks and Financial Institutions",null,null,null,null,"Source: Central Bank of Chile",null,null,null,null,null,null,null,null,null,null,"Source: Central Bank of Chile",null,null,null,null,null,null,null,null,null,null,null,null,null,null,null,null,null,null,null,null,null,null,null,"Source: Central Bank of Chile"]
[null,"F022.COMBI.STO.Z.Z.CLP.M","F022.CONBI.STO.Z.Z.CLP.M","F022.VIVBI.STO.Z.Z.CLP.M","F022.CMXBI.STO.Z.Z.CLP.M","F022.CTOBI.STO.Z.Z.CLP.M","F022.CON.TIP.Z.NO.Z.M","F022.CONTARJ.TIP.Z.NO.Z.M","F022.CONCUOT.TIP.Z.NO.Z.M","F022.CONSOBR.TIP.Z.NO.Z.M","F022.COM.TIP.Z.NO.Z.M","F022.COMCUOT.TIP.Z.NO.Z.M","F022.COMSOBR.TIP.Z.NO.Z.M","F022.CMX.TIP.Z.US.Z.M","F022.CMXEXPT.TIP.Z.US.Z.M","F022.CMXIMPT.TIP.Z.US.Z.M","F022.VIV.TIP.MA03.UF.Z.M","F021.BMO.STO.N.CLP.0.M","F021.CIR.STO.N.CLP.0.M","F021.DCC.STO.N.CLP.0.M","F021.DA.STO.N.CLP.0.M","F021.M1.STO.N.CLP.0.M","F021.DP.STO.N.CLP.0.M","F021.AHP.STO.N.CLP.0.M","F021.FM.STO.N.CLP.0.M","F021.CAC.STO.N.CLP.0.M","F021.FM2.STO.N.CLP.0.M","F021.CA2.STO.N.CLP.0.M","F021.M2.STO.N.CLP.0.M","F021.DME.STO.N.CLP.0.M","F021.DBC.STO.N.CLP.0.M","F021.BOT.STO.N.CLP.0.M","F021.LCR.STO.N.CLP.0.M","F021.ECO.STO.N.CLP.0.M","F021.BOE.STO.N.CLP.0.M","F021.FMR.STO.N.CLP.0.M","F021.CAV.STO.N.CLP.0.M","F021.FM3.STO.N.CLP.0.M","F021.AF3.STO.N.CLP.0.M","F021.M3.STO.N.CLP.0.M",null,"F022.CAP.TIN.D089.NO.Z.M","F022.COL.TIN.D089.NO.Z.M","F022.CAP.TIN.AN01.NO.Z.M","F022.CAP.TIN.Z.NO.Z.M","F022.CAP.TIN.AN03.NO.Z.M","F022.COL.TIN.AN03.NO.Z.M","F022.CAP.TIN.MA03.NO.Z.M","F022.COL.TIN.MA03.NO.Z.M"]
[]
[]
[]
[]
["2006-01-01",25877.188999999998,5571.0029999999997,9317.4879999999994,3905.4259999999999,44671.106,26.840105511345499,"","","",10.2731725726366,"","",5.28923438819597,"","",5.31,2757.7020000000002,1694,4523.3099999999995,1360.3000000000002,7577.61,23131.487499999999,2244.9699999999998,3330.57,110.16,3111.66,8.4700000000000006,33274.667500000003,3263.92,6603.07,1040.99,4253.96,352.74,8243.9500000000007,3443.76,408.65,2312.86,161.41,58411.4375,null,4.92,7.56,5.52,14.76,6.24,17.64,6.36,19.920000000000002]
["2006-02-01",25995.919000000002,5649.9009999999998,9409.7510000000002,3971.4110000000001,45026.982000000004,28.080010671663999,null,null,null,10.6917516556947,null,null,5.4882926812584802,null,null,5.33,2800.7710000000002,1718.6,4534.7425000000003,1295.0274999999988,7548.369999999999,23439.305499999999,2237.5500000000002,3233.72,123.01,3034.93,5.84,33541.1855,3379.45,6469.58,1053.0899999999999,4269.9799999999996,358.48,8174.45,3670.98,420.38,2365.2199999999998,163.97,58808.385500000004,null,4.5599999999999996,7.56,5.16,15.48,6.36,17.64,7.2,18.600000000000001]
["2006-03-01",26532.268,5831.4129999999996,9540.0669999999991,4086.0120000000002,45989.760000000002,25.220629902156901,null,null,null,10.242012151611499,null,null,5.8475082006758301,null,null,5.22,2897.087,1708.3,4530.39725,1300.88275,7539.58,23947.409,2238.86,3752.51,127.13,3546.99,6.15,34052.349000000009,3311.26,6343.46,1063.27,4348.74,354.14,8242.23,3777.33,430.6,2420.59,166.01,59336.779000000002,null,4.68,7.32,5.28,14.64,6,15.96,7.2,19.079999999999998]
["2006-04-01",27144.353999999999,5934.6040000000003,9634.7270000000008,4126.3919999999998,46840.076999999997,26.812381250088201,null,null,null,10.6963342219099,null,null,5.6534729872904501,null,null,5.04,3019.9389999999999,1710.9,4668.0776999999998,1257.6623000000004,7636.64,24350.179,2239.71,4222.62,123.45,4032.18,11.32,34529.099000000002,3342.52,6252.99,1067.8399999999999,4250.3,330.64,8372.4,3828.1,445.85,2485.1,168.26,59766.378999999994,null,4.8,7.44,5.52,14.52,6.12,18.84,6.96,20.52]
["2006-05-01",27224.794999999998,6010.1760000000004,9795.9539999999997,4360.8059999999996,47391.731,27.4996852524513,null,null,null,10.699763036027299,null,null,6.0693249259096804,null,null,5.03,2891.7040000000002,1719,4778.1961499999998,1198.3438500000002,7695.54,24721.836499999998,2258.06,3957.82,124.65,3797.24,11.71,34948.9565,3514.52,6039.46,1065.26,4309.05,313.95999999999998,8445.32,3866.9,455.5,2471.92,179.66,60307.3465,null,4.92,7.44,5.52,15.12,6.12,18.48,null,20.04]
["2006-06-01",27538.088,6095.0370000000003,9949.0169999999998,4700.0010000000002,48282.142999999996,27.540614539592301,null,null,null,10.0914888005923,null,null,6.0986268480947396,null,null,5,2910.86,1755.2,4677.9574000000002,1388.642599999999,7821.7999999999993,24974.548999999999,2289.71,4054.03,128.52000000000001,3856.88,7.17,35404.559000000001,3629.06,5881.13,1057.3800000000001,4419.18,316.05,8469.06,3777.34,452.49,2419.6799999999998,184.36,60802.208999999995,null,5.04,7.56,5.4,14.28,6.12,17.04,7.56,16.8]
["2006-07-01",27878.936000000002,6188.0330000000004,10134.075000000001,4504.95,48705.993999999999,27.283235773047799,null,null,null,9.9566969940811703,null,null,6.2949303717057496,null,null,5.0999999999999996,2889.248,1744.3,4593.7705500000002,1352.1194500000004,7690.1900000000005,25128.756999999998,2298.52,4091.77,128.53,3878.73,8.41,35450.627,3630.31,5722.86,1063.0999999999999,4334.5600000000004,337.86,8430.67,3818.66,455.8,2486.5700000000002,185.74,60572.136999999988,null,5.04,7.8,5.52,13.92,6.12,17.88,7.68,19.32]
["2006-08-01",28247.624,6337.7860000000001,10348.575000000001,4524.201,49458.186000000002,26.639610178285299,null,null,null,10.308394808512,null,null,6.2227574390990599,null,null,5.05,2764.59,1724.9,4577.3334999999997,1355.3565000000003,7657.59,25565.782500000001,2303.31,3801.64,127.65,3148.09,9.9,36297.982499999998,3597.79,6004.8,1071.25,4281.3599999999997,363.45,8510.2199999999993,4004.45,469,2893.12,189.31,61517.872500000005,null,5.16,8.16,5.52,14.16,6.12,17.28,7.8,15.96]
["2006-09-01",28286.671999999999,6452.1310000000003,10481.288,4639.0709999999999,49859.161999999997,26.537279800045599,null,null,null,10.345094933528101,null,null,6.2888466043057596,null,null,5.01,3018.4589999999998,1805.7,4605.4864999999991,1513.8235000000002,7925.0099999999993,26010.968000000001,2309.4499999999998,4298.29,151.94999999999999,3592.98,9.93,37092.757999999994,3605.23,6394.11,1079.8,4379.0600000000004,371.07,8652.0300000000007,4126.88,482.11,2999.78,191.47,62991.797999999995,null,5.16,8.16,5.52,14.4,6,17.28,6.12,15.6]
["2006-10-01",28525.245999999999,6567.0209999999997,10583.666999999999,4580.3370000000004,50256.271000000001,26.874266437626801,null,null,null,10.3284256051627,null,null,6.1776341040460299,null,null,4.95,3003.0526370000002,1781.4,4572.5084999999999,1385.6614999999997,7739.57,26344.010999999999,2313.98,4781.8100000000004,176.88,4504.55,11.2,36840.501000000004,3638.46,6187.42,1089.92,4337.05,371.05,8713.07,4168.04,498.26,2737.7,193.7,62912.370999999999,null,5.16,8.0399999999999991,5.52,14.16,5.88,18.600000000000001,6.48,20.28]
["2006-11-01",29148.368999999999,6690.5990000000002,10695.628000000001,4696.9269999999997,51231.523000000001,26.970837734170999,null,null,null,10.169422469712799,null,null,6.1078112166577503,null,null,4.82,3011.76559,1804.2,4581.5053000000007,1481.534699999999,7867.24,26760.862999999998,2304.87,4571.5,177.92,4354.2,12.42,37315.773000000001,3679.09,6044.24,1082.9000000000001,4440.1000000000004,368.02,8780.32,4245.68,516.44000000000005,2714.6,197.76,63560.202999999994,null,5.16,7.92,5.52,14.4,5.76,18.12,7.08,16.920000000000002]
["2006-12-01",29910.707999999999,6786.2209999999995,10799.63,4805.6109999999999,52302.17,27.0849800029482,null,null,null,10.2462156294828,null,null,6.0777325619925202,null,null,4.7699999999999996,3504.0686519999999,1958.1,4912.8567000000003,1709.1432999999984,8580.0999999999985,27389.040000000001,2282.73,4613.79,174.56,4388.79,12.87,38638.560000000005,3630.32,5879.37,1058.49,4467.42,364.22,8999.0300000000007,4359.5200000000004,538.89,2696.8,202.16,65036.860000000008,null,5.28,7.68,5.64,13.44,5.88,18,6.12,18.72]
["2007-01-01",30104.208999999999,6864.27,10928.962,4950.3680000000004,52847.809000000001,27.904564651345101,null,null,null,10.0813509695242,null,null,6.10488173655519,null,null,4.68,3035.860502,1944.3,5174.8192999999992,1672.7307000000012,8791.85,28083.585500000001,2275.6999999999998,4558.09,170.67,4356.9399999999996,12.05,39510.905500000001,3630.65,5344.41,1039.43,4352.59,361.04,9272.74,4565.59,558.19000000000005,2684.67,208.05,65742.825500000006,null,5.04,7.44,5.4,13.56,5.64,17.88,6.12,20.04]
["2007-02-01",30453.855,6925.2460000000001,11070.236999999999,4981.741,53431.078999999998,28.682036168198401,null,null,null,9.9487011377282997,null,null,6.0921878167335102,null,null,4.58,3250.881288,1974,5245.0043499999992,1520.4356500000013,8739.44,28586.565999999999,2273.9499999999998,4242.7,172.72,4138.21,12.09,39865.075999999994,3755.68,5159.6000000000004,1049.47,4365.8999999999996,363.87,9393.7000000000007,4755.82,566.44000000000005,2714.44,205.13,66355.986000000004,null,5.04,8.0399999999999991,5.4,14.16,5.64,19.2,6.6,16.32]
["2007-03-01",30797.955000000002,7057.0450000000001,11237.237999999999,4974.9380000000001,54067.175999999999,26.988437835351601,null,null,null,9.8189661910433408,null,null,5.9929048908901699,null,null,4.5599999999999996,3466.2068429999999,1967.6,5356.8644999999997,1457.0655000000011,8781.5300000000007,29060.515500000001,2277.19,4764.3500000000004,176.15,4639.47,11.9,40408.3655,3758.09,5135.92,1035.8399999999999,4402.84,369.8,9433.6200000000008,4940.53,574.64,2836.48,210.66,67012.505499999985,null,5.04,7.8,5.28,14.16,5.52,17.64,6.6,13.32]
["2007-04-01",31287.592000000001,7145.5609999999997,11391.856,5143.0990000000002,54968.108,27.737390581552599,null,null,null,9.9490411209631109,null,null,6.0265213090979604,null,null,4.54,3604.7379999999998,1972.8,5462.2137499999999,1561.0062500000006,8996.02,29482.415000000001,2277.08,5255.88,177.89,5054.87,14.28,41120.135000000002,3808.68,5050.13,1012.14,4048.81,372.27,9423.35,5234.03,598.29999999999995,2952.32,213.44,67502.084999999992,null,5.04,7.8,5.4,13.08,5.64,17.16,6,18.48]
["2007-05-01",31686.085999999999,7187.3029999999999,11616.995999999999,5319.2820000000002,55809.667000000001,27.886722153152501,null,null,null,10.029254363779399,null,null,6.0731379801827003,null,null,4.3899999999999997,3718.4435149999999,1985.9,5487.3403500000004,1575.6496499999989,9048.89,29997.855499999998,2292.6799999999998,5086.24,189.13,4850.32,16.920000000000002,41747.555499999995,3961.75,4914.41,1067.46,4189.04,372.17,9500.48,5422.62,625.74,2894.61,220.86,68685.755499999985,null,5.04,7.92,5.64,13.44,5.76,14.64,6.72,17.64]
["2007-06-01",32190.673999999999,7240.03,11889.188,5286.9889999999996,56606.881000000001,27.9430478561565,null,null,null,9.8249166514255304,null,null,6.1352687019551402,null,null,4.42,3666.4787850000002,2006.5,5406.4358000000002,1679.8541999999989,9092.7899999999991,30655.150500000003,2317.0500000000002,5315.17,203.23,5089.07,16.45,42477.870500000005,3932.11,4718.7299999999996,1133.57,4213.57,381.92,9597.02,5560.25,650.12,2805.23,228.88,69631.050500000012,null,5.4,7.44,5.52,12.84,6.36,16.2,7.56,17.16]
["2007-07-01",32687.58,7329.2539999999999,12122.924000000001,5263.1570000000002,57402.915000000001,28.854555981382799,null,null,null,9.98563879156446,null,null,6.06253095516304,null,null,4.51,3650.5884460000002,1991.3,5397.0863499999996,1752.803650000001,9141.19,31072.552500000002,2321.37,5253.62,211.65,4889.29,17.420000000000002,43093.672500000008,3926.29,4653.62,1160.6300000000001,4096.74,389.69,9609.6200000000008,5782.33,671.26,2805.97,234.6,70343.282500000016,null,5.4,7.56,5.76,13.08,6.36,15.36,7.08,17.88]
["2007-08-01",33344.21,7456.1440000000002,12409.393,5359.9480000000003,58569.695,27.592636850561401,null,null,null,9.9113971326751198,null,null,6.1999090900244802,null,null,4.6900000000000004,3502.9674054217703,1969.9,5408.1836000000003,1743.3664000000003,9121.4500000000007,31127.8495,2327.08,5407.28,220.73,4995.6099999999997,19.91,43188.869500000001,3958.81,4744.24,1160.28,4146.57,397.83,9734.06,5885.32,672.26,2898.11,233.27,70756.859500000006,null,5.52,7.68,6.12,12.84,6.6,15.72,7.8,18.600000000000001]
["2007-09-01",34064.347000000002,7529.5680000000002,12721.028,5310.8159999999998,59625.758999999998,28.888644870074799,null,null,null,10.126112936643199,null,null,6.1441163891756796,null,null,4.79,4118.5018824799999,2059.3000000000002,5397.7653499999997,1952.1646499999997,9409.23,31394.433499999999,2340.96,5425.09,229.26,5262.59,19.989999999999998,43516.393499999991,3967.61,4687.45,1185.22,4227.91,397.53,9905.39,5964.2,681.5,2984.07,225.16,71323.973499999993,null,5.88,8.4,6.36,14.04,6.72,16.32,7.68,19.68]
["2007-10-01",34709.023999999998,7628.0240000000003,12982.869000000001,5237.7790000000005,60557.696000000004,29.010985038932098,null,null,null,10.150835175765,null,null,5.8533606967078802,null,null,4.83,3533.5825240000004,2018.9,5351.5121999999992,1820.4178000000006,9190.83,32192.0455,2357.69,5528.08,234.83,5508.11,17.059999999999999,43978.305500000002,4089.22,4596.54,1184.1400000000001,4137.2700000000004,393.47,10064.370000000001,6212.2,716.88,3014.92,230.2,72127.275499999989,null,5.88,9.7200000000000006,6.36,14.4,6.84,15.84,7.44,19.440000000000001]
["2007-11-01",35764.525000000001,7740.683,13182.558999999999,5543.69,62231.457000000002,28.918278266454799,null,null,null,10.1663921671149,null,null,5.6824301269678097,null,null,4.8099999999999996,3515.0658659999999,2041.2,5462.3508999999995,2066.9790999999996,9570.5299999999988,33221.212500000001,2363.5700000000002,6338.14,229.9,6247.86,15.74,45459.752500000002,4144.9799999999996,4450.9799999999996,1231.92,4167.13,405.73,10272.129999999999,6296.57,723.79,3081.23,242.1,73829.652499999997,null,5.88,10.44,6.36,14.04,6.84,15.96,10.199999999999999,18.239999999999998]
["2007-12-01",36669.065999999999,7827.1149109999997,13431.648999999999,5403.1790000000001,63331.008909999997,29.956424397723399,null,null,null,10.207594462623099,null,null,5.8907807742312901,null,null,4.83,3660.5775624892599,2210.3000000000002,5873.0164999999997,2046.5435000000007,10129.86,34305.202999999994,2356.44,6176.76,221.39,6053.72,16.559999999999999,47119.373,4142.8900000000003,4082.7,1327.55,4138.16,389.53,10443.17,6094.77,706.55,3017.96,248.08,75178.652999999991,null,6.48,9.84,6.96,13.32,7.08,16.079999999999998,7.32,19.2]
["2008-01-01",36532.937510000003,7916.3758319999997,13711.532590000001,5095.8082670000003,63256.654199999997,32.062977085834703,null,null,null,10.546072555411,null,null,4.9099747135160499,null,null,4.8,3746.54839480891,2190.6,6114.3454999999994,1899.1544999999992,10204.099999999999,35106.784999999996,2362.9,5566.9,229.4,5520,18.5,47931.584999999999,4208.8,4142.8,1397.2,4131.3,368.7,10541.2,5674.1,666,2953.2,253.8,75854.684999999998,null,6.36,10.68,6.6,14.04,7.32,18,7.92,21.36]
["2008-02-01",36902.591229999998,7975.8912190000001,13854.585139999999,5196.5313230000002,63929.598910000001,31.960689431939102,null,null,null,10.5242958634587,null,null,4.1944529702062496,null,null,4.9000000000000004,3755.4123613319998,2228.8000000000002,6031.2590999999993,1896.7408999999998,10156.799999999999,35534.998999999996,2374.6999999999998,5860.6,240.4,5697.6,16.600000000000001,48453.298999999999,4258.8999999999996,4376.3,1301.8,4084,369.8,10558.6,5491.9,638.79999999999995,3171,249,76113.399000000005,null,6.24,10.68,6.6,13.8,7.08,17.88,7.68,19.68]
["2008-03-01",37065.959470000002,8059.479026,14054.684499999999,5151.1482319999996,64331.271229999998,29.8751708037857,null,null,null,10.6081632164383,null,null,3.9099521988548198,null,null,4.82,3909.4759407573997,2229.3000000000002,6007.5789000000004,1864.8211000000001,10101.700000000001,36025.548000000003,2380.3000000000002,5949.5,250.8,5714.1,14.8,48978.948000000011,4172.8999999999996,4370.3999999999996,1336.5,4081.2,365.9,10620.1,5702.6,638.29999999999995,3450,258.2,76558.64800000003,null,6.48,10.68,6.96,14.16,7.32,16.440000000000001,7.44,19.079999999999998]
["2008-04-01",37929.259859999998,8157.7401650000002,14333.60615,5818.9849320000003,66239.591109999994,30.126329719934201,null,null,null,10.592877402859299,null,null,4.01635492774912,null,null,4.76,3768.9299700000001,2213.8000000000002,6050.2836499999994,1837.2163499999997,10101.299999999999,36664.948499999999,2392.4,6075.6,261.39999999999998,5909.6,16.100000000000001,49569.948500000006,4431.3,4342.6000000000004,1426.3,4082.3,375.2,10823.6,5906.2,636.6,3513.8,252.7,77827.548500000004,null,6.48,10.92,6.96,14.64,7.32,17.28,7.44,19.8]
["2008-05-01",38480.927710000004,8155.6718179999998,14529.422200000001,6335.3939030000001,67501.415630000003,30.9324869049988,null,null,null,10.6795696146953,null,null,4.1160037726979901,null,null,4.63,3922.1344470286499,2257.1999999999998,6158.4199499999995,2000.7800500000003,10416.4,36940.379000000001,2427.4,6895.9,274.5,6684,18.8,50251.779000000002,4876.2,4531.7,1556.6,3987.2,396,11137.4,6041,655.20000000000005,3503.9,251,79678.178999999989,null,6.6,10.92,6.96,13.68,7.32,17.28,7.8,20.399999999999999]
["2008-06-01",39280.581299999998,8190.3773739999997,14847.071019999999,7018.9911060000004,69337.020799999998,30.744248148501701,null,null,null,10.8763012727232,null,null,4.2386793668557603,null,null,4.72,3942.2369978939996,2274.1999999999998,6353.5361000000003,1863.9639000000006,10491.7,36953.186500000003,2468.3000000000002,6562.2,293.5,6357.7,22,50389.186500000011,5370,4879.8,1630.8,4083.1,413.2,11329.1,6013.4,657.3,3453.4,250.4,81062.086500000019,null,6.72,11.28,7.32,14.28,7.68,18,8.52,20.28]
["2008-07-01",39742.064830000003,8230.3700950000002,15178.60382,6694.5079480000004,69845.546690000003,31.240313742673901,null,null,null,11.428753715123401,null,null,4.4044248683942699,null,null,4.87,3885.24557257891,2254.4,6175.0858000000007,1520.7141999999999,9950.2000000000007,37144.072,2498.6999999999998,6257,307.89999999999998,6006.6,23.7,50127.571999999993,5832.1,5436.9,1685.6,4002.9,420.3,11377.4,5891.9,638.9,3507.2,263.5,81642.871999999974,null,6.84,10.56,7.56,15.36,8.64,18.12,8.76,21]
["2008-08-01",40257.88392,8288.8088970000008,15482.081,6706.7849420000002,70735.558770000003,32.014571090938801,null,null,null,11.872771857100901,null,null,4.6828430653168001,null,null,4.82,3888.73578073305,2232,5954.4933000000001,1876.3066999999992,10062.799999999999,37322.297000000006,2523.5,6316.2,321.3,5907.8,24.4,50613.897000000012,6044.2,6257.8,1827.6,4007.5,436.4,11696.9,5802.1,619.6,3699.5,266.2,83340.296999999991,null,7.44,11.64,8.0399999999999991,15.24,8.64,19.2,9.24,23.28]
["2008-09-01",40957.882839999998,8315.6560050000007,15741.795550000001,7268.8705710000004,72284.204970000006,34.024364909569798,null,null,null,12.804720313383299,null,null,5.1263856274647104,null,null,4.8,3946.4730052424998,2315,6148.6309000000001,1729.6690999999992,10193.299999999999,37743.865000000005,2546.6,5893.7,328.1,5393,22.8,51289.765000000007,6220.8,6968.1,1974.3,3983.4,457.6,12067.3,5505.3,582.1,3542.9,271.10000000000002,85234.665000000008,null,8.4,12.48,9.48,16.440000000000001,9.6,19.079999999999998,9.36,24.36]
["2008-10-01",42404.142359999998,8325.8533970000008,15986.531230000001,8464.0938960000003,75180.620880000002,35.760897802525299,null,null,null,15.1485057621497,null,null,8.0271257425205302,null,null,5.34,3936.5988181818202,2305.9,6214.3885000000009,1896.211499999999,10416.5,39143.106,2563.5,6055.2,326.39999999999998,5559.3,18.100000000000001,52927.306000000004,6550.1,6842,2137.4,3925.9,465.1,12231.4,4853.3999999999996,510.9,3183,268.3,86992.205999999991,null,9,16.559999999999999,9.9600000000000009,17.16,9.84,22.56,null,23.52]
["2008-11-01",42751.920680000003,8365.9103759999998,16177.99934,8393.2883629999997,75689.118759999998,36.071842036112699,null,null,null,15.128786233759699,null,null,5.9275972440875204,null,null,5.69,4137.1909678218499,2331.1,6159.8162000000002,1791.8837999999992,10282.799999999999,40446.747499999998,2571.9,6236.7,330.4,5757.5,18.399999999999999,54092.647499999999,6857.2,6481.1,2293.6,3944.6,487,12405,4328.1000000000004,465.9,3078.7,255,88021.447499999995,null,8.0399999999999991,17.04,8.8800000000000008,16.68,9.24,22.44,8.8800000000000008,27]
["2008-12-01",42262.408869999999,8356.5838980000008,16275.07166,7828.0500240000001,74722.114459999997,36.851581681413002,null,null,null,14.910910610780199,null,null,5.8315002485440504,null,null,5.77,4287.5804880410496,2484.8000000000002,6340.7397000000001,1982.3602999999994,10807.9,40974.224999999999,2563.5,6512,342.6,6021.2,22.2,55156.825000000004,6666.5,6330.6,2335.6999999999998,3816.7,503.4,12650.5,4091.8,459.9,2953.5,248.3,88810.125,null,8.2799999999999994,16.440000000000001,8.76,16.920000000000002,8.52,22.32,7.2,24.96]
["2009-01-01",41620.532899999998,8342.3151440000001,16266.58066,7488.709613,73718.138309999995,36.334171451960003,null,null,null,13.5112458646691,null,null,5.3235662820483602,null,null,5.92,4305.7889999999998,2445.4,6472.3665500000006,1835.0334500000004,10752.800000000001,41131.804999999993,2555,7657.4,348.9,7157.4,24.9,55263.604999999996,6548.5,6051.9,2350.1999999999998,3670.3,500.4,13010.6,4144.3999999999996,453.1,3108.8,239,88645.205000000002,null,7.08,14.04,6.72,19.559999999999999,6.6,22.08,null,23.04]
["2009-02-01",41119.385600000001,8282.9839759999995,16154.006069999999,7068.3894250000003,72624.765069999994,36.189776794957403,null,null,null,12.2157947060754,null,null,5.1172565620763102,null,null,5.53,4164.7997999999998,2446,6485.56095,1603.6390500000007,10535.2,40750.096999999994,2541.1999999999998,8278.7999999999993,355.9,7709,25.7,54726.496999999988,6554.7,6124.9,2445.3000000000002,3715.3,529,13196.2,4551,446.6,3610.3,239,88440.196999999986,null,5.16,12.96,4.92,15.12,4.68,19.920000000000002,5.76,24.24]
["2009-03-01",40445.082249999999,8286.7588780000005,16177.831829999999,6733.9237579999999,71643.596709999998,32.2310900560189,null,null,null,10.0588162851225,null,null,4.6835907984627498,null,null,4.9000000000000004,4218.5468339999998,2459.9,6613.8780499999993,1568.7219500000006,10642.5,39918.084999999999,2533.6999999999998,8098.2,363.2,7551.7,25.9,53978.084999999999,6489.1,6655.6,2500.6999999999998,3599.9,559.5,13297.4,4865.2,445,4017.7,241.5,88131.284999999989,null,2.88,10.08,3.12,14.88,3.24,15.12,null,20.64]
["2009-04-01",40860.992270000002,8322.7341319999996,16217.03066,6398.8912209999999,71799.648289999997,29.9749702923983,null,null,null,8.7663514466743102,null,null,3.94729968911175,null,null,4.42,4234.4101459922904,2462.6,6770.0208999999995,1657.1790999999998,10889.8,39593.753499999999,2549.4,8882.9,367.1,8634.1,22.1,53626.753499999992,6254.1,6811.1,2540.1999999999998,3479.9,581.5,13804.3,5011.3999999999996,457.7,4069.3,234.3,88263.353499999983,null,2.2799999999999998,9.48,2.52,13.08,2.88,11.76,null,17.64]
["2009-05-01",40716.103779999998,8264.6600249999992,16297.69606,6183.3765530000001,71461.836410000004,29.566587019095401,null,null,null,8.0713683339428606,null,null,3.7768421556343399,null,null,4.4556453691489804,4344.8591806308405,2493.5,6965.0845499999996,1875.7154500000015,11334.300000000001,39362.999499999998,2589.9,9185.2999999999993,373.4,8999.2000000000007,23,53823.699500000002,5840.2,6723.3,2596.1999999999998,3469,600.20000000000005,14288.6,5157.5,484.1,3958.6,222.5,88801.699500000002,null,1.56,7.08,1.8,12.12,2.52,13.56,null,18.96]
["2009-06-01",40399.395120000001,8203.6656519999997,16441.354469999998,5403.7693669999999,70448.184609999997,28.9061914956599,null,null,null,7.9845183487956701,null,null,3.49696459618111,null,null,4.6100000000000003,4430.5774285714297,2504.8000000000002,7202.7767999999996,1907.3232000000016,11614.900000000001,38951.326499999996,2627.5,8599.7000000000007,371.3,8163.3,26.3,53975.126499999998,5373.4,6917.2,2653.5,3435.3,598,14355.7,5191.6000000000004,506.4,3819.8,208.4,88978.026500000007,null,1.32,5.88,1.68,14.16,2.76,13.08,null,14.88]
["2009-07-01",40444.881650000003,8213.9071889999996,16579.807840000001,5362.954307,70601.55098,27.909352390439899,null,null,null,7.2408472343698298,null,null,2.7133157939572001,null,null,4.62,4308.1720454545493,2487,7152.0185999999994,1963.0814000000009,11602.1,39030.711499999998,2640.4,9977.7000000000007,367.8,9280,24.2,54314.511500000001,5141.7,6460,2778.2,3339.5,609.4,14256.1,5355,527.9,3911.6,206.6,88664.111499999999,null,0.84,5.04,1.44,11.4,1.8,16.2,null,18.84]
["2009-08-01",40852.699610000003,8220.5458739999995,16692.06583,5389.5310630000004,71154.842369999998,24.5737435113694,null,null,null,5.9873966986875997,null,null,3.3949739058076802,null,null,4.5599999999999996,4487.9009999999998,2505.8000000000002,7240.8867499999997,2001.5132500000009,11748.2,38922.2065,2652.7,10236.6,365.5,9492.9,21.6,54410.706499999993,5360.1,6128.7,2906.9,3309.1,614.29999999999995,14330.7,5723.9,552.70000000000005,4174.6000000000004,200.9,88961.606499999994,null,0.48,4.2,0.72,10.56,1.44,9.48,4.68,14.76]
["2009-09-01",41035.870439999999,8242.0853229999993,16810.688890000001,5246.6051820000002,71335.249840000004,26.523264242632901,null,null,null,5.7749809206789102,null,null,2.5450470118040398,null,null,4.49,4558.8267142857103,2612.6,7467.1873500000002,2217.6126499999996,12297.4,38276.271000000001,2663.4,9042,363.8,8393.2000000000007,21.5,54228.171000000002,5369,6576.2,3040.4,3282.4,607,13900.9,6234.5,580.9,4371.3,200.3,89247.870999999985,null,0.6,3.84,1.08,11.4,2.16,12.24,4.4400000000000004,17.399999999999999]
["2009-10-01",41079.076719999997,8300.7900079999999,17052.11346,5224.9779589999998,71656.958150000006,26.667814255904599,null,null,null,5.6134654537822497,null,null,2.6609289121842599,null,null,4.3499999999999996,4379.12076190476,2571.1999999999998,7491.8482999999997,2281.1516999999994,12344.199999999999,37715.618499999997,2670.1,9653.9,358.3,8873.2999999999993,24.8,53844.018499999991,5266,6458.5,3201.8,3182,591.6,13440.4,6669.4,607.5,4552.1000000000004,192.7,88516.4185,null,0.6,3.72,1.2,11.64,2.52,11.88,5.04,16.559999999999999]
["2009-11-01",40973.898269999998,8346.1028900000001,17292.09993,4819.1139919999996,71431.215079999994,27.258339937912599,null,null,null,5.2475719388473099,null,null,2.5465993614059901,null,null,4.28,4558.8900000000003,2585.4,7611.9997437954999,2125.0002562045015,12322.400000000001,37243.563500000004,2643.8,9434.2999999999993,347.8,8629,23.9,53338.963500000005,5365.9,6421.3,3396.7,2992.3,533.70000000000005,13640.6,6644.4,615.5,4382.8,183.4,88383.163500000024,null,0.6,3.72,1.44,11.28,2.88,12.36,4.8,16.68]
["2009-12-01",42490.429150000004,8424.0880130000005,17435.79351,4624.0355730000001,72974.346250000002,26.556523975162101,null,null,null,4.7397666361242097,null,null,2.2207973644244801,null,null,4.5414325420879997,4735.2129999999997,2754.5,8056.1872937954995,2468.4127062045009,13279.1,37323.645499999999,2628,9448.2000000000007,346.3,8712.9,24,54288.345500000003,5387.9,6214.4,3451.2,2965.1,496.9,13853.4,6548.9,624.20000000000005,4071.8,180,89578.545499999993,null,0.72,3.48,1.44,9.84,2.52,7.68,4.68,14.76]
["2010-01-01",42328.998619999998,8459.6485799999991,17483.62977,5245.5865700000004,73517.863549999995,30.353914964528101,null,null,null,7.0406248867057499,null,null,1.83706570409307,null,null,4.5838309984722203,4802.9356500000004,2744.3,8516.1767499999987,2520.1232499999996,13780.599999999999,37860.046999999999,2656.8,9729.9,351.9,8973,25,55381.247000000003,5513.4,5823.5,3528.4,2818.5,495.1,13930.3,6640.9,635.4,4138.8999999999996,218.4,90409.447,null,0.6,3.96,1.2,11.88,2.2799999999999998,13.32,5.04,20.28]
["2010-02-01",42565.735970000002,8474.4710610000002,17597.781790000001,5118.1807150000004,73756.169540000003,29.5461259997262,null,null,null,5.6279494904808596,null,null,1.9782439184533001,null,null,4.6029839655247002,4952.2497999999996,2801.8,8673.2252000000008,2401.0748000000012,13876.100000000002,38257.214500000002,2634.1,8937.2000000000007,358.3,8217.1,25.2,55820.614500000003,5581.3,6024.2,3639.8,2773.5,477.8,13893.7,6848.9,639.29999999999995,4291.7,219.3,91188.114500000011,null,0.6,4.08,1.56,13.8,2.88,17.64,4.8,19.079999999999998]
["2010-03-01",42411.281490000001,8531.4343680000002,17711.91058,5141.5987519999999,73796.225200000001,27.982459031962598,null,null,null,5.4203586919209599,null,null,2.2012315029075702,null,null,4.2755855149842201,5065.9566086956511,2869.8,8709.5172000000002,2625.3828000000003,14204.7,38357.781499999997,2654.9,9111.7000000000007,363.7,8195.2000000000007,22.5,56475.081499999993,5580.5,6253.2,3908.2,2940,465.5,13899.1,7295,656.9,4671.3,222.4,92579.781499999997,null,0.6,3.96,1.32,11.52,2.52,13.92,5.64,15.24]
["2010-04-01",42721.574890000004,8650.1208869999991,17821.452270000002,5346.3853410000002,74539.533389999997,27.308355461376799,null,null,null,5.4443365264185601,null,null,1.82082148908182,null,null,4.1275277843385396,4965.60619047619,2918.6,9012.4270500000021,2402.7729499999973,14333.8,38372.536500000002,2726.8,10228.299999999999,378.7,9122,21,56897.136500000008,5716.3,6582.8,4137.5,2734,468.9,13936,7771.4,680.1,5179.6000000000004,225,93519.536500000017,null,0.6,3.72,1.2,11.28,2.88,12.12,6.24,17.52]
["2010-05-01",43016.769970000001,8664.3178829999997,18041.266930000002,5634.6523989999996,75357.007180000001,27.3045490031868,null,null,null,5.1043360239322801,null,null,2.3431927319747898,null,null,4.18098759676288,5140.4649499999996,2982.1,9661.5828500000007,2383.0171500000001,15026.7,38750.056500000006,2738.3,10010.700000000001,397.4,9143,22.6,57757.556500000006,5942,5973.6,4394,2760.5,465.6,14023.2,7915.7,678.3,5058.8,230.5,94621.156500000012,null,0.72,3.84,1.8,12.48,3.84,10.199999999999999,6,15.12]
["2010-06-01",43297.584199999998,8717.9658189999991,18296.444370000001,5852.4450059999999,76164.43939,27.305817463765901,null,null,null,5.2645016387231296,null,null,2.1711366096890399,null,null,4.0648042155850499,5258.331761904763,3009.4,9852.5456000000013,2460.4544000000001,15322.400000000001,38568.084000000003,2798.4,8713.5,407,8152.6,22.9,57633.884000000005,6170,5144.3,4613.5,2870.4,457,14141.4,7964.7,677.6,4616.6000000000004,233.2,94822.983999999997,null,0.96,3.6,2.16,10.44,3.96,13.56,5.28,16.079999999999998]
["2010-07-01",42961.696479999999,8799.3112560000009,18435.648669999999,5574.4509850000004,75771.107390000005,28.120906910575101,null,null,null,5.8647111374861103,null,null,2.04966951250272,null,null,4.0258767077034898,5172.5708095238097,3005.2,9514.0820500000009,2626.0179500000004,15145.300000000001,38190.2745,2838.2,9277.2000000000007,405.8,8628.5,23.8,57204.474499999997,6019.6,4632.7,4800.5,2778.6,411,14197.3,8126.9,701.6,4952.2,229.6,93690.874500000005,null,1.68,3.96,2.64,12.12,4.5599999999999996,14.4,5.4,17.399999999999999]
["2010-08-01",43165.96213,8927.6817279999996,18682.83754,5506.3900679999997,76282.871469999998,27.5146327566252,null,null,null,6.9137059213616698,null,null,2.1077787977831299,null,null,4.0647273420175303,5211.8292272727267,2950.8,9348.52045,2826.279550000002,15125.600000000002,38130.356999999996,2831.9,8683,403.4,7991.7,22.9,57159.656999999999,5958.8,4398.3999999999996,4880.3999999999996,2781.2,356.8,14245.6,8407.2000000000007,714.9,5060.1000000000004,228.1,93614.757000000012,null,2.64,5.04,3.72,12.96,5.4,14.28,6.24,20.399999999999999]
["2010-09-01",43483.005859999997,9004.5757780000004,18850.864939999999,5320.7401879999998,76659.18677,28.002971261041601,null,null,null,6.8686859812019003,null,null,1.95942499863764,null,null,4.0002791868918797,5230.0012499999993,3056.3,9287.37565,3305.1243499999991,15648.8,38170.465499999991,2869.5,7354.6,404.1,6787.8,21.9,57637.765499999994,6293.5,4471.1000000000004,5042,2817,342.7,14343.3,8619.4,728.6,4535.8999999999996,227.1,95532.3655,null,3,5.76,4.08,11.28,5.52,12.36,6.36,15.84]
["2010-10-01",43988.90595,9116.5287540000008,19068.308280000001,5707.5921079999998,77881.335089999993,27.252425282524701,null,null,null,7.1399747697498004,null,null,1.7650550466581301,null,null,4.1404423827680903,5293.3977499999992,3025.5,9274.7973999999995,3148.7026000000005,15449,38748.204499999993,2849.5,8166.7,400.9,7487.8,21.8,58104.704499999993,6754.4,4500.3999999999996,5267.3,2697.6,335,14370,8659.2999999999993,753.2,4343.3,223.8,96874.804499999998,null,3.24,5.76,4.32,11.16,5.4,15.84,4.68,16.079999999999998]
["2010-11-01",44217.75877,9262.8262649999997,19244.201130000001,5824.2347289999998,78549.02089,27.341910117002001,null,null,null,7.1872391337535504,null,null,1.8657389296077,null,null,4.3502802608229301,5330.543333333334,3035.3,9401.2369499999986,2911.6630500000019,15348.2,39528.4395,2861.7,8195.6,400,7605.3,22.9,58705.739500000003,6943.4,4609.8,5680.4,2668.5,338.9,14413.2,8700.5,766.5,4126.1000000000004,229.9,98470.939499999993,null,3.36,5.76,4.2,11.16,5.28,15.96,6.48,18.96]
["2010-12-01",44826.24336,9390.7516799999994,19481.39258,5283.8000039999997,78982.18763,26.441702931038801,null,null,null,7.3797969271821202,null,null,1.93437911813958,null,null,4.37113062194567,5595.0114285714271,3209.2,9745.1939000000002,3151.0060999999996,16105.4,40025.064500000008,2840.7,8249.4,405,7601.9,23.3,60000.364500000003,6927.6,4369,6063.7,2574.1,325.39999999999998,14487.8,8651.9,773.1,3735.7,239,100198.2645,null,3.72,6.36,4.5599999999999996,11.04,5.52,15.12,6.6,17.64]
["2011-01-01",45140.236400000002,9515.0722600000008,19599.882310000001,6010.4950399999998,80265.686010000005,27.0938928234382,null,null,null,7.5991038176093504,null,null,1.7777270464467601,null,null,4.3373107206554904,5707.29,3195.2,10156.911,3133.689000000003,16485.800000000003,40608.252999999997,2861.7,8329.6,417.4,7828.5,22.2,60852.052999999993,7037.6,4404.8999999999996,6945.2,2333.5,307.3,14665.5,8534.2000000000007,776.7,3339.2,241.3,102276.45299999998,null,3.72,6.72,4.4400000000000004,11.4,5.64,15.48,4.5599999999999996,20.16]
["2011-02-01",45314.42583,9619.6090729999996,19752.345819999999,6182.3673849999996,80868.74811,26.447192406930501,null,null,null,7.9065708323920303,null,null,1.74237777338487,null,null,4.3533094044596599,5661.549,3217.8,10284.7682,2595.3317999999972,16097.899999999998,41002.036500000002,2841.1,7469.7,427,7173.2,23.4,60641.136499999993,6993.2,5082,7171.5,2329,306.7,14864.9,8344.2000000000007,774.5,3128.1,243.7,103135.33649999999,null,3.84,7.44,4.8,12,5.4,14.76,4.5599999999999996,20.04]
["2011-03-01",45890.500769999999,9832.2709869999999,19950.678049999999,6472.7592629999999,82146.209080000001,25.8812617644417,null,null,null,8.2523413456186905,null,null,1.89461768162144,null,null,4.3926488605217502,5614.7347826086971,3174.1,10253.695199999998,2598.7048000000018,16026.5,41572.324000000001,2827.7,7470.1,441.8,7029,23.3,61286.123999999996,6759.6,5282.3,7513.8,2501.8000000000002,306.5,14920.9,8378.6,521.9,3397.7,250.4,103823.424,null,4.2,7.2,5.16,13.08,6.72,17.16,4.68,18.84]
["2011-04-01",46504.276440000001,9997.9829360000003,20168.485840000001,6537.726729,83208.471940000003,27.117885715615099,null,null,null,8.4234255582339106,null,null,1.6399518332446801,null,null,4.3059766507292601,5685.5439500000002,3199.8,10332.5,2769.199999999998,16301.499999999998,42519.936000000002,2869,8298.4,473.1,7876.4,20.3,62565.236000000004,6689.8,5349.9,7688.1,2367.1,287.5,14987.4,8608.7999999999993,801.3,3825.1,258.7,105261.33600000001,null,4.68,7.44,5.52,12.84,6.36,16.2,5.4,18.84]
["2011-05-01",47315.038919999999,10061.32488,20375.735390000002,6969.5636420000001,84721.662840000005,27.319752293923599,null,null,null,8.6587811839057807,null,null,1.6287831033851501,null,null,4.16,5966.27,3250.6,10529.42525,2799.5747499999984,16579.599999999999,43652.352500000008,2878.3,8297.7000000000007,490.6,7890.4,22.6,63985.552500000013,6778.7,5639.5,7823.7,2166.5,268.10000000000002,15081.7,8691.2999999999993,811.3,3977.4,263.5,107005.45250000001,null,5.4,7.8,6,12.48,6.48,15.36,4.8,18.48]
["2011-06-01",47636.254739999997,10177.315210000001,20615.757389999999,6805.4106250000004,85234.737959999999,26.940850667834901,null,null,null,9.0991380381480607,null,null,1.7759442266732399,null,null,4.13,5832.1452380952387,3289.4,10554.3632,2863.2368000000001,16707,44557.904000000002,2918.6,7394.5,495.5,6916.6,24.5,65132.404000000002,6771.4,5987.1,7918.3,2094.6999999999998,291.5,15310.3,8611.6,809.6,3903.5,266.5,108756.90400000002,null,5.64,9,6,12.36,5.76,17.399999999999999,4.08,16.8]
["2011-07-01",47794.155619999998,10296.95643,20800.21688,6964.254449,85855.583379999996,27.438141379244001,null,null,null,9.4809083494664108,null,null,1.7864255577894801,null,null,4.13,5952.6782380952382,3288.1,10332.286199999999,2678.3138000000022,16298.7,45479.787499999999,2933.6,7167.1,495.3,6714.7,24.5,65635.287500000006,6721.3,6584.2,8194.4,2143.8000000000002,309.3,15470,8258.5,797.9,3848.4,277.8,109988.48750000002,null,5.76,9,6.12,12.96,6.6,18.239999999999998,null,17.64]
["2011-08-01",48232.471899999997,10469.931130000001,20972.753489999999,7219.4421389999998,86894.598660000003,27.68,null,null,null,9.61,null,null,1.75,null,null,4.17,5765.8615454545452,3274.4,10202.7961,3054.8039000000003,16532,47082.287499999999,2935.5,7212,492.2,7003.4,25.8,67224.787500000006,6753.7,6997.6,8654.4,2182.8000000000002,301.60000000000002,15484.9,7832,772.6,3849.3,297.5,112057.58750000001,null,5.64,9.84,5.88,12.36,6.24,18.48,5.16,20.28]
["2011-09-01",49463.906020000002,10567.06338,21138.080549999999,8180.1024219999999,89349.152369999996,28.74,null,null,null,9.3000000000000007,null,null,1.81,null,null,4.17,5932.959238095239,3394,10317.933300000001,3100.0666999999994,16812,48399.377999999997,2964,8283,497,8111,28,68816.377999999997,7003,7895,9054,2287,310,15541,7565,744,4006,313,114896.378,null,5.52,9.7200000000000006,5.64,13.08,5.76,18.12,7.2,18.600000000000001]
["2011-10-01",50153.989979999998,10687.71499,21334.411469999999,7741.4810120000002,89917.597450000001,27.73,null,null,null,9.59,null,null,2.02,null,null,4.1100000000000003,6166.0672631578955,3402.2,10414.15855,3101.7414499999986,16918.099999999999,49404.421499999997,2979.3,9587.2000000000007,498.9,9319.2999999999993,28.9,70039.721500000014,7200.1,8930.2000000000007,9495.6,2069.4,305.8,15692,7494.7,738.2,4041,313.7,117611.02150000002,null,5.52,9.7200000000000006,5.76,13.2,5.76,15.12,7.2,20.16]
["2011-11-01",50977.577299999997,10939.562,21601.087459999999,8058.7237009999999,91576.950459999993,26.96,null,null,null,9.5,null,null,2.2200000000000002,null,null,4.1500000000000004,6145.2381904761905,3458.7,10500.232500000002,2847.4674999999997,16806.400000000001,50432.493499999997,2990.1,9160.2999999999993,497.2,8943.5,26.9,70916.093500000017,7154.2,9203.2999999999993,9532.5,2115.1999999999998,288.5,15880.1,7413.4,734.9,3852.4,308.3,119077.49350000003,null,5.76,9.9600000000000009,5.88,12,6,18.48,null,19.2]
["2011-12-01",51805.624329999999,11054.385780000001,21895.70707,7604.4715100000003,92360.188699999999,27.48,null,null,null,9.2799999999999994,null,null,2.75,null,null,4.26,6719.61,3646.9,10872.137849999999,3490.0621499999993,18009.099999999999,51368.130499999999,2984.7,9215.7000000000007,500.5,8903.9,32.5,73141.730500000005,7085.4,8929.2999999999993,9719.2000000000007,2093.8000000000002,275.89999999999998,16073.8,7228.7,724.2,3769,307.10000000000002,121195.9305,null,6.24,10.199999999999999,6.12,11.4,6.36,17.88,7.2,15.12]
["2012-01-01",52322.875881753003,11155.815958646999,22101.959322090999,7054.3506215939997,92635.001784085005,28.04,null,null,null,9.39,null,null,2.7,null,null,4.33,6524.3762727272724,3635.9290000000001,11086.1265,3466.2574999999979,18188.312999999998,51741.172999999995,2999.076,9465.5681661452709,504.885653123,9013.6872658876891,31.252666415499998,73854.075886965074,7411.18,9154.34,9900.3140000000003,2343.864,274.5804445,16247.262397451999,7250.2456898356404,726.99683949999996,3788.6331705463599,306.53930015643402,123067.68678754992,null,5.52,9.84,5.52,11.4,6,16.2,7.2,19.8]
["2012-02-01",52673.611703994,11252.148660768,22284.892760657,7154.8135110809999,93365.466636500001,29.81,null,null,null,9.4600000000000009,null,null,2.5,null,null,4.32,6450.6474761904783,3661.1179999999999,11005.475750000001,3069.497249999999,17736.091,51951.418000000005,3013.2620000000002,8673.4887470531103,508.55597749399999,8474.0640809899505,25.026422347499999,73383.725221209665,7310.31,9648.5010000000002,9776.4719999999998,2434.1770000000001,292.44369949999998,16327.445810452,7455.65388791036,737.82027149999999,3820.7386863022698,307.74480682942902,123238.06539744032,null,5.28,9.48,5.52,12.6,6,20.64,null,19.8]
["2012-03-01",53657.976699405001,11401.106183604999,22517.071191006002,7478.1019687019998,95054.256042718,27.97,null,null,null,9.33,null,null,2.34,null,null,4.29,6446.2190454545453,3643.5210000000002,11256.132299999999,2963.7307000000023,17863.384000000002,52688.383499999996,3033.127,8949.5939726874803,512.63237012000002,8924.8213787204895,27.112216451999998,74095.187247634982,7483.0155000000004,9818.9,9856.8510000000006,2226.5700000000002,284.5983425,16388.6115735575,7646.1732017132399,744.42435950000004,3827.3117985485501,304.37091992098402,124412.64850643618,null,5.64,9.7200000000000006,6,13.08,6.36,18.239999999999998,5.4,14.28]
["2012-04-01",54225.706217170999,11503.007296729,22710.350470793001,7703.0827282159999,96142.146712909002,28.97,null,null,null,9.84,null,null,2.4500000000000002,null,null,4.37,6517.7190500000015,3684.8290000000002,11473.032999999999,3111.9509999999987,18269.812999999998,53970.497499999998,3062.04,9762.3532860445703,487.36843262449997,9732.6228628084791,27.698261096500001,75791.751094764084,7598.71,9889.01,9909.42,2090.9870000000001,265.14160800000002,16544.291283057501,7667.6744359532904,742.74965799999995,3734.1880486488699,303.26818565910901,126462.27884546691,null,5.76,10.56,6.12,14.4,6.6,18.12,10.08,17.88]
["2012-05-01",55406.607620850002,11567.541676153,22885.515877424001,8574.7714907680001,98434.436665194997,27.931544579865701,null,null,null,9.9690185256623103,null,null,2.2949663942874898,null,null,4.3499999999999996,6701.8677619047621,3749.7829999999999,11474.85145,3514.1815499999989,18738.815999999999,55536.853499999997,3097.4270000000001,9235.7783668458906,504.27328783949997,9363.7801613047304,26.886657765500001,77722.481335615157,7710.3419999999996,9929.83,9936.4699999999993,2022.7149999999999,262.15271100000001,16678.414507505498,7515.8174972689803,733.53759849999994,3705.1019619407298,309.90815521288999,128496.75053273603,null,5.76,10.199999999999999,6,14.04,6.6,17.16,6.6,16.920000000000002]
["2012-06-01",56105.203794071,11645.665118229001,23083.911055183999,8315.5274060110005,99150.307373495001,28.013292606401102,null,null,null,9.4490771800013693,null,null,2.3694759377230001,null,null,4.3,6716.8100952380964,3788.317,11530.507949999999,3111.5710500000014,18430.396000000001,56885.2255,3194.3960000000002,9427.9565815790393,556.35298850649997,9386.6516155454101,28.497669074000001,79079.177785466134,7623.7359999999999,9811.4310000000005,9962.1299999999992,1941.626,257.99858999999998,16623.3484110055,7352.5034332396699,726.61497850000001,3749.4667061727901,313.60959913130699,129315.48989290722,null,5.76,10.44,6.12,13.56,6.6,18.96,6.24,13.8]
["2012-07-01",56089.794307835997,11737.521637837001,23172.724780875,8120.9032718219996,99120.943998369985,28.0070344328368,null,null,null,9.4289346983885807,null,null,2.17729347799188,null,null,4.3499999999999996,6829.8286000000007,3821.8780000000002,11420.041450000001,3097.8985499999985,18339.817999999999,57658.697,3162.57,9877.4998868755902,553.90717861799999,9748.9314838783594,31.042317805500002,79812.518263809732,7475.79,9741.7119999999995,10014.9,1825.82,220.04479749999999,16529.928829879998,7132.4216920361996,724.73113599999999,3630.0288032623298,313.61934105312002,129534.21857491047,null,5.52,8.64,5.76,14.04,6.36,20.16,6,17.28]
["2012-08-01",56120.198281063,11899.888333159999,23334.959771878999,8380.3481456669997,99735.394531768994,27.7289703324582,null,null,null,9.6431246179204493,null,null,1.77855340825422,null,null,4.2699999999999996,6675.8243181818189,3815.6089999999999,11218.270549999999,2774.2304500000014,17808.11,57998.028000000006,3214.3910000000001,10180.120286924201,553.18055731200002,10304.645652523201,32.954183589000003,79416.23000812401,7291.74,10120.030293059999,10066.56,1844.4,178.745237,16537.19859838,7014.6040479809899,721.01168700000005,3644.4454608266001,313.90351304968198,129232.17089766871,null,5.52,9.7200000000000006,5.52,14.52,6.36,20.399999999999999,6.24,18.12]
["2012-09-01",56659.485628884002,11974.534441768001,23502.784636305001,8206.6399692699997,100343.44467622701,28.481981974524398,null,null,null,9.5346932300959608,null,null,1.79598059436146,null,null,4.3099999999999996,7014.2273529411759,4002.335,11133.54005,3502.8619500000013,18638.737000000001,58377.897499999999,3165.8609999999999,10011.324347682599,552.17239396100001,10183.068967192899,30.063564340999999,80532.859710109711,7141.35,10073.174000000001,10202.66,1796.84,176.096407,16526.576958306501,7102.9912026811498,725.19064749999995,3668.7408280597501,315.866936170722,130293.13116136689,null,5.64,9.36,5.88,13.68,6.48,23.04,6.24,18.600000000000001]
["2012-10-01",57336.541967354999,12103.432316050001,23791.321610776999,8151.9989430839996,101383.294837266,27.4284071406062,null,null,null,9.4280744323333803,null,null,1.8064579251033399,null,null,4.34,6918.4290000000001,3917.4520000000002,11044.362300000001,3350.9826999999977,18312.796999999999,58732.563000000002,3183.35,10090.478747307199,535.04464374199995,10133.042902851101,27.224178278999901,80693.966309919095,7301.2,10228.42,10347.36,1551.78,181.2706465,16438.675029806502,7231.5050015414299,732.33823949999999,3768.8919087033901,315.74860864198598,130621.87470992164,null,5.76,9.36,6.12,13.68,6.6,18.96,6.72,18.72]
["2012-11-01",58331.724085870002,12245.006587254,24113.229085260002,8170.370977304,102860.330735688,25.904770674609601,null,null,null,9.1915253581540899,null,null,1.99207197945793,null,null,4.34,7052,3957.4079999999999,11176.925599999999,3137.7004000000011,18272.034,58880.646000000001,3196.913,11169.681157950599,527.53824238950006,11179.923043077601,28.9242247164999,80837.965132545985,7697.52,10694.7,10373.4,1419.86,196.57450600000001,16453.5346245,7291.99969224492,733.36134000000004,3955.9570984432999,310.80837381648701,131432.14982303113,null,5.64,8.8800000000000008,6.12,14.16,6.6,19.440000000000001,5.88,15.96]
["2012-12-01",59124.137891307997,12332.837726420001,24293.663935629,8052.0199867780002,103802.65954013499,25.6580552670092,null,null,null,8.9380054820874104,null,null,1.93347585976437,null,null,4.38,7659.5420000000004,4199.0810000000001,12108.53925,3290.7957499999975,19598.415999999997,58532.285499999998,3189.6790000000001,10935.480893899399,523.71411613949999,10835.855057319701,26.463384279,81917.257068440202,8068.6,9420.48,10453.84,1490.72,209.4110235,16610.991207821,7217.6124056516001,736.34220549999998,3745.4505700262298,306.982377260492,132072.82096362609,null,5.88,9.24,6.12,12.96,6.72,21.36,6,16.8]
["2013-01-01",59058.494362154997,12430.113157362,24441.38699065,7941.8890524520002,103871.88356261901,25.89170232802476,34.276679850088797,17.879241495422065,35.487278086287489,9.3112663279834216,7.9345490200935469,13.885975581647898,1.8710290952025586,1.5992605766579482,2.1423179466952456,4.43,7586.6084090909108,4180.4549999999999,12451.327300000001,3481.7706999999991,20113.553,58628.198499999999,3186.9140000000002,9935.8962768740603,524.65397428899996,9749.6850553865097,26.634598763,82612.896097013552,8082.71,9113.26,11068.03,1478.92,222.83386849999999,16821.846780321001,7191.8786356758801,745.35621200000003,3654.9715061481502,301.08591872205,133381.67416864025,null,5.52,8.76,5.52,12.72,6.6,19.559999999999999,6.84,17.64]
["2013-02-01",59462.113799332001,12490.056336129999,24646.687026602001,8031.9790761519998,104630.836238216,26.686751233779432,35.737984214140184,18.011629898911512,36.97620386546766,9.676705483834187,8.7479265635799894,12.841079076939385,1.8413967970039411,1.5201833489137551,2.0953665672094592,4.5199999999999996,7432.5703999999996,4212.2952080445002,12069.05285,3354.4936999999982,19635.841758044498,59185.429000000004,3193.5790000000002,9192.1391897291705,530.65212148399996,9063.6267350748403,30.351860088999999,82643.662474093813,8002.7539999999999,9729.9599999999991,11053.27,1450.55,231.037621,16932.295286500001,7304.9737817516097,754.29323399999998,3768.2533933126501,299.30397844139202,134035.23902559138,null,5.28,9.6,5.4,14.16,5.64,23.28,5.76,17.64]
["2013-03-01",59953.778528734998,12643.48909886,24884.628053542001,8215.005209338,105696.90089047499,26.561767147938347,26.173268304710046,15.956792963243938,35.536686807848625,9.2852544936548362,6.8424892073433661,10.993208854277523,1.7211954079737886,1.4536419258085347,2.0507794838662039,4.53,7537.5744000000004,4204.3719233996999,12123.876100000001,3598.0753499999992,19926.3233733997,59984.014999999999,3214.194,9313.4923548986499,540.24465861650003,9174.9244679067906,30.671665119499998,83772.67325388857,8012.34,9597.14,11168.83,1527.664,218.2914475,16967.063505499998,7442.9632248779599,760.26499249999995,3687.8496852876701,302.64389656721897,135476.73684241166,null,5.28,9,5.4,14.16,6,23.28,5.52,16.920000000000002]
["2013-04-01",60066.752632511001,12768.334742532001,25126.479632957002,8447.8660763759999,106409.43308437601,25.74,25.099909679211386,16.218474186202549,35.47639021779635,9.2200000000000006,7.1537193513329651,11.11862965641018,1.52,1.2766490627366318,1.8876556355107634,4.53,7364.7486206270441,4208.2879999999996,12221.612150000001,3562.0618499999991,19991.962,60604.859499999999,3241.1439999999998,10557.8664431539,545.51205477600001,10287.6045672526,30.5164185985,84623.223012078786,8184.93,10276.59,11433.98,1333.83,212.92004399999999,17134.263898000001,7462.8434772221699,764.05670850000001,3893.43359120593,312.81016459774702,137220.39338399729,null,4.92,9.1199999999999992,5.04,13.8,5.76,22.08,5.28,16.440000000000001]
["2013-05-01",60844.640443668999,12814.396966032,25239.420674541001,9149.131647614,108047.589731856,26.62,27.214571884394715,16.350231273634741,35.79288413008841,9.1300000000000008,7.0924092152010729,10.892780111542804,1.44,1.1652457123381132,1.9833324124911127,4.51,7436.3356190476197,4336.6379999999999,12518.7413,3515.1547,20370.534,61312.448000000004,3267.82,12144.496142647,548.24303933199997,11585.0931033215,31.776936093500002,86026.67114256401,8517.5300000000007,10687.8,11865.38,1390.55,216.25049050000001,17265.981302,7487.3947211608702,770.99131750000004,4156.6385202871897,325.02709457500998,139746.88335886266,null,4.8,9.24,5.04,13.2,5.52,22.08,5.4,16.2]
["2013-06-01",61379.846584473999,12885.66426576,25410.535288949999,9282.4319592949996,108958.47809847901,26.36,28.022812697517871,15.956952948129221,36.183460757486131,9.0359999999999996,7.004507965268493,11.069089415975037,1.43,1.1594420622293382,1.8839872119990264,4.45,7677.1088999999993,4335.1360000000004,12745.0643,3693.7857000000004,20773.986000000001,62329.648000000001,3297.049,11437.071521321101,559.51957145699998,10854.7134498961,37.987573570999999,87504.573069311009,8809.85,10366.280000000001,12198.08,1288.8699999999999,212.1981955,17235.910854500002,7489.2069834199701,769.06223150000005,3962.0338764654698,327.93084687656301,141584.06661088893,null,5.04,9,5.16,13.32,5.4,19.68,5.64,15.48]
["2013-07-01",61638.652617993001,12968.27827126,25677.006838674999,9555.3180315270001,109839.255759455,26.99,28.251789521882767,16.277407031945078,36.195445698235588,9.2200000000000006,7.2360119466197137,11.11571503580709,1.48,1.282517036762912,1.7922752793318626,4.46,7727.2669999999989,4346.9279999999999,12640.7035,3861.1110499999995,20848.742549999999,62829.702000000005,3317.72,10500.764471057,559.27391510150005,9960.0111412177794,41.150848197167001,88055.040946743553,9258.0876905000005,10551.92,12470.28,1115.0129999999999,180.99684500000001,17073.432420500001,7512.8966345378103,766.45123349999994,3859.3954535979701,326.97267657258402,142797.75064061082,null,5.16,9,5.28,13.08,5.52,23.52,5.76,15.72]
["2013-08-01",62324.265287996997,13121.271233418,25931.978446857,9463.4720320710003,110840.987000343,27.410764499772498,31.846919797108157,15.591562672046479,35.902965937685209,8.8965493557184914,7.125036704190963,10.6665350824013,1.6821505055583721,1.5204008062693743,1.8796683960316261,4.49,7587.3778571428575,4303.2259999999997,12462.707899999999,3678.9731000000002,20444.906999999999,63499.520499999999,3334.85,11598.586705461301,546.07476028450003,10964.774220176199,41.312020088154298,88417.85272548144,9605.48,10931,12812.89,1136.6300000000001,150.16604100000001,17682.202528000002,7572.5965652654704,764.61644650000005,4068.4210899367799,330.70368720135798,144674.30952910878,null,5.16,8.64,5.28,12.600000000000001,5.4,21.6,5.5200000000000005,19.080000000000002]
["2013-09-01",62676.919152317998,13184.398188218,26179.952037489998,8993.8486126150001,111035.117990641,27.456714660823657,31.165323148352044,14.20804883190101,35.704905589331588,9.2435012481818664,6.8945340367623675,11.022305956128957,1.4553408483150525,1.3135641342240492,1.7691063868823258,4.37,7836.3873943783901,4567.3610587642797,12514.8717,4021.6121500000008,21103.84490876428,63824.335999999996,3349.0219999999999,11510.7391860801,535.17595421450005,10994.725551510301,42.3274843826539,89286.06501316592,9548.1068361425005,11082.259616011001,13067.575789312799,1143.596,149.32443549999999,18101.054451,7573.9759426619003,766.22891300000003,4111.7442036093698,335.85089040337999,146270.59190278139,null,5.16,8.879999999999999,5.4,12.600000000000001,5.5200000000000005,19.559999999999999,5.76,19.200000000000003]
["2013-10-01",63074.792605896997,13343.264794047,26484.339895824,8901.4314665250004,111803.82876229301,26.863969371184837,29.728903353522245,15.766727938179059,35.537349645069781,8.8171856697406028,7.1883724453017619,10.174885845762081,1.6687795377367145,1.5634216322485095,1.7905766682535385,4.3899999999999997,7635.9054545454555,4493.9050318703803,12508.895350000001,3397.8575999999985,20400.657981870379,64032.960500000001,3357.605,11653.905722822299,529.99138439800004,11357.648651892199,41.323367561241099,88576.148569637226,9431.4192887749996,11107.279546481999,13407.939865431001,1069.69,156.88345100000001,17907.501324500001,7753.7108089537996,782.2287705,4182.9438588134399,336.89513176431001,145672.96263470128,null,5.04,8.3999999999999986,5.28,14.04,5.4,20.28,5.88,17.399999999999999]
["2013-11-01",64440.736405971998,13519.495529350999,26713.225417457001,9170.4276710289996,113843.88502380899,26.783234874877937,29.49860397661892,15.579875176664661,35.355460238795061,8.8913731545848123,6.6389807958743869,11.091098509406459,1.5710335556046542,1.3861692296394117,1.8152955775910864,4.3600000000000003,7723.1807714954502,4490.2324316683998,12536.067350000001,3776.9123499999978,20803.212131668399,64414.525500000003,3356.1350000000002,12862.8901362657,529.31235435200006,12542.6411085661,42.821590877373097,89380.61242284262,9543.2933327749997,11320.062708744001,13232.230390045001,1080.914,167.3743365,17938.027262,8086.6716218500296,793.356855,4540.55607987438,334.26365814146902,146667.72319174081,null,4.68,8.3999999999999986,4.8000000000000007,13.080000000000002,4.92,21.96,5.88,18.48]
["2013-12-01",64939.088727597002,13615.169793145,27049.086330990998,8667.5003024329999,114270.84515416602,26.061785231993277,26.895884212139769,15.98790360800349,34.378369600617553,8.3457161833633986,6.4396360524949783,10.437750909014721,1.6486526813059557,1.5128739369708393,1.8519406511584169,4.3600000000000003,8296.815849999999,4693.2209999999995,13455.195299999999,3963.4767000000011,22111.893,64506.849000000002,3345.5680000000002,12513.9210008645,533.95150133725997,11940.188061300199,41.971099067753002,91030.023341833803,9628.8050000000003,10362.365,13167.666999999999,993.77200000000005,176.29989850000001,17974.284245999999,8280.1243622934398,796.01428850000002,4638.7501457854296,329.455956486307,147441.14903485551,null,4.5600000000000005,8.64,4.8000000000000007,11.76,5.16,17.399999999999999,5.88,17.16]
["2014-01-01",65565.129976900003,13773.695319955001,27428.245663682999,8975.0189321029993,115742.08989264102,26.412031708642619,28.034345939279952,16.783340296670406,33.01531303897486,8.5691470463123132,6.4201853735809484,10.815662098772957,1.9783569076592389,2.0253880406420528,1.9409025910652504,4.32,8057.8897272727281,4742.973,13837.76035,3773.0193500000005,22353.752700000001,65180.911,3353.6260000000002,12347.781389333901,547.08967683751996,11691.0238114109,39.2157802729335,92052.921174487594,9790.4730231730391,9793.5459992923606,12909.165613864499,900.92899999999997,186.35172750000001,18178.545945499998,8505.9354400214997,795.096631,4766.2168102612004,335.50887176672398,148011.23887281108,null,4.4399999999999995,8.16,4.5600000000000005,12,4.8000000000000007,20.28,null,19.799999999999997]
["2014-02-01",65694.845556300002,13843.874411063,27727.261889288999,9020.4700081819992,116286.45186483402,26.870807576773871,28.298966010716921,16.792079552065417,33.556208752618844,8.5283087521029941,6.3520008870919629,10.287635810321621,1.573835960313003,1.4685126367093424,1.7031621634800065,4.3,8099.7340000000022,4725.875,13371.680850000001,4010.8421500000004,22108.398000000001,65782.934999999998,3372.81,12632.765367702301,560.38664849407996,11963.842543008799,40.674832719910498,92452.77764046767,10309.054,10897.807000000001,13093.852999999999,918.096,185.551322,18294.093463000001,9002.9084575039797,807.37833049999995,5185.0236207770704,345.490712376668,150431.00488031792,null,4.1999999999999993,8.879999999999999,4.4399999999999995,12.120000000000001,4.68,22.080000000000002,3.84,20.759999999999998]
["2014-03-01",65259.355840693002,13964.766692121,28090.008135729,8768.7498366849995,116082.88050522801,24.533370625872152,25.245979574918692,15.113614278177737,33.846129119697459,8.4679797802710421,6.257895577809828,11.375784584375012,1.5645734390072867,1.3952677077475253,1.8499777390643179,4.3,8025.0497619047628,4689.0720000000001,13477.248149999999,4007.3308023810023,22173.650952381002,65792.729500000016,3402.75,11578.969282198001,566.44828511429,10994.5030017179,41.761807378498197,92478.283210596914,10474.8540624334,11101.5701415535,13085.5192111867,899.89700000000005,176.063963,18296.767180999999,9691.9700980371508,823.80522199999996,5466.5025693444204,351.39728863163901,151210.83023183158,null,4.08,8.0400000000000009,4.08,12.24,4.32,19.919999999999998,3.7199999999999998,17.88]
["2014-04-01",65388.114414999996,14089.385329481,28511.887613786999,9119.9330801069991,117109.32043837498,26.128753305750863,27.970359313594294,15.24987607050376,34.284568837278428,8.7159404390390769,5.9723921931852928,11.071794970937495,1.5915439607837103,1.4654610817892866,1.7693950851914799,4.25,7978.4620000000004,4728.2,13686.089599999999,4185.1451500000012,22599.43475,65189.604000000007,3434.453,11800.6315233307,570.738394323075,11068.4047286814,41.369013704050502,92485.087925268323,10962.5113115,11030.3386955275,13065.093216446699,877.83500000000004,181.6311015,18190.367314499999,10463.299053668899,839.36859600000003,5942.6437582102499,358.34232268699799,151794.54613351417,null,3.96,8.2799999999999994,3.96,12.48,4.4399999999999995,19.559999999999999,3.4799999999999995,20.759999999999998]
["2014-05-01",65766.534992385001,14118.000695794,28889.136082473,9037.2049931130005,117810.876763765,27.427716397807067,30.483858889072962,15.470669963980157,34.061190931859919,8.5526738198805123,5.7994443883841766,11.069368667306577,1.241849285992547,1.0215195241530253,1.6340814842366758,4.1399999999999997,8098.402,4767.1379999999999,13853.728500000001,4294.5091547618968,22915.375654761898,64416.857499999998,3477.1849999999999,13061.713606981501,576.27328310256996,11996.698264963999,41.774759136952802,92408.932020745022,11531.504837805,11528.681084994299,13402.515347715,1226.1489999999999,187.93015800000001,18192.795905999999,11306.6236713744,859.18684949999999,6551.4383865954997,364.90347089946698,153727.97701863875,null,3.96,7.68,4.08,12.24,4.32,17.16,3.96,22.56]
["2014-06-01",66168.764287566999,14148.013496157,29223.803193149,8734.6648568750006,118275.24583374799,26.578430844051667,28.896511441683906,15.226036140217682,33.745644952398877,8.2215048189788327,6.1963520386099233,9.4834937933566223,1.367077825268709,1.1871845049230478,1.6914843293215895,3.94,8142.1109999999999,4789.1390000000001,13997.237550000002,4346.7733999999973,23133.149949999999,64522.267,3525.183,11618.2261980313,579.24090378999495,10680.2541400216,43.951848460188202,92653.861063339515,11357.527,11247.934999999999,13809.134,1460.0530000000001,182.6638925,18311.7802405,12122.1629747729,877.42279699999995,6737.7428226418197,368.14841856365399,154916.64872690698,null,3.96,8.52,4.1999999999999993,10.44,4.4399999999999995,14.64,4.68,20.399999999999999]
["2014-07-01",66458.078092598997,14241.056071061001,29476.757812060001,9040.9949389150006,119216.88691463499,24.957813606664963,26.025322012966271,15.202943041096539,33.344070261990986,8.05413924045423,5.6506261608419788,10.103122554276478,1.2390792352240154,1.1136074675088106,1.4387413590719831,3.86,7977.7780000000002,4768.5929999999998,13890.897349999999,4270.7932204545514,22930.28357045455,65535.362000000008,3583.2460000000001,10195.743891837001,578.57724146329997,9364.2513979899504,47.3518632761688,93411.609442488741,11362.423076845,10767.750514732201,14046.022379945,1050.223,173.86779799999999,18397.320626000001,12841.6417103029,902.99983450000002,6913.0553691096402,371.89973105037598,155668.90328265383,null,3.96,8.16,3.96,11.399999999999999,4.32,12.48,3.12,19.68]
["2014-08-01",67327.851470598995,14354.085870336001,29800.063759446999,9032.4802558690008,120514.481356251,24.736555562183391,26.571384079799781,14.587982654580076,32.944830229592128,7.6667139531344972,5.5018822049095393,9.1105911661443617,1.3430400832379437,1.2883507273028563,1.4114953529957284,3.67,8142.2067999999999,4708.0050000000001,13914.768550000001,3996.7362174999989,22619.5097675,66249.885500000004,3557.9009999999998,10125.504438403001,580.98044524049999,9296.5690458825593,47.312533043531801,93789.899572217415,11740.023810344999,10785.4973470241,14195.3027038665,1037.117,158.60780349999999,18474.578635499998,13840.9201321525,939.1599185,7451.8913631327996,379.30087172404598,157129.91468824865,null,3.5999999999999996,7.8000000000000007,3.5999999999999996,10.44,3.7199999999999998,12.72,4.08,19.919999999999998]
["2014-09-01",67730.497433056997,14426.432400211001,30172.775293113002,9044.9396277550004,121374.64475413598,24.962352136693131,27.061107365624707,14.389216938665404,32.097890084746204,7.3536800904046364,5.2648061730301059,8.8290249133065366,1.2830019285065295,1.0518275822548373,1.6187405267488699,3.58,8182.4049999999997,4883.9579999999996,13997.462449999999,4368.3925499999996,23249.812999999998,66266.082999999999,3571.933,10315.978404314201,585.78126963269995,9567.0776713781106,46.6326859140026,94375.87831665478,12239.687,10599.540999999999,14604.148999999999,1108.2570000000001,141.70561499999999,18568.049824500002,14025.238188035701,959.47857850000003,7661.0784545267998,381.39194440169803,158579.51412376197,null,3.4799999999999995,7.4399999999999995,3.3600000000000003,9.36,3.5999999999999996,12.120000000000001,4.8000000000000007,20.04]
["2014-10-01",68033.964476630994,14542.214164871,30651.802285876001,8692.3673476500007,121920.34827502799,24.140386595713494,26.079612161247596,14.479213412056559,31.375564437270441,7.3109124194682353,5.3210779848427414,8.8672979948331871,1.4164985210673096,1.2244827463166235,1.7332163860362249,3.57,8046.06,4801.4290000000001,13795.696,4223.4939999999988,22820.618999999999,66838.03899999999,3599.4720000000002,11948.004880783201,592.42963044159501,11080.325806491001,47.581217146020897,94670.65748758777,12176.286,10892.788,14768.473,962.39599999999996,139.3263925,18576.105361499998,13029.7133484519,954.71518200000003,7294.5744955711398,380.26108528444598,158495.62519118408,null,3.5999999999999996,7.4399999999999995,3.4799999999999995,9.120000000000001,3.84,15.24,5.16,17.399999999999999]
["2014-11-01",69824.921463933002,14691.02463059,31194.060844418,9048.8023577109998,124758.80929665199,23.933469138164995,25.50276779642509,14.75867164799423,31.155112929897008,6.8987822627539384,5.2204692214107213,8.198723638467083,1.5128841476348087,1.4029675997861781,1.6661345458542656,3.65,8346.9789999999994,4879.1970000000001,14020.181199999999,5062.4195499999987,23961.797749999998,68224.428499999995,3627.8760000000002,12672.883791087101,596.61915881940502,11731.4362506694,47.9557239493369,97304.213225287764,12254.1620595,10275.042789728301,14985.445815646999,879.59,143.96886850000001,18583.103633999999,12798.3413903126,968.29707980201795,7057.4914770034002,381.02492016715303,160753.64846560711,null,3.4799999999999995,6.9599999999999991,3.5999999999999996,9.48,3.84,10.68,4.68,17.88]
["2014-12-01",70255.531534616995,14760.744088306001,31579.011781309,8819.9903718999994,125415.277776132,23.702525572450863,23.964291361547403,15.010740828005918,30.34777356348712,6.8751071984544314,5.2742914788392188,7.9730256528947256,1.3937931498209903,1.2304519005111727,1.7107067853237408,3.73,8715.1952500000007,5160.6040000000003,15039.294699999999,5290.9196000000002,25490.818299999999,69242.271999999997,3636.7249999999999,12662.707433810299,599.56342408854005,11862.829294818701,47.872794203369502,99721.384068876767,12683.856487372501,9484.9765905942004,15401.515945718,1136.3009999999999,196.92497233,18594.186380537001,12995.3666057013,989.55239900000004,6954.3878565168097,389.72986529098603,163859.94672832199,null,3.4799999999999995,6.9599999999999991,3.5999999999999996,8.52,3.84,12.72,3.12,17.88]
["2015-01-01",70467.613015872994,14828.789951237,31737.148958720001,9523.6364489459993,126557.188374776,24.096004417675232,24.770099273516159,15.33345316100732,30.472606645070002,7.0701299105733071,5.2847722854794892,8.3226654049551438,1.597160986435902,1.5164041911724901,1.6994628902479114,3.75,8826.1173337519049,5142.750500997,15547.218699999999,4724.8111999999992,25414.780400996999,69418.642500000002,3650.973,13476.617841077599,614.00856720293496,12577.7266165694,46.773605212071402,99950.522087496065,13130.561948500001,9589.8665609855707,15374.2045710086,1083.8879999999999,227.24428533,18486.3092566675,13028.379420965501,1004.8061494999999,6893.0843811426603,403.41056618296102,164579.28733312764,null,3.3600000000000003,6.24,3.24,9.120000000000001,3.4799999999999995,14.399999999999999,5.4,20.52]
["2015-02-01",70127.490674633998,14883.444062656999,31939.024774992999,9126.0257688479996,126075.985281132,25.234454506174483,26.275318029970286,15.402136517196087,31.146985890800082,7.1278456061208804,5.5181542645438171,7.8036065890156969,1.684601636833142,1.6581105727950991,1.7358640988313598,3.73,9072.6020000000008,5188.5173789404998,15391.782599999999,4756.134850000004,25336.434828940502,69137.103499999997,3669.6210000000001,13464.0676940181,632.73463008226497,12542.3508806881,47.376621599392102,99650.234150753371,13338.521599,10184.925999999999,15739.519,940.64700000000005,205.20878350000001,18399.1589096305,13647.401666836,1031.045629,7096.8060267225401,408.11149485549998,165631.74521714184,null,3.24,5.16,3.24,10.199999999999999,3.5999999999999996,12.48,5.16,20.04]
["2015-03-01",70094.153396256006,14984.897491348,32327.534700623,9152.5812855059994,126559.166873733,23.299889255728694,24.720736570128857,13.730764952547478,30.790077344049799,7.1450969129499748,5.4522568421928517,8.1683457396932528,1.4588164771542831,1.2203524717978489,1.8134075907534819,3.67,8878.8998082446396,5184.0789063579996,15487.551100000001,4414.2667999999921,25085.896806357992,69548.427500000005,3705.5129999999999,11904.060621304699,641.62364998090504,11373.882327675199,59.777590697513602,99451.8616592709,13055.860279,9967.3738718431996,15803.281858594501,912.9,205.72166050000001,18278.322478499998,14539.252116773299,1053.3296700000001,7311.2219430954501,409.84759040033401,165546.83406098609,null,3.3600000000000003,5.28,3.4799999999999995,9.84,3.7199999999999998,13.080000000000002,5.16,19.32]
["2015-04-01",70180.506110275004,15085.988004864999,32816.129443113001,9141.6188143079999,127224.24237256101,23.619520297404737,24.946302742901871,14.201427247366844,30.556844934074732,7.0364298241080938,5.5670550231722427,7.8905429710960213,1.62,1.5500471797138695,1.6644820074580875,3.6,8864.913115695761,5203.5529140037597,15606.2384,4667.7036000000007,25477.494914003761,70453.225999999995,3747.8679999999999,11921.309093418,640.16570504571496,11498.9514329744,73.2845247995959,100667.82775469347,12963.291432,9746.0585185657601,15891.180919594301,714.96400000000006,201.090092,18329.9333195,14774.933784999999,1072.4199739999999,7229.9844421608605,412.38811296329101,166719.32724022935,null,3.3600000000000003,5.28,3.5999999999999996,10.08,3.84,11.16,4.68,18.600000000000001]
["2015-05-01",71322.357115891005,14931.114995738,33276.685116717003,9443.7444685080009,128973.90169685401,23.777920247312657,25.437449923390041,14.086346710722641,30.347827472409669,6.8780397911292805,5.2827961398552805,8.0814116425379385,1.3818396097605696,1.2428675282110295,1.7682111716674147,3.61,9360.2416174558894,5334.6192415104197,15875.382999999998,4746.8241500000004,25956.826391510418,70801.217000000004,3807.3530000000001,12193.9973499552,634.88592048129999,11803.4790792187,65.602267329998597,101525.19831539823,13209.366979,10273.837670286801,16652.289609850501,670.12400000000002,191.9154015,18536.231045,14600.032634060701,1087.14833,6884.7159446065598,416.97226065814903,169444.45577983154,null,3.4799999999999995,5.16,3.7199999999999998,9.9599999999999991,3.96,9.9599999999999991,3.4799999999999995,19.799999999999997]
["2015-06-01",71562.743553394001,14969.745615794,33659.714397848002,9459.9422520900007,129652.145819126,23.479117582852449,25.011463471140058,13.974289954592345,30.109024445817216,7.0624309633953626,5.7113793215964961,8.0822841641447436,1.681825336480314,1.6046976974281602,1.788890231942359,3.66,9207.0265374331902,5380.3431603669496,16190.165949999999,4894.1824000000006,26464.691510366949,71297.129499999995,3874.8209999999999,10893.681500000001,630.30213379999998,10657.81403,53.741631810000001,102449.06998235693,13138.2933885,9618.9835970805707,17489.8362370457,625.74800000000005,188.24907250000001,18517.851630000001,14818.10757,1093.4313239999999,6679.9096890000001,418.46320429999997,170841.19790818318,null,3.4799999999999995,5.4,3.7199999999999998,9.84,3.96,13.32,null,16.559999999999999]
["2015-07-01",72405.917575700994,15119.758056874,34057.182553817998,9869.6904472580009,131452.54863365099,22.914229745414907,24.30348207985918,14.254897787068533,29.399690125558152,6.8327055217161652,5.5295721727949161,7.5611642442675038,1.5486261039288127,1.4555430115189918,1.6887426063491797,3.67,9221.0362347103182,5331.02529720859,16112.98905,4858.9408500000036,26302.955197208594,72876.937999999995,3911.5630000000001,12324.47537,629.10834950000003,11871.820239999999,50.52274912,104122.69692758858,13486.677455999999,9710.0810056134505,18422.960396034501,836.30499999999995,187.60143550000001,18594.807649999999,15397.272139999999,1125.3050499999999,6884.7525990000004,423.85530779999999,174575.09915393652,null,3.4799999999999995,5.28,3.7199999999999998,8.52,3.84,13.200000000000001,2.88,16.68]
["2015-08-01",72956.084690913995,15212.861902930999,34450.450568704,10140.181593142999,132759.578755692,23.520368626991754,25.736077519125139,13.959811253181147,29.108933640254506,7.0706048271742716,5.7009310119886552,7.8237022697967475,1.5856321134940072,1.5174930043728518,1.6970344756185507,3.63,9281.8729712290005,5309.7745912358596,15969.947749999999,4927.2990350000027,26207.021376235862,74528.410499999998,3952.2431428571399,12435.4750215201,638.55633827830002,11974.5268763268,48.082236221422797,105739.09726634317,14081.3954814803,10151.419065075899,18792.2207509978,614.63028571428595,192.2264735,18803.084757500001,16062.8373354617,1120.089806,7206.2084277740396,439.68982677362601,177911.10296752551,null,3.5999999999999996,5.4,3.7199999999999998,9.6000000000000014,3.96,14.64,2.88,18.12]
["2015-09-01",74374.980907503006,15318.9511146,34969.095353254001,9950.7812607199994,134613.80863607701,23.228031870933826,25.411497159861995,13.933832674976603,29.055246976530931,6.3402264133813899,5.5236402854138307,6.7762791700470597,1.573994499198929,1.1955111422170426,2.0853564876013477,3.65,9308.6159815664269,5432.6380919829999,15997.23605,5049.2496000000001,26479.123741982999,75273.118000000002,3994.6990000000001,11276.48309,650.37826419999999,11006.06256,47.091451569999997,106620.648084613,14046.934522,9950.4879843152794,19439.8444918276,690.81799999999998,188.53326000000001,18817.077789999999,15995.92409,1108.8219509999999,7179.6626859999997,448.16719380000001,179231.26029395589,null,3.7199999999999998,5.4,3.96,8.2799999999999994,4.32,10.08,3.84,16.559999999999999]
["2015-10-01",74857.112191371998,15454.556414705001,35453.705786043,9723.6233258240009,135488.997717944,23.141147208858296,24.940871813220262,14.3048115110014,28.613100242566055,6.2365347351570826,5.7648304512650892,6.2794680003424563,1.524345819053698,1.2719202144364641,2.0229646707821223,3.64,9313.4171572537107,5406.51888037138,16036.970450000001,4783.2271500000088,26226.716480371389,76298.981499999994,4046.2950000000001,12895.182269999999,655.22221969999998,12577.90143,46.618236410000002,107497.87780366139,14183.543304999999,10205.3066698434,19827.0712330438,1012.457,172.358159,18858.934679999998,15625.41678,1114.9153710000001,6856.0909739999997,451.03275209999998,181190.75727544862,null,3.7199999999999998,5.88,4.08,8.16,4.68,9.9599999999999991,3.5999999999999996,18.12]
["2015-11-01",75881.904394186,15620.048203843,35930.224742822997,9838.6782681540008,137270.85560900602,22.714055598104022,23.955007142935386,14.680759255295257,28.596815336631021,6.9264196241281217,5.607893200156334,7.6058312050306531,1.5664954774446904,1.3801817198953734,2.0078469605372309,3.72,9403.9315302183295,5444.2311942447204,16236.311450000001,4992.0007000000032,26672.543344244725,77029.819499999998,4203.1390000000001,13128.0043381096,659.58118838300004,12711.1798843125,44.967979635385497,108936.93950678944,14497.633648000001,9999.3128359995299,20349.413801034301,920.13,159.84912199999999,18856.419591175501,15205.181861897699,1132.9193754999999,6329.8885189150296,455.22948807036698,183272.68173541111,null,3.84,5.5200000000000005,4.32,9,4.92,13.32,2.4000000000000004,16.919999999999998]
["2015-12-01",76628.980251069006,15792.32110123,36337.552885026002,9626.0821231629998,138384.93636048801,22.825927726055138,23.781892970038665,14.97456553493975,28.351451531380818,6.8557463959947142,5.9062377760400713,7.370222798872728,1.8296947426139958,1.5875071771999423,2.3271249699481498,3.77,9701.9385797911491,5679.2734800485996,17150.633150000001,5380.1329000000114,28210.039530048613,77307.429499999998,4071.2460000000001,13029.311027252699,663.40726959000006,12517.898718587099,42.453480653606,110721.08112765061,14524.2373025,9013.1763102638506,20421.028998736001,834.29,146.91918749999999,18754.935600500001,14386.5252486383,1128.3100425,5631.8419635813898,455.03077007744798,183843.63108462992,null,3.96,5.76,4.4399999999999995,8.76,5.04,11.399999999999999,3.8883867991046386,19.200000000000003]
["2016-01-01",76909.283616486995,15890.978040505999,36583.845480456999,9723.5480543239992,139107.65519177399,23.394943708509853,24.447465877359313,15.451477396160207,28.29147038398424,7.284385244263115,6.1313677293026814,7.7377699307429086,1.8924019749186181,1.5592783054401773,2.4438192098983369,3.8323364446336332,9837.7955766190498,5657.7604470057004,17805.491399999999,5355.3672000000088,28818.619047005708,77857.243000000002,4081.34,13050.2783,665.97359900000004,12535.38222,41.079170349999998,111896.99255565571,14341.7446925,8950.2675922051494,20136.197778000002,765.06399999999996,114.7664075,18788.68376,13892.68772,1103.7884260000001,5315.3595109999997,454.50666569999999,184220.32675516087,null,3.96,5.5200000000000005,4.4399999999999995,9.24,4.92,12.600000000000001,6.2755540541063786,18.96]
["2016-02-01",76958.326124065003,15977.517747861,36897.028560125,9759.6705227870007,139592.54295483799,23.872567741311805,25.132125998528121,15.352342143309691,28.75408687545659,7.7532675581529702,6.3603777598715503,8.1278525900319156,1.6664341180083597,1.4349342698509562,2.1904252892147831,3.8285425470190493,9881.9275404313303,5701.4727835682397,17604.643400000001,5029.7100499999897,28335.82623356823,78229.577499999999,4105.1940000000004,12149.95685,670.17873359999999,11566.70931,41.556288770000002,111882.46771839824,14397.719599,9670.4754860305693,20329.0288199229,1009.9829999999999,97.2685295,18862.7709,13972.887419999999,1081.4973660000001,5593.2689300000002,459.00821639999998,185251.82169245175,null,3.84,5.76,4.32,10.08,4.68,14.04,4.7377514417074451,21.12]
["2016-03-01",76499.364536467998,16125.045055675,37249.332512706998,9538.3571537509997,139412.099258601,22.68924006560573,24.299931984157304,14.00804779129461,28.927600120068274,7.7107918387327681,6.1012077241755112,8.4972524704068952,1.8450418925384797,1.6036655001878166,2.3710948304492887,3.8056222561863335,9965.1087224409093,5684.2514632484599,17211.32185,4636.5458999999901,27532.11921324845,79208.841,4144.058,12247.222949999999,686.49450969999998,11625.984399999999,41.412825920000003,112151.33844702844,14441.962627499999,9194.7848527650403,20381.632668120899,746.73500000000001,109.08516,18927.66718,14274.35333,1095.9497280000001,5907.991387,460.32269730000002,184955.19490911436,null,3.84,5.64,4.1999999999999993,10.44,4.5600000000000005,12.96,5.100839965372149,19.559999999999999]
["2016-04-01",76906.614795008994,16248.964051806,37550.433239762999,9445.9779717639994,140151.99005834199,23.305944415526945,25.077504110031136,14.23914785625983,28.814230956352482,7.4672424302494598,5.9176314808398196,8.3933239732776954,1.9161644549564454,1.746347169192747,2.2065919532138567,3.7853394200906125,9801.4026055606191,5656.8742472426202,17270.322800000002,4664.528199999997,27591.725247242619,79718.096000000005,4186.9430000000002,13605.31746,704.67807349999998,12757.35482,40.52140103,113008.88355971262,14473.503138,9374.6653267649508,20394.835619649501,342.71899999999999,133.0507935,18951.63335,14497.180770000001,1108.7892649999999,6195.5822420000004,457.4293381,185632.24924252709,null,3.7199999999999998,5.5200000000000005,3.96,10.199999999999999,4.32,13.799999999999999,4.3307685441405113,17.16]
["2016-05-01",77802.407115480004,16284.822163991999,37851.386379151001,10030.673714676001,141969.28937329899,22.869276252876251,24.523690257111927,14.247919375759514,28.439069611595251,7.4539913137159282,5.7712906225209792,8.6629449025872098,1.6293377522747461,1.3775519155017051,2.3008880657992288,3.7880666525968389,9947.1752769589493,5714.1363962784098,17509.4827,4364.4738999999963,27588.092996278407,79905.5435,4241.5360000000001,13940.3292102985,707.94291039858501,13117.705812668701,40.810685355903999,113224.92811895086,14918.0996325,10118.8386822866,21591.540456035,342.09399999999999,162.50879850000001,18977.749526,14864.778251714801,1121.1673025,6434.2363983444402,459.78323666270398,188427.68513348012,null,3.7199999999999998,5.4,3.96,9.7200000000000006,4.32,14.879999999999999,3.0606087387007763,17.759999999999998]
["2016-06-01",77961.404005531993,16355.817266964001,38123.102714232002,9538.0480151480006,141978.37200187601,23.123982168214148,24.978523676452529,14.220726080919539,28.57058895440548,7.1565532655242983,5.7764030016906611,7.9335158750111407,1.7025387899104221,1.4582992533577621,2.3739945131060245,3.7565380192537412,9880.8755566910495,5756.1795162430999,17257.402300000002,4774.1586499999985,27787.7404662431,80733.001499999984,4300.3339999999998,12817.67851,718.90764809999996,12283.719880000001,43.107267999999998,114030.83497634307,15262.8713795,9876.9883765788109,22661.2930654343,213.357,184.41607999999999,18953.416089999999,15215.961719999999,1118.944068,6544.965811,454.97735069999999,190518.13959415618,null,3.7199999999999998,5.28,3.96,10.08,4.1999999999999993,12.600000000000001,3,15.72]
["2016-07-01",78720.046517267998,16461.591123118,38388.822575414997,9648.7796204610004,143219.23983626199,23.192294409798944,24.923896282528876,14.581877765256891,28.570781620751685,6.8071528948128659,5.6833298169182314,7.168358797673398,1.7023620827303769,1.4198468154110822,2.1961547450853423,3.7261514037301411,9808.7217348792401,5755.0909127799096,16907.030850000003,4622.6599500000011,27284.781712779914,81044.462499999994,4329.2160000000003,12863.658020000001,755.74022260000004,12199.03362,45.322600170000001,114033.50223520992,15158.081257,10806.005350952601,23846.577402094299,212.46600000000001,209.31874400000001,18888.662260000001,15535.06827,1116.716308,6816.8005309999999,451.77433459999997,192537.82296165681,null,3.7199999999999998,5.76,3.96,9.6000000000000014,4.1999999999999993,10.199999999999999,4.1874336601031086,17.52]
["2016-08-01",79253.891326786994,16600.657251731998,38668.373802643,9761.2920437800003,144284.21442494201,22.778364058595766,24.441729441717065,14.383365869344365,28.506227896296949,6.7544997313779396,5.7887251999799219,6.9649154081068527,1.6552755263376597,1.2771090580793927,2.4792505818388459,3.7205523920438139,9868.4722277245,5710.0370863707303,16768.1348,4489.7027999999973,26967.874686370727,81457.95199999999,4355.6580000000004,12799.4337485824,779.53350062107495,12111.3437303105,42.009706251777601,114207.0984990119,15190.6653585,10694.3358299311,25208.8234848789,457.54091376500003,236.53795299999999,19059.288337999998,16146.1484360594,1135.1431869999999,7174.88105182651,461.66024385006102,194699.04070446975,null,3.7199999999999998,5.28,3.84,10.68,4.08,10.08,null,15.96]
["2016-09-01",78914.83738646,16693.438580870999,38877.240056854003,9590.4435772640009,144075.95960144899,23.155736132412635,24.902500850814242,14.354466412035048,28.284560513239498,6.8776584984803915,5.8587015028244167,7.1215510963571198,1.7863098843074756,1.4163427643100746,2.4950407800932091,3.6637135539514345,9852.8470752499106,5858.2271978437102,16724.228900000002,4662.8067000000001,27245.262797843712,82580.369577953999,4383.0230000000001,13719.8684472614,779.45221536756003,12980.452659640699,41.453538258400698,115686.06984052758,14986.542566,10307.508470361199,25832.688168343098,224.08799999999999,249.881426,19335.485588,16755.274847041499,1146.323257,7553.8007145470901,470.62934776791298,196499.43210095839,null,3.7199999999999998,5.5200000000000005,3.96,11.52,4.08,10.08,3.96576,18]
["2016-10-01",79154.545197811007,16802.979339123001,39065.738542318999,9127.3472673039996,144150.61034655699,23.20043758159802,24.795545881304694,14.609783529389249,28.114724079691015,7.6756406433441864,5.6156011174358884,9.2740148638792483,1.9606557465891512,1.6573520472038097,2.5182687773443981,3.5580441087567483,9983.2131515082092,5845.6422270353696,16680.6456,4593.7765499999941,27120.064377035364,83881.743577953996,4408.9930000000004,14932.281829394,714.061697280261,14195.5553594051,44.566229355069297,116817.02289290346,14724.72900179,10134.486311193201,26046.346131699502,269.024,258.45306649999998,19499.248017499998,16696.196750022998,1145.9635685000001,7527.9049525280097,472.87777264591301,197590.68701493525,null,3.7199999999999998,5.16,3.96,11.399999999999999,4.08,16.200000000000003,4.6988973238987315,17.28]
["2016-11-01",80074.996937471995,16996.719014676,39397.552243578997,9456.596282556,145925.86447828298,22.643910888756665,23.869415946419714,14.728744642808486,28.254370155939764,7.5659576310467216,5.6111875460473222,8.9207011111827441,1.8420806560702021,1.5893557917021535,2.3392083953362466,3.5103017051701366,10033.1009913423,5857.3670630084298,17129.491299999998,4884.0195000000031,27870.877863008431,83894.161500000002,4411.9790000000003,14338.4840612637,716.10955120630001,13789.623230110299,41.640377745260601,117400.34836762288,14913.627077790001,9458.1826302978607,26563.2745059236,396.18,267.51205199999998,19661.686916999999,15509.995611123601,1131.835822,6710.6003165607099,460.70649527811003,198131.3361719191,null,3.5999999999999996,5.28,3.96,10.44,4.08,15.24,3.96,18.72]
["2016-12-01",80383.104211850994,17084.008469427001,39818.562348191997,8922.0412640150007,146207.71629348499,22.378849376053722,23.270467124785547,14.584921527419688,28.028790952389844,7.6431049678578153,5.5294398503365843,9.6621759399211076,2.3452091438698139,2.2016661585447528,2.6282840705052526,3.5887658663321309,10171.736232523857,6057.6641408510504,18025.413349999999,5286.8967999999959,29369.974290851045,83646.736499999999,4396.4669999999996,15085.2653404801,744.08903853425204,14344.530908865099,48.741324558633401,118849.25993644165,14588.906704499999,8249.4013074400991,26652.133957009799,541.28099999999995,279.31360100000001,20247.366212000001,15690.655199193799,1120.3563569999999,6883.4293189172904,466.00719819142,198869.23775747663,null,3.7199999999999998,5.28,3.96,11.28,4.1999999999999993,16.32,4.9852090309630164,15.84]
["2017-01-31",79954.534321475003,17174.982062341001,39981.129413426999,8837.8030842579992,145948.44888150101,23.038613775515692,23.768248516047464,15.26750709501931,28.299754098690393,7.8844185914542511,5.512484198731153,9.7640941070317133,2.2144960410537435,2.1412420121924951,2.2948558471819775,3.6161869924987213,10241.672251489334,6020.2464738023336,18252.032738019483,5241.5458619805177,29513.825073802334,81901.430470934196,4389.2140258490954,14143.9196060588,772.02751926712597,13529.003918152301,45.6256622793167,117145.78711547994,16706.411241193,8019.0994767787897,27114.958775679999,209.054,285.39767499999999,20470.906020999999,15936.9109901314,1123.6116890000001,6989.96411712801,465.81602363417301,199556.35684350092,null,3.4799999999999995,4.92,3.5999999999999996,12.72,3.7199999999999998,17.52,2.64,14.879999999999999]
["2017-02-01",80161.874087738994,17240.200687093002,40304.226628698001,8926.8427382280006,146633.14414175801,23.34,24.14,15.12,28.68,8.84,5.58,10.93,2.16,1.86,2.6,3.55,10225.16109376195,6023.7079054803007,17644.102957734198,5415.9032422658047,29083.714105480303,81274.815599480513,4396.3425587483998,13198.9280220817,803.21749999999997,12647.0590990491,42.112000000000002,116067.84668674182,16704.181139382948,8640.0263437419508,27444.398728460899,259.37521739130398,276.05149749999998,20918.595568421999,17106.958064156599,1144.0784613492101,7546.2883172472402,466.51519248569002,200548.70819741377,null,3.3600000000000003,5.04,3.3600000000000003,13.919999999999998,3.5999999999999996,19.919999999999998,4.08,18.600000000000001]
["2017-03-01",80355.756958407001,17405.835928020999,40749.195159907998,9154.672375012,147665.46042134799,22.02,23.09,13.59,28.4,8.18,5.32,10.99,2.33,2.0699999999999998,2.77,3.47,10170.886336887826,6015.6474524007217,18270.866796498151,4780.2093187716519,29066.723567670524,82641.108153233014,4426.3936330764782,14804.174641417199,818.33100000000002,13985.270039561399,40.965000000000003,117730.49595583582,16571.347262214731,8640.0263437419508,27444.398728460899,28.870999999999999,276.05149749999998,20918.595568421999,17106.958064156599,1157.5557094999999,7546.2883172472402,466.88432485071303,201861.12748773405,null,3.24,4.68,3.24,13.080000000000002,3.4799999999999995,18,3.84,16.32]
["2017-04-01",81360.194437429993,17461.694191488001,41064.785138507003,9382.3204851900009,149268.994252615,22.83,23.94,13.99,28.56,7.48,4.7699999999999996,9.7899999999999991,2.35,2.17,2.7,3.42,10173.497885388555,6015.6474524007217,18270.866796498151,5577.1891535018503,29863.703402400723,81479.203169256216,4462.2846656488337,16386.028685687601,848.23900000000003,15155.8159506416,53.994500000000002,117829.64847235178,16556.497298755123,9693.9338698250504,27398.361127226701,432.71699999999998,276.38119949999998,21053.015298499999,17603.690302400999,1182.863693,7947.4009893167304,475.99142143978202,203603.71585080316,null,3,4.4399999999999995,3,11.399999999999999,3.24,18.96,3.5999999999999996,16.200000000000003]
["2017-05-01",80590.029678217994,17453.945880088999,41467.190892316998,9284.1415062079996,148795.307956832,21.88,22.79,13.72,28.18,7.03,4.88,8.49,2.23,1.97,2.69,3.36,10250.941917621181,6040.285186411591,18534.838291744407,5560.6210582555941,30135.744536411592,82342.599778937089,4515.0460484838177,15161.1835832009,873.03399999999999,14174.283508602601,63.368499999999997,118789.95593843079,15733.484031907044,9226.3925425121397,27204.8567726527,421.12400000000002,281.89810499999999,21248.619600000002,18028.9704570262,1204.465299,7748.5715725073396,486.88298410655602,203904.31218991501,null,2.88,4.4399999999999995,2.88,10.56,3.24,18.240000000000002,2.64,13.080000000000002]
["2017-06-01",80890.061750957,17492.822575036,41831.585774321997,8908.6429061479994,149123.11300646298,22.2,23.51,13.53,28.15,7.25,4.8,8.81,2.4900000000000002,2.2400000000000002,2.91,3.29,10178.990492290097,6160.3046845553299,18783.010496445098,5568.7798566143338,30512.095037614763,82742.174257014369,4563.7838754866671,15229.434229468699,877.05050000000006,14372.6856777392,55.403500000000001,119496.4487218453,15848.35201067965,8872.1677060398106,28171.732258963817,365.32299999999998,280.37103949999999,21360.062292999999,18309.831261481599,1219.3846639999999,7423.0513975691501,493.97100569468,206006.65055224634,null,2.7600000000000002,4.32,2.88,11.040000000000001,3.12,18.36,4.1999999999999993,15.600000000000001]
["2017-07-01",80745.533730529001,17509.462054400999,41994.570849486998,8802.2159057999997,149051.78254021698,22.01,23,13.83,27.88,7.08,4.8099999999999996,8.75,2.39,2.0699999999999998,2.87,3.2,10546.310417225401,6066.109058521477,18397.712983565947,5594.1779579125759,30058,83688.645064987912,4579.3337736028579,15457.036751821623,889.05600000000004,14557.93499312154,62.435000000000002,120051.70159729086,15394.25239339962,9261.8374322432392,28657.004092417152,460.40238095238101,256.47571099999999,21285.735560000001,18310.461370712794,1226.2180495,7107.4089219813941,493.58924372660624,207303.09042180807,null,2.7600000000000002,4.4399999999999995,2.88,11.040000000000001,3.3600000000000003,18,4.1999999999999993,15]
["2017-08-01",80903.172559119994,17650.373072019,42289.814326703003,8411.4531327660006,149254.81309060799,21.45,22.65,13.39,27.96,6.79,4.54,8.68,2.52,2.17,2.89,3.19,10169.828748278,5984.4938318083186,18233.13748254432,5607.0400484397724,29824.671362792411,83701.098820510568,4587.244310415409,14208.351933649694,905.1875,13628.287361572693,69.657000000000011,119528.60956579538,14495.586163059726,8903.0412397138207,28845.791971994542,447.869545454545,223.04943,21388.306088999998,18601.865583801802,1240.6321992007715,6953.4856672018832,491.54750075199377,206229.71862006671,null,2.64,4.1999999999999993,2.88,10.44,3.12,15.72,4.4399999999999995,15.600000000000001]
["2017-09-01",81675.130575802003,17714.251498857,42703.934552377999,8285.813081196,150379.129708233,22.06,23.26,13.4,27.8,6.9,4.5599999999999996,8.5500000000000007,2.59,2.4,2.87,3.2,10427.175989801301,6118.5317593221589,18291.975368156789,5749.6088511358939,30160.115978614842,85528.546005450582,4607.99297065275,15248.864857406768,905.02365238094092,14587.474092174372,72.147900248918873,121790.9214720826,14697.958732449946,8017.6257264349997,28868.587171164218,345.09744911403283,208.4236356243108,21620.192329315767,19303.635895495969,1252.8512346406753,7367.4330138097612,493.78012471064289,208244.08050780214,null,2.64,4.1999999999999993,2.7600000000000002,11.28,3.24,15.24,4.32,17.759999999999998]
["2017-10-01",81711.342056031004,17795.137613151001,42952.962794418003,8291.4944331450006,150750.936896745,21.65,22.66,13.57,27.6,6.67,4.5999999999999996,8.01,2.4,2.0699999999999998,2.93,3.26,10561.91090762925,6094.4273331703998,18498.613268584304,5783.9247098761498,30376.965311630851,85355.00665189547,4631.9846776184995,16596.198495431679,900.44122172149207,15933.673581740446,79.408687378171422,121847.51408917939,14590.569434739475,8628.5766315653,28532.046859300001,357.34348221727981,215.57315651857118,21803.305145696402,19235.57242983178,1252.458120238992,7342.9429034267787,492.56837223929995,208627.44807362111,null,2.64,4.08,2.88,10.44,3.24,16.200000000000003,4.68,16.559999999999999]
["2017-11-01",82799.157290499003,17984.944889066999,43422.236406076998,8490.3900396900008,152696.72862533299,21.15,22.11,13.51,27.63,6.57,4.54,8.43,2.57,2.2999999999999998,2.91,3.35,10535.5496624768,6167.4993687808465,18449.043182189253,6038.1406005014505,30654.683151471549,85619.242753744649,4629.9586097527499,15935.463771279572,903.02359254195835,15504.274400555991,74.084347879637448,122164.01313035486,14066.986576675303,8774.6619121224394,28428.0284176274,404.26812253403415,223.12916707606621,21984.938042008664,17868.958328113345,1237.0174803172849,6577.9067124895901,492.66381273131833,208081.43065160851,null,2.64,3.96,2.88,11.040000000000001,3.24,13.919999999999998,null,15.96]
["2017-12-01",83099.375373376999,18048.337796724001,43842.482192640004,8101.9193584100003,153092.11472115101,21.34,21.91,13.98,27.59,6.5,4.6100000000000003,7.81,2.73,2.5099999999999998,3.23,3.48,11232.887897875053,6364.8684279953695,19704.757062479002,6251.4050454342096,32321.030535908583,86202.562248625283,4623.9748269281063,15971.7808742549,923.46857081570988,15485.669866727743,77.793860153509442,124479.35332965133,14307.834634400004,8129.0994386952598,29193.9621687373,400.20399718175332,228.84122159655561,22364.046301085291,17475.265336235156,1224.1363095476618,6469.1402229566902,493.17424847497142,210840.42826569869,null,2.7600000000000002,4.32,3.12,10.56,3.3600000000000003,13.440000000000001,null,16.68]
["2018-01-31",82659.429890144995,18191.665760257001,44109.628208718001,8003.9264784950001,152964.65033761499,21.67,22.55,13.99,27.77,6.37,4.54,8.01,2.87,2.66,3.15,3.52,11222.680813803181,6351.0603702161779,19900.731796769069,6298.8133628485584,32550.605529833807,86407.486227078,4640.0999107623193,15713.13918130055,973.53688805781053,15214.590459841536,85.363627592326452,124984.91364959862,14468.672373788773,8756.62352056091,28011.313890119,397.21542535057517,238.04738901332132,22889.775553609339,18360.804574133559,1228.0290775085828,7031.716733596948,492.6160924853092,211811.06262760042,null,2.7600000000000002,4.1999999999999993,2.7600000000000002,10.56,3.24,13.919999999999998,4.32,16.919999999999998]

{"sheet":"Data base graphs 1","index":1,"n_rows":151,"n_cols":45,"rows_kept":151,"cut":false,"hidden":false,"merged":[[4,1,4,5],[0,7,0,16],[0,1,0,5],[3,1,3,5],[1,1,1,5],[1,10,1,12],[1,6,1,9],[1,13,1,15],[3,6,3,16],[4,6,4,16],[4,17,4,44],[3,17,3,19],[3,21,3,29],[3,31,3,43],[0,17,0,44],[1,17,1,20],[1,21,1,30],[1,31,1,44]]}
[null,"LOANS",null,null,null,null,null,"INTEREST RATES",null,null,null,null,null,null,null,null,null,"MONETARY AGGREGATES"]
[null,"loans individual balance sheets",null,null,null,null,"consumer ($)",null,null,null,"commercial ($)",null,null,"foreign trade (US$)",null,null,"mortgage  (UF)","M1",null,null,null,"M2",null,null,null,null,null,null,null,null,null,"M3"]
[null,"commercial","consumer","mortgage","foreign trade","total","consumer average","credit card","installment credit","overdraft","commercial average","installment credit","overdraft","foreign trade average","export ","import",null,"currency in circulation","current account deposits","other checkable deposits","M1","M1","time deposits","savings deposits","mutual funds quotas in instruments with maturity of up to 1 year","deposits of savings and credit cooperatives","mutual funds investments in M2","savings and credit cooperatives investments in M2","mutual funds in M2 (net value)","cooperatives in M2 (net value)","M2","M2","foreign currency deposits","Central Bank instruments","treasury bonds","mortgage bonds","commercial papers","corporate bonds","other mutual funds quotas","AFP voluntary savings quotas","mutual funds investments in M3","AFP investments in M3","mutual funds in M3 (net value)","AFP in M3 (net value)","M3"]
[null,"annual variation, percentage",null,null,null,null,"rates on an annual basis 360 days, percentage",null,null,null,null,null,null,null,null,null,null,"incidence in annual variation, percentage",null,null,"annual variation, percentage","incidence in annual variation, percentage",null,null,null,null,null,null,null,null,"annual variation, percentage","incidence in annual variation, percentage",null,null,null,null,null,null,null,null,null,null,null,null,"annual variation, percentage"]
[null,"Source: Central Bank of Chile and  Superintendency of Banks and Financial Institutions",null,null,null,null,"Source: Central Bank of Chile",null,null,null,null,null,null,null,null,null,null,"Source: Central Bank of Chile"]
[]
["2006-01-01",null,null,null,null,null,{"$f":"'Data base original'!G11","v":26.840105511345499},null,null,null,{"$f":"'Data base original'!K11","v":10.2731725726366},null,null,{"$f":"'Data base original'!N11","v":5.28923438819597},null,null,{"$f":"'Data base original'!Q11","v":5.31}]
["2006-02-01",null,null,null,null,null,{"$f":"'Data base original'!G12","v":28.080010671663999},null,null,null,{"$f":"'Data base original'!K12","v":10.6917516556947},null,null,{"$f":"'Data base original'!N12","v":5.4882926812584802},null,null,{"$f":"'Data base original'!Q12","v":5.33}]
["2006-03-01",null,null,null,null,null,{"$f":"'Data base original'!G13","v":25.220629902156901},null,null,null,{"$f":"'Data base original'!K13","v":10.242012151611499},null,null,{"$f":"'Data base original'!N13","v":5.8475082006758301},null,null,{"$f":"'Data base original'!Q13","v":5.22}]
["2006-04-01",null,null,null,null,null,{"$f":"'Data base original'!G14","v":26.812381250088201},null,null,null,{"$f":"'Data base original'!K14","v":10.6963342219099},null,null,{"$f":"'Data base original'!N14","v":5.6534729872904501},null,null,{"$f":"'Data base original'!Q14","v":5.04}]
["2006-05-01",null,null,null,null,null,{"$f":"'Data base original'!G15","v":27.4996852524513},null,null,null,{"$f":"'Data base original'!K15","v":10.699763036027299},null,null,{"$f":"'Data base original'!N15","v":6.0693249259096804},null,null,{"$f":"'Data base original'!Q15","v":5.03}]
["2006-06-01",null,null,null,null,null,{"$f":"'Data base original'!G16","v":27.540614539592301},null,null,null,{"$f":"'Data base original'!K16","v":10.0914888005923},null,null,{"$f":"'Data base original'!N16","v":6.0986268480947396},null,null,{"$f":"'Data base original'!Q16","v":5}]
["2006-07-01",null,null,null,null,null,{"$f":"'Data base original'!G17","v":27.283235773047799},null,null,null,{"$f":"'Data base original'!K17","v":9.9566969940811703},null,null,{"$f":"'Data base original'!N17","v":6.2949303717057496},null,null,{"$f":"'Data base original'!Q17","v":5.0999999999999996}]
["2006-08-01",null,null,null,null,null,{"$f":"'Data base original'!G18","v":26.639610178285299},null,null,null,{"$f":"'Data base original'!K18","v":10.308394808512},null,null,{"$f":"'Data base original'!N18","v":6.2227574390990599},null,null,{"$f":"'Data base original'!Q18","v":5.05}]
["2006-09-01",null,null,null,null,null,{"$f":"'Data base original'!G19","v":26.537279800045599},null,null,null,{"$f":"'Data base original'!K19","v":10.345094933528101},null,null,{"$f":"'Data base original'!N19","v":6.2888466043057596},null,null,{"$f":"'Data base original'!Q19","v":5.01}]
["2006-10-01",null,null,null,null,null,{"$f":"'Data base original'!G20","v":26.874266437626801},null,null,null,{"$f":"'Data base original'!K20","v":10.3284256051627},null,null,{"$f":"'Data base original'!N20","v":6.1776341040460299},null,null,{"$f":"'Data base original'!Q20","v":4.95}]
["2006-11-01",null,null,null,null,null,{"$f":"'Data base original'!G21","v":26.970837734170999},null,null,null,{"$f":"'Data base original'!K21","v":10.169422469712799},null,null,{"$f":"'Data base original'!N21","v":6.1078112166577503},null,null,{"$f":"'Data base original'!Q21","v":4.82}]
["2006-12-01",null,null,null,null,null,{"$f":"'Data base original'!G22","v":27.0849800029482},null,null,null,{"$f":"'Data base original'!K22","v":10.2462156294828},null,null,{"$f":"'Data base original'!N22","v":6.0777325619925202},null,null,{"$f":"'Data base original'!Q22","v":4.7699999999999996}]
["2007-01-01",{"$f":"'Data base original'!B23/'Data base original'!B11*100-100","v":16.334927259680327},{"$f":"'Data base original'!C23/'Data base original'!C11*100-100","v":23.214257827540223},{"$f":"'Data base original'!D23/'Data base original'!D11*100-100","v":17.295155089011118},{"$f":"'Data base original'!E23/'Data base original'!E11*100-100","v":26.756159251257117},{"$f":"'Data base original'!F23/'Data base original'!F11*100-100","v":18.304232270407624},{"$f":"'Data base original'!G23","v":27.904564651345101},null,null,null,{"$f":"'Data base original'!K23","v":10.0813509695242},null,null,{"$f":"'Data base original'!N23","v":6.10488173655519},null,null,{"$f":"'Data base original'!Q23","v":4.68},{"$f":"('Data base original'!S23/'Data base original'!S11*100-100)*'Data base original'!S11/'Data base original'!$V11","v":3.3031523131963763},{"$f":"('Data base original'!T23/'Data base original'!T11*100-100)*'Data base original'!T11/'Data base original'!$V11","v":8.5978204209506632},{"$f":"('Data base original'!U23/'Data base original'!U11*100-100)*'Data base original'!U11/'Data base original'!$V11","v":4.1230770651960311},{"$f":"('Data base original'!V23/'Data base original'!V11*100-100)*'Data base original'!V11/'Data base original'!$V11","v":16.024049799343061},{"$f":"('Data base original'!V23/'Data base original'!V11*100-100)*'Data base original'!V11/('Data base original'!$AC11)","v":3.649142399394373},{"$f":"('Data base original'!W23/'Data base original'!W11*100-100)*'Data base original'!W11/('Data base original'!$AC11)","v":14.882486804714127},{"$f":"('Data base original'!X23/'Data base original'!X11*100-100)*'Data base original'!X11/('Data base original'!$AC11)","v":9.2352538158345085E-2},{"$f":"('Data base original'!Y23/'Data base original'!Y11*100-100)*'Data base original'!Y11/('Data base original'!$AC11)","v":3.6890526404208255},{"$f":"('Data base original'!Z23/'Data base original'!Z11*100-100)*'Data base original'!Z11/('Data base original'!$AC11)","v":0.1818500515444669},{"$f":"-('Data base original'!AA23/'Data base original'!AA11*100-100)*'Data base original'!AA11/('Data base original'!$AC11)","v":-3.742426577215233},{"$f":"-('Data base original'!AB23/'Data base original'!AB11*100-100)*'Data base original'!AB11/('Data base original'!$AC11)","v":-1.0758935457431694E-2},{"$f":"(('Data base original'!Y23-'Data base original'!AA23)/('Data base original'!Y11-'Data base original'!AA11)*100-100)*(('Data base original'!Y11-'Data base original'!AA11)/'Data base original'!AC11)","v":-5.3373936794409091E-2},{"$f":"(('Data base original'!Z23-'Data base original'!AB23)/('Data base original'!Z11-'Data base original'!AB11)*100-100)*(('Data base original'!Z11-'Data base original'!AB11)/'Data base original'!AC11)","v":0.17109111608703523},{"$f":"('Data base original'!AC23/'Data base original'!AC11*100-100)*'Data base original'!AC11/('Data base original'!$AC11)","v":18.741698921559461},{"$f":"('Data base original'!AC23/'Data base original'!AC11*100-100)*'Data base original'!AC11/('Data base original'!$AN11)","v":10.676398778920648},{"$f":"('Data base original'!AD23/'Data base original'!AD11*100-100)*'Data base original'!AD11/('Data base original'!$AN11)","v":0.62783936793200823},{"$f":"('Data base original'!AE23/'Data base original'!AE11*100-100)*'Data base original'!AE11/('Data base original'!$AN11)","v":-2.1548177101445241},{"$f":"('Data base original'!AF23/'Data base original'!AF11*100-100)*'Data base original'!AF11/('Data base original'!$AN11)","v":-2.670709824595551E-3},{"$f":"('Data base original'!AG23/'Data base original'!AG11*100-100)*'Data base original'!AG11/('Data base original'!$AN11)","v":0.16885391666657737},{"$f":"('Data base original'!AH23/'Data base original'!AH11*100-100)*'Data base original'!AH11/('Data base original'!$AN11)","v":1.4209545861630287E-2},{"$f":"('Data base original'!AI23/'Data base original'!AI11*100-100)*'Data base original'!AI11/('Data base original'!$AN11)","v":1.7612817695164553},{"$f":"('Data base original'!AJ23/'Data base original'!AJ11*100-100)*'Data base original'!AJ11/('Data base original'!$AN11)","v":1.9205656426449003},{"$f":"('Data base original'!AK23/'Data base original'!AK11*100-100)*'Data base original'!AK11/('Data base original'!$AN11)","v":0.25601150459616756},{"$f":"-('Data base original'!AL23/'Data base original'!AL11*100-100)*'Data base original'!AL11/('Data base original'!$AN11)","v":-0.63653629479671658},{"$f":"-('Data base original'!AM23/'Data base original'!AM11*100-100)*'Data base original'!AM11/('Data base original'!$AN11)","v":-7.984737578149835E-2},{"$f":"(('Data base original'!AJ23-'Data base original'!AL23)/('Data base original'!AJ11-'Data base original'!AL11)*100-100)*(('Data base original'!AJ11-'Data base original'!AL11)/'Data base original'!AN11)","v":1.2840293478481848},{"$f":"(('Data base original'!AK23-'Data base original'!AM23)/('Data base original'!AK11-'Data base original'!AM11)*100-100)*(('Data base original'!AK11-'Data base original'!AM11)/'Data base original'!AN11)","v":0.17616412881466936},{"$f":"('Data base original'!AN23/'Data base original'!AN11*100-100)*'Data base original'!AN11/('Data base original'!$AN11)","v":12.551288435591076}]
["2007-02-01",{"$f":"'Data base original'!B24/'Data base original'!B12*100-100","v":17.148599362846142},{"$f":"'Data base original'!C24/'Data base original'!C12*100-100","v":22.57287340079057},{"$f":"'Data base original'!D24/'Data base original'!D12*100-100","v":17.646439315981894},{"$f":"'Data base original'!E24/'Data base original'!E12*100-100","v":25.4400765873892},{"$f":"'Data base original'!F24/'Data base original'!F12*100-100","v":18.664579829045593},{"$f":"'Data base original'!G24","v":28.682036168198401},null,null,null,{"$f":"'Data base original'!K24","v":9.9487011377282997},null,null,{"$f":"'Data base original'!N24","v":6.0921878167335102},null,null,{"$f":"'Data base original'!Q24","v":4.58},{"$f":"('Data base original'!S24/'Data base original'!S12*100-100)*'Data base original'!S12/'Data base original'!$V12","v":3.3835119370142199},{"$f":"('Data base original'!T24/'Data base original'!T12*100-100)*'Data base original'!T12/'Data base original'!$V12","v":9.4094731710289601},{"$f":"('Data base original'!U24/'Data base original'!U12*100-100)*'Data base original'!U12/'Data base original'!$V12","v":2.9861831097310101},{"$f":"('Data base original'!V24/'Data base original'!V12*100-100)*'Data base original'!V12/'Data base original'!$V12","v":15.779168217774185},{"$f":"('Data base original'!V24/'Data base original'!V12*100-100)*'Data base original'!V12/('Data base original'!$AC12)","v":3.5510670903388344},{"$f":"('Data base original'!W24/'Data base original'!W12*100-100)*'Data base original'!W12/('Data base original'!$AC12)","v":15.346089958567511},{"$f":"('Data base original'!X24/'Data base original'!X12*100-100)*'Data base original'!X12/('Data base original'!$AC12)","v":0.1085232959341863},{"$f":"('Data base original'!Y24/'Data base original'!Y12*100-100)*'Data base original'!Y12/('Data base original'!$AC12)","v":3.0081822838372849},{"$f":"('Data base original'!Z24/'Data base original'!Z12*100-100)*'Data base original'!Z12/('Data base original'!$AC12)","v":0.14820585277166179},{"$f":"-('Data base original'!AA24/'Data base original'!AA12*100-100)*'Data base original'!AA12/('Data base original'!$AC12)","v":-3.2893291741283264},{"$f":"-('Data base original'!AB24/'Data base original'!AB12*100-100)*'Data base original'!AB12/('Data base original'!$AC12)","v":-1.8633807681007582E-2},{"$f":"(('Data base original'!Y24-'Data base original'!AA24)/('Data base original'!Y12-'Data base original'!AA12)*100-100)*(('Data base original'!Y12-'Data base original'!AA12)/'Data base original'!AC12)","v":-0.28114689029104284},{"$f":"(('Data base original'!Z24-'Data base original'!AB24)/('Data base original'!Z12-'Data base original'!AB12)*100-100)*(('Data base original'!Z12-'Data base original'!AB12)/'Data base original'!AC12)","v":0.12957204509065426},{"$f":"('Data base original'!AC24/'Data base original'!AC12*100-100)*'Data base original'!AC12/('Data base original'!$AC12)","v":18.854105499640127},{"$f":"('Data base original'!AC24/'Data base original'!AC12*100-100)*'Data base original'!AC12/('Data base original'!$AN12)","v":10.75338227062873},{"$f":"('Data base original'!AD24/'Data base original'!AD12*100-100)*'Data base original'!AD12/('Data base original'!$AN12)","v":0.6397557028665577},{"$f":"('Data base original'!AE24/'Data base original'!AE12*100-100)*'Data base original'!AE12/('Data base original'!$AN12)","v":-2.2275394722407396},{"$f":"('Data base original'!AF24/'Data base original'!AF12*100-100)*'Data base original'!AF12/('Data base original'!$AN12)","v":-6.1555847337449064E-3},{"$f":"('Data base original'!AG24/'Data base original'!AG12*100-100)*'Data base original'!AG12/('Data base original'!$AN12)","v":0.16310599106653012},{"$f":"('Data base original'!AH24/'Data base original'!AH12*100-100)*'Data base original'!AH12/('Data base original'!$AN12)","v":9.1653595897476566E-3},{"$f":"('Data base original'!AI24/'Data base original'!AI12*100-100)*'Data base original'!AI12/('Data base original'!$AN12)","v":2.073258753209609},{"$f":"('Data base original'!AJ24/'Data base original'!AJ12*100-100)*'Data base original'!AJ12/('Data base original'!$AN12)","v":1.8447029123083121},{"$f":"('Data base original'!AK24/'Data base original'!AK12*100-100)*'Data base original'!AK12/('Data base original'!$AN12)","v":0.24836594094221481},{"$f":"-('Data base original'!AL24/'Data base original'!AL12*100-100)*'Data base original'!AL12/('Data base original'!$AN12)","v":-0.59382687865151573},{"$f":"-('Data base original'!AM24/'Data base original'!AM12*100-100)*'Data base original'!AM12/('Data base original'!$AN12)","v":-6.9990018685345476E-2},{"$f":"(('Data base original'!AJ24-'Data base original'!AL24)/('Data base original'!AJ12-'Data base original'!AL12)*100-100)*(('Data base original'!AJ12-'Data base original'!AL12)/'Data base original'!AN12)","v":1.2508760336567979},{"$f":"(('Data base original'!AK24-'Data base original'!AM24)/('Data base original'!AK12-'Data base original'!AM12)*100-100)*(('Data base original'!AK12-'Data base original'!AM12)/'Data base original'!AN12)","v":0.17837592225686941},{"$f":"('Data base original'!AN24/'Data base original'!AN12*100-100)*'Data base original'!AN12/('Data base original'!$AN12)","v":12.834224976300362}]
["2007-03-01",{"$f":"'Data base original'!B25/'Data base original'!B13*100-100","v":16.07735531692957},{"$f":"'Data base original'!C25/'Data base original'!C13*100-100","v":21.01775333011058},{"$f":"'Data base original'!D25/'Data base original'!D13*100-100","v":17.789927471159288},{"$f":"'Data base original'!E25/'Data base original'!E13*100-100","v":21.755344820328474},{"$f":"'Data base original'!F25/'Data base original'!F13*100-100","v":17.563509790005426},{"$f":"'Data base original'!G25","v":26.988437835351601},null,null,null,{"$f":"'Data base original'!K25","v":9.8189661910433408},null,null,{"$f":"'Data base original'!N25","v":5.9929048908901699},null,null,{"$f":"'Data base original'!Q25","v":4.5599999999999996},{"$f":"('Data base original'!S25/'Data base original'!S13*100-100)*'Data base original'!S13/'Data base original'!$V13","v":3.4391836150024262},{"$f":"('Data base original'!T25/'Data base original'!T13*100-100)*'Data base original'!T13/'Data base original'!$V13","v":10.961714710899006},{"$f":"('Data base original'!U25/'Data base original'!U13*100-100)*'Data base original'!U13/'Data base original'!$V13","v":2.0715046461474107},{"$f":"('Data base original'!V25/'Data base original'!V13*100-100)*'Data base original'!V13/'Data base original'!$V13","v":16.472402972048855},{"$f":"('Data base original'!V25/'Data base original'!V13*100-100)*'Data base original'!V13/('Data base original'!$AC13)","v":3.6471786425071606},{"$f":"('Data base original'!W25/'Data base original'!W13*100-100)*'Data base original'!W13/('Data base original'!$AC13)","v":15.015429625721277},{"$f":"('Data base original'!X25/'Data base original'!X13*100-100)*'Data base original'!X13/('Data base original'!$AC13)","v":0.11256198507773897},{"$f":"('Data base original'!Y25/'Data base original'!Y13*100-100)*'Data base original'!Y13/('Data base original'!$AC13)","v":2.9714249668943542},{"$f":"('Data base original'!Z25/'Data base original'!Z13*100-100)*'Data base original'!Z13/('Data base original'!$AC13)","v":0.14395482672869353},{"$f":"-('Data base original'!AA25/'Data base original'!AA13*100-100)*'Data base original'!AA13/('Data base original'!$AC13)","v":-3.2082368238384968},{"$f":"-('Data base original'!AB25/'Data base original'!AB13*100-100)*'Data base original'!AB13/('Data base original'!$AC13)","v":-1.688576608914703E-2},{"$f":"(('Data base original'!Y25-'Data base original'!AA25)/('Data base original'!Y13-'Data base original'!AA13)*100-100)*(('Data base original'!Y13-'Data base original'!AA13)/'Data base original'!AC13)","v":-0.236811856944143},{"$f":"(('Data base original'!Z25-'Data base original'!AB25)/('Data base original'!Z13-'Data base original'!AB13)*100-100)*(('Data base original'!Z13-'Data base original'!AB13)/'Data base original'!AC13)","v":0.12706906063954648},{"$f":"('Data base original'!AC25/'Data base original'!AC13*100-100)*'Data base original'!AC13/('Data base original'!$AC13)","v":18.665427457001556},{"$f":"('Data base original'!AC25/'Data base original'!AC13*100-100)*'Data base original'!AC13/('Data base original'!$AN13)","v":10.711765294843518},{"$f":"('Data base original'!AD25/'Data base original'!AD13*100-100)*'Data base original'!AD13/('Data base original'!$AN13)","v":0.75304053831435636},{"$f":"('Data base original'!AE25/'Data base original'!AE13*100-100)*'Data base original'!AE13/('Data base original'!$AN13)","v":-2.0350615930804064},{"$f":"('Data base original'!AF25/'Data base original'!AF13*100-100)*'Data base original'!AF13/('Data base original'!$AN13)","v":-4.6227652498629972E-2},{"$f":"('Data base original'!AG25/'Data base original'!AG13*100-100)*'Data base original'!AG13/('Data base original'!$AN13)","v":9.1174480502220726E-2},{"$f":"('Data base original'!AH25/'Data base original'!AH13*100-100)*'Data base original'!AH13/('Data base original'!$AN13)","v":2.639172577938553E-2},{"$f":"('Data base original'!AI25/'Data base original'!AI13*100-100)*'Data base original'!AI13/('Data base original'!$AN13)","v":2.0078440725607996},{"$f":"('Data base original'!AJ25/'Data base original'!AJ13*100-100)*'Data base original'!AJ13/('Data base original'!$AN13)","v":1.960335595567128},{"$f":"('Data base original'!AK25/'Data base original'!AK13*100-100)*'Data base original'!AK13/('Data base original'!$AN13)","v":0.2427499477179238},{"$f":"-('Data base original'!AL25/'Data base original'!AL13*100-100)*'Data base original'!AL13/('Data base original'!$AN13)","v":-0.70089749900310516},{"$f":"-('Data base original'!AM25/'Data base original'!AM13*100-100)*'Data base original'!AM13/('Data base original'!$AN13)","v":-7.5248439083624691E-2},{"$f":"(('Data base original'!AJ25-'Data base original'!AL25)/('Data base original'!AJ13-'Data base original'!AL13)*100-100)*(('Data base original'!AJ13-'Data base original'!AL13)/'Data base original'!AN13)","v":1.2594380965640208},{"$f":"(('Data base original'!AK25-'Data base original'!AM25)/('Data base original'!AK13-'Data base original'!AM13)*100-100)*(('Data base original'!AK13-'Data base original'!AM13)/'Data base original'!AN13)","v":0.16750150863429902},{"$f":"('Data base original'!AN25/'Data base original'!AN13*100-100)*'Data base original'!AN13/('Data base original'!$AN13)","v":12.935866471619534}]
["2007-04-01",{"$f":"'Data base original'!B26/'Data base original'!B14*100-100","v":15.263719298679931},{"$f":"'Data base original'!C26/'Data base original'!C14*100-100","v":20.405017756871374},{"$f":"'Data base original'!D26/'Data base original'!D14*100-100","v":18.237454989643169},{"$f":"'Data base original'!E26/'Data base original'!E14*100-100","v":24.639127838557286},{"$f":"'Data base original'!F26/'Data base original'!F14*100-100","v":17.352727665242739},{"$f":"'Data base original'!G26","v":27.737390581552599},null,null,null,{"$f":"'Data base original'!K26","v":9.9490411209631109},null,null,{"$f":"'Data base original'!N26","v":6.0265213090979604},null,null,{"$f":"'Data base original'!Q26","v":4.54},{"$f":"('Data base original'!S26/'Data base original'!S14*100-100)*'Data base original'!S14/'Data base original'!$V14","v":3.4295187412265093},{"$f":"('Data base original'!T26/'Data base original'!T14*100-100)*'Data base original'!T14/'Data base original'!$V14","v":10.39902430912025},{"$f":"('Data base original'!U26/'Data base original'!U14*100-100)*'Data base original'!U14/'Data base original'!$V14","v":3.9722174935573782},{"$f":"('Data base original'!V26/'Data base original'!V14*100-100)*'Data base original'!V14/'Data base original'!$V14","v":17.800760543904119},{"$f":"('Data base original'!V26/'Data base original'!V14*100-100)*'Data base original'!V14/('Data base original'!$AC14)","v":3.9369112990755979},{"$f":"('Data base original'!W26/'Data base original'!W14*100-100)*'Data base original'!W14/('Data base original'!$AC14)","v":14.863509760274951},{"$f":"('Data base original'!X26/'Data base original'!X14*100-100)*'Data base original'!X14/('Data base original'!$AC14)","v":0.10822755612592118},{"$f":"('Data base original'!Y26/'Data base original'!Y14*100-100)*'Data base original'!Y14/('Data base original'!$AC14)","v":2.99243255666764},{"$f":"('Data base original'!Z26/'Data base original'!Z14*100-100)*'Data base original'!Z14/('Data base original'!$AC14)","v":0.15766411976171169},{"$f":"-('Data base original'!AA26/'Data base original'!AA14*100-100)*'Data base original'!AA14/('Data base original'!$AC14)","v":-2.9618206950607098},{"$f":"-('Data base original'!AB26/'Data base original'!AB14*100-100)*'Data base original'!AB14/('Data base original'!$AC14)","v":-8.5724796931422927E-3},{"$f":"(('Data base original'!Y26-'Data base original'!AA26)/('Data base original'!Y14-'Data base original'!AA14)*100-100)*(('Data base original'!Y14-'Data base original'!AA14)/'Data base original'!AC14)","v":3.0611861606930857E-2},{"$f":"(('Data base original'!Z26-'Data base original'!AB26)/('Data base original'!Z14-'Data base original'!AB14)*100-100)*(('Data base original'!Z14-'Data base original'!AB14)/'Data base original'!AC14)","v":0.14909164006856943},{"$f":"('Data base original'!AC26/'Data base original'!AC14*100-100)*'Data base original'!AC14/('Data base original'!$AC14)","v":19.08835211715197},{"$f":"('Data base original'!AC26/'Data base original'!AC14*100-100)*'Data base original'!AC14/('Data base original'!$AN14)","v":11.027999538001124},{"$f":"('Data base original'!AD26/'Data base original'!AD14*100-100)*'Data base original'!AD14/('Data base original'!$AN14)","v":0.77997029065454981},{"$f":"('Data base original'!AE26/'Data base original'!AE14*100-100)*'Data base original'!AE14/('Data base original'!$AN14)","v":-2.0126031058364777},{"$f":"('Data base original'!AF26/'Data base original'!AF14*100-100)*'Data base original'!AF14/('Data base original'!$AN14)","v":-9.3196209862404247E-2},{"$f":"('Data base original'!AG26/'Data base original'!AG14*100-100)*'Data base original'!AG14/('Data base original'!$AN14)","v":-0.33712934156509716},{"$f":"('Data base original'!AH26/'Data base original'!AH14*100-100)*'Data base original'!AH14/('Data base original'!$AN14)","v":6.9654546078490101E-2},{"$f":"('Data base original'!AI26/'Data base original'!AI14*100-100)*'Data base original'!AI14/('Data base original'!$AN14)","v":1.7584301033194609},{"$f":"('Data base original'!AJ26/'Data base original'!AJ14*100-100)*'Data base original'!AJ14/('Data base original'!$AN14)","v":2.352376074180436},{"$f":"('Data base original'!AK26/'Data base original'!AK14*100-100)*'Data base original'!AK14/('Data base original'!$AN14)","v":0.25507652053004581},{"$f":"-('Data base original'!AL26/'Data base original'!AL14*100-100)*'Data base original'!AL14/('Data base original'!$AN14)","v":-0.78174386305049604},{"$f":"-('Data base original'!AM26/'Data base original'!AM14*100-100)*'Data base original'!AM14/('Data base original'!$AN14)","v":-7.5594340423400949E-2},{"$f":"(('Data base original'!AJ26-'Data base original'!AL26)/('Data base original'!AJ14-'Data base original'!AL14)*100-100)*(('Data base original'!AJ14-'Data base original'!AL14)/'Data base original'!AN14)","v":1.5706322111299398},{"$f":"(('Data base original'!AK26-'Data base original'!AM26)/('Data base original'!AK14-'Data base original'!AM14)*100-100)*(('Data base original'!AK14-'Data base original'!AM14)/'Data base original'!AN14)","v":0.17948218010664474},{"$f":"('Data base original'!AN26/'Data base original'!AN14*100-100)*'Data base original'!AN14/('Data base original'!$AN14)","v":12.943240212026225}]
["2007-05-01",{"$f":"'Data base original'!B27/'Data base original'!B15*100-100","v":16.386867192204761},{"$f":"'Data base original'!C27/'Data base original'!C15*100-100","v":19.585566213036017},{"$f":"'Data base original'!D27/'Data base original'!D15*100-100","v":18.589736129834833},{"$f":"'Data base original'!E27/'Data base original'!E15*100-100","v":21.979331343792879},{"$f":"'Data base original'!F27/'Data base original'!F15*100-100","v":17.762457336702894},{"$f":"'Data base original'!G27","v":27.886722153152501},null,null,null,{"$f":"'Data base original'!K27","v":10.029254363779399},null,null,{"$f":"'Data base original'!N27","v":6.0731379801827003},null,null,{"$f":"'Data base original'!Q27","v":4.3899999999999997},{"$f":"('Data base original'!S27/'Data base original'!S15*100-100)*'Data base original'!S15/'Data base original'!$V15","v":3.4682426444408061},{"$f":"('Data base original'!T27/'Data base original'!T15*100-100)*'Data base original'!T15/'Data base original'!$V15","v":9.2150024559680173},{"$f":"('Data base original'!U27/'Data base original'!U15*100-100)*'Data base original'!U15/'Data base original'!$V15","v":4.9029151950350292},{"$f":"('Data base original'!V27/'Data base original'!V15*100-100)*'Data base original'!V15/'Data base original'!$V15","v":17.586160295443847},{"$f":"('Data base original'!V27/'Data base original'!V15*100-100)*'Data base original'!V15/('Data base original'!$AC15)","v":3.8723616826728415},{"$f":"('Data base original'!W27/'Data base original'!W15*100-100)*'Data base original'!W15/('Data base original'!$AC15)","v":15.09635631038083},{"$f":"('Data base original'!X27/'Data base original'!X15*100-100)*'Data base original'!X15/('Data base original'!$AC15)","v":9.9058751582467519E-2},{"$f":"('Data base original'!Y27/'Data base original'!Y15*100-100)*'Data base original'!Y15/('Data base original'!$AC15)","v":3.228765928962714},{"$f":"('Data base original'!Z27/'Data base original'!Z15*100-100)*'Data base original'!Z15/('Data base original'!$AC15)","v":0.18449764015128747},{"$f":"-('Data base original'!AA27/'Data base original'!AA15*100-100)*'Data base original'!AA15/('Data base original'!$AC15)","v":-3.0131943996668404},{"$f":"-('Data base original'!AB27/'Data base original'!AB15*100-100)*'Data base original'!AB15/('Data base original'!$AC15)","v":-1.490745510527618E-2},{"$f":"(('Data base original'!Y27-'Data base original'!AA27)/('Data base original'!Y15-'Data base original'!AA15)*100-100)*(('Data base original'!Y15-'Data base original'!AA15)/'Data base original'!AC15)","v":0.21557152929587384},{"$f":"(('Data base original'!Z27-'Data base original'!AB27)/('Data base original'!Z15-'Data base original'!AB15)*100-100)*(('Data base original'!Z15-'Data base original'!AB15)/'Data base original'!AC15)","v":0.16959018504601125},{"$f":"('Data base original'!AC27/'Data base original'!AC15*100-100)*'Data base original'!AC15/('Data base original'!$AC15)","v":19.452938458978025},{"$f":"('Data base original'!AC27/'Data base original'!AC15*100-100)*'Data base original'!AC15/('Data base original'!$AN15)","v":11.273251758805207},{"$f":"('Data base original'!AD27/'Data base original'!AD15*100-100)*'Data base original'!AD15/('Data base original'!$AN15)","v":0.7415846094306271},{"$f":"('Data base original'!AE27/'Data base original'!AE15*100-100)*'Data base original'!AE15/('Data base original'!$AN15)","v":-1.8655272786707666},{"$f":"('Data base original'!AF27/'Data base original'!AF15*100-100)*'Data base original'!AF15/('Data base original'!$AN15)","v":3.6479801013963109E-3},{"$f":"('Data base original'!AG27/'Data base original'!AG15*100-100)*'Data base original'!AG15/('Data base original'!$AN15)","v":-0.19899731453115779},{"$f":"('Data base original'!AH27/'Data base original'!AH15*100-100)*'Data base original'!AH15/('Data base original'!$AN15)","v":9.6522237137394246E-2},{"$f":"('Data base original'!AI27/'Data base original'!AI15*100-100)*'Data base original'!AI15/('Data base original'!$AN15)","v":1.7496375835405058},{"$f":"('Data base original'!AJ27/'Data base original'!AJ15*100-100)*'Data base original'!AJ15/('Data base original'!$AN15)","v":2.5796525469745206},{"$f":"('Data base original'!AK27/'Data base original'!AK15*100-100)*'Data base original'!AK15/('Data base original'!$AN15)","v":0.28228733293712399},{"$f":"-('Data base original'!AL27/'Data base original'!AL15*100-100)*'Data base original'!AL15/('Data base original'!$AN15)","v":-0.70089304957232645},{"$f":"-('Data base original'!AM27/'Data base original'!AM15*100-100)*'Data base original'!AM15/('Data base original'!$AN15)","v":-6.8316718262508846E-2},{"$f":"(('Data base original'!AJ27-'Data base original'!AL27)/('Data base original'!AJ15-'Data base original'!AL15)*100-100)*(('Data base original'!AJ15-'Data base original'!AL15)/'Data base original'!AN15)","v":1.8787594974021942},{"$f":"(('Data base original'!AK27-'Data base original'!AM27)/('Data base original'!AK15-'Data base original'!AM15)*100-100)*(('Data base original'!AK15-'Data base original'!AM15)/'Data base original'!AN15)","v":0.21397061467461514},{"$f":"('Data base original'!AN27/'Data base original'!AN15*100-100)*'Data base original'!AN15/('Data base original'!$AN15)","v":13.892849687889992}]
["2007-06-01",{"$f":"'Data base original'!B28/'Data base original'!B16*100-100","v":16.895094532343705},{"$f":"'Data base original'!C28/'Data base original'!C16*100-100","v":18.785661186306157},{"$f":"'Data base original'!D28/'Data base original'!D16*100-100","v":19.501132624459288},{"$f":"'Data base original'!E28/'Data base original'!E16*100-100","v":12.4891037257226},{"$f":"'Data base original'!F28/'Data base original'!F16*100-100","v":17.241856891066348},{"$f":"'Data base original'!G28","v":27.9430478561565},null,null,null,{"$f":"'Data base original'!K28","v":9.8249166514255304},null,null,{"$f":"'Data base original'!N28","v":6.1352687019551402},null,null,{"$f":"'Data base original'!Q28","v":4.42},{"$f":"('Data base original'!S28/'Data base original'!S16*100-100)*'Data base original'!S16/'Data base original'!$V16","v":3.2128154644710905},{"$f":"('Data base original'!T28/'Data base original'!T16*100-100)*'Data base original'!T16/'Data base original'!$V16","v":9.3134368048275302},{"$f":"('Data base original'!U28/'Data base original'!U16*100-100)*'Data base original'!U16/'Data base original'!$V16","v":3.7230765296990453},{"$f":"('Data base original'!V28/'Data base original'!V16*100-100)*'Data base original'!V16/'Data base original'!$V16","v":16.249328798997681},{"$f":"('Data base original'!V28/'Data base original'!V16*100-100)*'Data base original'!V16/('Data base original'!$AC16)","v":3.5899049046197704},{"$f":"('Data base original'!W28/'Data base original'!W16*100-100)*'Data base original'!W16/('Data base original'!$AC16)","v":16.044830554166776},{"$f":"('Data base original'!X28/'Data base original'!X16*100-100)*'Data base original'!X16/('Data base original'!$AC16)","v":7.7221693398299388E-2},{"$f":"('Data base original'!Y28/'Data base original'!Y16*100-100)*'Data base original'!Y16/('Data base original'!$AC16)","v":3.5620836288343538},{"$f":"('Data base original'!Z28/'Data base original'!Z16*100-100)*'Data base original'!Z16/('Data base original'!$AC16)","v":0.21101802171861533},{"$f":"-('Data base original'!AA28/'Data base original'!AA16*100-100)*'Data base original'!AA16/('Data base original'!$AC16)","v":-3.4803144984802663},{"$f":"-('Data base original'!AB28/'Data base original'!AB16*100-100)*'Data base original'!AB16/('Data base original'!$AC16)","v":-2.6211313633365683E-2},{"$f":"(('Data base original'!Y28-'Data base original'!AA28)/('Data base original'!Y16-'Data base original'!AA16)*100-100)*(('Data base original'!Y16-'Data base original'!AA16)/'Data base original'!AC16)","v":8.1769130354088795E-2},{"$f":"(('Data base original'!Z28-'Data base original'!AB28)/('Data base original'!Z16-'Data base original'!AB16)*100-100)*(('Data base original'!Z16-'Data base original'!AB16)/'Data base original'!AC16)","v":0.18480670808524968},{"$f":"('Data base original'!AC28/'Data base original'!AC16*100-100)*'Data base original'!AC16/('Data base original'!$AC16)","v":19.978532990624174},{"$f":"('Data base original'!AC28/'Data base original'!AC16*100-100)*'Data base original'!AC16/('Data base original'!$AN16)","v":11.633313355440755},{"$f":"('Data base original'!AD28/'Data base original'!AD16*100-100)*'Data base original'!AD16/('Data base original'!$AN16)","v":0.49841939130862911},{"$f":"('Data base original'!AE28/'Data base original'!AE16*100-100)*'Data base original'!AE16/('Data base original'!$AN16)","v":-1.9117726462865858},{"$f":"('Data base original'!AF28/'Data base original'!AF16*100-100)*'Data base original'!AF16/('Data base original'!$AN16)","v":0.12530794728198086},{"$f":"('Data base original'!AG28/'Data base original'!AG16*100-100)*'Data base original'!AG16/('Data base original'!$AN16)","v":-0.33816205592135751},{"$f":"('Data base original'!AH28/'Data base original'!AH16*100-100)*'Data base original'!AH16/('Data base original'!$AN16)","v":0.10833487974096466},{"$f":"('Data base original'!AI28/'Data base original'!AI16*100-100)*'Data base original'!AI16/('Data base original'!$AN16)","v":1.8551299673997055},{"$f":"('Data base original'!AJ28/'Data base original'!AJ16*100-100)*'Data base original'!AJ16/('Data base original'!$AN16)","v":2.9323112257319468},{"$f":"('Data base original'!AK28/'Data base original'!AK16*100-100)*'Data base original'!AK16/('Data base original'!$AN16)","v":0.3250375327646402},{"$f":"-('Data base original'!AL28/'Data base original'!AL16*100-100)*'Data base original'!AL16/('Data base original'!$AN16)","v":-0.63410525101152193},{"$f":"-('Data base original'!AM28/'Data base original'!AM16*100-100)*'Data base original'!AM16/('Data base original'!$AN16)","v":-7.3221023926943157E-2},{"$f":"(('Data base original'!AJ28-'Data base original'!AL28)/('Data base original'!AJ16-'Data base original'!AL16)*100-100)*(('Data base original'!AJ16-'Data base original'!AL16)/'Data base original'!AN16)","v":2.2982059747204242},{"$f":"(('Data base original'!AK28-'Data base original'!AM28)/('Data base original'!AK16-'Data base original'!AM16)*100-100)*(('Data base original'!AK16-'Data base original'!AM16)/'Data base original'!AN16)","v":0.25181650883769702},{"$f":"('Data base original'!AN28/'Data base original'!AN16*100-100)*'Data base original'!AN16/('Data base original'!$AN16)","v":14.520593322522245}]
["2007-07-01",{"$f":"'Data base original'!B29/'Data base original'!B17*100-100","v":17.248305315525684},{"$f":"'Data base original'!C29/'Data base original'!C17*100-100","v":18.442387104270438},{"$f":"'Data base original'!D29/'Data base original'!D17*100-100","v":19.625362946297514},{"$f":"'Data base original'!E29/'Data base original'!E17*100-100","v":16.830530860497902},{"$f":"'Data base original'!F29/'Data base original'!F17*100-100","v":17.855956291539826},{"$f":"'Data base original'!G29","v":28.854555981382799},null,null,null,{"$f":"'Data base original'!K29","v":9.98563879156446},null,null,{"$f":"'Data base original'!N29","v":6.06253095516304},null,null,{"$f":"'Data base original'!Q29","v":4.51},{"$f":"('Data base original'!S29/'Data base original'!S17*100-100)*'Data base original'!S17/'Data base original'!$V17","v":3.2118842317289942},{"$f":"('Data base original'!T29/'Data base original'!T17*100-100)*'Data base original'!T17/'Data base original'!$V17","v":10.44598117861846},{"$f":"('Data base original'!U29/'Data base original'!U17*100-100)*'Data base original'!U17/'Data base original'!$V17","v":5.2103290035746923},{"$f":"('Data base original'!V29/'Data base original'!V17*100-100)*'Data base original'!V17/'Data base original'!$V17","v":18.868194413922154},{"$f":"('Data base original'!V29/'Data base original'!V17*100-100)*'Data base original'!V17/('Data base original'!$AC17)","v":4.0930164648427807},{"$f":"('Data base original'!W29/'Data base original'!W17*100-100)*'Data base original'!W17/('Data base original'!$AC17)","v":16.766404441873497},{"$f":"('Data base original'!X29/'Data base original'!X17*100-100)*'Data base original'!X17/('Data base original'!$AC17)","v":6.4455841641389511E-2},{"$f":"('Data base original'!Y29/'Data base original'!Y17*100-100)*'Data base original'!Y17/('Data base original'!$AC17)","v":3.2773750376826918},{"$f":"('Data base original'!Z29/'Data base original'!Z17*100-100)*'Data base original'!Z17/('Data base original'!$AC17)","v":0.23446693904736865},{"$f":"-('Data base original'!AA29/'Data base original'!AA17*100-100)*'Data base original'!AA17/('Data base original'!$AC17)","v":-2.8506124870513574},{"$f":"-('Data base original'!AB29/'Data base original'!AB17*100-100)*'Data base original'!AB17/('Data base original'!$AC17)","v":-2.5415629461222229E-2},{"$f":"(('Data base original'!Y29-'Data base original'!AA29)/('Data base original'!Y17-'Data base original'!AA17)*100-100)*(('Data base original'!Y17-'Data base original'!AA17)/'Data base original'!AC17)","v":0.42676255063133289},{"$f":"(('Data base original'!Z29-'Data base original'!AB29)/('Data base original'!Z17-'Data base original'!AB17)*100-100)*(('Data base original'!Z17-'Data base original'!AB17)/'Data base original'!AC17)","v":0.20905130958614637},{"$f":"('Data base original'!AC29/'Data base original'!AC17*100-100)*'Data base original'!AC17/('Data base original'!$AC17)","v":21.559690608575139},{"$f":"('Data base original'!AC29/'Data base original'!AC17*100-100)*'Data base original'!AC17/('Data base original'!$AN17)","v":12.618087917221748},{"$f":"('Data base original'!AD29/'Data base original'!AD17*100-100)*'Data base original'!AD17/('Data base original'!$AN17)","v":0.48864051139552805},{"$f":"('Data base original'!AE29/'Data base original'!AE17*100-100)*'Data base original'!AE17/('Data base original'!$AN17)","v":-1.7652340712364163},{"$f":"('Data base original'!AF29/'Data base original'!AF17*100-100)*'Data base original'!AF17/('Data base original'!$AN17)","v":0.16101462624638815},{"$f":"('Data base original'!AG29/'Data base original'!AG17*100-100)*'Data base original'!AG17/('Data base original'!$AN17)","v":-0.39262276647099381},{"$f":"('Data base original'!AH29/'Data base original'!AH17*100-100)*'Data base original'!AH17/('Data base original'!$AN17)","v":8.5567395451146153E-2},{"$f":"('Data base original'!AI29/'Data base original'!AI17*100-100)*'Data base original'!AI17/('Data base original'!$AN17)","v":1.9463569528676194},{"$f":"('Data base original'!AJ29/'Data base original'!AJ17*100-100)*'Data base original'!AJ17/('Data base original'!$AN17)","v":3.241870102750378},{"$f":"('Data base original'!AK29/'Data base original'!AK17*100-100)*'Data base original'!AK17/('Data base original'!$AN17)","v":0.3557081038762096},{"$f":"-('Data base original'!AL29/'Data base original'!AL17*100-100)*'Data base original'!AL17/('Data base original'!$AN17)","v":-0.52730515352298013},{"$f":"-('Data base original'!AM29/'Data base original'!AM17*100-100)*'Data base original'!AM17/('Data base original'!$AN17)","v":-8.066415091149913E-2},{"$f":"(('Data base original'!AJ29-'Data base original'!AL29)/('Data base original'!AJ17-'Data base original'!AL17)*100-100)*(('Data base original'!AJ17-'Data base original'!AL17)/'Data base original'!AN17)","v":2.7145649492273987},{"$f":"(('Data base original'!AK29-'Data base original'!AM29)/('Data base original'!AK17-'Data base original'!AM17)*100-100)*(('Data base original'!AK17-'Data base original'!AM17)/'Data base original'!AN17)","v":0.27504395296471057},{"$f":"('Data base original'!AN29/'Data base original'!AN17*100-100)*'Data base original'!AN17/('Data base original'!$AN17)","v":16.131419467667158}]
["2007-08-01",{"$f":"'Data base original'!B30/'Data base original'!B18*100-100","v":18.04252987791115},{"$f":"'Data base original'!C30/'Data base original'!C18*100-100","v":17.645878229400623},{"$f":"'Data base original'!D30/'Data base original'!D18*100-100","v":19.914026810454573},{"$f":"'Data base original'!E30/'Data base original'!E18*100-100","v":18.472808789883572},{"$f":"'Data base original'!F30/'Data base original'!F18*100-100","v":18.422651004628435},{"$f":"'Data base original'!G30","v":27.592636850561401},null,null,null,{"$f":"'Data base original'!K30","v":9.9113971326751198},null,null,{"$f":"'Data base original'!N30","v":6.1999090900244802},null,null,{"$f":"'Data base original'!Q30","v":4.6900000000000004},{"$f":"('Data base original'!S30/'Data base original'!S18*100-100)*'Data base original'!S18/'Data base original'!$V18","v":3.199440032699584},{"$f":"('Data base original'!T30/'Data base original'!T18*100-100)*'Data base original'!T18/'Data base original'!$V18","v":10.850020698418174},{"$f":"('Data base original'!U30/'Data base original'!U18*100-100)*'Data base original'!U18/'Data base original'!$V18","v":5.0669975801786187},{"$f":"('Data base original'!V30/'Data base original'!V18*100-100)*'Data base original'!V18/'Data base original'!$V18","v":19.116458311296384},{"$f":"('Data base original'!V30/'Data base original'!V18*100-100)*'Data base original'!V18/('Data base original'!$AC18)","v":4.0328963186865856},{"$f":"('Data base original'!W30/'Data base original'!W18*100-100)*'Data base original'!W18/('Data base original'!$AC18)","v":15.323350271602564},{"$f":"('Data base original'!X30/'Data base original'!X18*100-100)*'Data base original'!X18/('Data base original'!$AC18)","v":6.548573326355081E-2},{"$f":"('Data base original'!Y30/'Data base original'!Y18*100-100)*'Data base original'!Y18/('Data base original'!$AC18)","v":4.4234965400625246},{"$f":"('Data base original'!Z30/'Data base original'!Z18*100-100)*'Data base original'!Z18/('Data base original'!$AC18)","v":0.25643298494620193},{"$f":"-('Data base original'!AA30/'Data base original'!AA18*100-100)*'Data base original'!AA18/('Data base original'!$AC18)","v":-5.0898696642437358},{"$f":"-('Data base original'!AB30/'Data base original'!AB18*100-100)*'Data base original'!AB18/('Data base original'!$AC18)","v":-2.7577290280527304E-2},{"$f":"(('Data base original'!Y30-'Data base original'!AA30)/('Data base original'!Y18-'Data base original'!AA18)*100-100)*(('Data base original'!Y18-'Data base original'!AA18)/'Data base original'!AC18)","v":-0.66637312418121231},{"$f":"(('Data base original'!Z30-'Data base original'!AB30)/('Data base original'!Z18-'Data base original'!AB18)*100-100)*(('Data base original'!Z18-'Data base original'!AB18)/'Data base original'!AC18)","v":0.22885569466567457},{"$f":"('Data base original'!AC30/'Data base original'!AC18*100-100)*'Data base original'!AC18/('Data base original'!$AC18)","v":18.984214894037166},{"$f":"('Data base original'!AC30/'Data base original'!AC18*100-100)*'Data base original'!AC18/('Data base original'!$AN18)","v":11.2014390614695},{"$f":"('Data base original'!AD30/'Data base original'!AD18*100-100)*'Data base original'!AD18/('Data base original'!$AN18)","v":0.58685384479120239},{"$f":"('Data base original'!AE30/'Data base original'!AE18*100-100)*'Data base original'!AE18/('Data base original'!$AN18)","v":-2.0490955697468247},{"$f":"('Data base original'!AF30/'Data base original'!AF18*100-100)*'Data base original'!AF18/('Data base original'!$AN18)","v":0.1447221699677603},{"$f":"('Data base original'!AG30/'Data base original'!AG18*100-100)*'Data base original'!AG18/('Data base original'!$AN18)","v":-0.21910705705890579},{"$f":"('Data base original'!AH30/'Data base original'!AH18*100-100)*'Data base original'!AH18/('Data base original'!$AN18)","v":5.5886197950034723E-2},{"$f":"('Data base original'!AI30/'Data base original'!AI18*100-100)*'Data base original'!AI18/('Data base original'!$AN18)","v":1.9894055991614459},{"$f":"('Data base original'!AJ30/'Data base original'!AJ18*100-100)*'Data base original'!AJ18/('Data base original'!$AN18)","v":3.0574366823234991},{"$f":"('Data base original'!AK30/'Data base original'!AK18*100-100)*'Data base original'!AK18/('Data base original'!$AN18)","v":0.33040804523921069},{"$f":"-('Data base original'!AL30/'Data base original'!AL18*100-100)*'Data base original'!AL18/('Data base original'!$AN18)","v":-8.1114638676760692E-3},{"$f":"-('Data base original'!AM30/'Data base original'!AM18*100-100)*'Data base original'!AM18/('Data base original'!$AN18)","v":-7.1458908140882141E-2},{"$f":"(('Data base original'!AJ30-'Data base original'!AL30)/('Data base original'!AJ18-'Data base original'!AL18)*100-100)*(('Data base original'!AJ18-'Data base original'!AL18)/'Data base original'!AN18)","v":3.0493252184558219},{"$f":"(('Data base original'!AK30-'Data base original'!AM30)/('Data base original'!AK18-'Data base original'!AM18)*100-100)*(('Data base original'!AK18-'Data base original'!AM18)/'Data base original'!AN18)","v":0.25894913709832862},{"$f":"('Data base original'!AN30/'Data base original'!AN18*100-100)*'Data base original'!AN18/('Data base original'!$AN18)","v":15.018378602088362}]
["2007-09-01",{"$f":"'Data base original'!B31/'Data base original'!B19*100-100","v":20.425432161125229},{"$f":"'Data base original'!C31/'Data base original'!C19*100-100","v":16.698932492226206},{"$f":"'Data base original'!D31/'Data base original'!D19*100-100","v":21.368938626626814},{"$f":"'Data base original'!E31/'Data base original'!E19*100-100","v":14.480162084175902},{"$f":"'Data base original'!F31/'Data base original'!F19*100-100","v":19.588369736338535},{"$f":"'Data base original'!G31","v":28.888644870074799},null,null,null,{"$f":"'Data base original'!K31","v":10.126112936643199},null,null,{"$f":"'Data base original'!N31","v":6.1441163891756796},null,null,{"$f":"'Data base original'!Q31","v":4.79},{"$f":"('Data base original'!S31/'Data base original'!S19*100-100)*'Data base original'!S19/'Data base original'!$V19","v":3.199995962150207},{"$f":"('Data base original'!T31/'Data base original'!T19*100-100)*'Data base original'!T19/'Data base original'!$V19","v":9.9971968489629734},{"$f":"('Data base original'!U31/'Data base original'!U19*100-100)*'Data base original'!U19/'Data base original'!$V19","v":5.5311116326667014},{"$f":"('Data base original'!V31/'Data base original'!V19*100-100)*'Data base original'!V19/'Data base original'!$V19","v":18.728304443779891},{"$f":"('Data base original'!V31/'Data base original'!V19*100-100)*'Data base original'!V19/('Data base original'!$AC19)","v":4.0013740687602706},{"$f":"('Data base original'!W31/'Data base original'!W19*100-100)*'Data base original'!W19/('Data base original'!$AC19)","v":14.513521749986875},{"$f":"('Data base original'!X31/'Data base original'!X19*100-100)*'Data base original'!X19/('Data base original'!$AC19)","v":8.4949196821655359E-2},{"$f":"('Data base original'!Y31/'Data base original'!Y19*100-100)*'Data base original'!Y19/('Data base original'!$AC19)","v":3.037789748608072},{"$f":"('Data base original'!Z31/'Data base original'!Z19*100-100)*'Data base original'!Z19/('Data base original'!$AC19)","v":0.20842343402989882},{"$f":"-('Data base original'!AA31/'Data base original'!AA19*100-100)*'Data base original'!AA19/('Data base original'!$AC19)","v":-4.501175135049273},{"$f":"-('Data base original'!AB31/'Data base original'!AB19*100-100)*'Data base original'!AB19/('Data base original'!$AC19)","v":-2.7121197081112165E-2},{"$f":"(('Data base original'!Y31-'Data base original'!AA31)/('Data base original'!Y19-'Data base original'!AA19)*100-100)*(('Data base original'!Y19-'Data base original'!AA19)/'Data base original'!AC19)","v":-1.4633853864412025},{"$f":"(('Data base original'!Z31-'Data base original'!AB31)/('Data base original'!Z19-'Data base original'!AB19)*100-100)*(('Data base original'!Z19-'Data base original'!AB19)/'Data base original'!AC19)","v":0.18130223694878664},{"$f":"('Data base original'!AC31/'Data base original'!AC19*100-100)*'Data base original'!AC19/('Data base original'!$AC19)","v":17.317761866076381},{"$f":"('Data base original'!AC31/'Data base original'!AC19*100-100)*'Data base original'!AC19/('Data base original'!$AN19)","v":10.197574452470773},{"$f":"('Data base original'!AD31/'Data base original'!AD19*100-100)*'Data base original'!AD19/('Data base original'!$AN19)","v":0.57528124534562419},{"$f":"('Data base original'!AE31/'Data base original'!AE19*100-100)*'Data base original'!AE19/('Data base original'!$AN19)","v":-2.7093368568396792},{"$f":"('Data base original'!AF31/'Data base original'!AF19*100-100)*'Data base original'!AF19/('Data base original'!$AN19)","v":0.16735512137627834},{"$f":"('Data base original'!AG31/'Data base original'!AG19*100-100)*'Data base original'!AG19/('Data base original'!$AN19)","v":-0.23995187436942286},{"$f":"('Data base original'!AH31/'Data base original'!AH19*100-100)*'Data base original'!AH19/('Data base original'!$AN19)","v":4.2005468711974255E-2},{"$f":"('Data base original'!AI31/'Data base original'!AI19*100-100)*'Data base original'!AI19/('Data base original'!$AN19)","v":1.9897193599712775},{"$f":"('Data base original'!AJ31/'Data base original'!AJ19*100-100)*'Data base original'!AJ19/('Data base original'!$AN19)","v":2.9167606868437059},{"$f":"('Data base original'!AK31/'Data base original'!AK19*100-100)*'Data base original'!AK19/('Data base original'!$AN19)","v":0.31653327310961976},{"$f":"-('Data base original'!AL31/'Data base original'!AL19*100-100)*'Data base original'!AL19/('Data base original'!$AN19)","v":2.493975485506893E-2},{"$f":"-('Data base original'!AM31/'Data base original'!AM19*100-100)*'Data base original'!AM19/('Data base original'!$AN19)","v":-5.3483153473409317E-2},{"$f":"(('Data base original'!AJ31-'Data base original'!AL31)/('Data base original'!AJ19-'Data base original'!AL19)*100-100)*(('Data base original'!AJ19-'Data base original'!AL19)/'Data base original'!AN19)","v":2.9417004416987749},{"$f":"(('Data base original'!AK31-'Data base original'!AM31)/('Data base original'!AK19-'Data base original'!AM19)*100-100)*(('Data base original'!AK19-'Data base original'!AM19)/'Data base original'!AN19)","v":0.26305011963621056},{"$f":"('Data base original'!AN31/'Data base original'!AN19*100-100)*'Data base original'!AN19/('Data base original'!$AN19)","v":13.227397478001819}]
["2007-10-01",{"$f":"'Data base original'!B32/'Data base original'!B20*100-100","v":21.678263528384647},{"$f":"'Data base original'!C32/'Data base original'!C20*100-100","v":16.156534294621579},{"$f":"'Data base original'!D32/'Data base original'!D20*100-100","v":22.668910501435846},{"$f":"'Data base original'!E32/'Data base original'!E20*100-100","v":14.353572673801082},{"$f":"'Data base original'!F32/'Data base original'!F20*100-100","v":20.49779021607074},{"$f":"'Data base original'!G32","v":29.010985038932098},null,null,null,{"$f":"'Data base original'!K32","v":10.150835175765},null,null,{"$f":"'Data base original'!N32","v":5.8533606967078802},null,null,{"$f":"'Data base original'!Q32","v":4.83},{"$f":"('Data base original'!S32/'Data base original'!S20*100-100)*'Data base original'!S20/'Data base original'!$V20","v":3.0686459325259707},{"$f":"('Data base original'!T32/'Data base original'!T20*100-100)*'Data base original'!T20/'Data base original'!$V20","v":10.065206464958631},{"$f":"('Data base original'!U32/'Data base original'!U20*100-100)*'Data base original'!U20/'Data base original'!$V20","v":5.6173185332001783},{"$f":"('Data base original'!V32/'Data base original'!V20*100-100)*'Data base original'!V20/'Data base original'!$V20","v":18.751170930684793},{"$f":"('Data base original'!V32/'Data base original'!V20*100-100)*'Data base original'!V20/('Data base original'!$AC20)","v":3.9393058199724287},{"$f":"('Data base original'!W32/'Data base original'!W20*100-100)*'Data base original'!W20/('Data base original'!$AC20)","v":15.873927718843994},{"$f":"('Data base original'!X32/'Data base original'!X20*100-100)*'Data base original'!X20/('Data base original'!$AC20)","v":0.11864659495265761},{"$f":"('Data base original'!Y32/'Data base original'!Y20*100-100)*'Data base original'!Y20/('Data base original'!$AC20)","v":2.0256782067105958},{"$f":"('Data base original'!Z32/'Data base original'!Z20*100-100)*'Data base original'!Z20/('Data base original'!$AC20)","v":0.1572997066462262},{"$f":"-('Data base original'!AA32/'Data base original'!AA20*100-100)*'Data base original'!AA20/('Data base original'!$AC20)","v":-2.7240671889885526},{"$f":"-('Data base original'!AB32/'Data base original'!AB20*100-100)*'Data base original'!AB20/('Data base original'!$AC20)","v":-1.5906406918841841E-2},{"$f":"(('Data base original'!Y32-'Data base original'!AA32)/('Data base original'!Y20-'Data base original'!AA20)*100-100)*(('Data base original'!Y20-'Data base original'!AA20)/'Data base original'!AC20)","v":-0.69838898227795521},{"$f":"(('Data base original'!Z32-'Data base original'!AB32)/('Data base original'!Z20-'Data base original'!AB20)*100-100)*(('Data base original'!Z20-'Data base original'!AB20)/'Data base original'!AC20)","v":0.14139329972738435},{"$f":"('Data base original'!AC32/'Data base original'!AC20*100-100)*'Data base original'!AC20/('Data base original'!$AC20)","v":19.374884451218506},{"$f":"('Data base original'!AC32/'Data base original'!AC20*100-100)*'Data base original'!AC20/('Data base original'!$AN20)","v":11.345629462923911},{"$f":"('Data base original'!AD32/'Data base original'!AD20*100-100)*'Data base original'!AD20/('Data base original'!$AN20)","v":0.71648865371804249},{"$f":"('Data base original'!AE32/'Data base original'!AE20*100-100)*'Data base original'!AE20/('Data base original'!$AN20)","v":-2.5287236432402138},{"$f":"('Data base original'!AF32/'Data base original'!AF20*100-100)*'Data base original'!AF20/('Data base original'!$AN20)","v":0.14976386758655172},{"$f":"('Data base original'!AG32/'Data base original'!AG20*100-100)*'Data base original'!AG20/('Data base original'!$AN20)","v":-0.31755280690342991},{"$f":"('Data base original'!AH32/'Data base original'!AH20*100-100)*'Data base original'!AH20/('Data base original'!$AN20)","v":3.5636870211106779E-2},{"$f":"('Data base original'!AI32/'Data base original'!AI20*100-100)*'Data base original'!AI20/('Data base original'!$AN20)","v":2.1479082389058286},{"$f":"('Data base original'!AJ32/'Data base original'!AJ20*100-100)*'Data base original'!AJ20/('Data base original'!$AN20)","v":3.249217868453885},{"$f":"('Data base original'!AK32/'Data base original'!AK20*100-100)*'Data base original'!AK20/('Data base original'!$AN20)","v":0.34749922237074798},{"$f":"-('Data base original'!AL32/'Data base original'!AL20*100-100)*'Data base original'!AL20/('Data base original'!$AN20)","v":-0.4406446547690917},{"$f":"-('Data base original'!AM32/'Data base original'!AM20*100-100)*'Data base original'!AM20/('Data base original'!$AN20)","v":-5.8017206186681443E-2},{"$f":"(('Data base original'!AJ32-'Data base original'!AL32)/('Data base original'!AJ20-'Data base original'!AL20)*100-100)*(('Data base original'!AJ20-'Data base original'!AL20)/'Data base original'!AN20)","v":2.808573213684793},{"$f":"(('Data base original'!AK32-'Data base original'!AM32)/('Data base original'!AK20-'Data base original'!AM20)*100-100)*(('Data base original'!AK20-'Data base original'!AM20)/'Data base original'!AN20)","v":0.28948201618406666},{"$f":"('Data base original'!AN32/'Data base original'!AN20*100-100)*'Data base original'!AN20/('Data base original'!$AN20)","v":14.647205873070646}]
["2007-11-01",{"$f":"'Data base original'!B33/'Data base original'!B21*100-100","v":22.698203113868914},{"$f":"'Data base original'!C33/'Data base original'!C21*100-100","v":15.694917600053444},{"$f":"'Data base original'!D33/'Data base original'!D21*100-100","v":23.25184645539278},{"$f":"'Data base original'!E33/'Data base original'!E21*100-100","v":18.028021299883946},{"$f":"'Data base original'!F33/'Data base original'!F21*100-100","v":21.471026734848394},{"$f":"'Data base original'!G33","v":28.918278266454799},null,null,null,{"$f":"'Data base original'!K33","v":10.1663921671149},null,null,{"$f":"'Data base original'!N33","v":5.6824301269678097},null,null,{"$f":"'Data base original'!Q33","v":4.8099999999999996},{"$f":"('Data base original'!S33/'Data base original'!S21*100-100)*'Data base original'!S21/'Data base original'!$V21","v":3.0124923098825001},{"$f":"('Data base original'!T33/'Data base original'!T21*100-100)*'Data base original'!T21/'Data base original'!$V21","v":11.196373823602666},{"$f":"('Data base original'!U33/'Data base original'!U21*100-100)*'Data base original'!U21/'Data base original'!$V21","v":7.4415474804378734},{"$f":"('Data base original'!V33/'Data base original'!V21*100-100)*'Data base original'!V21/'Data base original'!$V21","v":21.650413613923035},{"$f":"('Data base original'!V33/'Data base original'!V21*100-100)*'Data base original'!V21/('Data base original'!$AC21)","v":4.5645309290524372},{"$f":"('Data base original'!W33/'Data base original'!W21*100-100)*'Data base original'!W21/('Data base original'!$AC21)","v":17.312650872862811},{"$f":"('Data base original'!X33/'Data base original'!X21*100-100)*'Data base original'!X21/('Data base original'!$AC21)","v":0.15730613432555848},{"$f":"('Data base original'!Y33/'Data base original'!Y21*100-100)*'Data base original'!Y21/('Data base original'!$AC21)","v":4.734298281855235},{"$f":"('Data base original'!Z33/'Data base original'!Z21*100-100)*'Data base original'!Z21/('Data base original'!$AC21)","v":0.13929766375200114},{"$f":"-('Data base original'!AA33/'Data base original'!AA21*100-100)*'Data base original'!AA21/('Data base original'!$AC21)","v":-5.0746905336786128},{"$f":"-('Data base original'!AB33/'Data base original'!AB21*100-100)*'Data base original'!AB21/('Data base original'!$AC21)","v":-8.897042009554516E-3},{"$f":"(('Data base original'!Y33-'Data base original'!AA33)/('Data base original'!Y21-'Data base original'!AA21)*100-100)*(('Data base original'!Y21-'Data base original'!AA21)/'Data base original'!AC21)","v":-0.34039225182337646},{"$f":"(('Data base original'!Z33-'Data base original'!AB33)/('Data base original'!Z21-'Data base original'!AB21)*100-100)*(('Data base original'!Z21-'Data base original'!AB21)/'Data base original'!AC21)","v":0.1304006217424466},{"$f":"('Data base original'!AC33/'Data base original'!AC21*100-100)*'Data base original'!AC21/('Data base original'!$AC21)","v":21.824496306159858},{"$f":"('Data base original'!AC33/'Data base original'!AC21*100-100)*'Data base original'!AC21/('Data base original'!$AN21)","v":12.813016818086624},{"$f":"('Data base original'!AD33/'Data base original'!AD21*100-100)*'Data base original'!AD21/('Data base original'!$AN21)","v":0.7329901070328545},{"$f":"('Data base original'!AE33/'Data base original'!AE21*100-100)*'Data base original'!AE21/('Data base original'!$AN21)","v":-2.5066943225464531},{"$f":"('Data base original'!AF33/'Data base original'!AF21*100-100)*'Data base original'!AF21/('Data base original'!$AN21)","v":0.23445488366360295},{"$f":"('Data base original'!AG33/'Data base original'!AG21*100-100)*'Data base original'!AG21/('Data base original'!$AN21)","v":-0.42946684736044666},{"$f":"('Data base original'!AH33/'Data base original'!AH21*100-100)*'Data base original'!AH21/('Data base original'!$AN21)","v":5.9329577660411234E-2},{"$f":"('Data base original'!AI33/'Data base original'!AI21*100-100)*'Data base original'!AI21/('Data base original'!$AN21)","v":2.3470818681935284},{"$f":"('Data base original'!AJ33/'Data base original'!AJ21*100-100)*'Data base original'!AJ21/('Data base original'!$AN21)","v":3.2266888763712727},{"$f":"('Data base original'!AK33/'Data base original'!AK21*100-100)*'Data base original'!AK21/('Data base original'!$AN21)","v":0.32622614499830965},{"$f":"-('Data base original'!AL33/'Data base original'!AL21*100-100)*'Data base original'!AL21/('Data base original'!$AN21)","v":-0.57682320492274108},{"$f":"-('Data base original'!AM33/'Data base original'!AM21*100-100)*'Data base original'!AM21/('Data base original'!$AN21)","v":-6.976063308041984E-2},{"$f":"(('Data base original'!AJ33-'Data base original'!AL33)/('Data base original'!AJ21-'Data base original'!AL21)*100-100)*(('Data base original'!AJ21-'Data base original'!AL21)/'Data base original'!AN21)","v":2.6498656714485307},{"$f":"(('Data base original'!AK33-'Data base original'!AM33)/('Data base original'!AK21-'Data base original'!AM21)*100-100)*(('Data base original'!AK21-'Data base original'!AM21)/'Data base original'!AN21)","v":0.25646551191788974},{"$f":"('Data base original'!AN33/'Data base original'!AN21*100-100)*'Data base original'!AN21/('Data base original'!$AN21)","v":16.157043268096544}]
["2007-12-01",{"$f":"'Data base original'!B34/'Data base original'!B22*100-100","v":22.595112091629517},{"$f":"'Data base original'!C34/'Data base original'!C22*100-100","v":15.338343844092321},{"$f":"'Data base original'!D34/'Data base original'!D22*100-100","v":24.371381241764766},{"$f":"'Data base original'!E34/'Data base original'!E22*100-100","v":12.434797573086968},{"$f":"'Data base original'!F34/'Data base original'!F22*100-100","v":21.086771179857351},{"$f":"'Data base original'!G34","v":29.956424397723399},null,null,null,{"$f":"'Data base original'!K34","v":10.207594462623099},null,null,{"$f":"'Data base original'!N34","v":5.8907807742312901},null,null,{"$f":"'Data base original'!Q34","v":4.83},{"$f":"('Data base original'!S34/'Data base original'!S22*100-100)*'Data base original'!S22/'Data base original'!$V22","v":2.9393596811226024},{"$f":"('Data base original'!T34/'Data base original'!T22*100-100)*'Data base original'!T22/'Data base original'!$V22","v":11.190543233761833},{"$f":"('Data base original'!U34/'Data base original'!U22*100-100)*'Data base original'!U22/'Data base original'!$V22","v":3.9323574317315941},{"$f":"('Data base original'!V34/'Data base original'!V22*100-100)*'Data base original'!V22/'Data base original'!$V22","v":18.062260346616043},{"$f":"('Data base original'!V34/'Data base original'!V22*100-100)*'Data base original'!V22/('Data base original'!$AC22)","v":4.0109155206612321},{"$f":"('Data base original'!W34/'Data base original'!W22*100-100)*'Data base original'!W22/('Data base original'!$AC22)","v":17.899639634603339},{"$f":"('Data base original'!X34/'Data base original'!X22*100-100)*'Data base original'!X22/('Data base original'!$AC22)","v":0.1907679789308922},{"$f":"('Data base original'!Y34/'Data base original'!Y22*100-100)*'Data base original'!Y22/('Data base original'!$AC22)","v":4.0451041653726234},{"$f":"('Data base original'!Z34/'Data base original'!Z22*100-100)*'Data base original'!Z22/('Data base original'!$AC22)","v":0.12120016895039565},{"$f":"-('Data base original'!AA34/'Data base original'!AA22*100-100)*'Data base original'!AA22/('Data base original'!$AC22)","v":-4.3089856350754285},{"$f":"-('Data base original'!AB34/'Data base original'!AB22*100-100)*'Data base original'!AB22/('Data base original'!$AC22)","v":-9.5500453433047146E-3},{"$f":"(('Data base original'!Y34-'Data base original'!AA34)/('Data base original'!Y22-'Data base original'!AA22)*100-100)*(('Data base original'!Y22-'Data base original'!AA22)/'Data base original'!AC22)","v":-0.26388146970280474},{"$f":"(('Data base original'!Z34-'Data base original'!AB34)/('Data base original'!Z22-'Data base original'!AB22)*100-100)*(('Data base original'!Z22-'Data base original'!AB22)/'Data base original'!AC22)","v":0.11165012360709092},{"$f":"('Data base original'!AC34/'Data base original'!AC22*100-100)*'Data base original'!AC22/('Data base original'!$AC22)","v":21.949091788099736},{"$f":"('Data base original'!AC34/'Data base original'!AC22*100-100)*'Data base original'!AC22/('Data base original'!$AN22)","v":13.040009926678485},{"$f":"('Data base original'!AD34/'Data base original'!AD22*100-100)*'Data base original'!AD22/('Data base original'!$AN22)","v":0.78812230479761869},{"$f":"('Data base original'!AE34/'Data base original'!AE22*100-100)*'Data base original'!AE22/('Data base original'!$AN22)","v":-2.7625411189900615},{"$f":"('Data base original'!AF34/'Data base original'!AF22*100-100)*'Data base original'!AF22/('Data base original'!$AN22)","v":0.41370385962667933},{"$f":"('Data base original'!AG34/'Data base original'!AG22*100-100)*'Data base original'!AG22/('Data base original'!$AN22)","v":-0.50626675396075416},{"$f":"('Data base original'!AH34/'Data base original'!AH22*100-100)*'Data base original'!AH22/('Data base original'!$AN22)","v":3.8916392950090146E-2},{"$f":"('Data base original'!AI34/'Data base original'!AI22*100-100)*'Data base original'!AI22/('Data base original'!$AN22)","v":2.220494654877248},{"$f":"('Data base original'!AJ34/'Data base original'!AJ22*100-100)*'Data base original'!AJ22/('Data base original'!$AN22)","v":2.6681023653355949},{"$f":"('Data base original'!AK34/'Data base original'!AK22*100-100)*'Data base original'!AK22/('Data base original'!$AN22)","v":0.25779227348921818},{"$f":"-('Data base original'!AL34/'Data base original'!AL22*100-100)*'Data base original'!AL22/('Data base original'!$AN22)","v":-0.49381227814503964},{"$f":"-('Data base original'!AM34/'Data base original'!AM22*100-100)*'Data base original'!AM22/('Data base original'!$AN22)","v":-7.0606114747852208E-2},{"$f":"(('Data base original'!AJ34-'Data base original'!AL34)/('Data base original'!AJ22-'Data base original'!AL22)*100-100)*(('Data base original'!AJ22-'Data base original'!AL22)/'Data base original'!AN22)","v":2.1742900871905566},{"$f":"(('Data base original'!AK34-'Data base original'!AM34)/('Data base original'!AK22-'Data base original'!AM22)*100-100)*(('Data base original'!AK22-'Data base original'!AM22)/'Data base original'!AN22)","v":0.18718615874136582},{"$f":"('Data base original'!AN34/'Data base original'!AN22*100-100)*'Data base original'!AN22/('Data base original'!$AN22)","v":15.593915511911234}]
["2008-01-01",{"$f":"'Data base original'!B35/'Data base original'!B23*100-100","v":21.354915885682317},{"$f":"'Data base original'!C35/'Data base original'!C23*100-100","v":15.327279259120033},{"$f":"'Data base original'!D35/'Data base original'!D23*100-100","v":25.460520312908045},{"$f":"'Data base original'!E35/'Data base original'!E23*100-100","v":2.9379687934311107},{"$f":"'Data base original'!F35/'Data base original'!F23*100-100","v":19.695887865474219},{"$f":"'Data base original'!G35","v":32.062977085834703},null,null,null,{"$f":"'Data base original'!K35","v":10.546072555411},null,null,{"$f":"'Data base original'!N35","v":4.9099747135160499},null,null,{"$f":"'Data base original'!Q35","v":4.8},{"$f":"('Data base original'!S35/'Data base original'!S23*100-100)*'Data base original'!S23/'Data base original'!$V23","v":2.8014581686448232},{"$f":"('Data base original'!T35/'Data base original'!T23*100-100)*'Data base original'!T23/'Data base original'!$V23","v":10.686331090726078},{"$f":"('Data base original'!U35/'Data base original'!U23*100-100)*'Data base original'!U23/'Data base original'!$V23","v":2.575382883010946},{"$f":"('Data base original'!V35/'Data base original'!V23*100-100)*'Data base original'!V23/'Data base original'!$V23","v":16.063172142381845},{"$f":"('Data base original'!V35/'Data base original'!V23*100-100)*'Data base original'!V23/('Data base original'!$AC23)","v":3.5743296240072207},{"$f":"('Data base original'!W35/'Data base original'!W23*100-100)*'Data base original'!W23/('Data base original'!$AC23)","v":17.775344328668943},{"$f":"('Data base original'!X35/'Data base original'!X23*100-100)*'Data base original'!X23/('Data base original'!$AC23)","v":0.22069856131239596},{"$f":"('Data base original'!Y35/'Data base original'!Y23*100-100)*'Data base original'!Y23/('Data base original'!$AC23)","v":2.5532444453848298},{"$f":"('Data base original'!Z35/'Data base original'!Z23*100-100)*'Data base original'!Z23/('Data base original'!$AC23)","v":0.14864250580134145},{"$f":"-('Data base original'!AA35/'Data base original'!AA23*100-100)*'Data base original'!AA23/('Data base original'!$AC23)","v":-2.9436429899081906},{"$f":"-('Data base original'!AB35/'Data base original'!AB23*100-100)*'Data base original'!AB23/('Data base original'!$AC23)","v":-1.6324606886065924E-2},{"$f":"(('Data base original'!Y35-'Data base original'!AA35)/('Data base original'!Y23-'Data base original'!AA23)*100-100)*(('Data base original'!Y23-'Data base original'!AA23)/'Data base original'!AC23)","v":-0.39039854452336176},{"$f":"(('Data base original'!Z35-'Data base original'!AB35)/('Data base original'!Z23-'Data base original'!AB23)*100-100)*(('Data base original'!Z23-'Data base original'!AB23)/'Data base original'!AC23)","v":0.13231789891527543},{"$f":"('Data base original'!AC35/'Data base original'!AC23*100-100)*'Data base original'!AC23/('Data base original'!$AC23)","v":21.312291868380484},{"$f":"('Data base original'!AC35/'Data base original'!AC23*100-100)*'Data base original'!AC23/('Data base original'!$AN23)","v":12.808514748122587},{"$f":"('Data base original'!AD35/'Data base original'!AD23*100-100)*'Data base original'!AD23/('Data base original'!$AN23)","v":0.87941154886931316},{"$f":"('Data base original'!AE35/'Data base original'!AE23*100-100)*'Data base original'!AE23/('Data base original'!$AN23)","v":-1.8277431656782068},{"$f":"('Data base original'!AF35/'Data base original'!AF23*100-100)*'Data base original'!AF23/('Data base original'!$AN23)","v":0.54419626366682383},{"$f":"('Data base original'!AG35/'Data base original'!AG23*100-100)*'Data base original'!AG23/('Data base original'!$AN23)","v":-0.33659946665967422},{"$f":"('Data base original'!AH35/'Data base original'!AH23*100-100)*'Data base original'!AH23/('Data base original'!$AN23)","v":1.1651461496737648E-2},{"$f":"('Data base original'!AI35/'Data base original'!AI23*100-100)*'Data base original'!AI23/('Data base original'!$AN23)","v":1.9294272650328981},{"$f":"('Data base original'!AJ35/'Data base original'!AJ23*100-100)*'Data base original'!AJ23/('Data base original'!$AN23)","v":1.6861307550585891},{"$f":"('Data base original'!AK35/'Data base original'!AK23*100-100)*'Data base original'!AK23/('Data base original'!$AN23)","v":0.16398747571322436},{"$f":"-('Data base original'!AL35/'Data base original'!AL23*100-100)*'Data base original'!AL23/('Data base original'!$AN23)","v":-0.40845521615130453},{"$f":"-('Data base original'!AM35/'Data base original'!AM23*100-100)*'Data base original'!AM23/('Data base original'!$AN23)","v":-6.9589342490307141E-2},{"$f":"(('Data base original'!AJ35-'Data base original'!AL35)/('Data base original'!AJ23-'Data base original'!AL23)*100-100)*(('Data base original'!AJ23-'Data base original'!AL23)/'Data base original'!AN23)","v":1.2776755389072842},{"$f":"(('Data base original'!AK35-'Data base original'!AM35)/('Data base original'!AK23-'Data base original'!AM23)*100-100)*(('Data base original'!AK23-'Data base original'!AM23)/'Data base original'!AN23)","v":9.4398133222917083E-2},{"$f":"('Data base original'!AN35/'Data base original'!AN23*100-100)*'Data base original'!AN23/('Data base original'!$AN23)","v":15.380932326980684}]
["2008-02-01",{"$f":"'Data base original'!B36/'Data base original'!B24*100-100","v":21.175434866948706},{"$f":"'Data base original'!C36/'Data base original'!C24*100-100","v":15.171233180741865},{"$f":"'Data base original'!D36/'Data base original'!D24*100-100","v":25.151657909401564},{"$f":"'Data base original'!E36/'Data base original'!E24*100-100","v":4.3115513833416941},{"$f":"'Data base original'!F36/'Data base original'!F24*100-100","v":19.648714019045002},{"$f":"'Data base original'!G36","v":31.960689431939102},null,null,null,{"$f":"'Data base original'!K36","v":10.5242958634587},null,null,{"$f":"'Data base original'!N36","v":4.1944529702062496},null,null,{"$f":"'Data base original'!Q36","v":4.9000000000000004},{"$f":"('Data base original'!S36/'Data base original'!S24*100-100)*'Data base original'!S24/'Data base original'!$V24","v":2.9155186144650003},{"$f":"('Data base original'!T36/'Data base original'!T24*100-100)*'Data base original'!T24/'Data base original'!$V24","v":8.9966262140366009},{"$f":"('Data base original'!U36/'Data base original'!U24*100-100)*'Data base original'!U24/'Data base original'!$V24","v":4.305827947786109},{"$f":"('Data base original'!V36/'Data base original'!V24*100-100)*'Data base original'!V24/'Data base original'!$V24","v":16.217972776287709},{"$f":"('Data base original'!V36/'Data base original'!V24*100-100)*'Data base original'!V24/('Data base original'!$AC24)","v":3.555392695099838},{"$f":"('Data base original'!W36/'Data base original'!W24*100-100)*'Data base original'!W24/('Data base original'!$AC24)","v":17.429875212077857},{"$f":"('Data base original'!X36/'Data base original'!X24*100-100)*'Data base original'!X24/('Data base original'!$AC24)","v":0.2527274750460779},{"$f":"('Data base original'!Y36/'Data base original'!Y24*100-100)*'Data base original'!Y24/('Data base original'!$AC24)","v":4.0584395223528507},{"$f":"('Data base original'!Z36/'Data base original'!Z24*100-100)*'Data base original'!Z24/('Data base original'!$AC24)","v":0.16977266015998571},{"$f":"-('Data base original'!AA36/'Data base original'!AA24*100-100)*'Data base original'!AA24/('Data base original'!$AC24)","v":-3.9116694522293169},{"$f":"-('Data base original'!AB36/'Data base original'!AB24*100-100)*'Data base original'!AB24/('Data base original'!$AC24)","v":-1.1313160421417483E-2},{"$f":"(('Data base original'!Y36-'Data base original'!AA36)/('Data base original'!Y24-'Data base original'!AA24)*100-100)*(('Data base original'!Y24-'Data base original'!AA24)/'Data base original'!AC24)","v":0.1467700701235343},{"$f":"(('Data base original'!Z36-'Data base original'!AB36)/('Data base original'!Z24-'Data base original'!AB24)*100-100)*(('Data base original'!Z24-'Data base original'!AB24)/'Data base original'!AC24)","v":0.15845949973856821},{"$f":"('Data base original'!AC36/'Data base original'!AC24*100-100)*'Data base original'!AC24/('Data base original'!$AC24)","v":21.543224952085893},{"$f":"('Data base original'!AC36/'Data base original'!AC24*100-100)*'Data base original'!AC24/('Data base original'!$AN24)","v":12.942649966801794},{"$f":"('Data base original'!AD36/'Data base original'!AD24*100-100)*'Data base original'!AD24/('Data base original'!$AN24)","v":0.75836413613083797},{"$f":"('Data base original'!AE36/'Data base original'!AE24*100-100)*'Data base original'!AE24/('Data base original'!$AN24)","v":-1.1804511502549297},{"$f":"('Data base original'!AF36/'Data base original'!AF24*100-100)*'Data base original'!AF24/('Data base original'!$AN24)","v":0.38026712465699775},{"$f":"('Data base original'!AG36/'Data base original'!AG24*100-100)*'Data base original'!AG24/('Data base original'!$AN24)","v":-0.42482979606391447},{"$f":"('Data base original'!AH36/'Data base original'!AH24*100-100)*'Data base original'!AH24/('Data base original'!$AN24)","v":8.9366466500851172E-3},{"$f":"('Data base original'!AI36/'Data base original'!AI24*100-100)*'Data base original'!AI24/('Data base original'!$AN24)","v":1.7555311437916088},{"$f":"('Data base original'!AJ36/'Data base original'!AJ24*100-100)*'Data base original'!AJ24/('Data base original'!$AN24)","v":1.1092895221238976},{"$f":"('Data base original'!AK36/'Data base original'!AK24*100-100)*'Data base original'!AK24/('Data base original'!$AN24)","v":0.10904818745365331},{"$f":"-('Data base original'!AL36/'Data base original'!AL24*100-100)*'Data base original'!AL24/('Data base original'!$AN24)","v":-0.68804644090436673},{"$f":"-('Data base original'!AM36/'Data base original'!AM24*100-100)*'Data base original'!AM24/('Data base original'!$AN24)","v":-6.6113100934104121E-2},{"$f":"(('Data base original'!AJ36-'Data base original'!AL36)/('Data base original'!AJ24-'Data base original'!AL24)*100-100)*(('Data base original'!AJ24-'Data base original'!AL24)/'Data base original'!AN24)","v":0.42124308121952991},{"$f":"(('Data base original'!AK36-'Data base original'!AM36)/('Data base original'!AK24-'Data base original'!AM24)*100-100)*(('Data base original'!AK24-'Data base original'!AM24)/'Data base original'!AN24)","v":4.2935086519549123E-2},{"$f":"('Data base original'!AN36/'Data base original'!AN24*100-100)*'Data base original'!AN24/('Data base original'!$AN24)","v":14.704646239451563}]
["2008-03-01",{"$f":"'Data base original'!B37/'Data base original'!B25*100-100","v":20.3520151581493},{"$f":"'Data base original'!C37/'Data base original'!C25*100-100","v":14.2047277011837},{"$f":"'Data base original'!D37/'Data base original'!D25*100-100","v":25.072411031963554},{"$f":"'Data base original'!E37/'Data base original'!E25*100-100","v":3.5419583520437783},{"$f":"'Data base original'!F37/'Data base original'!F25*100-100","v":18.983967703436178},{"$f":"'Data base original'!G37","v":29.8751708037857},null,null,null,{"$f":"'Data base original'!K37","v":10.6081632164383},null,null,{"$f":"'Data base original'!N37","v":3.9099521988548198},null,null,{"$f":"'Data base original'!Q37","v":4.82},{"$f":"('Data base original'!S37/'Data base original'!S25*100-100)*'Data base original'!S25/'Data base original'!$V25","v":2.9801184987126423},{"$f":"('Data base original'!T37/'Data base original'!T25*100-100)*'Data base original'!T25/'Data base original'!$V25","v":7.4100344700752698},{"$f":"('Data base original'!U37/'Data base original'!U25*100-100)*'Data base original'!U25/'Data base original'!$V25","v":4.6433320845000718},{"$f":"('Data base original'!V37/'Data base original'!V25*100-100)*'Data base original'!V25/'Data base original'!$V25","v":15.03348505328799},{"$f":"('Data base original'!V37/'Data base original'!V25*100-100)*'Data base original'!V25/('Data base original'!$AC25)","v":3.2670710227069217},{"$f":"('Data base original'!W37/'Data base original'!W25*100-100)*'Data base original'!W25/('Data base original'!$AC25)","v":17.236610325156558},{"$f":"('Data base original'!X37/'Data base original'!X25*100-100)*'Data base original'!X25/('Data base original'!$AC25)","v":0.25516993504723762},{"$f":"('Data base original'!Y37/'Data base original'!Y25*100-100)*'Data base original'!Y25/('Data base original'!$AC25)","v":2.9329322909633646},{"$f":"('Data base original'!Z37/'Data base original'!Z25*100-100)*'Data base original'!Z25/('Data base original'!$AC25)","v":0.184738974408653},{"$f":"-('Data base original'!AA37/'Data base original'!AA25*100-100)*'Data base original'!AA25/('Data base original'!$AC25)","v":-2.6594245689051683},{"$f":"-('Data base original'!AB37/'Data base original'!AB25*100-100)*'Data base original'!AB25/('Data base original'!$AC25)","v":-7.1767317586750694E-3},{"$f":"(('Data base original'!Y37-'Data base original'!AA37)/('Data base original'!Y25-'Data base original'!AA25)*100-100)*(('Data base original'!Y25-'Data base original'!AA25)/'Data base original'!AC25)","v":0.27350772205819496},{"$f":"(('Data base original'!Z37-'Data base original'!AB37)/('Data base original'!Z25-'Data base original'!AB25)*100-100)*(('Data base original'!Z25-'Data base original'!AB25)/'Data base original'!AC25)","v":0.17756224264997802},{"$f":"('Data base original'!AC37/'Data base original'!AC25*100-100)*'Data base original'!AC25/('Data base original'!$AC25)","v":21.209921247618908},{"$f":"('Data base original'!AC37/'Data base original'!AC25*100-100)*'Data base original'!AC25/('Data base original'!$AN25)","v":12.789527023429992},{"$f":"('Data base original'!AD37/'Data base original'!AD25*100-100)*'Data base original'!AD25/('Data base original'!$AN25)","v":0.61900386637535798},{"$f":"('Data base original'!AE37/'Data base original'!AE25*100-100)*'Data base original'!AE25/('Data base original'!$AN25)","v":-1.1423539446678361},{"$f":"('Data base original'!AF37/'Data base original'!AF25*100-100)*'Data base original'!AF25/('Data base original'!$AN25)","v":0.44866252613103685},{"$f":"('Data base original'!AG37/'Data base original'!AG25*100-100)*'Data base original'!AG25/('Data base original'!$AN25)","v":-0.47997011542867973},{"$f":"('Data base original'!AH37/'Data base original'!AH25*100-100)*'Data base original'!AH25/('Data base original'!$AN25)","v":-5.8198092593329948E-3},{"$f":"('Data base original'!AI37/'Data base original'!AI25*100-100)*'Data base original'!AI25/('Data base original'!$AN25)","v":1.7705352025675254},{"$f":"('Data base original'!AJ37/'Data base original'!AJ25*100-100)*'Data base original'!AJ25/('Data base original'!$AN25)","v":1.1372056518615037},{"$f":"('Data base original'!AK37/'Data base original'!AK25*100-100)*'Data base original'!AK25/('Data base original'!$AN25)","v":9.4997194217727066E-2},{"$f":"-('Data base original'!AL37/'Data base original'!AL25*100-100)*'Data base original'!AL25/('Data base original'!$AN25)","v":-0.91553060943229547},{"$f":"-('Data base original'!AM37/'Data base original'!AM25*100-100)*'Data base original'!AM25/('Data base original'!$AN25)","v":-7.0941982612484175E-2},{"$f":"(('Data base original'!AJ37-'Data base original'!AL37)/('Data base original'!AJ25-'Data base original'!AL25)*100-100)*(('Data base original'!AJ25-'Data base original'!AL25)/'Data base original'!AN25)","v":0.2216750424292086},{"$f":"(('Data base original'!AK37-'Data base original'!AM37)/('Data base original'!AK25-'Data base original'!AM25)*100-100)*(('Data base original'!AK25-'Data base original'!AM25)/'Data base original'!AN25)","v":2.4055211605242766E-2},{"$f":"('Data base original'!AN37/'Data base original'!AN25*100-100)*'Data base original'!AN25/('Data base original'!$AN25)","v":14.245315003182583}]
["2008-04-01",{"$f":"'Data base original'!B38/'Data base original'!B26*100-100","v":21.227801295798017},{"$f":"'Data base original'!C38/'Data base original'!C26*100-100","v":14.165146235544015},{"$f":"'Data base original'!D38/'Data base original'!D26*100-100","v":25.823273661464825},{"$f":"'Data base original'!E38/'Data base original'!E26*100-100","v":13.141608434914431},{"$f":"'Data base original'!F38/'Data base original'!F26*100-100","v":20.505495859526391},{"$f":"'Data base original'!G38","v":30.126329719934201},null,null,null,{"$f":"'Data base original'!K38","v":10.592877402859299},null,null,{"$f":"'Data base original'!N38","v":4.01635492774912},null,null,{"$f":"'Data base original'!Q38","v":4.76},{"$f":"('Data base original'!S38/'Data base original'!S26*100-100)*'Data base original'!S26/'Data base original'!$V26","v":2.6789624745165108},{"$f":"('Data base original'!T38/'Data base original'!T26*100-100)*'Data base original'!T26/'Data base original'!$V26","v":6.5370008070235412},{"$f":"('Data base original'!U38/'Data base original'!U26*100-100)*'Data base original'!U26/'Data base original'!$V26","v":3.0703588920433602},{"$f":"('Data base original'!V38/'Data base original'!V26*100-100)*'Data base original'!V26/'Data base original'!$V26","v":12.286322173583414},{"$f":"('Data base original'!V38/'Data base original'!V26*100-100)*'Data base original'!V26/('Data base original'!$AC26)","v":2.6879289185213002},{"$f":"('Data base original'!W38/'Data base original'!W26*100-100)*'Data base original'!W26/('Data base original'!$AC26)","v":17.467193383484755},{"$f":"('Data base original'!X38/'Data base original'!X26*100-100)*'Data base original'!X26/('Data base original'!$AC26)","v":0.2804465500903639},{"$f":"('Data base original'!Y38/'Data base original'!Y26*100-100)*'Data base original'!Y26/('Data base original'!$AC26)","v":1.9934759455434663},{"$f":"('Data base original'!Z38/'Data base original'!Z26*100-100)*'Data base original'!Z26/('Data base original'!$AC26)","v":0.20308785464833706},{"$f":"-('Data base original'!AA38/'Data base original'!AA26*100-100)*'Data base original'!AA26/('Data base original'!$AC26)","v":-2.0786167166036793},{"$f":"-('Data base original'!AB38/'Data base original'!AB26*100-100)*'Data base original'!AB26/('Data base original'!$AC26)","v":-4.4260555078430618E-3},{"$f":"(('Data base original'!Y38-'Data base original'!AA38)/('Data base original'!Y26-'Data base original'!AA26)*100-100)*(('Data base original'!Y26-'Data base original'!AA26)/'Data base original'!AC26)","v":-8.514077106021227E-2},{"$f":"(('Data base original'!Z38-'Data base original'!AB38)/('Data base original'!Z26-'Data base original'!AB26)*100-100)*(('Data base original'!Z26-'Data base original'!AB26)/'Data base original'!AC26)","v":0.19866179914049409},{"$f":"('Data base original'!AC38/'Data base original'!AC26*100-100)*'Data base original'!AC26/('Data base original'!$AC26)","v":20.549089880176723},{"$f":"('Data base original'!AC38/'Data base original'!AC26*100-100)*'Data base original'!AC26/('Data base original'!$AN26)","v":12.517855559572727},{"$f":"('Data base original'!AD38/'Data base original'!AD26*100-100)*'Data base original'!AD26/('Data base original'!$AN26)","v":0.92237150896894549},{"$f":"('Data base original'!AE38/'Data base original'!AE26*100-100)*'Data base original'!AE26/('Data base original'!$AN26)","v":-1.0481602160881396},{"$f":"('Data base original'!AF38/'Data base original'!AF26*100-100)*'Data base original'!AF26/('Data base original'!$AN26)","v":0.61355141844877836},{"$f":"('Data base original'!AG38/'Data base original'!AG26*100-100)*'Data base original'!AG26/('Data base original'!$AN26)","v":4.9613282315649987E-2},{"$f":"('Data base original'!AH38/'Data base original'!AH26*100-100)*'Data base original'!AH26/('Data base original'!$AN26)","v":4.3406066642237891E-3},{"$f":"('Data base original'!AI38/'Data base original'!AI26*100-100)*'Data base original'!AI26/('Data base original'!$AN26)","v":2.0743803691397114},{"$f":"('Data base original'!AJ38/'Data base original'!AJ26*100-100)*'Data base original'!AJ26/('Data base original'!$AN26)","v":0.995776648973139},{"$f":"('Data base original'!AK38/'Data base original'!AK26*100-100)*'Data base original'!AK26/('Data base original'!$AN26)","v":5.673898813644053E-2},{"$f":"-('Data base original'!AL38/'Data base original'!AL26*100-100)*'Data base original'!AL26/('Data base original'!$AN26)","v":-0.83179652895166145},{"$f":"-('Data base original'!AM38/'Data base original'!AM26*100-100)*'Data base original'!AM26/('Data base original'!$AN26)","v":-5.816116642915551E-2},{"$f":"(('Data base original'!AJ38-'Data base original'!AL38)/('Data base original'!AJ26-'Data base original'!AL26)*100-100)*(('Data base original'!AJ26-'Data base original'!AL26)/'Data base original'!AN26)","v":0.1639801200214781},{"$f":"(('Data base original'!AK38-'Data base original'!AM38)/('Data base original'!AK26-'Data base original'!AM26)*100-100)*(('Data base original'!AK26-'Data base original'!AM26)/'Data base original'!AN26)","v":-1.4221782927148047E-3},{"$f":"('Data base original'!AN38/'Data base original'!AN26*100-100)*'Data base original'!AN26/('Data base original'!$AN26)","v":15.296510470750661}]
["2008-05-01",{"$f":"'Data base original'!B39/'Data base original'!B27*100-100","v":21.444244360127044},{"$f":"'Data base original'!C39/'Data base original'!C27*100-100","v":13.473326754138498},{"$f":"'Data base original'!D39/'Data base original'!D27*100-100","v":25.070389970006033},{"$f":"'Data base original'!E39/'Data base original'!E27*100-100","v":19.102425910113439},{"$f":"'Data base original'!F39/'Data base original'!F27*100-100","v":20.949325194862752},{"$f":"'Data base original'!G39","v":30.9324869049988},null,null,null,{"$f":"'Data base original'!K39","v":10.6795696146953},null,null,{"$f":"'Data base original'!N39","v":4.1160037726979901},null,null,{"$f":"'Data base original'!Q39","v":4.63},{"$f":"('Data base original'!S39/'Data base original'!S27*100-100)*'Data base original'!S27/'Data base original'!$V27","v":2.9981577850984991},{"$f":"('Data base original'!T39/'Data base original'!T27*100-100)*'Data base original'!T27/'Data base original'!$V27","v":7.4161538044997748},{"$f":"('Data base original'!U39/'Data base original'!U27*100-100)*'Data base original'!U27/'Data base original'!$V27","v":4.6981497178107103},{"$f":"('Data base original'!V39/'Data base original'!V27*100-100)*'Data base original'!V27/'Data base original'!$V27","v":15.11246130740898},{"$f":"('Data base original'!V39/'Data base original'!V27*100-100)*'Data base original'!V27/('Data base original'!$AC27)","v":3.2756648470112233},{"$f":"('Data base original'!W39/'Data base original'!W27*100-100)*'Data base original'!W27/('Data base original'!$AC27)","v":16.62977249051146},{"$f":"('Data base original'!X39/'Data base original'!X27*100-100)*'Data base original'!X27/('Data base original'!$AC27)","v":0.32270152919492628},{"$f":"('Data base original'!Y39/'Data base original'!Y27*100-100)*'Data base original'!Y27/('Data base original'!$AC27)","v":4.3347687746651413},{"$f":"('Data base original'!Z39/'Data base original'!Z27*100-100)*'Data base original'!Z27/('Data base original'!$AC27)","v":0.20449101504877337},{"$f":"-('Data base original'!AA39/'Data base original'!AA27*100-100)*'Data base original'!AA27/('Data base original'!$AC27)","v":-4.3923050775990946},{"$f":"-('Data base original'!AB39/'Data base original'!AB27*100-100)*'Data base original'!AB27/('Data base original'!$AC27)","v":-4.5032576817581535E-3},{"$f":"(('Data base original'!Y39-'Data base original'!AA39)/('Data base original'!Y27-'Data base original'!AA27)*100-100)*(('Data base original'!Y27-'Data base original'!AA27)/'Data base original'!AC27)","v":-5.7536302933953683E-2},{"$f":"(('Data base original'!Z39-'Data base original'!AB39)/('Data base original'!Z27-'Data base original'!AB27)*100-100)*(('Data base original'!Z27-'Data base original'!AB27)/'Data base original'!AC27)","v":0.19998775736701518},{"$f":"('Data base original'!AC39/'Data base original'!AC27*100-100)*'Data base original'!AC27/('Data base original'!$AC27)","v":20.370590321150672},{"$f":"('Data base original'!AC39/'Data base original'!AC27*100-100)*'Data base original'!AC27/('Data base original'!$AN27)","v":12.381349579826644},{"$f":"('Data base original'!AD39/'Data base original'!AD27*100-100)*'Data base original'!AD27/('Data base original'!$AN27)","v":1.3313531944771277},{"$f":"('Data base original'!AE39/'Data base original'!AE27*100-100)*'Data base original'!AE27/('Data base original'!$AN27)","v":-0.55718976549657395},{"$f":"('Data base original'!AF39/'Data base original'!AF27*100-100)*'Data base original'!AF27/('Data base original'!$AN27)","v":0.71214183558045019},{"$f":"('Data base original'!AG39/'Data base original'!AG27*100-100)*'Data base original'!AG27/('Data base original'!$AN27)","v":-0.29386005661683373},{"$f":"('Data base original'!AH39/'Data base original'!AH27*100-100)*'Data base original'!AH27/('Data base original'!$AN27)","v":3.4694238749401293E-2},{"$f":"('Data base original'!AI39/'Data base original'!AI27*100-100)*'Data base original'!AI27/('Data base original'!$AN27)","v":2.3832015649882452},{"$f":"('Data base original'!AJ39/'Data base original'!AJ27*100-100)*'Data base original'!AJ27/('Data base original'!$AN27)","v":0.9003031203464027},{"$f":"('Data base original'!AK39/'Data base original'!AK27*100-100)*'Data base original'!AK27/('Data base original'!$AN27)","v":4.2890989238663912E-2},{"$f":"-('Data base original'!AL39/'Data base original'!AL27*100-100)*'Data base original'!AL27/('Data base original'!$AN27)","v":-0.88706893527581521},{"$f":"-('Data base original'!AM39/'Data base original'!AM27*100-100)*'Data base original'!AM27/('Data base original'!$AN27)","v":-4.3881005283548179E-2},{"$f":"(('Data base original'!AJ39-'Data base original'!AL39)/('Data base original'!AJ27-'Data base original'!AL27)*100-100)*(('Data base original'!AJ27-'Data base original'!AL27)/'Data base original'!AN27)","v":1.323418507058583E-2},{"$f":"(('Data base original'!AK39-'Data base original'!AM39)/('Data base original'!AK27-'Data base original'!AM27)*100-100)*(('Data base original'!AK27-'Data base original'!AM27)/'Data base original'!AN27)","v":-9.9001604488425411E-4},{"$f":"('Data base original'!AN39/'Data base original'!AN27*100-100)*'Data base original'!AN27/('Data base original'!$AN27)","v":16.003934760534165}]
["2008-06-01",{"$f":"'Data base original'!B40/'Data base original'!B28*100-100","v":22.024724614340158},{"$f":"'Data base original'!C40/'Data base original'!C28*100-100","v":13.126290554044658},{"$f":"'Data base original'!D40/'Data base original'!D28*100-100","v":24.878763966050485},{"$f":"'Data base original'!E40/'Data base original'!E28*100-100","v":32.759707009036731},{"$f":"'Data base original'!F40/'Data base original'!F28*100-100","v":22.488679070659259},{"$f":"'Data base original'!G40","v":30.744248148501701},null,null,null,{"$f":"'Data base original'!K40","v":10.8763012727232},null,null,{"$f":"'Data base original'!N40","v":4.2386793668557603},null,null,{"$f":"'Data base original'!Q40","v":4.72},{"$f":"('Data base original'!S40/'Data base original'!S28*100-100)*'Data base original'!S28/'Data base original'!$V28","v":2.9440908675994892},{"$f":"('Data base original'!T40/'Data base original'!T28*100-100)*'Data base original'!T28/'Data base original'!$V28","v":10.415948240309083},{"$f":"('Data base original'!U40/'Data base original'!U28*100-100)*'Data base original'!U28/'Data base original'!$V28","v":2.024787771410117},{"$f":"('Data base original'!V40/'Data base original'!V28*100-100)*'Data base original'!V28/'Data base original'!$V28","v":15.38482687931868},{"$f":"('Data base original'!V40/'Data base original'!V28*100-100)*'Data base original'!V28/('Data base original'!$AC28)","v":3.2932677263093986},{"$f":"('Data base original'!W40/'Data base original'!W28*100-100)*'Data base original'!W28/('Data base original'!$AC28)","v":14.826628373472728},{"$f":"('Data base original'!X40/'Data base original'!X28*100-100)*'Data base original'!X28/('Data base original'!$AC28)","v":0.35606775532685853},{"$f":"('Data base original'!Y40/'Data base original'!Y28*100-100)*'Data base original'!Y28/('Data base original'!$AC28)","v":2.935716845786795},{"$f":"('Data base original'!Z40/'Data base original'!Z28*100-100)*'Data base original'!Z28/('Data base original'!$AC28)","v":0.21251065304697897},{"$f":"-('Data base original'!AA40/'Data base original'!AA28*100-100)*'Data base original'!AA28/('Data base original'!$AC28)","v":-2.9865668524979365},{"$f":"-('Data base original'!AB40/'Data base original'!AB28*100-100)*'Data base original'!AB28/('Data base original'!$AC28)","v":-1.306562672439052E-2},{"$f":"(('Data base original'!Y40-'Data base original'!AA40)/('Data base original'!Y28-'Data base original'!AA28)*100-100)*(('Data base original'!Y28-'Data base original'!AA28)/'Data base original'!AC28)","v":-5.0850006711142356E-2},{"$f":"(('Data base original'!Z40-'Data base original'!AB40)/('Data base original'!Z28-'Data base original'!AB28)*100-100)*(('Data base original'!Z28-'Data base original'!AB28)/'Data base original'!AC28)","v":0.19944502632258837},{"$f":"('Data base original'!AC40/'Data base original'!AC28*100-100)*'Data base original'!AC28/('Data base original'!$AC28)","v":18.624558874720435},{"$f":"('Data base original'!AC40/'Data base original'!AC28*100-100)*'Data base original'!AC28/('Data base original'!$AN28)","v":11.36176453348209},{"$f":"('Data base original'!AD40/'Data base original'!AD28*100-100)*'Data base original'!AD28/('Data base original'!$AN28)","v":2.0650126483442892},{"$f":"('Data base original'!AE40/'Data base original'!AE28*100-100)*'Data base original'!AE28/('Data base original'!$AN28)","v":0.23131921584322643},{"$f":"('Data base original'!AF40/'Data base original'!AF28*100-100)*'Data base original'!AF28/('Data base original'!$AN28)","v":0.71409234304170099},{"$f":"('Data base original'!AG40/'Data base original'!AG28*100-100)*'Data base original'!AG28/('Data base original'!$AN28)","v":-0.18737330409800398},{"$f":"('Data base original'!AH40/'Data base original'!AH28*100-100)*'Data base original'!AH28/('Data base original'!$AN28)","v":4.4922487561781008E-2},{"$f":"('Data base original'!AI40/'Data base original'!AI28*100-100)*'Data base original'!AI28/('Data base original'!$AN28)","v":2.4875109416882912},{"$f":"('Data base original'!AJ40/'Data base original'!AJ28*100-100)*'Data base original'!AJ28/('Data base original'!$AN28)","v":0.65078725187407482},{"$f":"('Data base original'!AK40/'Data base original'!AK28*100-100)*'Data base original'!AK28/('Data base original'!$AN28)","v":1.0311491710152989E-2},{"$f":"-('Data base original'!AL40/'Data base original'!AL28*100-100)*'Data base original'!AL28/('Data base original'!$AN28)","v":-0.93086345149998839},{"$f":"-('Data base original'!AM40/'Data base original'!AM28*100-100)*'Data base original'!AM28/('Data base original'!$AN28)","v":-3.090575231232515E-2},{"$f":"(('Data base original'!AJ40-'Data base original'!AL40)/('Data base original'!AJ28-'Data base original'!AL28)*100-100)*(('Data base original'!AJ28-'Data base original'!AL28)/'Data base original'!AN28)","v":-0.28007619962591346},{"$f":"(('Data base original'!AK40-'Data base original'!AM40)/('Data base original'!AK28-'Data base original'!AM28)*100-100)*(('Data base original'!AK28-'Data base original'!AM28)/'Data base original'!AN28)","v":-2.0594260602172055E-2},{"$f":"('Data base original'!AN40/'Data base original'!AN28*100-100)*'Data base original'!AN28/('Data base original'!$AN28)","v":16.416578405635278}]
["2008-07-01",{"$f":"'Data base original'!B41/'Data base original'!B29*100-100","v":21.58154513120887},{"$f":"'Data base original'!C41/'Data base original'!C29*100-100","v":12.294786004141756},{"$f":"'Data base original'!D41/'Data base original'!D29*100-100","v":25.20579870004957},{"$f":"'Data base original'!E41/'Data base original'!E29*100-100","v":27.195672635264344},{"$f":"'Data base original'!F41/'Data base original'!F29*100-100","v":21.675957902137895},{"$f":"'Data base original'!G41","v":31.240313742673901},null,null,null,{"$f":"'Data base original'!K41","v":11.428753715123401},null,null,{"$f":"'Data base original'!N41","v":4.4044248683942699},null,null,{"$f":"'Data base original'!Q41","v":4.87},{"$f":"('Data base original'!S41/'Data base original'!S29*100-100)*'Data base original'!S29/'Data base original'!$V29","v":2.8781810683291811},{"$f":"('Data base original'!T41/'Data base original'!T29*100-100)*'Data base original'!T29/'Data base original'!$V29","v":8.5109208976074324},{"$f":"('Data base original'!U41/'Data base original'!U29*100-100)*'Data base original'!U29/'Data base original'!$V29","v":-2.538941319456232},{"$f":"('Data base original'!V41/'Data base original'!V29*100-100)*'Data base original'!V29/'Data base original'!$V29","v":8.8501606464803899},{"$f":"('Data base original'!V41/'Data base original'!V29*100-100)*'Data base original'!V29/('Data base original'!$AC29)","v":1.8773289744567503},{"$f":"('Data base original'!W41/'Data base original'!W29*100-100)*'Data base original'!W29/('Data base original'!$AC29)","v":14.089120624379364},{"$f":"('Data base original'!X41/'Data base original'!X29*100-100)*'Data base original'!X29/('Data base original'!$AC29)","v":0.41149892713367558},{"$f":"('Data base original'!Y41/'Data base original'!Y29*100-100)*'Data base original'!Y29/('Data base original'!$AC29)","v":2.3283696695843226},{"$f":"('Data base original'!Z41/'Data base original'!Z29*100-100)*'Data base original'!Z29/('Data base original'!$AC29)","v":0.22335065548196195},{"$f":"-('Data base original'!AA41/'Data base original'!AA29*100-100)*'Data base original'!AA29/('Data base original'!$AC29)","v":-2.5927472298862448},{"$f":"-('Data base original'!AB41/'Data base original'!AB29*100-100)*'Data base original'!AB29/('Data base original'!$AC29)","v":-1.4572905105732167E-2},{"$f":"(('Data base original'!Y41-'Data base original'!AA41)/('Data base original'!Y29-'Data base original'!AA29)*100-100)*(('Data base original'!Y29-'Data base original'!AA29)/'Data base original'!AC29)","v":-0.264377560301922},{"$f":"(('Data base original'!Z41-'Data base original'!AB41)/('Data base original'!Z29-'Data base original'!AB29)*100-100)*(('Data base original'!Z29-'Data base original'!AB29)/'Data base original'!AC29)","v":0.2087777503762297},{"$f":"('Data base original'!AC41/'Data base original'!AC29*100-100)*'Data base original'!AC29/('Data base original'!$AC29)","v":16.322348716044061},{"$f":"('Data base original'!AC41/'Data base original'!AC29*100-100)*'Data base original'!AC29/('Data base original'!$AN29)","v":9.9993904890633765},{"$f":"('Data base original'!AD41/'Data base original'!AD29*100-100)*'Data base original'!AD29/('Data base original'!$AN29)","v":2.7092992141786958},{"$f":"('Data base original'!AE41/'Data base original'!AE29*100-100)*'Data base original'!AE29/('Data base original'!$AN29)","v":1.1135107321726136},{"$f":"('Data base original'!AF41/'Data base original'!AF29*100-100)*'Data base original'!AF29/('Data base original'!$AN29)","v":0.7462972743701568},{"$f":"('Data base original'!AG41/'Data base original'!AG29*100-100)*'Data base original'!AG29/('Data base original'!$AN29)","v":-0.13340293012342672},{"$f":"('Data base original'!AH41/'Data base original'!AH29*100-100)*'Data base original'!AH29/('Data base original'!$AN29)","v":4.3515171473551884E-2},{"$f":"('Data base original'!AI41/'Data base original'!AI29*100-100)*'Data base original'!AI29/('Data base original'!$AN29)","v":2.5130757865898534},{"$f":"('Data base original'!AJ41/'Data base original'!AJ29*100-100)*'Data base original'!AJ29/('Data base original'!$AN29)","v":0.15576469579735655},{"$f":"('Data base original'!AK41/'Data base original'!AK29*100-100)*'Data base original'!AK29/('Data base original'!$AN29)","v":-4.6002971214771024E-2},{"$f":"-('Data base original'!AL41/'Data base original'!AL29*100-100)*'Data base original'!AL29/('Data base original'!$AN29)","v":-0.99686846430574227},{"$f":"-('Data base original'!AM41/'Data base original'!AM29*100-100)*'Data base original'!AM29/('Data base original'!$AN29)","v":-4.1084235726417825E-2},{"$f":"(('Data base original'!AJ41-'Data base original'!AL41)/('Data base original'!AJ29-'Data base original'!AL29)*100-100)*(('Data base original'!AJ29-'Data base original'!AL29)/'Data base original'!AN29)","v":-0.84110376850838631},{"$f":"(('Data base original'!AK41-'Data base original'!AM41)/('Data base original'!AK29-'Data base original'!AM29)*100-100)*(('Data base original'!AK29-'Data base original'!AM29)/'Data base original'!AN29)","v":-8.7087206941188669E-2},{"$f":"('Data base original'!AN41/'Data base original'!AN29*100-100)*'Data base original'!AN29/('Data base original'!$AN29)","v":16.063494762275226}]
["2008-08-01",{"$f":"'Data base original'!B42/'Data base original'!B30*100-100","v":20.734256172211005},{"$f":"'Data base original'!C42/'Data base original'!C30*100-100","v":11.167500211905775},{"$f":"'Data base original'!D42/'Data base original'!D30*100-100","v":24.760985488975962},{"$f":"'Data base original'!E42/'Data base original'!E30*100-100","v":25.127798665210932},{"$f":"'Data base original'!F42/'Data base original'!F30*100-100","v":20.771601713138523},{"$f":"'Data base original'!G42","v":32.014571090938801},null,null,null,{"$f":"'Data base original'!K42","v":11.872771857100901},null,null,{"$f":"'Data base original'!N42","v":4.6828430653168001},null,null,{"$f":"'Data base original'!Q42","v":4.82},{"$f":"('Data base original'!S42/'Data base original'!S30*100-100)*'Data base original'!S30/'Data base original'!$V30","v":2.8734466559593059},{"$f":"('Data base original'!T42/'Data base original'!T30*100-100)*'Data base original'!T30/'Data base original'!$V30","v":5.9892856947086255},{"$f":"('Data base original'!U42/'Data base original'!U30*100-100)*'Data base original'!U30/'Data base original'!$V30","v":1.4574470067807073},{"$f":"('Data base original'!V42/'Data base original'!V30*100-100)*'Data base original'!V30/'Data base original'!$V30","v":10.320179357448637},{"$f":"('Data base original'!V42/'Data base original'!V30*100-100)*'Data base original'!V30/('Data base original'!$AC30)","v":2.1796125040966836},{"$f":"('Data base original'!W42/'Data base original'!W30*100-100)*'Data base original'!W30/('Data base original'!$AC30)","v":14.342694244404807},{"$f":"('Data base original'!X42/'Data base original'!X30*100-100)*'Data base original'!X30/('Data base original'!$AC30)","v":0.45479310357961589},{"$f":"('Data base original'!Y42/'Data base original'!Y30*100-100)*'Data base original'!Y30/('Data base original'!$AC30)","v":2.1045237129904497},{"$f":"('Data base original'!Z42/'Data base original'!Z30*100-100)*'Data base original'!Z30/('Data base original'!$AC30)","v":0.23286092265045288},{"$f":"-('Data base original'!AA42/'Data base original'!AA30*100-100)*'Data base original'!AA30/('Data base original'!$AC30)","v":-2.1120951082083788},{"$f":"-('Data base original'!AB42/'Data base original'!AB30*100-100)*'Data base original'!AB30/('Data base original'!$AC30)","v":-1.0396197103515291E-2},{"$f":"(('Data base original'!Y42-'Data base original'!AA42)/('Data base original'!Y30-'Data base original'!AA30)*100-100)*(('Data base original'!Y30-'Data base original'!AA30)/'Data base original'!AC30)","v":-7.5713952179286264E-3},{"$f":"(('Data base original'!Z42-'Data base original'!AB42)/('Data base original'!Z30-'Data base original'!AB30)*100-100)*(('Data base original'!Z30-'Data base original'!AB30)/'Data base original'!AC30)","v":0.22246472554693769},{"$f":"('Data base original'!AC42/'Data base original'!AC30*100-100)*'Data base original'!AC30/('Data base original'!$AC30)","v":17.19199318241013},{"$f":"('Data base original'!AC42/'Data base original'!AC30*100-100)*'Data base original'!AC30/('Data base original'!$AN30)","v":10.493721106997418},{"$f":"('Data base original'!AD42/'Data base original'!AD30*100-100)*'Data base original'!AD30/('Data base original'!$AN30)","v":2.9472619541572493},{"$f":"('Data base original'!AE42/'Data base original'!AE30*100-100)*'Data base original'!AE30/('Data base original'!$AN30)","v":2.1391000260547166},{"$f":"('Data base original'!AF42/'Data base original'!AF30*100-100)*'Data base original'!AF30/('Data base original'!$AN30)","v":0.94311704153573939},{"$f":"('Data base original'!AG42/'Data base original'!AG30*100-100)*'Data base original'!AG30/('Data base original'!$AN30)","v":-0.1965463150608032},{"$f":"('Data base original'!AH42/'Data base original'!AH30*100-100)*'Data base original'!AH30/('Data base original'!$AN30)","v":5.4510616034336559E-2},{"$f":"('Data base original'!AI42/'Data base original'!AI30*100-100)*'Data base original'!AI30/('Data base original'!$AN30)","v":2.7740631987772155},{"$f":"('Data base original'!AJ42/'Data base original'!AJ30*100-100)*'Data base original'!AJ30/('Data base original'!$AN30)","v":-0.11761403853713906},{"$f":"('Data base original'!AK42/'Data base original'!AK30*100-100)*'Data base original'!AK30/('Data base original'!$AN30)","v":-7.4423879708793439E-2},{"$f":"-('Data base original'!AL42/'Data base original'!AL30*100-100)*'Data base original'!AL30/('Data base original'!$AN30)","v":-1.1325969039086592},{"$f":"-('Data base original'!AM42/'Data base original'!AM30*100-100)*'Data base original'!AM30/('Data base original'!$AN30)","v":-4.6539657402403442E-2},{"$f":"(('Data base original'!AJ42-'Data base original'!AL42)/('Data base original'!AJ30-'Data base original'!AL30)*100-100)*(('Data base original'!AJ30-'Data base original'!AL30)/'Data base original'!AN30)","v":-1.2502109424457981},{"$f":"(('Data base original'!AK42-'Data base original'!AM42)/('Data base original'!AK30-'Data base original'!AM30)*100-100)*(('Data base original'!AK30-'Data base original'!AM30)/'Data base original'!AN30)","v":-0.12096353711119694},{"$f":"('Data base original'!AN42/'Data base original'!AN30*100-100)*'Data base original'!AN30/('Data base original'!$AN30)","v":17.784053148938852}]
["2008-09-01",{"$f":"'Data base original'!B43/'Data base original'!B31*100-100","v":20.23680606588465},{"$f":"'Data base original'!C43/'Data base original'!C31*100-100","v":10.44001468610152},{"$f":"'Data base original'!D43/'Data base original'!D31*100-100","v":23.746253447441518},{"$f":"'Data base original'!E43/'Data base original'!E31*100-100","v":36.869184904918569},{"$f":"'Data base original'!F43/'Data base original'!F31*100-100","v":21.229827816531468},{"$f":"'Data base original'!G43","v":34.024364909569798},null,null,null,{"$f":"'Data base original'!K43","v":12.804720313383299},null,null,{"$f":"'Data base original'!N43","v":5.1263856274647104},null,null,{"$f":"'Data base original'!Q43","v":4.8},{"$f":"('Data base original'!S43/'Data base original'!S31*100-100)*'Data base original'!S31/'Data base original'!$V31","v":2.7175443686677849},{"$f":"('Data base original'!T43/'Data base original'!T31*100-100)*'Data base original'!T31/'Data base original'!$V31","v":7.9800956082484946},{"$f":"('Data base original'!U43/'Data base original'!U31*100-100)*'Data base original'!U31/'Data base original'!$V31","v":-2.3646520491049805},{"$f":"('Data base original'!V43/'Data base original'!V31*100-100)*'Data base original'!V31/'Data base original'!$V31","v":8.3329879278113026},{"$f":"('Data base original'!V43/'Data base original'!V31*100-100)*'Data base original'!V31/('Data base original'!$AC31)","v":1.8017807472946938},{"$f":"('Data base original'!W43/'Data base original'!W31*100-100)*'Data base original'!W31/('Data base original'!$AC31)","v":14.590895497808221},{"$f":"('Data base original'!X43/'Data base original'!X31*100-100)*'Data base original'!X31/('Data base original'!$AC31)","v":0.47255754317048282},{"$f":"('Data base original'!Y43/'Data base original'!Y31*100-100)*'Data base original'!Y31/('Data base original'!$AC31)","v":1.076858540678469},{"$f":"('Data base original'!Z43/'Data base original'!Z31*100-100)*'Data base original'!Z31/('Data base original'!$AC31)","v":0.22713279307027145},{"$f":"-('Data base original'!AA43/'Data base original'!AA31*100-100)*'Data base original'!AA31/('Data base original'!$AC31)","v":-0.29968016536112935},{"$f":"-('Data base original'!AB43/'Data base original'!AB31*100-100)*'Data base original'!AB31/('Data base original'!$AC31)","v":-6.4573365897153288E-3},{"$f":"(('Data base original'!Y43-'Data base original'!AA43)/('Data base original'!Y31-'Data base original'!AA31)*100-100)*(('Data base original'!Y31-'Data base original'!AA31)/'Data base original'!AC31)","v":0.77717837531733858},{"$f":"(('Data base original'!Z43-'Data base original'!AB43)/('Data base original'!Z31-'Data base original'!AB31)*100-100)*(('Data base original'!Z31-'Data base original'!AB31)/'Data base original'!AC31)","v":0.2206754564805562},{"$f":"('Data base original'!AC43/'Data base original'!AC31*100-100)*'Data base original'!AC31/('Data base original'!$AC31)","v":17.863087620071312},{"$f":"('Data base original'!AC43/'Data base original'!AC31*100-100)*'Data base original'!AC31/('Data base original'!$AN31)","v":10.898679810653029},{"$f":"('Data base original'!AD43/'Data base original'!AD31*100-100)*'Data base original'!AD31/('Data base original'!$AN31)","v":3.1590920828324291},{"$f":"('Data base original'!AE43/'Data base original'!AE31*100-100)*'Data base original'!AE31/('Data base original'!$AN31)","v":3.1975924616706899},{"$f":"('Data base original'!AF43/'Data base original'!AF31*100-100)*'Data base original'!AF31/('Data base original'!$AN31)","v":1.1063320806152228},{"$f":"('Data base original'!AG43/'Data base original'!AG31*100-100)*'Data base original'!AG31/('Data base original'!$AN31)","v":-0.3428160098231206},{"$f":"('Data base original'!AH43/'Data base original'!AH31*100-100)*'Data base original'!AH31/('Data base original'!$AN31)","v":8.4221331275100716E-2},{"$f":"('Data base original'!AI43/'Data base original'!AI31*100-100)*'Data base original'!AI31/('Data base original'!$AN31)","v":3.0311126734968017},{"$f":"('Data base original'!AJ43/'Data base original'!AJ31*100-100)*'Data base original'!AJ31/('Data base original'!$AN31)","v":-0.64340217949298495},{"$f":"('Data base original'!AK43/'Data base original'!AK31*100-100)*'Data base original'!AK31/('Data base original'!$AN31)","v":-0.13936408071824546},{"$f":"-('Data base original'!AL43/'Data base original'!AL31*100-100)*'Data base original'!AL31/('Data base original'!$AN31)","v":-0.78350934836797859},{"$f":"-('Data base original'!AM43/'Data base original'!AM31*100-100)*'Data base original'!AM31/('Data base original'!$AN31)","v":-6.4410320605595581E-2},{"$f":"(('Data base original'!AJ43-'Data base original'!AL43)/('Data base original'!AJ31-'Data base original'!AL31)*100-100)*(('Data base original'!AJ31-'Data base original'!AL31)/'Data base original'!AN31)","v":-1.4269115278609648},{"$f":"(('Data base original'!AK43-'Data base original'!AM43)/('Data base original'!AK31-'Data base original'!AM31)*100-100)*(('Data base original'!AK31-'Data base original'!AM31)/'Data base original'!AN31)","v":-0.20377440132384109},{"$f":"('Data base original'!AN43/'Data base original'!AN31*100-100)*'Data base original'!AN31/('Data base original'!$AN31)","v":19.503528501535342}]
["2008-10-01",{"$f":"'Data base original'!B44/'Data base original'!B32*100-100","v":22.170368028786982},{"$f":"'Data base original'!C44/'Data base original'!C32*100-100","v":9.1482328450985619},{"$f":"'Data base original'!D44/'Data base original'!D32*100-100","v":23.135581434273121},{"$f":"'Data base original'!E44/'Data base original'!E32*100-100","v":61.59700315725425},{"$f":"'Data base original'!F44/'Data base original'!F32*100-100","v":24.147095820818549},{"$f":"'Data base original'!G44","v":35.760897802525299},null,null,null,{"$f":"'Data base original'!K44","v":15.1485057621497},null,null,{"$f":"'Data base original'!N44","v":8.0271257425205302},null,null,{"$f":"'Data base original'!Q44","v":5.34},{"$f":"('Data base original'!S44/'Data base original'!S32*100-100)*'Data base original'!S32/'Data base original'!$V32","v":3.1226777124590477},{"$f":"('Data base original'!T44/'Data base original'!T32*100-100)*'Data base original'!T32/'Data base original'!$V32","v":9.3884480509377486},{"$f":"('Data base original'!U44/'Data base original'!U32*100-100)*'Data base original'!U32/'Data base original'!$V32","v":0.82466654262997341},{"$f":"('Data base original'!V44/'Data base original'!V32*100-100)*'Data base original'!V32/'Data base original'!$V32","v":13.335792306026775},{"$f":"('Data base original'!V44/'Data base original'!V32*100-100)*'Data base original'!V32/('Data base original'!$AC32)","v":2.7869877796906035},{"$f":"('Data base original'!W44/'Data base original'!W32*100-100)*'Data base original'!W32/('Data base original'!$AC32)","v":15.80565786010105},{"$f":"('Data base original'!X44/'Data base original'!X32*100-100)*'Data base original'!X32/('Data base original'!$AC32)","v":0.46798074109517385},{"$f":"('Data base original'!Y44/'Data base original'!Y32*100-100)*'Data base original'!Y32/('Data base original'!$AC32)","v":1.1985909734516722},{"$f":"('Data base original'!Z44/'Data base original'!Z32*100-100)*'Data base original'!Z32/('Data base original'!$AC32)","v":0.20821629882943066},{"$f":"-('Data base original'!AA44/'Data base original'!AA32*100-100)*'Data base original'!AA32/('Data base original'!$AC32)","v":-0.11639830006638224},{"$f":"-('Data base original'!AB44/'Data base original'!AB32*100-100)*'Data base original'!AB32/('Data base original'!$AC32)","v":-2.364802345556501E-3},{"$f":"(('Data base original'!Y44-'Data base original'!AA44)/('Data base original'!Y32-'Data base original'!AA32)*100-100)*(('Data base original'!Y32-'Data base original'!AA32)/'Data base original'!AC32)","v":1.0821926733852885},{"$f":"(('Data base original'!Z44-'Data base original'!AB44)/('Data base original'!Z32-'Data base original'!AB32)*100-100)*(('Data base original'!Z32-'Data base original'!AB32)/'Data base original'!AC32)","v":0.20585149648387421},{"$f":"('Data base original'!AC44/'Data base original'!AC32*100-100)*'Data base original'!AC32/('Data base original'!$AC32)","v":20.348670550755998},{"$f":"('Data base original'!AC44/'Data base original'!AC32*100-100)*'Data base original'!AC32/('Data base original'!$AN32)","v":12.407234902419136},{"$f":"('Data base original'!AD44/'Data base original'!AD32*100-100)*'Data base original'!AD32/('Data base original'!$AN32)","v":3.4118576959142195},{"$f":"('Data base original'!AE44/'Data base original'!AE32*100-100)*'Data base original'!AE32/('Data base original'!$AN32)","v":3.1131912087820384},{"$f":"('Data base original'!AF44/'Data base original'!AF32*100-100)*'Data base original'!AF32/('Data base original'!$AN32)","v":1.3216359461685201},{"$f":"('Data base original'!AG44/'Data base original'!AG32*100-100)*'Data base original'!AG32/('Data base original'!$AN32)","v":-0.29305141298453807},{"$f":"('Data base original'!AH44/'Data base original'!AH32*100-100)*'Data base original'!AH32/('Data base original'!$AN32)","v":9.93105583199244E-2},{"$f":"('Data base original'!AI44/'Data base original'!AI32*100-100)*'Data base original'!AI32/('Data base original'!$AN32)","v":3.0044528716463157},{"$f":"('Data base original'!AJ44/'Data base original'!AJ32*100-100)*'Data base original'!AJ32/('Data base original'!$AN32)","v":-1.8838920374858752},{"$f":"('Data base original'!AK44/'Data base original'!AK32*100-100)*'Data base original'!AK32/('Data base original'!$AN32)","v":-0.28557851183495775},{"$f":"-('Data base original'!AL44/'Data base original'!AL32*100-100)*'Data base original'!AL32/('Data base original'!$AN32)","v":-0.2330325093175053},{"$f":"-('Data base original'!AM44/'Data base original'!AM32*100-100)*'Data base original'!AM32/('Data base original'!$AN32)","v":-5.2823290129681996E-2},{"$f":"(('Data base original'!AJ44-'Data base original'!AL44)/('Data base original'!AJ32-'Data base original'!AL32)*100-100)*(('Data base original'!AJ32-'Data base original'!AL32)/'Data base original'!AN32)","v":-2.1169245468033799},{"$f":"(('Data base original'!AK44-'Data base original'!AM44)/('Data base original'!AK32-'Data base original'!AM32)*100-100)*(('Data base original'!AK32-'Data base original'!AM32)/'Data base original'!AN32)","v":-0.3384018019646397},{"$f":"('Data base original'!AN44/'Data base original'!AN32*100-100)*'Data base original'!AN32/('Data base original'!$AN32)","v":20.609305421497595}]
["2008-11-01",{"$f":"'Data base original'!B45/'Data base original'!B33*100-100","v":19.537224889747606},{"$f":"'Data base original'!C45/'Data base original'!C33*100-100","v":8.0771603229327269},{"$f":"'Data base original'!D45/'Data base original'!D33*100-100","v":22.722753146790396},{"$f":"'Data base original'!E45/'Data base original'!E33*100-100","v":51.40255611334689},{"$f":"'Data base original'!F45/'Data base original'!F33*100-100","v":21.62517544784464},{"$f":"'Data base original'!G45","v":36.071842036112699},null,null,null,{"$f":"'Data base original'!K45","v":15.128786233759699},null,null,{"$f":"'Data base original'!N45","v":5.9275972440875204},null,null,{"$f":"'Data base original'!Q45","v":5.69},{"$f":"('Data base original'!S45/'Data base original'!S33*100-100)*'Data base original'!S33/'Data base original'!$V33","v":3.0290903429590608},{"$f":"('Data base original'!T45/'Data base original'!T33*100-100)*'Data base original'!T33/'Data base original'!$V33","v":7.2876350630529396},{"$f":"('Data base original'!U45/'Data base original'!U33*100-100)*'Data base original'!U33/'Data base original'!$V33","v":-2.874399850374016},{"$f":"('Data base original'!V45/'Data base original'!V33*100-100)*'Data base original'!V33/'Data base original'!$V33","v":7.4423255556379928},{"$f":"('Data base original'!V45/'Data base original'!V33*100-100)*'Data base original'!V33/('Data base original'!$AC33)","v":1.5668145135634002},{"$f":"('Data base original'!W45/'Data base original'!W33*100-100)*'Data base original'!W33/('Data base original'!$AC33)","v":15.894356222022985},{"$f":"('Data base original'!X45/'Data base original'!X33*100-100)*'Data base original'!X33/('Data base original'!$AC33)","v":0.45827350247892279},{"$f":"('Data base original'!Y45/'Data base original'!Y33*100-100)*'Data base original'!Y33/('Data base original'!$AC33)","v":-0.22314243791802524},{"$f":"('Data base original'!Z45/'Data base original'!Z33*100-100)*'Data base original'!Z33/('Data base original'!$AC33)","v":0.22107467479062934},{"$f":"-('Data base original'!AA45/'Data base original'!AA33*100-100)*'Data base original'!AA33/('Data base original'!$AC33)","v":1.0786684331376408},{"$f":"-('Data base original'!AB45/'Data base original'!AB33*100-100)*'Data base original'!AB33/('Data base original'!$AC33)","v":-5.8513297009261042E-3},{"$f":"(('Data base original'!Y45-'Data base original'!AA45)/('Data base original'!Y33-'Data base original'!AA33)*100-100)*(('Data base original'!Y33-'Data base original'!AA33)/'Data base original'!AC33)","v":0.8555259952196157},{"$f":"(('Data base original'!Z45-'Data base original'!AB45)/('Data base original'!Z33-'Data base original'!AB33)*100-100)*(('Data base original'!Z33-'Data base original'!AB33)/'Data base original'!AC33)","v":0.21522334508970323},{"$f":"('Data base original'!AC45/'Data base original'!AC33*100-100)*'Data base original'!AC33/('Data base original'!$AC33)","v":18.990193578374615},{"$f":"('Data base original'!AC45/'Data base original'!AC33*100-100)*'Data base original'!AC33/('Data base original'!$AN33)","v":11.692991511777731},{"$f":"('Data base original'!AD45/'Data base original'!AD33*100-100)*'Data base original'!AD33/('Data base original'!$AN33)","v":3.673618807836053},{"$f":"('Data base original'!AE45/'Data base original'!AE33*100-100)*'Data base original'!AE33/('Data base original'!$AN33)","v":2.7497352774347683},{"$f":"('Data base original'!AF45/'Data base original'!AF33*100-100)*'Data base original'!AF33/('Data base original'!$AN33)","v":1.4380129989098891},{"$f":"('Data base original'!AG45/'Data base original'!AG33*100-100)*'Data base original'!AG33/('Data base original'!$AN33)","v":-0.30141006013809979},{"$f":"('Data base original'!AH45/'Data base original'!AH33*100-100)*'Data base original'!AH33/('Data base original'!$AN33)","v":0.11007772249774569},{"$f":"('Data base original'!AI45/'Data base original'!AI33*100-100)*'Data base original'!AI33/('Data base original'!$AN33)","v":2.888907001153771},{"$f":"('Data base original'!AJ45/'Data base original'!AJ33*100-100)*'Data base original'!AJ33/('Data base original'!$AN33)","v":-2.6662322432033649},{"$f":"('Data base original'!AK45/'Data base original'!AK33*100-100)*'Data base original'!AK33/('Data base original'!$AN33)","v":-0.34930409566806503},{"$f":"-('Data base original'!AL45/'Data base original'!AL33*100-100)*'Data base original'!AL33/('Data base original'!$AN33)","v":3.4268074064144343E-3},{"$f":"-('Data base original'!AM45/'Data base original'!AM33*100-100)*'Data base original'!AM33/('Data base original'!$AN33)","v":-1.7472654364721538E-2},{"$f":"(('Data base original'!AJ45-'Data base original'!AL45)/('Data base original'!AJ33-'Data base original'!AL33)*100-100)*(('Data base original'!AJ33-'Data base original'!AL33)/'Data base original'!AN33)","v":-2.6628054357969506},{"$f":"(('Data base original'!AK45-'Data base original'!AM45)/('Data base original'!AK33-'Data base original'!AM33)*100-100)*(('Data base original'!AK33-'Data base original'!AM33)/'Data base original'!AN33)","v":-0.36677675003278659},{"$f":"('Data base original'!AN45/'Data base original'!AN33*100-100)*'Data base original'!AN33/('Data base original'!$AN33)","v":19.222351073642116}]
["2008-12-01",{"$f":"'Data base original'!B46/'Data base original'!B34*100-100","v":15.253573325265492},{"$f":"'Data base original'!C46/'Data base original'!C34*100-100","v":6.7645485344274334},{"$f":"'Data base original'!D46/'Data base original'!D34*100-100","v":21.169572403209756},{"$f":"'Data base original'!E46/'Data base original'!E34*100-100","v":44.878598765652583},{"$f":"'Data base original'!F46/'Data base original'!F34*100-100","v":17.986616265955831},{"$f":"'Data base original'!G46","v":36.851581681413002},null,null,null,{"$f":"'Data base original'!K46","v":14.910910610780199},null,null,{"$f":"'Data base original'!N46","v":5.8315002485440504},null,null,{"$f":"'Data base original'!Q46","v":5.77},{"$f":"('Data base original'!S46/'Data base original'!S34*100-100)*'Data base original'!S34/'Data base original'!$V34","v":2.7098104021180962},{"$f":"('Data base original'!T46/'Data base original'!T34*100-100)*'Data base original'!T34/'Data base original'!$V34","v":4.6172721044516001},{"$f":"('Data base original'!U46/'Data base original'!U34*100-100)*'Data base original'!U34/'Data base original'!$V34","v":-0.63360401821941403},{"$f":"('Data base original'!V46/'Data base original'!V34*100-100)*'Data base original'!V34/'Data base original'!$V34","v":6.6934784883502658},{"$f":"('Data base original'!V46/'Data base original'!V34*100-100)*'Data base original'!V34/('Data base original'!$AC34)","v":1.4389834941139779},{"$f":"('Data base original'!W46/'Data base original'!W34*100-100)*'Data base original'!W34/('Data base original'!$AC34)","v":14.153460828097192},{"$f":"('Data base original'!X46/'Data base original'!X34*100-100)*'Data base original'!X34/('Data base original'!$AC34)","v":0.43943708673712562},{"$f":"('Data base original'!Y46/'Data base original'!Y34*100-100)*'Data base original'!Y34/('Data base original'!$AC34)","v":0.7114695690029641},{"$f":"('Data base original'!Z46/'Data base original'!Z34*100-100)*'Data base original'!Z34/('Data base original'!$AC34)","v":0.25724026506040326},{"$f":"-('Data base original'!AA46/'Data base original'!AA34*100-100)*'Data base original'!AA34/('Data base original'!$AC34)","v":6.9016198496531317E-2},{"$f":"-('Data base original'!AB46/'Data base original'!AB34*100-100)*'Data base original'!AB34/('Data base original'!$AC34)","v":-1.1969599001243074E-2},{"$f":"(('Data base original'!Y46-'Data base original'!AA46)/('Data base original'!Y34-'Data base original'!AA34)*100-100)*(('Data base original'!Y34-'Data base original'!AA34)/'Data base original'!AC34)","v":0.78048576749949594},{"$f":"(('Data base original'!Z46-'Data base original'!AB46)/('Data base original'!Z34-'Data base original'!AB34)*100-100)*(('Data base original'!Z34-'Data base original'!AB34)/'Data base original'!AC34)","v":0.24527066605916009},{"$f":"('Data base original'!AC46/'Data base original'!AC34*100-100)*'Data base original'!AC34/('Data base original'!$AC34)","v":17.057637842506949},{"$f":"('Data base original'!AC46/'Data base original'!AC34*100-100)*'Data base original'!AC34/('Data base original'!$AN34)","v":10.691135953180757},{"$f":"('Data base original'!AD46/'Data base original'!AD34*100-100)*'Data base original'!AD34/('Data base original'!$AN34)","v":3.3568172603464976},{"$f":"('Data base original'!AE46/'Data base original'!AE34*100-100)*'Data base original'!AE34/('Data base original'!$AN34)","v":2.9900775157543733},{"$f":"('Data base original'!AF46/'Data base original'!AF34*100-100)*'Data base original'!AF34/('Data base original'!$AN34)","v":1.3410056708518046},{"$f":"('Data base original'!AG46/'Data base original'!AG34*100-100)*'Data base original'!AG34/('Data base original'!$AN34)","v":-0.4275947854505987},{"$f":"('Data base original'!AH46/'Data base original'!AH34*100-100)*'Data base original'!AH34/('Data base original'!$AN34)","v":0.15146586890829233},{"$f":"('Data base original'!AI46/'Data base original'!AI34*100-100)*'Data base original'!AI34/('Data base original'!$AN34)","v":2.9361127287023892},{"$f":"('Data base original'!AJ46/'Data base original'!AJ34*100-100)*'Data base original'!AJ34/('Data base original'!$AN34)","v":-2.6642802445529323},{"$f":"('Data base original'!AK46/'Data base original'!AK34*100-100)*'Data base original'!AK34/('Data base original'!$AN34)","v":-0.3280851547047538},{"$f":"-('Data base original'!AL46/'Data base original'!AL34*100-100)*'Data base original'!AL34/('Data base original'!$AN34)","v":8.5742424781140761E-2},{"$f":"-('Data base original'!AM46/'Data base original'!AM34*100-100)*'Data base original'!AM34/('Data base original'!$AN34)","v":-2.9263626205169434E-4},{"$f":"(('Data base original'!AJ46-'Data base original'!AL46)/('Data base original'!AJ34-'Data base original'!AL34)*100-100)*(('Data base original'!AJ34-'Data base original'!AL34)/'Data base original'!AN34)","v":-2.5785378197717912},{"$f":"(('Data base original'!AK46-'Data base original'!AM46)/('Data base original'!AK34-'Data base original'!AM34)*100-100)*(('Data base original'!AK34-'Data base original'!AM34)/'Data base original'!AN34)","v":-0.32837779096680536},{"$f":"('Data base original'!AN46/'Data base original'!AN34*100-100)*'Data base original'!AN34/('Data base original'!$AN34)","v":18.132104601554914}]
["2009-01-01",{"$f":"'Data base original'!B47/'Data base original'!B35*100-100","v":13.926050673060146},{"$f":"'Data base original'!C47/'Data base original'!C35*100-100","v":5.3804837092024513},{"$f":"'Data base original'!D47/'Data base original'!D35*100-100","v":18.634299654171627},{"$f":"'Data base original'!E47/'Data base original'!E35*100-100","v":46.958229600124781},{"$f":"'Data base original'!F47/'Data base original'!F35*100-100","v":16.538155933640894},{"$f":"'Data base original'!G47","v":36.334171451960003},null,null,null,{"$f":"'Data base original'!K47","v":13.5112458646691},null,null,{"$f":"'Data base original'!N47","v":5.3235662820483602},null,null,{"$f":"'Data base original'!Q47","v":5.92},{"$f":"('Data base original'!S47/'Data base original'!S35*100-100)*'Data base original'!S35/'Data base original'!$V35","v":2.4970355053360906},{"$f":"('Data base original'!T47/'Data base original'!T35*100-100)*'Data base original'!T35/'Data base original'!$V35","v":3.5085999745200644},{"$f":"('Data base original'!U47/'Data base original'!U35*100-100)*'Data base original'!U35/'Data base original'!$V35","v":-0.62838515890670221},{"$f":"('Data base original'!V47/'Data base original'!V35*100-100)*'Data base original'!V35/'Data base original'!$V35","v":5.3772503209494431},{"$f":"('Data base original'!V47/'Data base original'!V35*100-100)*'Data base original'!V35/('Data base original'!$AC35)","v":1.1447566359426713},{"$f":"('Data base original'!W47/'Data base original'!W35*100-100)*'Data base original'!W35/('Data base original'!$AC35)","v":12.570041236900458},{"$f":"('Data base original'!X47/'Data base original'!X35*100-100)*'Data base original'!X35/('Data base original'!$AC35)","v":0.40077956946343396},{"$f":"('Data base original'!Y47/'Data base original'!Y35*100-100)*'Data base original'!Y35/('Data base original'!$AC35)","v":4.3614247265138406},{"$f":"('Data base original'!Z47/'Data base original'!Z35*100-100)*'Data base original'!Z35/('Data base original'!$AC35)","v":0.24931368324247977},{"$f":"-('Data base original'!AA47/'Data base original'!AA35*100-100)*'Data base original'!AA35/('Data base original'!$AC35)","v":-3.4161190371651573},{"$f":"-('Data base original'!AB47/'Data base original'!AB35*100-100)*'Data base original'!AB35/('Data base original'!$AC35)","v":-1.3352364625538666E-2},{"$f":"(('Data base original'!Y47-'Data base original'!AA47)/('Data base original'!Y35-'Data base original'!AA35)*100-100)*(('Data base original'!Y35-'Data base original'!AA35)/'Data base original'!AC35)","v":0.94530568934868398},{"$f":"(('Data base original'!Z47-'Data base original'!AB47)/('Data base original'!Z35-'Data base original'!AB35)*100-100)*(('Data base original'!Z35-'Data base original'!AB35)/'Data base original'!AC35)","v":0.2359613186169412},{"$f":"('Data base original'!AC47/'Data base original'!AC35*100-100)*'Data base original'!AC35/('Data base original'!$AC35)","v":15.296844450272188},{"$f":"('Data base original'!AC47/'Data base original'!AC35*100-100)*'Data base original'!AC35/('Data base original'!$AN35)","v":9.6658762738254023},{"$f":"('Data base original'!AD47/'Data base original'!AD35*100-100)*'Data base original'!AD35/('Data base original'!$AN35)","v":3.084450222158329},{"$f":"('Data base original'!AE47/'Data base original'!AE35*100-100)*'Data base original'!AE35/('Data base original'!$AN35)","v":2.5167858781563721},{"$f":"('Data base original'!AF47/'Data base original'!AF35*100-100)*'Data base original'!AF35/('Data base original'!$AN35)","v":1.2563495583694002},{"$f":"('Data base original'!AG47/'Data base original'!AG35*100-100)*'Data base original'!AG35/('Data base original'!$AN35)","v":-0.60774097209684563},{"$f":"('Data base original'!AH47/'Data base original'!AH35*100-100)*'Data base original'!AH35/('Data base original'!$AN35)","v":0.17362144474003149},{"$f":"('Data base original'!AI47/'Data base original'!AI35*100-100)*'Data base original'!AI35/('Data base original'!$AN35)","v":3.2554350466289574},{"$f":"('Data base original'!AJ47/'Data base original'!AJ35*100-100)*'Data base original'!AJ35/('Data base original'!$AN35)","v":-2.0166190130510731},{"$f":"('Data base original'!AK47/'Data base original'!AK35*100-100)*'Data base original'!AK35/('Data base original'!$AN35)","v":-0.28066822767769717},{"$f":"-('Data base original'!AL47/'Data base original'!AL35*100-100)*'Data base original'!AL35/('Data base original'!$AN35)","v":-0.20512905695936953},{"$f":"-('Data base original'!AM47/'Data base original'!AM35*100-100)*'Data base original'!AM35/('Data base original'!$AN35)","v":1.9510989993564685E-2},{"$f":"(('Data base original'!AJ47-'Data base original'!AL47)/('Data base original'!AJ35-'Data base original'!AL35)*100-100)*(('Data base original'!AJ35-'Data base original'!AL35)/'Data base original'!AN35)","v":-2.2217480700104435},{"$f":"(('Data base original'!AK47-'Data base original'!AM47)/('Data base original'!AK35-'Data base original'!AM35)*100-100)*(('Data base original'!AK35-'Data base original'!AM35)/'Data base original'!AN35)","v":-0.26115723768413246},{"$f":"('Data base original'!AN47/'Data base original'!AN35*100-100)*'Data base original'!AN35/('Data base original'!$AN35)","v":16.861872144087073}]
["2009-02-01",{"$f":"'Data base original'!B48/'Data base original'!B36*100-100","v":11.426824592664261},{"$f":"'Data base original'!C48/'Data base original'!C36*100-100","v":3.8502626047412605},{"$f":"'Data base original'!D48/'Data base original'!D36*100-100","v":16.59682268912745},{"$f":"'Data base original'!E48/'Data base original'!E36*100-100","v":36.021299317779551},{"$f":"'Data base original'!F48/'Data base original'!F36*100-100","v":13.601158631138972},{"$f":"'Data base original'!G48","v":36.189776794957403},null,null,null,{"$f":"'Data base original'!K48","v":12.2157947060754},null,null,{"$f":"'Data base original'!N48","v":5.1172565620763102},null,null,{"$f":"'Data base original'!Q48","v":5.53},{"$f":"('Data base original'!S48/'Data base original'!S36*100-100)*'Data base original'!S36/'Data base original'!$V36","v":2.1384688090737241},{"$f":"('Data base original'!T48/'Data base original'!T36*100-100)*'Data base original'!T36/'Data base original'!$V36","v":4.4728836838374342},{"$f":"('Data base original'!U48/'Data base original'!U36*100-100)*'Data base original'!U36/'Data base original'!$V36","v":-2.8857696321676034},{"$f":"('Data base original'!V48/'Data base original'!V36*100-100)*'Data base original'!V36/'Data base original'!$V36","v":3.7255828607435575},{"$f":"('Data base original'!V48/'Data base original'!V36*100-100)*'Data base original'!V36/('Data base original'!$AC36)","v":0.78095817583030125},{"$f":"('Data base original'!W48/'Data base original'!W36*100-100)*'Data base original'!W36/('Data base original'!$AC36)","v":10.763143289789214},{"$f":"('Data base original'!X48/'Data base original'!X36*100-100)*'Data base original'!X36/('Data base original'!$AC36)","v":0.34362985273716851},{"$f":"('Data base original'!Y48/'Data base original'!Y36*100-100)*'Data base original'!Y36/('Data base original'!$AC36)","v":4.9907850443785025},{"$f":"('Data base original'!Z48/'Data base original'!Z36*100-100)*'Data base original'!Z36/('Data base original'!$AC36)","v":0.23837386180866649},{"$f":"-('Data base original'!AA48/'Data base original'!AA36*100-100)*'Data base original'!AA36/('Data base original'!$AC36)","v":-4.1512137285017463},{"$f":"-('Data base original'!AB48/'Data base original'!AB36*100-100)*'Data base original'!AB36/('Data base original'!$AC36)","v":-1.8780970930379788E-2},{"$f":"(('Data base original'!Y48-'Data base original'!AA48)/('Data base original'!Y36-'Data base original'!AA36)*100-100)*(('Data base original'!Y36-'Data base original'!AA36)/'Data base original'!AC36)","v":0.83957131587675649},{"$f":"(('Data base original'!Z48-'Data base original'!AB48)/('Data base original'!Z36-'Data base original'!AB36)*100-100)*(('Data base original'!Z36-'Data base original'!AB36)/'Data base original'!AC36)","v":0.21959289087828665},{"$f":"('Data base original'!AC48/'Data base original'!AC36*100-100)*'Data base original'!AC36/('Data base original'!$AC36)","v":12.946895525111698},{"$f":"('Data base original'!AC48/'Data base original'!AC36*100-100)*'Data base original'!AC36/('Data base original'!$AN36)","v":8.2419102055867857},{"$f":"('Data base original'!AD48/'Data base original'!AD36*100-100)*'Data base original'!AD36/('Data base original'!$AN36)","v":3.0162888928400107},{"$f":"('Data base original'!AE48/'Data base original'!AE36*100-100)*'Data base original'!AE36/('Data base original'!$AN36)","v":2.2973615985800331},{"$f":"('Data base original'!AF48/'Data base original'!AF36*100-100)*'Data base original'!AF36/('Data base original'!$AN36)","v":1.5023635982936463},{"$f":"('Data base original'!AG48/'Data base original'!AG36*100-100)*'Data base original'!AG36/('Data base original'!$AN36)","v":-0.4844087964065304},{"$f":"('Data base original'!AH48/'Data base original'!AH36*100-100)*'Data base original'!AH36/('Data base original'!$AN36)","v":0.20916159584464228},{"$f":"('Data base original'!AI48/'Data base original'!AI36*100-100)*'Data base original'!AI36/('Data base original'!$AN36)","v":3.4653556859285706},{"$f":"('Data base original'!AJ48/'Data base original'!AJ36*100-100)*'Data base original'!AJ36/('Data base original'!$AN36)","v":-1.2361818186571856},{"$f":"('Data base original'!AK48/'Data base original'!AK36*100-100)*'Data base original'!AK36/('Data base original'!$AN36)","v":-0.25251795679233807},{"$f":"-('Data base original'!AL48/'Data base original'!AL36*100-100)*'Data base original'!AL36/('Data base original'!$AN36)","v":-0.57716513225220734},{"$f":"-('Data base original'!AM48/'Data base original'!AM36*100-100)*'Data base original'!AM36/('Data base original'!$AN36)","v":1.3138291196271523E-2},{"$f":"(('Data base original'!AJ48-'Data base original'!AL48)/('Data base original'!AJ36-'Data base original'!AL36)*100-100)*(('Data base original'!AJ36-'Data base original'!AL36)/'Data base original'!AN36)","v":-1.813346950909392},{"$f":"(('Data base original'!AK48-'Data base original'!AM48)/('Data base original'!AK36-'Data base original'!AM36)*100-100)*(('Data base original'!AK36-'Data base original'!AM36)/'Data base original'!AN36)","v":-0.2393796655960666},{"$f":"('Data base original'!AN48/'Data base original'!AN36*100-100)*'Data base original'!AN36/('Data base original'!$AN36)","v":16.195306164161693}]
["2009-03-01",{"$f":"'Data base original'!B49/'Data base original'!B37*100-100","v":9.1165123696176096},{"$f":"'Data base original'!C49/'Data base original'!C37*100-100","v":2.8200315586999238},{"$f":"'Data base original'!D49/'Data base original'!D37*100-100","v":15.106332198349961},{"$f":"'Data base original'!E49/'Data base original'!E37*100-100","v":30.726654615906256},{"$f":"'Data base original'!F49/'Data base original'!F37*100-100","v":11.366673377021669},{"$f":"'Data base original'!G49","v":32.2310900560189},null,null,null,{"$f":"'Data base original'!K49","v":10.0588162851225},null,null,{"$f":"'Data base original'!N49","v":4.6835907984627498},null,null,{"$f":"'Data base original'!Q49","v":4.9000000000000004},{"$f":"('Data base original'!S49/'Data base original'!S37*100-100)*'Data base original'!S37/'Data base original'!$V37","v":2.2827840858469375},{"$f":"('Data base original'!T49/'Data base original'!T37*100-100)*'Data base original'!T37/'Data base original'!$V37","v":6.0019516517021723},{"$f":"('Data base original'!U49/'Data base original'!U37*100-100)*'Data base original'!U37/'Data base original'!$V37","v":-2.9311813853113788},{"$f":"('Data base original'!V49/'Data base original'!V37*100-100)*'Data base original'!V37/'Data base original'!$V37","v":5.3535543522377509},{"$f":"('Data base original'!V49/'Data base original'!V37*100-100)*'Data base original'!V37/('Data base original'!$AC37)","v":1.1041478473567885},{"$f":"('Data base original'!W49/'Data base original'!W37*100-100)*'Data base original'!W37/('Data base original'!$AC37)","v":7.9473675098125725},{"$f":"('Data base original'!X49/'Data base original'!X37*100-100)*'Data base original'!X37/('Data base original'!$AC37)","v":0.31319578362524153},{"$f":"('Data base original'!Y49/'Data base original'!Y37*100-100)*'Data base original'!Y37/('Data base original'!$AC37)","v":4.386986833608594},{"$f":"('Data base original'!Z49/'Data base original'!Z37*100-100)*'Data base original'!Z37/('Data base original'!$AC37)","v":0.22948634993140313},{"$f":"-('Data base original'!AA49/'Data base original'!AA37*100-100)*'Data base original'!AA37/('Data base original'!$AC37)","v":-3.7518159842877763},{"$f":"-('Data base original'!AB49/'Data base original'!AB37*100-100)*'Data base original'!AB37/('Data base original'!$AC37)","v":-2.2662797902478413E-2},{"$f":"(('Data base original'!Y49-'Data base original'!AA49)/('Data base original'!Y37-'Data base original'!AA37)*100-100)*(('Data base original'!Y37-'Data base original'!AA37)/'Data base original'!AC37)","v":0.6351708493208148},{"$f":"(('Data base original'!Z49-'Data base original'!AB49)/('Data base original'!Z37-'Data base original'!AB37)*100-100)*(('Data base original'!Z37-'Data base original'!AB37)/'Data base original'!AC37)","v":0.20682355202892477},{"$f":"('Data base original'!AC49/'Data base original'!AC37*100-100)*'Data base original'!AC37/('Data base original'!$AC37)","v":10.206705542144334},{"$f":"('Data base original'!AC49/'Data base original'!AC37*100-100)*'Data base original'!AC37/('Data base original'!$AN37)","v":6.529813588139632},{"$f":"('Data base original'!AD49/'Data base original'!AD37*100-100)*'Data base original'!AD37/('Data base original'!$AN37)","v":3.0253930294066849},{"$f":"('Data base original'!AE49/'Data base original'!AE37*100-100)*'Data base original'!AE37/('Data base original'!$AN37)","v":2.984901196269818},{"$f":"('Data base original'!AF49/'Data base original'!AF37*100-100)*'Data base original'!AF37/('Data base original'!$AN37)","v":1.5206642625141438},{"$f":"('Data base original'!AG49/'Data base original'!AG37*100-100)*'Data base original'!AG37/('Data base original'!$AN37)","v":-0.62866836415397409},{"$f":"('Data base original'!AH49/'Data base original'!AH37*100-100)*'Data base original'!AH37/('Data base original'!$AN37)","v":0.25287802888055166},{"$f":"('Data base original'!AI49/'Data base original'!AI37*100-100)*'Data base original'!AI37/('Data base original'!$AN37)","v":3.4970575760428759},{"$f":"('Data base original'!AJ49/'Data base original'!AJ37*100-100)*'Data base original'!AJ37/('Data base original'!$AN37)","v":-1.0938019699616435},{"$f":"('Data base original'!AK49/'Data base original'!AK37*100-100)*'Data base original'!AK37/('Data base original'!$AN37)","v":-0.25248617243084004},{"$f":"-('Data base original'!AL49/'Data base original'!AL37*100-100)*'Data base original'!AL37/('Data base original'!$AN37)","v":-0.74152302167091544},{"$f":"-('Data base original'!AM49/'Data base original'!AM37*100-100)*'Data base original'!AM37/('Data base original'!$AN37)","v":2.1813342367278957E-2},{"$f":"(('Data base original'!AJ49-'Data base original'!AL49)/('Data base original'!AJ37-'Data base original'!AL37)*100-100)*(('Data base original'!AJ37-'Data base original'!AL37)/'Data base original'!AN37)","v":-1.8353249916325585},{"$f":"(('Data base original'!AK49-'Data base original'!AM49)/('Data base original'!AK37-'Data base original'!AM37)*100-100)*(('Data base original'!AK37-'Data base original'!AM37)/'Data base original'!AN37)","v":-0.23067283006356104},{"$f":"('Data base original'!AN49/'Data base original'!AN37*100-100)*'Data base original'!AN37/('Data base original'!$AN37)","v":15.116041495403579}]
["2009-04-01",{"$f":"'Data base original'!B50/'Data base original'!B38*100-100","v":7.7294743446649505},{"$f":"'Data base original'!C50/'Data base original'!C38*100-100","v":2.0225450144623522},{"$f":"'Data base original'!D50/'Data base original'!D38*100-100","v":13.139920898412583},{"$f":"'Data base original'!E50/'Data base original'!E38*100-100","v":9.9657637161243713},{"$f":"'Data base original'!F50/'Data base original'!F38*100-100","v":8.3938579433057896},{"$f":"'Data base original'!G50","v":29.9749702923983},null,null,null,{"$f":"'Data base original'!K50","v":8.7663514466743102},null,null,{"$f":"'Data base original'!N50","v":3.94729968911175},null,null,{"$f":"'Data base original'!Q50","v":4.42},{"$f":"('Data base original'!S50/'Data base original'!S38*100-100)*'Data base original'!S38/'Data base original'!$V38","v":2.4630493104847844},{"$f":"('Data base original'!T50/'Data base original'!T38*100-100)*'Data base original'!T38/'Data base original'!$V38","v":7.1251942819241112},{"$f":"('Data base original'!U50/'Data base original'!U38*100-100)*'Data base original'!U38/'Data base original'!$V38","v":-1.7823176224842336},{"$f":"('Data base original'!V50/'Data base original'!V38*100-100)*'Data base original'!V38/'Data base original'!$V38","v":7.8059259699246581},{"$f":"('Data base original'!V50/'Data base original'!V38*100-100)*'Data base original'!V38/('Data base original'!$AC38)","v":1.5906814992958875},{"$f":"('Data base original'!W50/'Data base original'!W38*100-100)*'Data base original'!W38/('Data base original'!$AC38)","v":5.9084285713954365},{"$f":"('Data base original'!X50/'Data base original'!X38*100-100)*'Data base original'!X38/('Data base original'!$AC38)","v":0.31672415394984738},{"$f":"('Data base original'!Y50/'Data base original'!Y38*100-100)*'Data base original'!Y38/('Data base original'!$AC38)","v":5.6633103018051347},{"$f":"('Data base original'!Z50/'Data base original'!Z38*100-100)*'Data base original'!Z38/('Data base original'!$AC38)","v":0.21323403230890992},{"$f":"-('Data base original'!AA50/'Data base original'!AA38*100-100)*'Data base original'!AA38/('Data base original'!$AC38)","v":-5.4962736142443234},{"$f":"-('Data base original'!AB50/'Data base original'!AB38*100-100)*'Data base original'!AB38/('Data base original'!$AC38)","v":-1.210410779426168E-2},{"$f":"(('Data base original'!Y50-'Data base original'!AA50)/('Data base original'!Y38-'Data base original'!AA38)*100-100)*(('Data base original'!Y38-'Data base original'!AA38)/'Data base original'!AC38)","v":0.16703668756080972},{"$f":"(('Data base original'!Z50-'Data base original'!AB50)/('Data base original'!Z38-'Data base original'!AB38)*100-100)*(('Data base original'!Z38-'Data base original'!AB38)/'Data base original'!AC38)","v":0.20112992451464823},{"$f":"('Data base original'!AC50/'Data base original'!AC38*100-100)*'Data base original'!AC38/('Data base original'!$AC38)","v":8.1840008367165922},{"$f":"('Data base original'!AC50/'Data base original'!AC38*100-100)*'Data base original'!AC38/('Data base original'!$AN38)","v":5.2125565794995898},{"$f":"('Data base original'!AD50/'Data base original'!AD38*100-100)*'Data base original'!AD38/('Data base original'!$AN38)","v":2.3421012676507469},{"$f":"('Data base original'!AE50/'Data base original'!AE38*100-100)*'Data base original'!AE38/('Data base original'!$AN38)","v":3.1717560781193042},{"$f":"('Data base original'!AF50/'Data base original'!AF38*100-100)*'Data base original'!AF38/('Data base original'!$AN38)","v":1.4312412782730781},{"$f":"('Data base original'!AG50/'Data base original'!AG38*100-100)*'Data base original'!AG38/('Data base original'!$AN38)","v":-0.77401898377924672},{"$f":"('Data base original'!AH50/'Data base original'!AH38*100-100)*'Data base original'!AH38/('Data base original'!$AN38)","v":0.26507323431882213},{"$f":"('Data base original'!AI50/'Data base original'!AI38*100-100)*'Data base original'!AI38/('Data base original'!$AN38)","v":3.8298777970630775},{"$f":"('Data base original'!AJ50/'Data base original'!AJ38*100-100)*'Data base original'!AJ38/('Data base original'!$AN38)","v":-1.1497214254410184},{"$f":"('Data base original'!AK50/'Data base original'!AK38*100-100)*'Data base original'!AK38/('Data base original'!$AN38)","v":-0.22986719156392293},{"$f":"-('Data base original'!AL50/'Data base original'!AL38*100-100)*'Data base original'!AL38/('Data base original'!$AN38)","v":-0.71375754563308702},{"$f":"-('Data base original'!AM50/'Data base original'!AM38*100-100)*'Data base original'!AM38/('Data base original'!$AN38)","v":2.3642014112779074E-2},{"$f":"(('Data base original'!AJ50-'Data base original'!AL50)/('Data base original'!AJ38-'Data base original'!AL38)*100-100)*(('Data base original'!AJ38-'Data base original'!AL38)/'Data base original'!AN38)","v":-1.8634789710741051},{"$f":"(('Data base original'!AK50-'Data base original'!AM50)/('Data base original'!AK38-'Data base original'!AM38)*100-100)*(('Data base original'!AK38-'Data base original'!AM38)/'Data base original'!AN38)","v":-0.20622517745114388},{"$f":"('Data base original'!AN50/'Data base original'!AN38*100-100)*'Data base original'!AN38/('Data base original'!$AN38)","v":13.408883102620123}]
["2009-05-01",{"$f":"'Data base original'!B51/'Data base original'!B39*100-100","v":5.8085295833944883},{"$f":"'Data base original'!C51/'Data base original'!C39*100-100","v":1.336348610294209},{"$f":"'Data base original'!D51/'Data base original'!D39*100-100","v":12.170297178094259},{"$f":"'Data base original'!E51/'Data base original'!E39*100-100","v":-2.399493264783672},{"$f":"'Data base original'!F51/'Data base original'!F39*100-100","v":5.8671669964797815},{"$f":"'Data base original'!G51","v":29.566587019095401},null,null,null,{"$f":"'Data base original'!K51","v":8.0713683339428606},null,null,{"$f":"'Data base original'!N51","v":3.7768421556343399},null,null,{"$f":"'Data base original'!Q51","v":4.4556453691489804},{"$f":"('Data base original'!S51/'Data base original'!S39*100-100)*'Data base original'!S39/'Data base original'!$V39","v":2.2685380745747121},{"$f":"('Data base original'!T51/'Data base original'!T39*100-100)*'Data base original'!T39/'Data base original'!$V39","v":7.7441784109673186},{"$f":"('Data base original'!U51/'Data base original'!U39*100-100)*'Data base original'!U39/'Data base original'!$V39","v":-1.2006508966629428},{"$f":"('Data base original'!V51/'Data base original'!V39*100-100)*'Data base original'!V39/'Data base original'!$V39","v":8.8120655888790793},{"$f":"('Data base original'!V51/'Data base original'!V39*100-100)*'Data base original'!V39/('Data base original'!$AC39)","v":1.8266019995033418},{"$f":"('Data base original'!W51/'Data base original'!W39*100-100)*'Data base original'!W39/('Data base original'!$AC39)","v":4.8209646468436507},{"$f":"('Data base original'!X51/'Data base original'!X39*100-100)*'Data base original'!X39/('Data base original'!$AC39)","v":0.32337163625590204},{"$f":"('Data base original'!Y51/'Data base original'!Y39*100-100)*'Data base original'!Y39/('Data base original'!$AC39)","v":4.5558586095031552},{"$f":"('Data base original'!Z51/'Data base original'!Z39*100-100)*'Data base original'!Z39/('Data base original'!$AC39)","v":0.19680895277359223},{"$f":"-('Data base original'!AA51/'Data base original'!AA39*100-100)*'Data base original'!AA39/('Data base original'!$AC39)","v":-4.607200075444096},{"$f":"-('Data base original'!AB51/'Data base original'!AB39*100-100)*'Data base original'!AB39/('Data base original'!$AC39)","v":-8.3579130601525546E-3},{"$f":"(('Data base original'!Y51-'Data base original'!AA51)/('Data base original'!Y39-'Data base original'!AA39)*100-100)*(('Data base original'!Y39-'Data base original'!AA39)/'Data base original'!AC39)","v":-5.1341465940939295E-2},{"$f":"(('Data base original'!Z51-'Data base original'!AB51)/('Data base original'!Z39-'Data base original'!AB39)*100-100)*(('Data base original'!Z39-'Data base original'!AB39)/'Data base original'!AC39)","v":0.18845103971343982},{"$f":"('Data base original'!AC51/'Data base original'!AC39*100-100)*'Data base original'!AC39/('Data base original'!$AC39)","v":7.1080478563753928},{"$f":"('Data base original'!AC51/'Data base original'!AC39*100-100)*'Data base original'!AC39/('Data base original'!$AN39)","v":4.482934405416068},{"$f":"('Data base original'!AD51/'Data base original'!AD39*100-100)*'Data base original'!AD39/('Data base original'!$AN39)","v":1.2098670076282743},{"$f":"('Data base original'!AE51/'Data base original'!AE39*100-100)*'Data base original'!AE39/('Data base original'!$AN39)","v":2.7505648692096751},{"$f":"('Data base original'!AF51/'Data base original'!AF39*100-100)*'Data base original'!AF39/('Data base original'!$AN39)","v":1.3047486941186244},{"$f":"('Data base original'!AG51/'Data base original'!AG39*100-100)*'Data base original'!AG39/('Data base original'!$AN39)","v":-0.65036626903835237},{"$f":"('Data base original'!AH51/'Data base original'!AH39*100-100)*'Data base original'!AH39/('Data base original'!$AN39)","v":0.25628095742499346},{"$f":"('Data base original'!AI51/'Data base original'!AI39*100-100)*'Data base original'!AI39/('Data base original'!$AN39)","v":3.9549096622803082},{"$f":"('Data base original'!AJ51/'Data base original'!AJ39*100-100)*'Data base original'!AJ39/('Data base original'!$AN39)","v":-1.108835582198735},{"$f":"('Data base original'!AK51/'Data base original'!AK39*100-100)*'Data base original'!AK39/('Data base original'!$AN39)","v":-0.21473884336638777},{"$f":"-('Data base original'!AL51/'Data base original'!AL39*100-100)*'Data base original'!AL39/('Data base original'!$AN39)","v":-0.57067067258151016},{"$f":"-('Data base original'!AM51/'Data base original'!AM39*100-100)*'Data base original'!AM39/('Data base original'!$AN39)","v":3.5768889748346272E-2},{"$f":"(('Data base original'!AJ51-'Data base original'!AL51)/('Data base original'!AJ39-'Data base original'!AL39)*100-100)*(('Data base original'!AJ39-'Data base original'!AL39)/'Data base original'!AN39)","v":-1.6795062547802453},{"$f":"(('Data base original'!AK51-'Data base original'!AM51)/('Data base original'!AK39-'Data base original'!AM39)*100-100)*(('Data base original'!AK39-'Data base original'!AM39)/'Data base original'!AN39)","v":-0.17896995361804141},{"$f":"('Data base original'!AN51/'Data base original'!AN39*100-100)*'Data base original'!AN39/('Data base original'!$AN39)","v":11.450463118641323}]
["2009-06-01",{"$f":"'Data base original'!B52/'Data base original'!B40*100-100","v":2.8482618713180869},{"$f":"'Data base original'!C52/'Data base original'!C40*100-100","v":0.16224256091280154},{"$f":"'Data base original'!D52/'Data base original'!D40*100-100","v":10.738033433344469},{"$f":"'Data base original'!E52/'Data base original'!E40*100-100","v":-23.012163922237633},{"$f":"'Data base original'!F52/'Data base original'!F40*100-100","v":1.6025548793120237},{"$f":"'Data base original'!G52","v":28.9061914956599},null,null,null,{"$f":"'Data base original'!K52","v":7.9845183487956701},null,null,{"$f":"'Data base original'!N52","v":3.49696459618111},null,null,{"$f":"'Data base original'!Q52","v":4.6100000000000003},{"$f":"('Data base original'!S52/'Data base original'!S40*100-100)*'Data base original'!S40/'Data base original'!$V40","v":2.1979278858526299},{"$f":"('Data base original'!T52/'Data base original'!T40*100-100)*'Data base original'!T40/'Data base original'!$V40","v":8.0944051011752034},{"$f":"('Data base original'!U52/'Data base original'!U40*100-100)*'Data base original'!U40/'Data base original'!$V40","v":0.41327239627516238},{"$f":"('Data base original'!V52/'Data base original'!V40*100-100)*'Data base original'!V40/'Data base original'!$V40","v":10.705605383303009},{"$f":"('Data base original'!V52/'Data base original'!V40*100-100)*'Data base original'!V40/('Data base original'!$AC40)","v":2.2290496791409833},{"$f":"('Data base original'!W52/'Data base original'!W40*100-100)*'Data base original'!W40/('Data base original'!$AC40)","v":3.9654142858607049},{"$f":"('Data base original'!X52/'Data base original'!X40*100-100)*'Data base original'!X40/('Data base original'!$AC40)","v":0.31594080210046582},{"$f":"('Data base original'!Y52/'Data base original'!Y40*100-100)*'Data base original'!Y40/('Data base original'!$AC40)","v":4.0435262831639465},{"$f":"('Data base original'!Z52/'Data base original'!Z40*100-100)*'Data base original'!Z40/('Data base original'!$AC40)","v":0.15439820605160992},{"$f":"-('Data base original'!AA52/'Data base original'!AA40*100-100)*'Data base original'!AA40/('Data base original'!$AC40)","v":-3.5833084941746374},{"$f":"-('Data base original'!AB52/'Data base original'!AB40*100-100)*'Data base original'!AB40/('Data base original'!$AC40)","v":-8.5335769411558227E-3},{"$f":"(('Data base original'!Y52-'Data base original'!AA52)/('Data base original'!Y40-'Data base original'!AA40)*100-100)*(('Data base original'!Y40-'Data base original'!AA40)/'Data base original'!AC40)","v":0.46021778898931121},{"$f":"(('Data base original'!Z52-'Data base original'!AB52)/('Data base original'!Z40-'Data base original'!AB40)*100-100)*(('Data base original'!Z40-'Data base original'!AB40)/'Data base original'!AC40)","v":0.14586462911045411},{"$f":"('Data base original'!AC52/'Data base original'!AC40*100-100)*'Data base original'!AC40/('Data base original'!$AC40)","v":7.1164871852019047},{"$f":"('Data base original'!AC52/'Data base original'!AC40*100-100)*'Data base original'!AC40/('Data base original'!$AN40)","v":4.4236956570319563},{"$f":"('Data base original'!AD52/'Data base original'!AD40*100-100)*'Data base original'!AD40/('Data base original'!$AN40)","v":4.1943159210444791E-3},{"$f":"('Data base original'!AE52/'Data base original'!AE40*100-100)*'Data base original'!AE40/('Data base original'!$AN40)","v":2.5133821345691598},{"$f":"('Data base original'!AF52/'Data base original'!AF40*100-100)*'Data base original'!AF40/('Data base original'!$AN40)","v":1.2616255566034555},{"$f":"('Data base original'!AG52/'Data base original'!AG40*100-100)*'Data base original'!AG40/('Data base original'!$AN40)","v":-0.79914054519186273},{"$f":"('Data base original'!AH52/'Data base original'!AH40*100-100)*'Data base original'!AH40/('Data base original'!$AN40)","v":0.22797340653204137},{"$f":"('Data base original'!AI52/'Data base original'!AI40*100-100)*'Data base original'!AI40/('Data base original'!$AN40)","v":3.7336813431270368},{"$f":"('Data base original'!AJ52/'Data base original'!AJ40*100-100)*'Data base original'!AJ40/('Data base original'!$AN40)","v":-1.0137908305629402},{"$f":"('Data base original'!AK52/'Data base original'!AK40*100-100)*'Data base original'!AK40/('Data base original'!$AN40)","v":-0.18615360955457264},{"$f":"-('Data base original'!AL52/'Data base original'!AL40*100-100)*'Data base original'!AL40/('Data base original'!$AN40)","v":-0.45199922160898276},{"$f":"-('Data base original'!AM52/'Data base original'!AM40*100-100)*'Data base original'!AM40/('Data base original'!$AN40)","v":5.1812137848191199E-2},{"$f":"(('Data base original'!AJ52-'Data base original'!AL52)/('Data base original'!AJ40-'Data base original'!AL40)*100-100)*(('Data base original'!AJ40-'Data base original'!AL40)/'Data base original'!AN40)","v":-1.4657900521719229},{"$f":"(('Data base original'!AK52-'Data base original'!AM52)/('Data base original'!AK40-'Data base original'!AM40)*100-100)*(('Data base original'!AK40-'Data base original'!AM40)/'Data base original'!AN40)","v":-0.13434147170638147},{"$f":"('Data base original'!AN52/'Data base original'!AN40*100-100)*'Data base original'!AN40/('Data base original'!$AN40)","v":9.7652803447145402}]
["2009-07-01",{"$f":"'Data base original'!B53/'Data base original'!B41*100-100","v":1.7684456582876606},{"$f":"'Data base original'!C53/'Data base original'!C41*100-100","v":-0.20002631485553479},{"$f":"'Data base original'!D53/'Data base original'!D41*100-100","v":9.2314420787089375},{"$f":"'Data base original'!E53/'Data base original'!E41*100-100","v":-19.890239153391477},{"$f":"'Data base original'!F53/'Data base original'!F41*100-100","v":1.0823944056955099},{"$f":"'Data base original'!G53","v":27.909352390439899},null,null,null,{"$f":"'Data base original'!K53","v":7.2408472343698298},null,null,{"$f":"'Data base original'!N53","v":2.7133157939572001},null,null,{"$f":"'Data base original'!Q53","v":4.62},{"$f":"('Data base original'!S53/'Data base original'!S41*100-100)*'Data base original'!S41/'Data base original'!$V41","v":2.337641454443125},{"$f":"('Data base original'!T53/'Data base original'!T41*100-100)*'Data base original'!T41/'Data base original'!$V41","v":9.8182227492914631},{"$f":"('Data base original'!U53/'Data base original'!U41*100-100)*'Data base original'!U41/'Data base original'!$V41","v":4.4458121444795164},{"$f":"('Data base original'!V53/'Data base original'!V41*100-100)*'Data base original'!V41/'Data base original'!$V41","v":16.601676348214099},{"$f":"('Data base original'!V53/'Data base original'!V41*100-100)*'Data base original'!V41/('Data base original'!$AC41)","v":3.2953920050227041},{"$f":"('Data base original'!W53/'Data base original'!W41*100-100)*'Data base original'!W41/('Data base original'!$AC41)","v":3.7636762059810045},{"$f":"('Data base original'!X53/'Data base original'!X41*100-100)*'Data base original'!X41/('Data base original'!$AC41)","v":0.28267876209923026},{"$f":"('Data base original'!Y53/'Data base original'!Y41*100-100)*'Data base original'!Y41/('Data base original'!$AC41)","v":7.4224620334693263},{"$f":"('Data base original'!Z53/'Data base original'!Z41*100-100)*'Data base original'!Z41/('Data base original'!$AC41)","v":0.11949511538280778},{"$f":"-('Data base original'!AA53/'Data base original'!AA41*100-100)*'Data base original'!AA41/('Data base original'!$AC41)","v":-6.5301387428060558},{"$f":"-('Data base original'!AB53/'Data base original'!AB41*100-100)*'Data base original'!AB41/('Data base original'!$AC41)","v":-9.974550532788598E-4},{"$f":"(('Data base original'!Y53-'Data base original'!AA53)/('Data base original'!Y41-'Data base original'!AA41)*100-100)*(('Data base original'!Y41-'Data base original'!AA41)/'Data base original'!AC41)","v":0.89232329066327254},{"$f":"(('Data base original'!Z53-'Data base original'!AB53)/('Data base original'!Z41-'Data base original'!AB41)*100-100)*(('Data base original'!Z41-'Data base original'!AB41)/'Data base original'!AC41)","v":0.11849766032952894},{"$f":"('Data base original'!AC53/'Data base original'!AC41*100-100)*'Data base original'!AC41/('Data base original'!$AC41)","v":8.3525679240957516},{"$f":"('Data base original'!AC53/'Data base original'!AC41*100-100)*'Data base original'!AC41/('Data base original'!$AN41)","v":5.1283589092750237},{"$f":"('Data base original'!AD53/'Data base original'!AD41*100-100)*'Data base original'!AD41/('Data base original'!$AN41)","v":-0.84563414182685881},{"$f":"('Data base original'!AE53/'Data base original'!AE41*100-100)*'Data base original'!AE41/('Data base original'!$AN41)","v":1.2531406293497385},{"$f":"('Data base original'!AF53/'Data base original'!AF41*100-100)*'Data base original'!AF41/('Data base original'!$AN41)","v":1.3382674730011954},{"$f":"('Data base original'!AG53/'Data base original'!AG41*100-100)*'Data base original'!AG41/('Data base original'!$AN41)","v":-0.8125632817032703},{"$f":"('Data base original'!AH53/'Data base original'!AH41*100-100)*'Data base original'!AH41/('Data base original'!$AN41)","v":0.2316185055322405},{"$f":"('Data base original'!AI53/'Data base original'!AI41*100-100)*'Data base original'!AI41/('Data base original'!$AN41)","v":3.5259661125101078},{"$f":"('Data base original'!AJ53/'Data base original'!AJ41*100-100)*'Data base original'!AJ41/('Data base original'!$AN41)","v":-0.65762017779090376},{"$f":"('Data base original'!AK53/'Data base original'!AK41*100-100)*'Data base original'!AK41/('Data base original'!$AN41)","v":-0.13595798050808414},{"$f":"-('Data base original'!AL53/'Data base original'!AL41*100-100)*'Data base original'!AL41/('Data base original'!$AN41)","v":-0.49532799385107334},{"$f":"-('Data base original'!AM53/'Data base original'!AM41*100-100)*'Data base original'!AM41/('Data base original'!$AN41)","v":6.9693775593783647E-2},{"$f":"(('Data base original'!AJ53-'Data base original'!AL53)/('Data base original'!AJ41-'Data base original'!AL41)*100-100)*(('Data base original'!AJ41-'Data base original'!AL41)/'Data base original'!AN41)","v":-1.1529481716419774},{"$f":"(('Data base original'!AK53-'Data base original'!AM53)/('Data base original'!AK41-'Data base original'!AM41)*100-100)*(('Data base original'!AK41-'Data base original'!AM41)/'Data base original'!AN41)","v":-6.6264204914300504E-2},{"$f":"('Data base original'!AN53/'Data base original'!AN41*100-100)*'Data base original'!AN41/('Data base original'!$AN41)","v":8.5999418295819225}]
["2009-08-01",{"$f":"'Data base original'!B54/'Data base original'!B42*100-100","v":1.4775135503445966},{"$f":"'Data base original'!C54/'Data base original'!C42*100-100","v":-0.82355648258108261},{"$f":"'Data base original'!D54/'Data base original'!D42*100-100","v":7.8153888356481218},{"$f":"'Data base original'!E54/'Data base original'!E42*100-100","v":-19.640616038706426},{"$f":"'Data base original'!F54/'Data base original'!F42*100-100","v":0.59274798600704059},{"$f":"'Data base original'!G54","v":24.5737435113694},null,null,null,{"$f":"'Data base original'!K54","v":5.9873966986875997},null,null,{"$f":"'Data base original'!N54","v":3.3949739058076802},null,null,{"$f":"'Data base original'!Q54","v":4.5599999999999996},{"$f":"('Data base original'!S54/'Data base original'!S42*100-100)*'Data base original'!S42/'Data base original'!$V42","v":2.720912668442184},{"$f":"('Data base original'!T54/'Data base original'!T42*100-100)*'Data base original'!T42/'Data base original'!$V42","v":12.783653158166713},{"$f":"('Data base original'!U54/'Data base original'!U42*100-100)*'Data base original'!U42/'Data base original'!$V42","v":1.2442515999523174},{"$f":"('Data base original'!V54/'Data base original'!V42*100-100)*'Data base original'!V42/'Data base original'!$V42","v":16.748817426561203},{"$f":"('Data base original'!V54/'Data base original'!V42*100-100)*'Data base original'!V42/('Data base original'!$AC42)","v":3.3299154973188494},{"$f":"('Data base original'!W54/'Data base original'!W42*100-100)*'Data base original'!W42/('Data base original'!$AC42)","v":3.161008329392216},{"$f":"('Data base original'!X54/'Data base original'!X42*100-100)*'Data base original'!X42/('Data base original'!$AC42)","v":0.25526586107368787},{"$f":"('Data base original'!Y54/'Data base original'!Y42*100-100)*'Data base original'!Y42/('Data base original'!$AC42)","v":7.745698775180264},{"$f":"('Data base original'!Z54/'Data base original'!Z42*100-100)*'Data base original'!Z42/('Data base original'!$AC42)","v":8.7327794577840845E-2},{"$f":"-('Data base original'!AA54/'Data base original'!AA42*100-100)*'Data base original'!AA42/('Data base original'!$AC42)","v":-7.0832324964031077},{"$f":"-('Data base original'!AB54/'Data base original'!AB42*100-100)*'Data base original'!AB42/('Data base original'!$AC42)","v":5.5320774845691034E-3},{"$f":"(('Data base original'!Y54-'Data base original'!AA54)/('Data base original'!Y42-'Data base original'!AA42)*100-100)*(('Data base original'!Y42-'Data base original'!AA42)/'Data base original'!AC42)","v":0.66246627877715281},{"$f":"(('Data base original'!Z54-'Data base original'!AB54)/('Data base original'!Z42-'Data base original'!AB42)*100-100)*(('Data base original'!Z42-'Data base original'!AB42)/'Data base original'!AC42)","v":9.2859872062409879E-2},{"$f":"('Data base original'!AC54/'Data base original'!AC42*100-100)*'Data base original'!AC42/('Data base original'!$AC42)","v":7.5015158386242859},{"$f":"('Data base original'!AC54/'Data base original'!AC42*100-100)*'Data base original'!AC42/('Data base original'!$AN42)","v":4.5557906999059332},{"$f":"('Data base original'!AD54/'Data base original'!AD42*100-100)*'Data base original'!AD42/('Data base original'!$AN42)","v":-0.82085140637307741},{"$f":"('Data base original'!AE54/'Data base original'!AE42*100-100)*'Data base original'!AE42/('Data base original'!$AN42)","v":-0.15490705534682742},{"$f":"('Data base original'!AF54/'Data base original'!AF42*100-100)*'Data base original'!AF42/('Data base original'!$AN42)","v":1.2950517802930319},{"$f":"('Data base original'!AG54/'Data base original'!AG42*100-100)*'Data base original'!AG42/('Data base original'!$AN42)","v":-0.83800997253465515},{"$f":"('Data base original'!AH54/'Data base original'!AH42*100-100)*'Data base original'!AH42/('Data base original'!$AN42)","v":0.21346216224787404},{"$f":"('Data base original'!AI54/'Data base original'!AI42*100-100)*'Data base original'!AI42/('Data base original'!$AN42)","v":3.1602959130323258},{"$f":"('Data base original'!AJ54/'Data base original'!AJ42*100-100)*'Data base original'!AJ42/('Data base original'!$AN42)","v":-9.3832159009465413E-2},{"$f":"('Data base original'!AK54/'Data base original'!AK42*100-100)*'Data base original'!AK42/('Data base original'!$AN42)","v":-8.0273292042623762E-2},{"$f":"-('Data base original'!AL54/'Data base original'!AL42*100-100)*'Data base original'!AL42/('Data base original'!$AN42)","v":-0.570072362473103},{"$f":"-('Data base original'!AM54/'Data base original'!AM42*100-100)*'Data base original'!AM42/('Data base original'!$AN42)","v":7.8353452472097615E-2},{"$f":"(('Data base original'!AJ54-'Data base original'!AL54)/('Data base original'!AJ42-'Data base original'!AL42)*100-100)*(('Data base original'!AJ42-'Data base original'!AL42)/'Data base original'!AN42)","v":-0.66390452148256818},{"$f":"(('Data base original'!AK54-'Data base original'!AM54)/('Data base original'!AK42-'Data base original'!AM42)*100-100)*(('Data base original'!AK42-'Data base original'!AM42)/'Data base original'!AN42)","v":-1.9198395705261021E-3},{"$f":"('Data base original'!AN54/'Data base original'!AN42*100-100)*'Data base original'!AN42/('Data base original'!$AN42)","v":6.7450077601715321}]
["2009-09-01",{"$f":"'Data base original'!B55/'Data base original'!B43*100-100","v":0.19040925602686798},{"$f":"'Data base original'!C55/'Data base original'!C43*100-100","v":-0.88472493277458852},{"$f":"'Data base original'!D55/'Data base original'!D43*100-100","v":6.790161494633324},{"$f":"'Data base original'!E55/'Data base original'!E43*100-100","v":-27.820902425585373},{"$f":"'Data base original'!F55/'Data base original'!F43*100-100","v":-1.312811187995834},{"$f":"'Data base original'!G55","v":26.523264242632901},null,null,null,{"$f":"'Data base original'!K55","v":5.7749809206789102},null,null,{"$f":"'Data base original'!N55","v":2.5450470118040398},null,null,{"$f":"'Data base original'!Q55","v":4.49},{"$f":"('Data base original'!S55/'Data base original'!S43*100-100)*'Data base original'!S43/'Data base original'!$V43","v":2.9195648121805493},{"$f":"('Data base original'!T55/'Data base original'!T43*100-100)*'Data base original'!T43/'Data base original'!$V43","v":12.935520881363248},{"$f":"('Data base original'!U55/'Data base original'!U43*100-100)*'Data base original'!U43/'Data base original'!$V43","v":4.7869046334356948},{"$f":"('Data base original'!V55/'Data base original'!V43*100-100)*'Data base original'!V43/'Data base original'!$V43","v":20.641990326979482},{"$f":"('Data base original'!V55/'Data base original'!V43*100-100)*'Data base original'!V43/('Data base original'!$AC43)","v":4.1023779305676271},{"$f":"('Data base original'!W55/'Data base original'!W43*100-100)*'Data base original'!W43/('Data base original'!$AC43)","v":1.0380355612859562},{"$f":"('Data base original'!X55/'Data base original'!X43*100-100)*'Data base original'!X43/('Data base original'!$AC43)","v":0.22772574606259266},{"$f":"('Data base original'!Y55/'Data base original'!Y43*100-100)*'Data base original'!Y43/('Data base original'!$AC43)","v":6.1382616980210356},{"$f":"('Data base original'!Z55/'Data base original'!Z43*100-100)*'Data base original'!Z43/('Data base original'!$AC43)","v":6.9604530260569508E-2},{"$f":"-('Data base original'!AA55/'Data base original'!AA43*100-100)*'Data base original'!AA43/('Data base original'!$AC43)","v":-5.8495101313098239},{"$f":"-('Data base original'!AB55/'Data base original'!AB43*100-100)*'Data base original'!AB43/('Data base original'!$AC43)","v":2.534618748984327E-3},{"$f":"(('Data base original'!Y55-'Data base original'!AA55)/('Data base original'!Y43-'Data base original'!AA43)*100-100)*(('Data base original'!Y43-'Data base original'!AA43)/'Data base original'!AC43)","v":0.2887515667112131},{"$f":"(('Data base original'!Z55-'Data base original'!AB55)/('Data base original'!Z43-'Data base original'!AB43)*100-100)*(('Data base original'!Z43-'Data base original'!AB43)/'Data base original'!AC43)","v":7.2139149009553774E-2},{"$f":"('Data base original'!AC55/'Data base original'!AC43*100-100)*'Data base original'!AC43/('Data base original'!$AC43)","v":5.7290299536369389},{"$f":"('Data base original'!AC55/'Data base original'!AC43*100-100)*'Data base original'!AC43/('Data base original'!$AN43)","v":3.447430690318305},{"$f":"('Data base original'!AD55/'Data base original'!AD43*100-100)*'Data base original'!AD43/('Data base original'!$AN43)","v":-0.99935865296120963},{"$f":"('Data base original'!AE55/'Data base original'!AE43*100-100)*'Data base original'!AE43/('Data base original'!$AN43)","v":-0.45978945303533558},{"$f":"('Data base original'!AF55/'Data base original'!AF43*100-100)*'Data base original'!AF43/('Data base original'!$AN43)","v":1.2507821788236042},{"$f":"('Data base original'!AG55/'Data base original'!AG43*100-100)*'Data base original'!AG43/('Data base original'!$AN43)","v":-0.82243533191571705},{"$f":"('Data base original'!AH55/'Data base original'!AH43*100-100)*'Data base original'!AH43/('Data base original'!$AN43)","v":0.1752807968448048},{"$f":"('Data base original'!AI55/'Data base original'!AI43*100-100)*'Data base original'!AI43/('Data base original'!$AN43)","v":2.1512374102719818},{"$f":"('Data base original'!AJ55/'Data base original'!AJ43*100-100)*'Data base original'!AJ43/('Data base original'!$AN43)","v":0.85552046224385336},{"$f":"('Data base original'!AK55/'Data base original'!AK43*100-100)*'Data base original'!AK43/('Data base original'!$AN43)","v":-1.4078778863037527E-3},{"$f":"-('Data base original'!AL55/'Data base original'!AL43*100-100)*'Data base original'!AL43/('Data base original'!$AN43)","v":-0.97190503417828944},{"$f":"-('Data base original'!AM55/'Data base original'!AM43*100-100)*'Data base original'!AM43/('Data base original'!$AN43)","v":8.3064795291915572E-2},{"$f":"(('Data base original'!AJ55-'Data base original'!AL55)/('Data base original'!AJ43-'Data base original'!AL43)*100-100)*(('Data base original'!AJ43-'Data base original'!AL43)/'Data base original'!AN43)","v":-0.11638457193443554},{"$f":"(('Data base original'!AK55-'Data base original'!AM55)/('Data base original'!AK43-'Data base original'!AM43)*100-100)*(('Data base original'!AK43-'Data base original'!AM43)/'Data base original'!AN43)","v":8.1656917405611817E-2},{"$f":"('Data base original'!AN55/'Data base original'!AN43*100-100)*'Data base original'!AN43/('Data base original'!$AN43)","v":4.708419983817592}]
["2009-10-01",{"$f":"'Data base original'!B56/'Data base original'!B44*100-100","v":-3.1248495223663326},{"$f":"'Data base original'!C56/'Data base original'!C44*100-100","v":-0.30103087100995651},{"$f":"'Data base original'!D56/'Data base original'!D44*100-100","v":6.6654999428540833},{"$f":"'Data base original'!E56/'Data base original'!E44*100-100","v":-38.268903639298671},{"$f":"'Data base original'!F56/'Data base original'!F44*100-100","v":-4.686929542154644},{"$f":"'Data base original'!G56","v":26.667814255904599},null,null,null,{"$f":"'Data base original'!K56","v":5.6134654537822497},null,null,{"$f":"'Data base original'!N56","v":2.6609289121842599},null,null,{"$f":"'Data base original'!Q56","v":4.3499999999999996},{"$f":"('Data base original'!S56/'Data base original'!S44*100-100)*'Data base original'!S44/'Data base original'!$V44","v":2.5469207507320091},{"$f":"('Data base original'!T56/'Data base original'!T44*100-100)*'Data base original'!T44/'Data base original'!$V44","v":12.263810300964803},{"$f":"('Data base original'!U56/'Data base original'!U44*100-100)*'Data base original'!U44/'Data base original'!$V44","v":3.6954850477607679},{"$f":"('Data base original'!V56/'Data base original'!V44*100-100)*'Data base original'!V44/'Data base original'!$V44","v":18.506216099457575},{"$f":"('Data base original'!V56/'Data base original'!V44*100-100)*'Data base original'!V44/('Data base original'!$AC44)","v":3.6421653503391958},{"$f":"('Data base original'!W56/'Data base original'!W44*100-100)*'Data base original'!W44/('Data base original'!$AC44)","v":-2.6970719046233023},{"$f":"('Data base original'!X56/'Data base original'!X44*100-100)*'Data base original'!X44/('Data base original'!$AC44)","v":0.20140832408889264},{"$f":"('Data base original'!Y56/'Data base original'!Y44*100-100)*'Data base original'!Y44/('Data base original'!$AC44)","v":6.7993258527082405},{"$f":"('Data base original'!Z56/'Data base original'!Z44*100-100)*'Data base original'!Z44/('Data base original'!$AC44)","v":6.0271346514406125E-2},{"$f":"-('Data base original'!AA56/'Data base original'!AA44*100-100)*'Data base original'!AA44/('Data base original'!$AC44)","v":-6.2614182554464417},{"$f":"-('Data base original'!AB56/'Data base original'!AB44*100-100)*'Data base original'!AB44/('Data base original'!$AC44)","v":-1.2658872151928527E-2},{"$f":"(('Data base original'!Y56-'Data base original'!AA56)/('Data base original'!Y44-'Data base original'!AA44)*100-100)*(('Data base original'!Y44-'Data base original'!AA44)/'Data base original'!AC44)","v":0.53790759726180037},{"$f":"(('Data base original'!Z56-'Data base original'!AB56)/('Data base original'!Z44-'Data base original'!AB44)*100-100)*(('Data base original'!Z44-'Data base original'!AB44)/'Data base original'!AC44)","v":4.7612474362477605E-2},{"$f":"('Data base original'!AC56/'Data base original'!AC44*100-100)*'Data base original'!AC44/('Data base original'!$AC44)","v":1.7320218414290451},{"$f":"('Data base original'!AC56/'Data base original'!AC44*100-100)*'Data base original'!AC44/('Data base original'!$AN44)","v":1.053786933509866},{"$f":"('Data base original'!AD56/'Data base original'!AD44*100-100)*'Data base original'!AD44/('Data base original'!$AN44)","v":-1.4761092505229729},{"$f":"('Data base original'!AE56/'Data base original'!AE44*100-100)*'Data base original'!AE44/('Data base original'!$AN44)","v":-0.44084409125111801},{"$f":"('Data base original'!AF56/'Data base original'!AF44*100-100)*'Data base original'!AF44/('Data base original'!$AN44)","v":1.2235578897723323},{"$f":"('Data base original'!AG56/'Data base original'!AG44*100-100)*'Data base original'!AG44/('Data base original'!$AN44)","v":-0.85513407948293663},{"$f":"('Data base original'!AH56/'Data base original'!AH44*100-100)*'Data base original'!AH44/('Data base original'!$AN44)","v":0.14541532605806085},{"$f":"('Data base original'!AI56/'Data base original'!AI44*100-100)*'Data base original'!AI44/('Data base original'!$AN44)","v":1.3897796775035212},{"$f":"('Data base original'!AJ56/'Data base original'!AJ44*100-100)*'Data base original'!AJ44/('Data base original'!$AN44)","v":2.0875433369283685},{"$f":"('Data base original'!AK56/'Data base original'!AK44*100-100)*'Data base original'!AK44/('Data base original'!$AN44)","v":0.11104443080797384},{"$f":"-('Data base original'!AL56/'Data base original'!AL44*100-100)*'Data base original'!AL44/('Data base original'!$AN44)","v":-1.5738191534078354},{"$f":"-('Data base original'!AM56/'Data base original'!AM44*100-100)*'Data base original'!AM44/('Data base original'!$AN44)","v":8.6904337154066452E-2},{"$f":"(('Data base original'!AJ56-'Data base original'!AL56)/('Data base original'!AJ44-'Data base original'!AL44)*100-100)*(('Data base original'!AJ44-'Data base original'!AL44)/'Data base original'!AN44)","v":0.51372418352053228},{"$f":"(('Data base original'!AK56-'Data base original'!AM56)/('Data base original'!AK44-'Data base original'!AM44)*100-100)*(('Data base original'!AK44-'Data base original'!AM44)/'Data base original'!AN44)","v":0.1979487679620402},{"$f":"('Data base original'!AN56/'Data base original'!AN44*100-100)*'Data base original'!AN44/('Data base original'!$AN44)","v":1.752125357069346}]
["2009-11-01",{"$f":"'Data base original'!B57/'Data base original'!B45*100-100","v":-4.1589298953574172},{"$f":"'Data base original'!C57/'Data base original'!C45*100-100","v":-0.2367642624623727},{"$f":"'Data base original'!D57/'Data base original'!D45*100-100","v":6.8865164757758066},{"$f":"'Data base original'!E57/'Data base original'!E45*100-100","v":-42.583719472286653},{"$f":"'Data base original'!F57/'Data base original'!F45*100-100","v":-5.6255162561757999},{"$f":"'Data base original'!G57","v":27.258339937912599},null,null,null,{"$f":"'Data base original'!K57","v":5.2475719388473099},null,null,{"$f":"'Data base original'!N57","v":2.5465993614059901},null,null,{"$f":"'Data base original'!Q57","v":4.28},{"$f":"('Data base original'!S57/'Data base original'!S45*100-100)*'Data base original'!S45/'Data base original'!$V45","v":2.4730618119578329},{"$f":"('Data base original'!T57/'Data base original'!T45*100-100)*'Data base original'!T45/'Data base original'!$V45","v":14.122452481770535},{"$f":"('Data base original'!U57/'Data base original'!U45*100-100)*'Data base original'!U45/'Data base original'!$V45","v":3.2395500856235899},{"$f":"('Data base original'!V57/'Data base original'!V45*100-100)*'Data base original'!V45/'Data base original'!$V45","v":19.835064379351934},{"$f":"('Data base original'!V57/'Data base original'!V45*100-100)*'Data base original'!V45/('Data base original'!$AC45)","v":3.7705678946477903},{"$f":"('Data base original'!W57/'Data base original'!W45*100-100)*'Data base original'!W45/('Data base original'!$AC45)","v":-5.9216624588397044},{"$f":"('Data base original'!X57/'Data base original'!X45*100-100)*'Data base original'!X45/('Data base original'!$AC45)","v":0.13292009787467002},{"$f":"('Data base original'!Y57/'Data base original'!Y45*100-100)*'Data base original'!Y45/('Data base original'!$AC45)","v":5.91133942926347},{"$f":"('Data base original'!Z57/'Data base original'!Z45*100-100)*'Data base original'!Z45/('Data base original'!$AC45)","v":3.2167033421686447E-2},{"$f":"-('Data base original'!AA57/'Data base original'!AA45*100-100)*'Data base original'!AA45/('Data base original'!$AC45)","v":-5.3084848546191061},{"$f":"-('Data base original'!AB57/'Data base original'!AB45*100-100)*'Data base original'!AB45/('Data base original'!$AC45)","v":-1.0167740449383627E-2},{"$f":"(('Data base original'!Y57-'Data base original'!AA57)/('Data base original'!Y45-'Data base original'!AA45)*100-100)*(('Data base original'!Y45-'Data base original'!AA45)/'Data base original'!AC45)","v":0.60285457464436287},{"$f":"(('Data base original'!Z57-'Data base original'!AB57)/('Data base original'!Z45-'Data base original'!AB45)*100-100)*(('Data base original'!Z45-'Data base original'!AB45)/'Data base original'!AC45)","v":2.199929297230278E-2},{"$f":"('Data base original'!AC57/'Data base original'!AC45*100-100)*'Data base original'!AC45/('Data base original'!$AC45)","v":-1.3933205987005692},{"$f":"('Data base original'!AC57/'Data base original'!AC45*100-100)*'Data base original'!AC45/('Data base original'!$AN45)","v":-0.85625040419835008},{"$f":"('Data base original'!AD57/'Data base original'!AD45*100-100)*'Data base original'!AD45/('Data base original'!$AN45)","v":-1.6942461665379913},{"$f":"('Data base original'!AE57/'Data base original'!AE45*100-100)*'Data base original'!AE45/('Data base original'!$AN45)","v":-6.7937987500149524E-2},{"$f":"('Data base original'!AF57/'Data base original'!AF45*100-100)*'Data base original'!AF45/('Data base original'!$AN45)","v":1.2532172911607711},{"$f":"('Data base original'!AG57/'Data base original'!AG45*100-100)*'Data base original'!AG45/('Data base original'!$AN45)","v":-1.0818954096386559},{"$f":"('Data base original'!AH57/'Data base original'!AH45*100-100)*'Data base original'!AH45/('Data base original'!$AN45)","v":5.30552511079758E-2},{"$f":"('Data base original'!AI57/'Data base original'!AI45*100-100)*'Data base original'!AI45/('Data base original'!$AN45)","v":1.4037487852037429},{"$f":"('Data base original'!AJ57/'Data base original'!AJ45*100-100)*'Data base original'!AJ45/('Data base original'!$AN45)","v":2.6315177332206443},{"$f":"('Data base original'!AK57/'Data base original'!AK45*100-100)*'Data base original'!AK45/('Data base original'!$AN45)","v":0.16995857742512138},{"$f":"-('Data base original'!AL57/'Data base original'!AL45*100-100)*'Data base original'!AL45/('Data base original'!$AN45)","v":-1.4815707274070908},{"$f":"-('Data base original'!AM57/'Data base original'!AM45*100-100)*'Data base original'!AM45/('Data base original'!$AN45)","v":8.1343811120579451E-2},{"$f":"(('Data base original'!AJ57-'Data base original'!AL57)/('Data base original'!AJ45-'Data base original'!AL45)*100-100)*(('Data base original'!AJ45-'Data base original'!AL45)/'Data base original'!AN45)","v":1.1499470058135535},{"$f":"(('Data base original'!AK57-'Data base original'!AM57)/('Data base original'!AK45-'Data base original'!AM45)*100-100)*(('Data base original'!AK45-'Data base original'!AM45)/'Data base original'!AN45)","v":0.25130238854570086},{"$f":"('Data base original'!AN57/'Data base original'!AN45*100-100)*'Data base original'!AN45/('Data base original'!$AN45)","v":0.41094075395662344}]
["2009-12-01",{"$f":"'Data base original'!B58/'Data base original'!B46*100-100","v":0.53953450855439655},{"$f":"'Data base original'!C58/'Data base original'!C46*100-100","v":0.80779557560781257},{"$f":"'Data base original'!D58/'Data base original'!D46*100-100","v":7.1319000877443841},{"$f":"'Data base original'!E58/'Data base original'!E46*100-100","v":-40.92991793839871},{"$f":"'Data base original'!F58/'Data base original'!F46*100-100","v":-2.3390240260607271},{"$f":"'Data base original'!G58","v":26.556523975162101},null,null,null,{"$f":"'Data base original'!K58","v":4.7397666361242097},null,null,{"$f":"'Data base original'!N58","v":2.2207973644244801},null,null,{"$f":"'Data base original'!Q58","v":4.5414325420879997},{"$f":"('Data base original'!S58/'Data base original'!S46*100-100)*'Data base original'!S46/'Data base original'!$V46","v":2.4953968856114495},{"$f":"('Data base original'!T58/'Data base original'!T46*100-100)*'Data base original'!T46/'Data base original'!$V46","v":15.872163822717631},{"$f":"('Data base original'!U58/'Data base original'!U46*100-100)*'Data base original'!U46/'Data base original'!$V46","v":4.4971956273142917},{"$f":"('Data base original'!V58/'Data base original'!V46*100-100)*'Data base original'!V46/'Data base original'!$V46","v":22.864756335643378},{"$f":"('Data base original'!V58/'Data base original'!V46*100-100)*'Data base original'!V46/('Data base original'!$AC46)","v":4.4803158992563485},{"$f":"('Data base original'!W58/'Data base original'!W46*100-100)*'Data base original'!W46/('Data base original'!$AC46)","v":-6.618545393067861},{"$f":"('Data base original'!X58/'Data base original'!X46*100-100)*'Data base original'!X46/('Data base original'!$AC46)","v":0.11693929083118898},{"$f":"('Data base original'!Y58/'Data base original'!Y46*100-100)*'Data base original'!Y46/('Data base original'!$AC46)","v":5.3233666005974811},{"$f":"('Data base original'!Z58/'Data base original'!Z46*100-100)*'Data base original'!Z46/('Data base original'!$AC46)","v":6.7081453655101E-3},{"$f":"-('Data base original'!AA58/'Data base original'!AA46*100-100)*'Data base original'!AA46/('Data base original'!$AC46)","v":-4.8800851027955305},{"$f":"-('Data base original'!AB58/'Data base original'!AB46*100-100)*'Data base original'!AB46/('Data base original'!$AC46)","v":-3.2634220697076032E-3},{"$f":"(('Data base original'!Y58-'Data base original'!AA58)/('Data base original'!Y46-'Data base original'!AA46)*100-100)*(('Data base original'!Y46-'Data base original'!AA46)/'Data base original'!AC46)","v":0.44328149780195086},{"$f":"(('Data base original'!Z58-'Data base original'!AB58)/('Data base original'!Z46-'Data base original'!AB46)*100-100)*(('Data base original'!Z46-'Data base original'!AB46)/'Data base original'!AC46)","v":3.4447232958024657E-3},{"$f":"('Data base original'!AC58/'Data base original'!AC46*100-100)*'Data base original'!AC46/('Data base original'!$AC46)","v":-1.5745639818825765},{"$f":"('Data base original'!AC58/'Data base original'!AC46*100-100)*'Data base original'!AC46/('Data base original'!$AN46)","v":-0.97790595385380263},{"$f":"('Data base original'!AD58/'Data base original'!AD46*100-100)*'Data base original'!AD46/('Data base original'!$AN46)","v":-1.4397007098008252},{"$f":"('Data base original'!AE58/'Data base original'!AE46*100-100)*'Data base original'!AE46/('Data base original'!$AN46)","v":-0.13084093733681851},{"$f":"('Data base original'!AF58/'Data base original'!AF46*100-100)*'Data base original'!AF46/('Data base original'!$AN46)","v":1.2560504784786644},{"$f":"('Data base original'!AG58/'Data base original'!AG46*100-100)*'Data base original'!AG46/('Data base original'!$AN46)","v":-0.95889967500890272},{"$f":"('Data base original'!AH58/'Data base original'!AH46*100-100)*'Data base original'!AH46/('Data base original'!$AN46)","v":-7.318985307136947E-3},{"$f":"('Data base original'!AI58/'Data base original'!AI46*100-100)*'Data base original'!AI46/('Data base original'!$AN46)","v":1.3544626809161693},{"$f":"('Data base original'!AJ58/'Data base original'!AJ46*100-100)*'Data base original'!AJ46/('Data base original'!$AN46)","v":2.7666890458717392},{"$f":"('Data base original'!AK58/'Data base original'!AK46*100-100)*'Data base original'!AK46/('Data base original'!$AN46)","v":0.18500142860963215},{"$f":"-('Data base original'!AL58/'Data base original'!AL46*100-100)*'Data base original'!AL46/('Data base original'!$AN46)","v":-1.2592032721494313},{"$f":"-('Data base original'!AM58/'Data base original'!AM46*100-100)*'Data base original'!AM46/('Data base original'!$AN46)","v":7.6905645611916471E-2},{"$f":"(('Data base original'!AJ58-'Data base original'!AL58)/('Data base original'!AJ46-'Data base original'!AL46)*100-100)*(('Data base original'!AJ46-'Data base original'!AL46)/'Data base original'!AN46)","v":1.5074857737223084},{"$f":"(('Data base original'!AK58-'Data base original'!AM58)/('Data base original'!AK46-'Data base original'!AM46)*100-100)*(('Data base original'!AK46-'Data base original'!AM46)/'Data base original'!AN46)","v":0.26190707422154863},{"$f":"('Data base original'!AN58/'Data base original'!AN46*100-100)*'Data base original'!AN46/('Data base original'!$AN46)","v":0.86523974603120746}]
["2010-01-01",{"$f":"'Data base original'!B59/'Data base original'!B47*100-100","v":1.7022024242270106},{"$f":"'Data base original'!C59/'Data base original'!C47*100-100","v":1.4064852978419111},{"$f":"'Data base original'!D59/'Data base original'!D47*100-100","v":7.4818988417938499},{"$f":"'Data base original'!E59/'Data base original'!E47*100-100","v":-29.953398635007261},{"$f":"'Data base original'!F59/'Data base original'!F47*100-100","v":-0.27167636702625941},{"$f":"'Data base original'!G59","v":30.353914964528101},null,null,null,{"$f":"'Data base original'!K59","v":7.0406248867057499},null,null,{"$f":"'Data base original'!N59","v":1.83706570409307},null,null,{"$f":"'Data base original'!Q59","v":4.5838309984722203},{"$f":"('Data base original'!S59/'Data base original'!S47*100-100)*'Data base original'!S47/'Data base original'!$V47","v":2.7797410906926592},{"$f":"('Data base original'!T59/'Data base original'!T47*100-100)*'Data base original'!T47/'Data base original'!$V47","v":19.007237184733263},{"$f":"('Data base original'!U59/'Data base original'!U47*100-100)*'Data base original'!U47/'Data base original'!$V47","v":6.3712688788036544},{"$f":"('Data base original'!V59/'Data base original'!V47*100-100)*'Data base original'!V47/'Data base original'!$V47","v":28.158247154229571},{"$f":"('Data base original'!V59/'Data base original'!V47*100-100)*'Data base original'!V47/('Data base original'!$AC47)","v":5.4788318641174385},{"$f":"('Data base original'!W59/'Data base original'!W47*100-100)*'Data base original'!W47/('Data base original'!$AC47)","v":-5.9202761021471444},{"$f":"('Data base original'!X59/'Data base original'!X47*100-100)*'Data base original'!X47/('Data base original'!$AC47)","v":0.1842080334788149},{"$f":"('Data base original'!Y59/'Data base original'!Y47*100-100)*'Data base original'!Y47/('Data base original'!$AC47)","v":3.7502077542715502},{"$f":"('Data base original'!Z59/'Data base original'!Z47*100-100)*'Data base original'!Z47/('Data base original'!$AC47)","v":5.4285275091988522E-3},{"$f":"-('Data base original'!AA59/'Data base original'!AA47*100-100)*'Data base original'!AA47/('Data base original'!$AC47)","v":-3.2853448485671559},{"$f":"-('Data base original'!AB59/'Data base original'!AB47*100-100)*'Data base original'!AB47/('Data base original'!$AC47)","v":-1.8095091697330098E-4},{"$f":"(('Data base original'!Y59-'Data base original'!AA59)/('Data base original'!Y47-'Data base original'!AA47)*100-100)*(('Data base original'!Y47-'Data base original'!AA47)/'Data base original'!AC47)","v":0.46486290570439576},{"$f":"(('Data base original'!Z59-'Data base original'!AB59)/('Data base original'!Z47-'Data base original'!AB47)*100-100)*(('Data base original'!Z47-'Data base original'!AB47)/'Data base original'!AC47)","v":5.2475765922255814E-3},{"$f":"('Data base original'!AC59/'Data base original'!AC47*100-100)*'Data base original'!AC47/('Data base original'!$AC47)","v":0.21287427774574041},{"$f":"('Data base original'!AC59/'Data base original'!AC47*100-100)*'Data base original'!AC47/('Data base original'!$AN47)","v":0.13271106993323428},{"$f":"('Data base original'!AD59/'Data base original'!AD47*100-100)*'Data base original'!AD47/('Data base original'!$AN47)","v":-1.1676886527590524},{"$f":"('Data base original'!AE59/'Data base original'!AE47*100-100)*'Data base original'!AE47/('Data base original'!$AN47)","v":-0.25765635039142826},{"$f":"('Data base original'!AF59/'Data base original'!AF47*100-100)*'Data base original'!AF47/('Data base original'!$AN47)","v":1.3291187041645403},{"$f":"('Data base original'!AG59/'Data base original'!AG47*100-100)*'Data base original'!AG47/('Data base original'!$AN47)","v":-0.96090927873650966},{"$f":"('Data base original'!AH59/'Data base original'!AH47*100-100)*'Data base original'!AH47/('Data base original'!$AN47)","v":-5.9788907927957437E-3},{"$f":"('Data base original'!AI59/'Data base original'!AI47*100-100)*'Data base original'!AI47/('Data base original'!$AN47)","v":1.0375067664404374},{"$f":"('Data base original'!AJ59/'Data base original'!AJ47*100-100)*'Data base original'!AJ47/('Data base original'!$AN47)","v":2.8162831819273246},{"$f":"('Data base original'!AK59/'Data base original'!AK47*100-100)*'Data base original'!AK47/('Data base original'!$AN47)","v":0.20565128142012865},{"$f":"-('Data base original'!AL59/'Data base original'!AL47*100-100)*'Data base original'!AL47/('Data base original'!$AN47)","v":-1.1620481897469799},{"$f":"-('Data base original'!AM59/'Data base original'!AM47*100-100)*'Data base original'!AM47/('Data base original'!$AN47)","v":2.323870760973477E-2},{"$f":"(('Data base original'!AJ59-'Data base original'!AL59)/('Data base original'!AJ47-'Data base original'!AL47)*100-100)*(('Data base original'!AJ47-'Data base original'!AL47)/'Data base original'!AN47)","v":1.6542349921803448},{"$f":"(('Data base original'!AK59-'Data base original'!AM59)/('Data base original'!AK47-'Data base original'!AM47)*100-100)*(('Data base original'!AK47-'Data base original'!AM47)/'Data base original'!AN47)","v":0.22888998902986349},{"$f":"('Data base original'!AN59/'Data base original'!AN47*100-100)*'Data base original'!AN47/('Data base original'!$AN47)","v":1.9902283490686301}]
["2010-02-01",{"$f":"'Data base original'!B60/'Data base original'!B48*100-100","v":3.5174415884268342},{"$f":"'Data base original'!C60/'Data base original'!C48*100-100","v":2.3118128147396675},{"$f":"'Data base original'!D60/'Data base original'!D48*100-100","v":8.937570740927697},{"$f":"'Data base original'!E60/'Data base original'!E48*100-100","v":-27.590566856748978},{"$f":"'Data base original'!F60/'Data base original'!F48*100-100","v":1.5578769430916424},{"$f":"'Data base original'!G60","v":29.5461259997262},null,null,null,{"$f":"'Data base original'!K60","v":5.6279494904808596},null,null,{"$f":"'Data base original'!N60","v":1.9782439184533001},null,null,{"$f":"'Data base original'!Q60","v":4.6029839655247002},{"$f":"('Data base original'!S60/'Data base original'!S48*100-100)*'Data base original'!S48/'Data base original'!$V48","v":3.377249601336473},{"$f":"('Data base original'!T60/'Data base original'!T48*100-100)*'Data base original'!T48/'Data base original'!$V48","v":20.76528447490319},{"$f":"('Data base original'!U60/'Data base original'!U48*100-100)*'Data base original'!U48/'Data base original'!$V48","v":7.5692511770066142},{"$f":"('Data base original'!V60/'Data base original'!V48*100-100)*'Data base original'!V48/'Data base original'!$V48","v":31.711785253246262},{"$f":"('Data base original'!V60/'Data base original'!V48*100-100)*'Data base original'!V48/('Data base original'!$AC48)","v":6.1047210823671048},{"$f":"('Data base original'!W60/'Data base original'!W48*100-100)*'Data base original'!W48/('Data base original'!$AC48)","v":-4.5551654804435859},{"$f":"('Data base original'!X60/'Data base original'!X48*100-100)*'Data base original'!X48/('Data base original'!$AC48)","v":0.16975323671822123},{"$f":"('Data base original'!Y60/'Data base original'!Y48*100-100)*'Data base original'!Y48/('Data base original'!$AC48)","v":1.2030735312731624},{"$f":"('Data base original'!Z60/'Data base original'!Z48*100-100)*'Data base original'!Z48/('Data base original'!$AC48)","v":4.3854442209228612E-3},{"$f":"-('Data base original'!AA60/'Data base original'!AA48*100-100)*'Data base original'!AA48/('Data base original'!$AC48)","v":-0.92843508693787058},{"$f":"-('Data base original'!AB60/'Data base original'!AB48*100-100)*'Data base original'!AB48/('Data base original'!$AC48)","v":9.1363421269225755E-4},{"$f":"(('Data base original'!Y60-'Data base original'!AA60)/('Data base original'!Y48-'Data base original'!AA48)*100-100)*(('Data base original'!Y48-'Data base original'!AA48)/'Data base original'!AC48)","v":0.27463844433529366},{"$f":"(('Data base original'!Z60-'Data base original'!AB60)/('Data base original'!Z48-'Data base original'!AB48)*100-100)*(('Data base original'!Z48-'Data base original'!AB48)/'Data base original'!AC48)","v":5.2990784336151486E-3},{"$f":"('Data base original'!AC60/'Data base original'!AC48*100-100)*'Data base original'!AC48/('Data base original'!$AC48)","v":1.9992463614106697},{"$f":"('Data base original'!AC60/'Data base original'!AC48*100-100)*'Data base original'!AC48/('Data base original'!$AN48)","v":1.2371269367480255},{"$f":"('Data base original'!AD60/'Data base original'!AD48*100-100)*'Data base original'!AD48/('Data base original'!$AN48)","v":-1.1006307459943803},{"$f":"('Data base original'!AE60/'Data base original'!AE48*100-100)*'Data base original'!AE48/('Data base original'!$AN48)","v":-0.11386225202551301},{"$f":"('Data base original'!AF60/'Data base original'!AF48*100-100)*'Data base original'!AF48/('Data base original'!$AN48)","v":1.350630189120904},{"$f":"('Data base original'!AG60/'Data base original'!AG48*100-100)*'Data base original'!AG48/('Data base original'!$AN48)","v":-1.0649003868682023},{"$f":"('Data base original'!AH60/'Data base original'!AH48*100-100)*'Data base original'!AH48/('Data base original'!$AN48)","v":-5.7892227444947882E-2},{"$f":"('Data base original'!AI60/'Data base original'!AI48*100-100)*'Data base original'!AI48/('Data base original'!$AN48)","v":0.78866852818068489},{"$f":"('Data base original'!AJ60/'Data base original'!AJ48*100-100)*'Data base original'!AJ48/('Data base original'!$AN48)","v":2.5982529188622228},{"$f":"('Data base original'!AK60/'Data base original'!AK48*100-100)*'Data base original'!AK48/('Data base original'!$AN48)","v":0.21788734821565353},{"$f":"-('Data base original'!AL60/'Data base original'!AL48*100-100)*'Data base original'!AL48/('Data base original'!$AN48)","v":-0.77046413634741184},{"$f":"-('Data base original'!AM60/'Data base original'!AM48*100-100)*'Data base original'!AM48/('Data base original'!$AN48)","v":2.2274939075497515E-2},{"$f":"(('Data base original'!AJ60-'Data base original'!AL60)/('Data base original'!AJ48-'Data base original'!AL48)*100-100)*(('Data base original'!AJ48-'Data base original'!AL48)/'Data base original'!AN48)","v":1.8277887825148107},{"$f":"(('Data base original'!AK60-'Data base original'!AM60)/('Data base original'!AK48-'Data base original'!AM48)*100-100)*(('Data base original'!AK48-'Data base original'!AM48)/'Data base original'!AN48)","v":0.24016228729115105},{"$f":"('Data base original'!AN60/'Data base original'!AN48*100-100)*'Data base original'!AN48/('Data base original'!$AN48)","v":3.1070911115225357}]
["2010-03-01",{"$f":"'Data base original'!B61/'Data base original'!B49*100-100","v":4.8614049734068772},{"$f":"'Data base original'!C61/'Data base original'!C49*100-100","v":2.9526078120792647},{"$f":"'Data base original'!D61/'Data base original'!D49*100-100","v":9.4825979533006404},{"$f":"'Data base original'!E61/'Data base original'!E49*100-100","v":-23.646317707537079},{"$f":"'Data base original'!F61/'Data base original'!F49*100-100","v":3.0046348715761013},{"$f":"'Data base original'!G61","v":27.982459031962598},null,null,null,{"$f":"'Data base original'!K61","v":5.4203586919209599},null,null,{"$f":"'Data base original'!N61","v":2.2012315029075702},null,null,{"$f":"'Data base original'!Q61","v":4.2755855149842201},{"$f":"('Data base original'!S61/'Data base original'!S49*100-100)*'Data base original'!S49/'Data base original'!$V49","v":3.8515386422363203},{"$f":"('Data base original'!T61/'Data base original'!T49*100-100)*'Data base original'!T49/'Data base original'!$V49","v":19.691229974160223},{"$f":"('Data base original'!U61/'Data base original'!U49*100-100)*'Data base original'!U49/'Data base original'!$V49","v":9.9286901573878286},{"$f":"('Data base original'!V61/'Data base original'!V49*100-100)*'Data base original'!V49/'Data base original'!$V49","v":33.471458773784377},{"$f":"('Data base original'!V61/'Data base original'!V49*100-100)*'Data base original'!V49/('Data base original'!$AC49)","v":6.5993449008055816},{"$f":"('Data base original'!W61/'Data base original'!W49*100-100)*'Data base original'!W49/('Data base original'!$AC49)","v":-2.8906240375144883},{"$f":"('Data base original'!X61/'Data base original'!X49*100-100)*'Data base original'!X49/('Data base original'!$AC49)","v":0.22453556846264644},{"$f":"('Data base original'!Y61/'Data base original'!Y49*100-100)*'Data base original'!Y49/('Data base original'!$AC49)","v":1.8776138501393671},{"$f":"('Data base original'!Z61/'Data base original'!Z49*100-100)*'Data base original'!Z49/('Data base original'!$AC49)","v":9.2630185009340651E-4},{"$f":"-('Data base original'!AA61/'Data base original'!AA49*100-100)*'Data base original'!AA49/('Data base original'!$AC49)","v":-1.1921504810702368},{"$f":"-('Data base original'!AB61/'Data base original'!AB49*100-100)*'Data base original'!AB49/('Data base original'!$AC49)","v":6.2988525806352679E-3},{"$f":"(('Data base original'!Y61-'Data base original'!AA61)/('Data base original'!Y49-'Data base original'!AA49)*100-100)*(('Data base original'!Y49-'Data base original'!AA49)/'Data base original'!AC49)","v":0.6854633690691323},{"$f":"(('Data base original'!Z61-'Data base original'!AB61)/('Data base original'!Z49-'Data base original'!AB49)*100-100)*(('Data base original'!Z49-'Data base original'!AB49)/'Data base original'!AC49)","v":7.2251544307287037E-3},{"$f":"('Data base original'!AC61/'Data base original'!AC49*100-100)*'Data base original'!AC49/('Data base original'!$AC49)","v":4.625944955253587},{"$f":"('Data base original'!AC61/'Data base original'!AC49*100-100)*'Data base original'!AC49/('Data base original'!$AN49)","v":2.8332691393300271},{"$f":"('Data base original'!AD61/'Data base original'!AD49*100-100)*'Data base original'!AD49/('Data base original'!$AN49)","v":-1.0309619336652136},{"$f":"('Data base original'!AE61/'Data base original'!AE49*100-100)*'Data base original'!AE49/('Data base original'!$AN49)","v":-0.45659154975443794},{"$f":"('Data base original'!AF61/'Data base original'!AF49*100-100)*'Data base original'!AF49/('Data base original'!$AN49)","v":1.5970492203761697},{"$f":"('Data base original'!AG61/'Data base original'!AG49*100-100)*'Data base original'!AG49/('Data base original'!$AN49)","v":-0.74876929344670307},{"$f":"('Data base original'!AH61/'Data base original'!AH49*100-100)*'Data base original'!AH49/('Data base original'!$AN49)","v":-0.10665905983329298},{"$f":"('Data base original'!AI61/'Data base original'!AI49*100-100)*'Data base original'!AI49/('Data base original'!$AN49)","v":0.68273145001800606},{"$f":"('Data base original'!AJ61/'Data base original'!AJ49*100-100)*'Data base original'!AJ49/('Data base original'!$AN49)","v":2.7570232296056965},{"$f":"('Data base original'!AK61/'Data base original'!AK49*100-100)*'Data base original'!AK49/('Data base original'!$AN49)","v":0.24043675296462544},{"$f":"-('Data base original'!AL61/'Data base original'!AL49*100-100)*'Data base original'!AL49/('Data base original'!$AN49)","v":-0.74162086709617414},{"$f":"-('Data base original'!AM61/'Data base original'!AM49*100-100)*'Data base original'!AM49/('Data base original'!$AN49)","v":2.1672213221445712E-2},{"$f":"(('Data base original'!AJ61-'Data base original'!AL61)/('Data base original'!AJ49-'Data base original'!AL49)*100-100)*(('Data base original'!AJ49-'Data base original'!AL49)/'Data base original'!AN49)","v":2.0154023625095223},{"$f":"(('Data base original'!AK61-'Data base original'!AM61)/('Data base original'!AK49-'Data base original'!AM49)*100-100)*(('Data base original'!AK49-'Data base original'!AM49)/'Data base original'!AN49)","v":0.26210896618607121},{"$f":"('Data base original'!AN61/'Data base original'!AN49*100-100)*'Data base original'!AN49/('Data base original'!$AN49)","v":5.0475793017201767}]
["2010-04-01",{"$f":"'Data base original'!B62/'Data base original'!B50*100-100","v":4.553444536309101},{"$f":"'Data base original'!C62/'Data base original'!C50*100-100","v":3.9336442785218111},{"$f":"'Data base original'!D62/'Data base original'!D50*100-100","v":9.8934363733884823},{"$f":"'Data base original'!E62/'Data base original'!E50*100-100","v":-16.448253981031385},{"$f":"'Data base original'!F62/'Data base original'!F50*100-100","v":3.8160146536283293},{"$f":"'Data base original'!G62","v":27.308355461376799},null,null,null,{"$f":"'Data base original'!K62","v":5.4443365264185601},null,null,{"$f":"'Data base original'!N62","v":1.82082148908182},null,null,{"$f":"'Data base original'!Q62","v":4.1275277843385396},{"$f":"('Data base original'!S62/'Data base original'!S50*100-100)*'Data base original'!S50/'Data base original'!$V50","v":4.1874047273595494},{"$f":"('Data base original'!T62/'Data base original'!T50*100-100)*'Data base original'!T50/'Data base original'!$V50","v":20.591802879759062},{"$f":"('Data base original'!U62/'Data base original'!U50*100-100)*'Data base original'!U50/'Data base original'!$V50","v":6.8467175705706032},{"$f":"('Data base original'!V62/'Data base original'!V50*100-100)*'Data base original'!V50/'Data base original'!$V50","v":31.625925177689201},{"$f":"('Data base original'!V62/'Data base original'!V50*100-100)*'Data base original'!V50/('Data base original'!$AC50)","v":6.4221676219874073},{"$f":"('Data base original'!W62/'Data base original'!W50*100-100)*'Data base original'!W50/('Data base original'!$AC50)","v":-2.2772532743381428},{"$f":"('Data base original'!X62/'Data base original'!X50*100-100)*'Data base original'!X50/('Data base original'!$AC50)","v":0.33080503372258035},{"$f":"('Data base original'!Y62/'Data base original'!Y50*100-100)*'Data base original'!Y50/('Data base original'!$AC50)","v":2.5088223921666271},{"$f":"('Data base original'!Z62/'Data base original'!Z50*100-100)*'Data base original'!Z50/('Data base original'!$AC50)","v":2.1630994313314063E-2},{"$f":"-('Data base original'!AA62/'Data base original'!AA50*100-100)*'Data base original'!AA50/('Data base original'!$AC50)","v":-0.90980707978155007},{"$f":"-('Data base original'!AB62/'Data base original'!AB50*100-100)*'Data base original'!AB50/('Data base original'!$AC50)","v":2.0512149779866921E-3},{"$f":"(('Data base original'!Y62-'Data base original'!AA62)/('Data base original'!Y50-'Data base original'!AA50)*100-100)*(('Data base original'!Y50-'Data base original'!AA50)/'Data base original'!AC50)","v":1.5990153123850768},{"$f":"(('Data base original'!Z62-'Data base original'!AB62)/('Data base original'!Z50-'Data base original'!AB50)*100-100)*(('Data base original'!Z50-'Data base original'!AB50)/'Data base original'!AC50)","v":2.3682209291300872E-2},{"$f":"('Data base original'!AC62/'Data base original'!AC50*100-100)*'Data base original'!AC50/('Data base original'!$AC50)","v":6.0984169030482471},{"$f":"('Data base original'!AC62/'Data base original'!AC50*100-100)*'Data base original'!AC50/('Data base original'!$AN50)","v":3.7052557718646137},{"$f":"('Data base original'!AD62/'Data base original'!AD50*100-100)*'Data base original'!AD50/('Data base original'!$AN50)","v":-0.60931290130507054},{"$f":"('Data base original'!AE62/'Data base original'!AE50*100-100)*'Data base original'!AE50/('Data base original'!$AN50)","v":-0.2586577451988612},{"$f":"('Data base original'!AF62/'Data base original'!AF50*100-100)*'Data base original'!AF50/('Data base original'!$AN50)","v":1.8096978379594426},{"$f":"('Data base original'!AG62/'Data base original'!AG50*100-100)*'Data base original'!AG50/('Data base original'!$AN50)","v":-0.84508459108116729},{"$f":"('Data base original'!AH62/'Data base original'!AH50*100-100)*'Data base original'!AH50/('Data base original'!$AN50)","v":-0.12757276438629775},{"$f":"('Data base original'!AI62/'Data base original'!AI50*100-100)*'Data base original'!AI50/('Data base original'!$AN50)","v":0.14921254946425794},{"$f":"('Data base original'!AJ62/'Data base original'!AJ50*100-100)*'Data base original'!AJ50/('Data base original'!$AN50)","v":3.1270055924172437},{"$f":"('Data base original'!AK62/'Data base original'!AK50*100-100)*'Data base original'!AK50/('Data base original'!$AN50)","v":0.25197320425854897},{"$f":"-('Data base original'!AL62/'Data base original'!AL50*100-100)*'Data base original'!AL50/('Data base original'!$AN50)","v":-1.2579399671235014},{"$f":"-('Data base original'!AM62/'Data base original'!AM50*100-100)*'Data base original'!AM50/('Data base original'!$AN50)","v":1.0536649278797248E-2},{"$f":"(('Data base original'!AJ62-'Data base original'!AL62)/('Data base original'!AJ50-'Data base original'!AL50)*100-100)*(('Data base original'!AJ50-'Data base original'!AL50)/'Data base original'!AN50)","v":1.8690656252937412},{"$f":"(('Data base original'!AK62-'Data base original'!AM62)/('Data base original'!AK50-'Data base original'!AM50)*100-100)*(('Data base original'!AK50-'Data base original'!AM50)/'Data base original'!AN50)","v":0.26250985353734613},{"$f":"('Data base original'!AN62/'Data base original'!AN50*100-100)*'Data base original'!AN50/('Data base original'!$AN50)","v":5.9551136361480275}]
["2010-05-01",{"$f":"'Data base original'!B63/'Data base original'!B51*100-100","v":5.6505067440419054},{"$f":"'Data base original'!C63/'Data base original'!C51*100-100","v":4.8357446863036557},{"$f":"'Data base original'!D63/'Data base original'!D51*100-100","v":10.698265960912764},{"$f":"'Data base original'!E63/'Data base original'!E51*100-100","v":-8.8741830502587646},{"$f":"'Data base original'!F63/'Data base original'!F51*100-100","v":5.4507006336250896},{"$f":"'Data base original'!G63","v":27.3045490031868},null,null,null,{"$f":"'Data base original'!K63","v":5.1043360239322801},null,null,{"$f":"'Data base original'!N63","v":2.3431927319747898},null,null,{"$f":"'Data base original'!Q63","v":4.18098759676288},{"$f":"('Data base original'!S63/'Data base original'!S51*100-100)*'Data base original'!S51/'Data base original'!$V51","v":4.3108087839566611},{"$f":"('Data base original'!T63/'Data base original'!T51*100-100)*'Data base original'!T51/'Data base original'!$V51","v":23.790602860344258},{"$f":"('Data base original'!U63/'Data base original'!U51*100-100)*'Data base original'!U51/'Data base original'!$V51","v":4.4758097103482219},{"$f":"('Data base original'!V63/'Data base original'!V51*100-100)*'Data base original'!V51/'Data base original'!$V51","v":32.577221354649168},{"$f":"('Data base original'!V63/'Data base original'!V51*100-100)*'Data base original'!V51/('Data base original'!$AC51)","v":6.8601750424085974},{"$f":"('Data base original'!W63/'Data base original'!W51*100-100)*'Data base original'!W51/('Data base original'!$AC51)","v":-1.1387976034608869},{"$f":"('Data base original'!X63/'Data base original'!X51*100-100)*'Data base original'!X51/('Data base original'!$AC51)","v":0.27571497570507986},{"$f":"('Data base original'!Y63/'Data base original'!Y51*100-100)*'Data base original'!Y51/('Data base original'!$AC51)","v":1.533525208537555},{"$f":"('Data base original'!Z63/'Data base original'!Z51*100-100)*'Data base original'!Z51/('Data base original'!$AC51)","v":4.4590023025080167E-2},{"$f":"-('Data base original'!AA63/'Data base original'!AA51*100-100)*'Data base original'!AA51/('Data base original'!$AC51)","v":-0.26716855462527161},{"$f":"-('Data base original'!AB63/'Data base original'!AB51*100-100)*'Data base original'!AB51/('Data base original'!$AC51)","v":7.4316705041799821E-4},{"$f":"(('Data base original'!Y63-'Data base original'!AA63)/('Data base original'!Y51-'Data base original'!AA51)*100-100)*(('Data base original'!Y51-'Data base original'!AA51)/'Data base original'!AC51)","v":1.2663566539122828},{"$f":"(('Data base original'!Z63-'Data base original'!AB63)/('Data base original'!Z51-'Data base original'!AB51)*100-100)*(('Data base original'!Z51-'Data base original'!AB51)/'Data base original'!AC51)","v":4.5333190075498186E-2},{"$f":"('Data base original'!AC63/'Data base original'!AC51*100-100)*'Data base original'!AC51/('Data base original'!$AC51)","v":7.3087822586405631},{"$f":"('Data base original'!AC63/'Data base original'!AC51*100-100)*'Data base original'!AC51/('Data base original'!$AN51)","v":4.4299343617855076},{"$f":"('Data base original'!AD63/'Data base original'!AD51*100-100)*'Data base original'!AD51/('Data base original'!$AN51)","v":0.11463744564933787},{"$f":"('Data base original'!AE63/'Data base original'!AE51*100-100)*'Data base original'!AE51/('Data base original'!$AN51)","v":-0.84424059924663974},{"$f":"('Data base original'!AF63/'Data base original'!AF51*100-100)*'Data base original'!AF51/('Data base original'!$AN51)","v":2.0245108034221806},{"$f":"('Data base original'!AG63/'Data base original'!AG51*100-100)*'Data base original'!AG51/('Data base original'!$AN51)","v":-0.7978450907913085},{"$f":"('Data base original'!AH63/'Data base original'!AH51*100-100)*'Data base original'!AH51/('Data base original'!$AN51)","v":-0.15157367568173627},{"$f":"('Data base original'!AI63/'Data base original'!AI51*100-100)*'Data base original'!AI51/('Data base original'!$AN51)","v":-0.29886815398166966},{"$f":"('Data base original'!AJ63/'Data base original'!AJ51*100-100)*'Data base original'!AJ51/('Data base original'!$AN51)","v":3.1060216364440185},{"$f":"('Data base original'!AK63/'Data base original'!AK51*100-100)*'Data base original'!AK51/('Data base original'!$AN51)","v":0.21868950830158371},{"$f":"-('Data base original'!AL63/'Data base original'!AL51*100-100)*'Data base original'!AL51/('Data base original'!$AN51)","v":-1.2389402524891995},{"$f":"-('Data base original'!AM63/'Data base original'!AM51*100-100)*'Data base original'!AM51/('Data base original'!$AN51)","v":-9.0088365932681127E-3},{"$f":"(('Data base original'!AJ63-'Data base original'!AL63)/('Data base original'!AJ51-'Data base original'!AL51)*100-100)*(('Data base original'!AJ51-'Data base original'!AL51)/'Data base original'!AN51)","v":1.867081383954819},{"$f":"(('Data base original'!AK63-'Data base original'!AM63)/('Data base original'!AK51-'Data base original'!AM51)*100-100)*(('Data base original'!AK51-'Data base original'!AM51)/'Data base original'!AN51)","v":0.20968067170831553},{"$f":"('Data base original'!AN63/'Data base original'!AN51*100-100)*'Data base original'!AN51/('Data base original'!$AN51)","v":6.5533171468188121}]
["2010-06-01",{"$f":"'Data base original'!B64/'Data base original'!B52*100-100","v":7.1738427552971586},{"$f":"'Data base original'!C64/'Data base original'!C52*100-100","v":6.2691507530492316},{"$f":"'Data base original'!D64/'Data base original'!D52*100-100","v":11.283072227321213},{"$f":"'Data base original'!E64/'Data base original'!E52*100-100","v":8.3030123702168623},{"$f":"'Data base original'!F64/'Data base original'!F52*100-100","v":8.1141264486020361},{"$f":"'Data base original'!G64","v":27.305817463765901},null,null,null,{"$f":"'Data base original'!K64","v":5.2645016387231296},null,null,{"$f":"'Data base original'!N64","v":2.1711366096890399},null,null,{"$f":"'Data base original'!Q64","v":4.0648042155850499},{"$f":"('Data base original'!S64/'Data base original'!S52*100-100)*'Data base original'!S52/'Data base original'!$V52","v":4.3444196678404454},{"$f":"('Data base original'!T64/'Data base original'!T52*100-100)*'Data base original'!T52/'Data base original'!$V52","v":22.813530895659891},{"$f":"('Data base original'!U64/'Data base original'!U52*100-100)*'Data base original'!U52/'Data base original'!$V52","v":4.7622553788667856},{"$f":"('Data base original'!V64/'Data base original'!V52*100-100)*'Data base original'!V52/'Data base original'!$V52","v":31.920205942367119},{"$f":"('Data base original'!V64/'Data base original'!V52*100-100)*'Data base original'!V52/('Data base original'!$AC52)","v":6.8689046981668476},{"$f":"('Data base original'!W64/'Data base original'!W52*100-100)*'Data base original'!W52/('Data base original'!$AC52)","v":-0.71003539009769168},{"$f":"('Data base original'!X64/'Data base original'!X52*100-100)*'Data base original'!X52/('Data base original'!$AC52)","v":0.31662732647787378},{"$f":"('Data base original'!Y64/'Data base original'!Y52*100-100)*'Data base original'!Y52/('Data base original'!$AC52)","v":0.21083785695249774},{"$f":"('Data base original'!Z64/'Data base original'!Z52*100-100)*'Data base original'!Z52/('Data base original'!$AC52)","v":6.6141577268929538E-2},{"$f":"-('Data base original'!AA64/'Data base original'!AA52*100-100)*'Data base original'!AA52/('Data base original'!$AC52)","v":1.9823946128223566E-2},{"$f":"-('Data base original'!AB64/'Data base original'!AB52*100-100)*'Data base original'!AB52/('Data base original'!$AC52)","v":6.2991978351361576E-3},{"$f":"(('Data base original'!Y64-'Data base original'!AA64)/('Data base original'!Y52-'Data base original'!AA52)*100-100)*(('Data base original'!Y52-'Data base original'!AA52)/'Data base original'!AC52)","v":0.23066180308071904},{"$f":"(('Data base original'!Z64-'Data base original'!AB64)/('Data base original'!Z52-'Data base original'!AB52)*100-100)*(('Data base original'!Z52-'Data base original'!AB52)/'Data base original'!AC52)","v":7.2440775104065921E-2},{"$f":"('Data base original'!AC64/'Data base original'!AC52*100-100)*'Data base original'!AC52/('Data base original'!$AC52)","v":6.7785992127318337},{"$f":"('Data base original'!AC64/'Data base original'!AC52*100-100)*'Data base original'!AC52/('Data base original'!$AN52)","v":4.1119787029666375},{"$f":"('Data base original'!AD64/'Data base original'!AD52*100-100)*'Data base original'!AD52/('Data base original'!$AN52)","v":0.89527721768475077},{"$f":"('Data base original'!AE64/'Data base original'!AE52*100-100)*'Data base original'!AE52/('Data base original'!$AN52)","v":-1.9925144102853298},{"$f":"('Data base original'!AF64/'Data base original'!AF52*100-100)*'Data base original'!AF52/('Data base original'!$AN52)","v":2.2027910452700361},{"$f":"('Data base original'!AG64/'Data base original'!AG52*100-100)*'Data base original'!AG52/('Data base original'!$AN52)","v":-0.63487584769032834},{"$f":"('Data base original'!AH64/'Data base original'!AH52*100-100)*'Data base original'!AH52/('Data base original'!$AN52)","v":-0.15846609050156887},{"$f":"('Data base original'!AI64/'Data base original'!AI52*100-100)*'Data base original'!AI52/('Data base original'!$AN52)","v":-0.24084598010274116},{"$f":"('Data base original'!AJ64/'Data base original'!AJ52*100-100)*'Data base original'!AJ52/('Data base original'!$AN52)","v":3.1166121671624163},{"$f":"('Data base original'!AK64/'Data base original'!AK52*100-100)*'Data base original'!AK52/('Data base original'!$AN52)","v":0.19240705456644405},{"$f":"-('Data base original'!AL64/'Data base original'!AL52*100-100)*'Data base original'!AL52/('Data base original'!$AN52)","v":-0.89550199228120642},{"$f":"-('Data base original'!AM64/'Data base original'!AM52*100-100)*'Data base original'!AM52/('Data base original'!$AN52)","v":-2.7872049960559638E-2},{"$f":"(('Data base original'!AJ64-'Data base original'!AL64)/('Data base original'!AJ52-'Data base original'!AL52)*100-100)*(('Data base original'!AJ52-'Data base original'!AL52)/'Data base original'!AN52)","v":2.2211101748812099},{"$f":"(('Data base original'!AK64-'Data base original'!AM64)/('Data base original'!AK52-'Data base original'!AM52)*100-100)*(('Data base original'!AK52-'Data base original'!AM52)/'Data base original'!AN52)","v":0.16453500460588438},{"$f":"('Data base original'!AN64/'Data base original'!AN52*100-100)*'Data base original'!AN52/('Data base original'!$AN52)","v":6.5689898168285197}]
["2010-07-01",{"$f":"'Data base original'!B65/'Data base original'!B53*100-100","v":6.222826541513669},{"$f":"'Data base original'!C65/'Data base original'!C53*100-100","v":7.126986628044321},{"$f":"'Data base original'!D65/'Data base original'!D53*100-100","v":11.193379609157134},{"$f":"'Data base original'!E65/'Data base original'!E53*100-100","v":3.9436598914136596},{"$f":"'Data base original'!F65/'Data base original'!F53*100-100","v":7.3221570039791857},{"$f":"'Data base original'!G65","v":28.120906910575101},null,null,null,{"$f":"'Data base original'!K65","v":5.8647111374861103},null,null,{"$f":"'Data base original'!N65","v":2.04966951250272},null,null,{"$f":"'Data base original'!Q65","v":4.0258767077034898},{"$f":"('Data base original'!S65/'Data base original'!S53*100-100)*'Data base original'!S53/'Data base original'!$V53","v":4.4664328009584491},{"$f":"('Data base original'!T65/'Data base original'!T53*100-100)*'Data base original'!T53/'Data base original'!$V53","v":20.358930279863134},{"$f":"('Data base original'!U65/'Data base original'!U53*100-100)*'Data base original'!U53/'Data base original'!$V53","v":5.7139358392015183},{"$f":"('Data base original'!V65/'Data base original'!V53*100-100)*'Data base original'!V53/'Data base original'!$V53","v":30.5392989200231},{"$f":"('Data base original'!V65/'Data base original'!V53*100-100)*'Data base original'!V53/('Data base original'!$AC53)","v":6.5234868217492847},{"$f":"('Data base original'!W65/'Data base original'!W53*100-100)*'Data base original'!W53/('Data base original'!$AC53)","v":-1.5473525891878812},{"$f":"('Data base original'!X65/'Data base original'!X53*100-100)*'Data base original'!X53/('Data base original'!$AC53)","v":0.36417523519474143},{"$f":"('Data base original'!Y65/'Data base original'!Y53*100-100)*'Data base original'!Y53/('Data base original'!$AC53)","v":-1.289710577623441},{"$f":"('Data base original'!Z65/'Data base original'!Z53*100-100)*'Data base original'!Z53/('Data base original'!$AC53)","v":6.9962886437816951E-2},{"$f":"-('Data base original'!AA65/'Data base original'!AA53*100-100)*'Data base original'!AA53/('Data base original'!$AC53)","v":1.1994952766904656},{"$f":"-('Data base original'!AB65/'Data base original'!AB53*100-100)*'Data base original'!AB53/('Data base original'!$AC53)","v":7.3645143618754306E-4},{"$f":"(('Data base original'!Y65-'Data base original'!AA65)/('Data base original'!Y53-'Data base original'!AA53)*100-100)*(('Data base original'!Y53-'Data base original'!AA53)/'Data base original'!AC53)","v":-9.0215300932974307E-2},{"$f":"(('Data base original'!Z65-'Data base original'!AB65)/('Data base original'!Z53-'Data base original'!AB53)*100-100)*(('Data base original'!Z53-'Data base original'!AB53)/'Data base original'!AC53)","v":7.0699337874004411E-2},{"$f":"('Data base original'!AC65/'Data base original'!AC53*100-100)*'Data base original'!AC53/('Data base original'!$AC53)","v":5.3207935046971642},{"$f":"('Data base original'!AC65/'Data base original'!AC53*100-100)*'Data base original'!AC53/('Data base original'!$AN53)","v":3.2594506966891492},{"$f":"('Data base original'!AD65/'Data base original'!AD53*100-100)*'Data base original'!AD53/('Data base original'!$AN53)","v":0.99014131551975315},{"$f":"('Data base original'!AE65/'Data base original'!AE53*100-100)*'Data base original'!AE53/('Data base original'!$AN53)","v":-2.0609240526816754},{"$f":"('Data base original'!AF65/'Data base original'!AF53*100-100)*'Data base original'!AF53/('Data base original'!$AN53)","v":2.280855202614871},{"$f":"('Data base original'!AG65/'Data base original'!AG53*100-100)*'Data base original'!AG53/('Data base original'!$AN53)","v":-0.63261221537194345},{"$f":"('Data base original'!AH65/'Data base original'!AH53*100-100)*'Data base original'!AH53/('Data base original'!$AN53)","v":-0.2237658469063889},{"$f":"('Data base original'!AI65/'Data base original'!AI53*100-100)*'Data base original'!AI53/('Data base original'!$AN53)","v":-6.6317700595241141E-2},{"$f":"('Data base original'!AJ65/'Data base original'!AJ53*100-100)*'Data base original'!AJ53/('Data base original'!$AN53)","v":3.1262930999990899},{"$f":"('Data base original'!AK65/'Data base original'!AK53*100-100)*'Data base original'!AK53/('Data base original'!$AN53)","v":0.19590790124818444},{"$f":"-('Data base original'!AL65/'Data base original'!AL53*100-100)*'Data base original'!AL53/('Data base original'!$AN53)","v":-1.1736428442076021},{"$f":"-('Data base original'!AM65/'Data base original'!AM53*100-100)*'Data base original'!AM53/('Data base original'!$AN53)","v":-2.5940597171607585E-2},{"$f":"(('Data base original'!AJ65-'Data base original'!AL65)/('Data base original'!AJ53-'Data base original'!AL53)*100-100)*(('Data base original'!AJ53-'Data base original'!AL53)/'Data base original'!AN53)","v":1.9526502557914875},{"$f":"(('Data base original'!AK65-'Data base original'!AM65)/('Data base original'!AK53-'Data base original'!AM53)*100-100)*(('Data base original'!AK53-'Data base original'!AM53)/'Data base original'!AN53)","v":0.16996730407657676},{"$f":"('Data base original'!AN65/'Data base original'!AN53*100-100)*'Data base original'!AN53/('Data base original'!$AN53)","v":5.6694449591365981}]
["2010-08-01",{"$f":"'Data base original'!B66/'Data base original'!B54*100-100","v":5.6624471383373418},{"$f":"'Data base original'!C66/'Data base original'!C54*100-100","v":8.6020547155698495},{"$f":"'Data base original'!D66/'Data base original'!D54*100-100","v":11.926454941377386},{"$f":"'Data base original'!E66/'Data base original'!E54*100-100","v":2.1682592350613845},{"$f":"'Data base original'!F66/'Data base original'!F54*100-100","v":7.2068589138805521},{"$f":"'Data base original'!G66","v":27.5146327566252},null,null,null,{"$f":"'Data base original'!K66","v":6.9137059213616698},null,null,{"$f":"'Data base original'!N66","v":2.1077787977831299},null,null,{"$f":"'Data base original'!Q66","v":4.0647273420175303},{"$f":"('Data base original'!S66/'Data base original'!S54*100-100)*'Data base original'!S54/'Data base original'!$V54","v":3.7878143034677656},{"$f":"('Data base original'!T66/'Data base original'!T54*100-100)*'Data base original'!T54/'Data base original'!$V54","v":17.94005634905772},{"$f":"('Data base original'!U66/'Data base original'!U54*100-100)*'Data base original'!U54/'Data base original'!$V54","v":7.0203631194566078},{"$f":"('Data base original'!V66/'Data base original'!V54*100-100)*'Data base original'!V54/'Data base original'!$V54","v":28.748233771982115},{"$f":"('Data base original'!V66/'Data base original'!V54*100-100)*'Data base original'!V54/('Data base original'!$AC54)","v":6.2072342324759253},{"$f":"('Data base original'!W66/'Data base original'!W54*100-100)*'Data base original'!W54/('Data base original'!$AC54)","v":-1.4553192761795912},{"$f":"('Data base original'!X66/'Data base original'!X54*100-100)*'Data base original'!X54/('Data base original'!$AC54)","v":0.32934694571554662},{"$f":"('Data base original'!Y66/'Data base original'!Y54*100-100)*'Data base original'!Y54/('Data base original'!$AC54)","v":-2.8553203954445996},{"$f":"('Data base original'!Z66/'Data base original'!Z54*100-100)*'Data base original'!Z54/('Data base original'!$AC54)","v":6.9655408719973111E-2},{"$f":"-('Data base original'!AA66/'Data base original'!AA54*100-100)*'Data base original'!AA54/('Data base original'!$AC54)","v":2.759015819800096},{"$f":"-('Data base original'!AB66/'Data base original'!AB54*100-100)*'Data base original'!AB54/('Data base original'!$AC54)","v":-2.3892356553025045E-3},{"$f":"(('Data base original'!Y66-'Data base original'!AA66)/('Data base original'!Y54-'Data base original'!AA54)*100-100)*(('Data base original'!Y54-'Data base original'!AA54)/'Data base original'!AC54)","v":-9.6304575644502233E-2},{"$f":"(('Data base original'!Z66-'Data base original'!AB66)/('Data base original'!Z54-'Data base original'!AB54)*100-100)*(('Data base original'!Z54-'Data base original'!AB54)/'Data base original'!AC54)","v":6.7266173064670712E-2},{"$f":"('Data base original'!AC66/'Data base original'!AC54*100-100)*'Data base original'!AC54/('Data base original'!$AC54)","v":5.0522234994320598},{"$f":"('Data base original'!AC66/'Data base original'!AC54*100-100)*'Data base original'!AC54/('Data base original'!$AN54)","v":3.0900414326488215},{"$f":"('Data base original'!AD66/'Data base original'!AD54*100-100)*'Data base original'!AD54/('Data base original'!$AN54)","v":0.67298694746480203},{"$f":"('Data base original'!AE66/'Data base original'!AE54*100-100)*'Data base original'!AE54/('Data base original'!$AN54)","v":-1.944996350757223},{"$f":"('Data base original'!AF66/'Data base original'!AF54*100-100)*'Data base original'!AF54/('Data base original'!$AN54)","v":2.2183727089056102},{"$f":"('Data base original'!AG66/'Data base original'!AG54*100-100)*'Data base original'!AG54/('Data base original'!$AN54)","v":-0.59340205372752586},{"$f":"('Data base original'!AH66/'Data base original'!AH54*100-100)*'Data base original'!AH54/('Data base original'!$AN54)","v":-0.28945070815464646},{"$f":"('Data base original'!AI66/'Data base original'!AI54*100-100)*'Data base original'!AI54/('Data base original'!$AN54)","v":-9.5659243743536501E-2},{"$f":"('Data base original'!AJ66/'Data base original'!AJ54*100-100)*'Data base original'!AJ54/('Data base original'!$AN54)","v":3.0162449910344202},{"$f":"('Data base original'!AK66/'Data base original'!AK54*100-100)*'Data base original'!AK54/('Data base original'!$AN54)","v":0.18232584412692665},{"$f":"-('Data base original'!AL66/'Data base original'!AL54*100-100)*'Data base original'!AL54/('Data base original'!$AN54)","v":-0.99537321192597861},{"$f":"-('Data base original'!AM66/'Data base original'!AM54*100-100)*'Data base original'!AM54/('Data base original'!$AN54)","v":-3.0574987424490808E-2},{"$f":"(('Data base original'!AJ66-'Data base original'!AL66)/('Data base original'!AJ54-'Data base original'!AL54)*100-100)*(('Data base original'!AJ54-'Data base original'!AL54)/'Data base original'!AN54)","v":2.0208717791084418},{"$f":"(('Data base original'!AK66-'Data base original'!AM66)/('Data base original'!AK54-'Data base original'!AM54)*100-100)*(('Data base original'!AK54-'Data base original'!AM54)/'Data base original'!AN54)","v":0.1517508567024359},{"$f":"('Data base original'!AN66/'Data base original'!AN54*100-100)*'Data base original'!AN54/('Data base original'!$AN54)","v":5.2305153684471861}]
["2010-09-01",{"$f":"'Data base original'!B67/'Data base original'!B55*100-100","v":5.9634056589052733},{"$f":"'Data base original'!C67/'Data base original'!C55*100-100","v":9.2511837128430159},{"$f":"'Data base original'!D67/'Data base original'!D55*100-100","v":12.136183492239965},{"$f":"'Data base original'!E67/'Data base original'!E55*100-100","v":1.4130090492484868},{"$f":"'Data base original'!F67/'Data base original'!F55*100-100","v":7.4632624711362467},{"$f":"'Data base original'!G67","v":28.002971261041601},null,null,null,{"$f":"'Data base original'!K67","v":6.8686859812019003},null,null,{"$f":"'Data base original'!N67","v":1.95942499863764},null,null,{"$f":"'Data base original'!Q67","v":4.0002791868918797},{"$f":"('Data base original'!S67/'Data base original'!S55*100-100)*'Data base original'!S55/'Data base original'!$V55","v":3.6080797566965401},{"$f":"('Data base original'!T67/'Data base original'!T55*100-100)*'Data base original'!T55/'Data base original'!$V55","v":14.801407614617723},{"$f":"('Data base original'!U67/'Data base original'!U55*100-100)*'Data base original'!U55/'Data base original'!$V55","v":8.8434278790638619},{"$f":"('Data base original'!V67/'Data base original'!V55*100-100)*'Data base original'!V55/'Data base original'!$V55","v":27.252915250378123},{"$f":"('Data base original'!V67/'Data base original'!V55*100-100)*'Data base original'!V55/('Data base original'!$AC55)","v":6.1801826213168782},{"$f":"('Data base original'!W67/'Data base original'!W55*100-100)*'Data base original'!W55/('Data base original'!$AC55)","v":-0.1951116883510805},{"$f":"('Data base original'!X67/'Data base original'!X55*100-100)*'Data base original'!X55/('Data base original'!$AC55)","v":0.38006076214519524},{"$f":"('Data base original'!Y67/'Data base original'!Y55*100-100)*'Data base original'!Y55/('Data base original'!$AC55)","v":-3.1116668124396059},{"$f":"('Data base original'!Z67/'Data base original'!Z55*100-100)*'Data base original'!Z55/('Data base original'!$AC55)","v":7.431561724624644E-2},{"$f":"-('Data base original'!AA67/'Data base original'!AA55*100-100)*'Data base original'!AA55/('Data base original'!$AC55)","v":2.9604538939733023},{"$f":"-('Data base original'!AB67/'Data base original'!AB55*100-100)*'Data base original'!AB55/('Data base original'!$AC55)","v":-7.3762399251857055E-4},{"$f":"(('Data base original'!Y67-'Data base original'!AA67)/('Data base original'!Y55-'Data base original'!AA55)*100-100)*(('Data base original'!Y55-'Data base original'!AA55)/'Data base original'!AC55)","v":-0.15121291846630611},{"$f":"(('Data base original'!Z67-'Data base original'!AB67)/('Data base original'!Z55-'Data base original'!AB55)*100-100)*(('Data base original'!Z55-'Data base original'!AB55)/'Data base original'!AC55)","v":7.3577993253727825E-2},{"$f":"('Data base original'!AC67/'Data base original'!AC55*100-100)*'Data base original'!AC55/('Data base original'!$AC55)","v":6.2874967698984108},{"$f":"('Data base original'!AC67/'Data base original'!AC55*100-100)*'Data base original'!AC55/('Data base original'!$AN55)","v":3.8203650818740398},{"$f":"('Data base original'!AD67/'Data base original'!AD55*100-100)*'Data base original'!AD55/('Data base original'!$AN55)","v":1.0358790519495977},{"$f":"('Data base original'!AE67/'Data base original'!AE55*100-100)*'Data base original'!AE55/('Data base original'!$AN55)","v":-2.3587117277004848},{"$f":"('Data base original'!AF67/'Data base original'!AF55*100-100)*'Data base original'!AF55/('Data base original'!$AN55)","v":2.2427425747780583},{"$f":"('Data base original'!AG67/'Data base original'!AG55*100-100)*'Data base original'!AG55/('Data base original'!$AN55)","v":-0.52146902193330791},{"$f":"('Data base original'!AH67/'Data base original'!AH55*100-100)*'Data base original'!AH55/('Data base original'!$AN55)","v":-0.29614151804248645},{"$f":"('Data base original'!AI67/'Data base original'!AI55*100-100)*'Data base original'!AI55/('Data base original'!$AN55)","v":0.49569809906165913},{"$f":"('Data base original'!AJ67/'Data base original'!AJ55*100-100)*'Data base original'!AJ55/('Data base original'!$AN55)","v":2.6722206068086485},{"$f":"('Data base original'!AK67/'Data base original'!AK55*100-100)*'Data base original'!AK55/('Data base original'!$AN55)","v":0.16549414383229383},{"$f":"-('Data base original'!AL67/'Data base original'!AL55*100-100)*'Data base original'!AL55/('Data base original'!$AN55)","v":-0.18443016976841867},{"$f":"-('Data base original'!AM67/'Data base original'!AM55*100-100)*'Data base original'!AM55/('Data base original'!$AN55)","v":-3.0028727520009964E-2},{"$f":"(('Data base original'!AJ67-'Data base original'!AL67)/('Data base original'!AJ55-'Data base original'!AL55)*100-100)*(('Data base original'!AJ55-'Data base original'!AL55)/'Data base original'!AN55)","v":2.4877904370402293},{"$f":"(('Data base original'!AK67-'Data base original'!AM67)/('Data base original'!AK55-'Data base original'!AM55)*100-100)*(('Data base original'!AK55-'Data base original'!AM55)/'Data base original'!AN55)","v":0.13546541631228384},{"$f":"('Data base original'!AN67/'Data base original'!AN55*100-100)*'Data base original'!AN55/('Data base original'!$AN55)","v":7.041618393339605}]
["2010-10-01",{"$f":"'Data base original'!B68/'Data base original'!B56*100-100","v":7.0834825471705472},{"$f":"'Data base original'!C68/'Data base original'!C56*100-100","v":9.8272422891534603},{"$f":"'Data base original'!D68/'Data base original'!D56*100-100","v":11.82372393152022},{"$f":"'Data base original'!E68/'Data base original'!E56*100-100","v":9.2366733943575667},{"$f":"'Data base original'!F68/'Data base original'!F56*100-100","v":8.6863538457360363},{"$f":"'Data base original'!G68","v":27.252425282524701},null,null,null,{"$f":"'Data base original'!K68","v":7.1399747697498004},null,null,{"$f":"'Data base original'!N68","v":1.7650550466581301},null,null,{"$f":"'Data base original'!Q68","v":4.1404423827680903},{"$f":"('Data base original'!S68/'Data base original'!S56*100-100)*'Data base original'!S56/'Data base original'!$V56","v":3.6802708964533997},{"$f":"('Data base original'!T68/'Data base original'!T56*100-100)*'Data base original'!T56/'Data base original'!$V56","v":14.443618055443036},{"$f":"('Data base original'!U68/'Data base original'!U56*100-100)*'Data base original'!U56/'Data base original'!$V56","v":7.0280042449085514},{"$f":"('Data base original'!V68/'Data base original'!V56*100-100)*'Data base original'!V56/'Data base original'!$V56","v":25.151893196804988},{"$f":"('Data base original'!V68/'Data base original'!V56*100-100)*'Data base original'!V56/('Data base original'!$AC56)","v":5.7662858131586177},{"$f":"('Data base original'!W68/'Data base original'!W56*100-100)*'Data base original'!W56/('Data base original'!$AC56)","v":1.9177357648370856},{"$f":"('Data base original'!X68/'Data base original'!X56*100-100)*'Data base original'!X56/('Data base original'!$AC56)","v":0.33318464148436544},{"$f":"('Data base original'!Y68/'Data base original'!Y56*100-100)*'Data base original'!Y56/('Data base original'!$AC56)","v":-2.7620523902761822},{"$f":"('Data base original'!Z68/'Data base original'!Z56*100-100)*'Data base original'!Z56/('Data base original'!$AC56)","v":7.9117423228728653E-2},{"$f":"-('Data base original'!AA68/'Data base original'!AA56*100-100)*'Data base original'!AA56/('Data base original'!$AC56)","v":2.5731734714413999},{"$f":"-('Data base original'!AB68/'Data base original'!AB56*100-100)*'Data base original'!AB56/('Data base original'!$AC56)","v":5.5716495231499111E-3},{"$f":"(('Data base original'!Y68-'Data base original'!AA68)/('Data base original'!Y56-'Data base original'!AA56)*100-100)*(('Data base original'!Y56-'Data base original'!AA56)/'Data base original'!AC56)","v":-0.18887891883478353},{"$f":"(('Data base original'!Z68-'Data base original'!AB68)/('Data base original'!Z56-'Data base original'!AB56)*100-100)*(('Data base original'!Z56-'Data base original'!AB56)/'Data base original'!AC56)","v":8.4689072751878577E-2},{"$f":"('Data base original'!AC68/'Data base original'!AC56*100-100)*'Data base original'!AC56/('Data base original'!$AC56)","v":7.9130163733971699},{"$f":"('Data base original'!AC68/'Data base original'!AC56*100-100)*'Data base original'!AC56/('Data base original'!$AN56)","v":4.8134414747022332},{"$f":"('Data base original'!AD68/'Data base original'!AD56*100-100)*'Data base original'!AD56/('Data base original'!$AN56)","v":1.6814959588542313},{"$f":"('Data base original'!AE68/'Data base original'!AE56*100-100)*'Data base original'!AE56/('Data base original'!$AN56)","v":-2.2121319786565929},{"$f":"('Data base original'!AF68/'Data base original'!AF56*100-100)*'Data base original'!AF56/('Data base original'!$AN56)","v":2.3334654011108689},{"$f":"('Data base original'!AG68/'Data base original'!AG56*100-100)*'Data base original'!AG56/('Data base original'!$AN56)","v":-0.54724310835057088},{"$f":"('Data base original'!AH68/'Data base original'!AH56*100-100)*'Data base original'!AH56/('Data base original'!$AN56)","v":-0.28988972254904333},{"$f":"('Data base original'!AI68/'Data base original'!AI56*100-100)*'Data base original'!AI56/('Data base original'!$AN56)","v":1.0502006472392487},{"$f":"('Data base original'!AJ68/'Data base original'!AJ56*100-100)*'Data base original'!AJ56/('Data base original'!$AN56)","v":2.2480575171486401},{"$f":"('Data base original'!AK68/'Data base original'!AK56*100-100)*'Data base original'!AK56/('Data base original'!$AN56)","v":0.16460223139281221},{"$f":"-('Data base original'!AL68/'Data base original'!AL56*100-100)*'Data base original'!AL56/('Data base original'!$AN56)","v":0.23588844141948656},{"$f":"-('Data base original'!AM68/'Data base original'!AM56*100-100)*'Data base original'!AM56/('Data base original'!$AN56)","v":-3.5134724751657236E-2},{"$f":"(('Data base original'!AJ68-'Data base original'!AL68)/('Data base original'!AJ56-'Data base original'!AL56)*100-100)*(('Data base original'!AJ56-'Data base original'!AL56)/'Data base original'!AN56)","v":2.4839459585681269},{"$f":"(('Data base original'!AK68-'Data base original'!AM68)/('Data base original'!AK56-'Data base original'!AM56)*100-100)*(('Data base original'!AK56-'Data base original'!AM56)/'Data base original'!AN56)","v":0.12946750664115503},{"$f":"('Data base original'!AN68/'Data base original'!AN56*100-100)*'Data base original'!AN56/('Data base original'!$AN56)","v":9.4427521375596513}]
["2010-11-01",{"$f":"'Data base original'!B69/'Data base original'!B57*100-100","v":7.916894991597772},{"$f":"'Data base original'!C69/'Data base original'!C57*100-100","v":10.983849433468933},{"$f":"'Data base original'!D69/'Data base original'!D57*100-100","v":11.288977093021018},{"$f":"'Data base original'!E69/'Data base original'!E57*100-100","v":20.856961231225426},{"$f":"'Data base original'!F69/'Data base original'!F57*100-100","v":9.9645593344987304},{"$f":"'Data base original'!G69","v":27.341910117002001},null,null,null,{"$f":"'Data base original'!K69","v":7.1872391337535504},null,null,{"$f":"'Data base original'!N69","v":1.8657389296077},null,null,{"$f":"'Data base original'!Q69","v":4.3502802608229301},{"$f":"('Data base original'!S69/'Data base original'!S57*100-100)*'Data base original'!S57/'Data base original'!$V57","v":3.6510744660131147},{"$f":"('Data base original'!T69/'Data base original'!T57*100-100)*'Data base original'!T57/'Data base original'!$V57","v":14.520200660622109},{"$f":"('Data base original'!U69/'Data base original'!U57*100-100)*'Data base original'!U57/'Data base original'!$V57","v":6.384006312045547},{"$f":"('Data base original'!V69/'Data base original'!V57*100-100)*'Data base original'!V57/'Data base original'!$V57","v":24.55528143868078},{"$f":"('Data base original'!V69/'Data base original'!V57*100-100)*'Data base original'!V57/('Data base original'!$AC57)","v":5.6727761498402574},{"$f":"('Data base original'!W69/'Data base original'!W57*100-100)*'Data base original'!W57/('Data base original'!$AC57)","v":4.2836902895572742},{"$f":"('Data base original'!X69/'Data base original'!X57*100-100)*'Data base original'!X57/('Data base original'!$AC57)","v":0.40851937439691699},{"$f":"('Data base original'!Y69/'Data base original'!Y57*100-100)*'Data base original'!Y57/('Data base original'!$AC57)","v":-2.3223173431182214},{"$f":"('Data base original'!Z69/'Data base original'!Z57*100-100)*'Data base original'!Z57/('Data base original'!$AC57)","v":9.786466885506688E-2},{"$f":"-('Data base original'!AA69/'Data base original'!AA57*100-100)*'Data base original'!AA57/('Data base original'!$AC57)","v":1.9192348947688118},{"$f":"-('Data base original'!AB69/'Data base original'!AB57*100-100)*'Data base original'!AB57/('Data base original'!$AC57)","v":1.8748020853461079E-3},{"$f":"(('Data base original'!Y69-'Data base original'!AA69)/('Data base original'!Y57-'Data base original'!AA57)*100-100)*(('Data base original'!Y57-'Data base original'!AA57)/'Data base original'!AC57)","v":-0.4030824483494117},{"$f":"(('Data base original'!Z69-'Data base original'!AB69)/('Data base original'!Z57-'Data base original'!AB57)*100-100)*(('Data base original'!Z57-'Data base original'!AB57)/'Data base original'!AC57)","v":9.9739470940413008E-2},{"$f":"('Data base original'!AC69/'Data base original'!AC57*100-100)*'Data base original'!AC57/('Data base original'!$AC57)","v":10.061642836385444},{"$f":"('Data base original'!AC69/'Data base original'!AC57*100-100)*'Data base original'!AC57/('Data base original'!$AN57)","v":6.072170068906841},{"$f":"('Data base original'!AD69/'Data base original'!AD57*100-100)*'Data base original'!AD57/('Data base original'!$AN57)","v":1.7848422001776383},{"$f":"('Data base original'!AE69/'Data base original'!AE57*100-100)*'Data base original'!AE57/('Data base original'!$AN57)","v":-2.0495985075257002},{"$f":"('Data base original'!AF69/'Data base original'!AF57*100-100)*'Data base original'!AF57/('Data base original'!$AN57)","v":2.5838631585075582},{"$f":"('Data base original'!AG69/'Data base original'!AG57*100-100)*'Data base original'!AG57/('Data base original'!$AN57)","v":-0.36635936888590814},{"$f":"('Data base original'!AH69/'Data base original'!AH57*100-100)*'Data base original'!AH57/('Data base original'!$AN57)","v":-0.2204039686812071},{"$f":"('Data base original'!AI69/'Data base original'!AI57*100-100)*'Data base original'!AI57/('Data base original'!$AN57)","v":0.874148389132958},{"$f":"('Data base original'!AJ69/'Data base original'!AJ57*100-100)*'Data base original'!AJ57/('Data base original'!$AN57)","v":2.3263480493091881},{"$f":"('Data base original'!AK69/'Data base original'!AK57*100-100)*'Data base original'!AK57/('Data base original'!$AN57)","v":0.17084701884426209},{"$f":"-('Data base original'!AL69/'Data base original'!AL57*100-100)*'Data base original'!AL57/('Data base original'!$AN57)","v":0.2904399320352451},{"$f":"-('Data base original'!AM69/'Data base original'!AM57*100-100)*'Data base original'!AM57/('Data base original'!$AN57)","v":-5.2611830306345607E-2},{"$f":"(('Data base original'!AJ69-'Data base original'!AL69)/('Data base original'!AJ57-'Data base original'!AL57)*100-100)*(('Data base original'!AJ57-'Data base original'!AL57)/'Data base original'!AN57)","v":2.6167879813444328},{"$f":"(('Data base original'!AK69-'Data base original'!AM69)/('Data base original'!AK57-'Data base original'!AM57)*100-100)*(('Data base original'!AK57-'Data base original'!AM57)/'Data base original'!AN57)","v":0.11823518853791642},{"$f":"('Data base original'!AN69/'Data base original'!AN57*100-100)*'Data base original'!AN57/('Data base original'!$AN57)","v":11.413685141514506}]
["2010-12-01",{"$f":"'Data base original'!B70/'Data base original'!B58*100-100","v":5.4972714014115667},{"$f":"'Data base original'!C70/'Data base original'!C58*100-100","v":11.474994866011002},{"$f":"'Data base original'!D70/'Data base original'!D58*100-100","v":11.732182242389968},{"$f":"'Data base original'!E70/'Data base original'!E58*100-100","v":14.268152149442813},{"$f":"'Data base original'!F70/'Data base original'!F58*100-100","v":8.2328128838838239},{"$f":"'Data base original'!G70","v":26.441702931038801},null,null,null,{"$f":"'Data base original'!K70","v":7.3797969271821202},null,null,{"$f":"'Data base original'!N70","v":1.93437911813958},null,null,{"$f":"'Data base original'!Q70","v":4.37113062194567},{"$f":"('Data base original'!S70/'Data base original'!S58*100-100)*'Data base original'!S58/'Data base original'!$V58","v":3.4241778433779362},{"$f":"('Data base original'!T70/'Data base original'!T58*100-100)*'Data base original'!T58/'Data base original'!$V58","v":12.719285239244384},{"$f":"('Data base original'!U70/'Data base original'!U58*100-100)*'Data base original'!U58/'Data base original'!$V58","v":5.1403588631420698},{"$f":"('Data base original'!V70/'Data base original'!V58*100-100)*'Data base original'!V58/'Data base original'!$V58","v":21.283821945764387},{"$f":"('Data base original'!V70/'Data base original'!V58*100-100)*'Data base original'!V58/('Data base original'!$AC58)","v":5.2060897674621502},{"$f":"('Data base original'!W70/'Data base original'!W58*100-100)*'Data base original'!W58/('Data base original'!$AC58)","v":4.9760569697229142},{"$f":"('Data base original'!X70/'Data base original'!X58*100-100)*'Data base original'!X58/('Data base original'!$AC58)","v":0.39179679918593219},{"$f":"('Data base original'!Y70/'Data base original'!Y58*100-100)*'Data base original'!Y58/('Data base original'!$AC58)","v":-2.2082087581762848},{"$f":"('Data base original'!Z70/'Data base original'!Z58*100-100)*'Data base original'!Z58/('Data base original'!$AC58)","v":0.1081263380922154},{"$f":"-('Data base original'!AA70/'Data base original'!AA58*100-100)*'Data base original'!AA58/('Data base original'!$AC58)","v":2.0464797550332423},{"$f":"-('Data base original'!AB70/'Data base original'!AB58*100-100)*'Data base original'!AB58/('Data base original'!$AC58)","v":1.2894111867896233E-3},{"$f":"(('Data base original'!Y70-'Data base original'!AA70)/('Data base original'!Y58-'Data base original'!AA58)*100-100)*(('Data base original'!Y58-'Data base original'!AA58)/'Data base original'!AC58)","v":-0.16172900314304312},{"$f":"(('Data base original'!Z70-'Data base original'!AB70)/('Data base original'!Z58-'Data base original'!AB58)*100-100)*(('Data base original'!Z58-'Data base original'!AB58)/'Data base original'!AC58)","v":0.1094157492790049},{"$f":"('Data base original'!AC70/'Data base original'!AC58*100-100)*'Data base original'!AC58/('Data base original'!$AC58)","v":10.521630282506948},{"$f":"('Data base original'!AC70/'Data base original'!AC58*100-100)*'Data base original'!AC58/('Data base original'!$AN58)","v":6.3765480541319999},{"$f":"('Data base original'!AD70/'Data base original'!AD58*100-100)*'Data base original'!AD58/('Data base original'!$AN58)","v":1.7188267474157646},{"$f":"('Data base original'!AE70/'Data base original'!AE58*100-100)*'Data base original'!AE58/('Data base original'!$AN58)","v":-2.0600914981366834},{"$f":"('Data base original'!AF70/'Data base original'!AF58*100-100)*'Data base original'!AF58/('Data base original'!$AN58)","v":2.9164349403284304},{"$f":"('Data base original'!AG70/'Data base original'!AG58*100-100)*'Data base original'!AG58/('Data base original'!$AN58)","v":-0.43648844465776698},{"$f":"('Data base original'!AH70/'Data base original'!AH58*100-100)*'Data base original'!AH58/('Data base original'!$AN58)","v":-0.19145209273352179},{"$f":"('Data base original'!AI70/'Data base original'!AI58*100-100)*'Data base original'!AI58/('Data base original'!$AN58)","v":0.70820529230405838},{"$f":"('Data base original'!AJ70/'Data base original'!AJ58*100-100)*'Data base original'!AJ58/('Data base original'!$AN58)","v":2.3476603557935647},{"$f":"('Data base original'!AK70/'Data base original'!AK58*100-100)*'Data base original'!AK58/('Data base original'!$AN58)","v":0.16622283736455623},{"$f":"-('Data base original'!AL70/'Data base original'!AL58*100-100)*'Data base original'!AL58/('Data base original'!$AN58)","v":0.37520144820837709},{"$f":"-('Data base original'!AM70/'Data base original'!AM58*100-100)*'Data base original'!AM58/('Data base original'!$AN58)","v":-6.5863985255264046E-2},{"$f":"(('Data base original'!AJ70-'Data base original'!AL70)/('Data base original'!AJ58-'Data base original'!AL58)*100-100)*(('Data base original'!AJ58-'Data base original'!AL58)/'Data base original'!AN58)","v":2.7228618040019419},{"$f":"(('Data base original'!AK70-'Data base original'!AM70)/('Data base original'!AK58-'Data base original'!AM58)*100-100)*(('Data base original'!AK58-'Data base original'!AM58)/'Data base original'!AN58)","v":0.10035885210929218},{"$f":"('Data base original'!AN70/'Data base original'!AN58*100-100)*'Data base original'!AN58/('Data base original'!$AN58)","v":11.855203654763526}]
["2011-01-01",{"$f":"'Data base original'!B71/'Data base original'!B59*100-100","v":6.6413992101191042},{"$f":"'Data base original'!C71/'Data base original'!C59*100-100","v":12.475975450034611},{"$f":"'Data base original'!D71/'Data base original'!D59*100-100","v":12.10419442552633},{"$f":"'Data base original'!E71/'Data base original'!E59*100-100","v":14.5819435022688},{"$f":"'Data base original'!F71/'Data base original'!F59*100-100","v":9.1784800783972287},{"$f":"'Data base original'!G71","v":27.0938928234382},null,null,null,{"$f":"'Data base original'!K71","v":7.5991038176093504},null,null,{"$f":"'Data base original'!N71","v":1.7777270464467601},null,null,{"$f":"'Data base original'!Q71","v":4.3373107206554904},{"$f":"('Data base original'!S71/'Data base original'!S59*100-100)*'Data base original'!S59/'Data base original'!$V59","v":3.2719910598957926},{"$f":"('Data base original'!T71/'Data base original'!T59*100-100)*'Data base original'!T59/'Data base original'!$V59","v":11.90611620684151},{"$f":"('Data base original'!U71/'Data base original'!U59*100-100)*'Data base original'!U59/'Data base original'!$V59","v":4.4523877770198936},{"$f":"('Data base original'!V71/'Data base original'!V59*100-100)*'Data base original'!V59/'Data base original'!$V59","v":19.630495043757207},{"$f":"('Data base original'!V71/'Data base original'!V59*100-100)*'Data base original'!V59/('Data base original'!$AC59)","v":4.8846859659913493},{"$f":"('Data base original'!W71/'Data base original'!W59*100-100)*'Data base original'!W59/('Data base original'!$AC59)","v":4.9623404110059104},{"$f":"('Data base original'!X71/'Data base original'!X59*100-100)*'Data base original'!X59/('Data base original'!$AC59)","v":0.36998083484830047},{"$f":"('Data base original'!Y71/'Data base original'!Y59*100-100)*'Data base original'!Y59/('Data base original'!$AC59)","v":-2.5284732212692855},{"$f":"('Data base original'!Z71/'Data base original'!Z59*100-100)*'Data base original'!Z59/('Data base original'!$AC59)","v":0.1182710819061189},{"$f":"-('Data base original'!AA71/'Data base original'!AA59*100-100)*'Data base original'!AA59/('Data base original'!$AC59)","v":2.0665840189550071},{"$f":"-('Data base original'!AB71/'Data base original'!AB59*100-100)*'Data base original'!AB59/('Data base original'!$AC59)","v":5.0558630433150059E-3},{"$f":"(('Data base original'!Y71-'Data base original'!AA71)/('Data base original'!Y59-'Data base original'!AA59)*100-100)*(('Data base original'!Y59-'Data base original'!AA59)/'Data base original'!AC59)","v":-0.46188920231427677},{"$f":"(('Data base original'!Z71-'Data base original'!AB71)/('Data base original'!Z59-'Data base original'!AB59)*100-100)*(('Data base original'!Z59-'Data base original'!AB59)/'Data base original'!AC59)","v":0.12332694494943393},{"$f":"('Data base original'!AC71/'Data base original'!AC59*100-100)*'Data base original'!AC59/('Data base original'!$AC59)","v":9.8784449544806989},{"$f":"('Data base original'!AC71/'Data base original'!AC59*100-100)*'Data base original'!AC59/('Data base original'!$AN59)","v":6.0511441907171424},{"$f":"('Data base original'!AD71/'Data base original'!AD59*100-100)*'Data base original'!AD59/('Data base original'!$AN59)","v":1.6858857681100516},{"$f":"('Data base original'!AE71/'Data base original'!AE59*100-100)*'Data base original'!AE59/('Data base original'!$AN59)","v":-1.5690838148805408},{"$f":"('Data base original'!AF71/'Data base original'!AF59*100-100)*'Data base original'!AF59/('Data base original'!$AN59)","v":3.779251077600331},{"$f":"('Data base original'!AG71/'Data base original'!AG59*100-100)*'Data base original'!AG59/('Data base original'!$AN59)","v":-0.53644836473781332},{"$f":"('Data base original'!AH71/'Data base original'!AH59*100-100)*'Data base original'!AH59/('Data base original'!$AN59)","v":-0.20772165545930177},{"$f":"('Data base original'!AI71/'Data base original'!AI59*100-100)*'Data base original'!AI59/('Data base original'!$AN59)","v":0.81318935619637278},{"$f":"('Data base original'!AJ71/'Data base original'!AJ59*100-100)*'Data base original'!AJ59/('Data base original'!$AN59)","v":2.0941395648620653},{"$f":"('Data base original'!AK71/'Data base original'!AK59*100-100)*'Data base original'!AK59/('Data base original'!$AN59)","v":0.15628897719062487},{"$f":"-('Data base original'!AL71/'Data base original'!AL59*100-100)*'Data base original'!AL59/('Data base original'!$AN59)","v":0.88453145831098812},{"$f":"-('Data base original'!AM71/'Data base original'!AM59*100-100)*'Data base original'!AM59/('Data base original'!$AN59)","v":-2.532921144844524E-2},{"$f":"(('Data base original'!AJ71-'Data base original'!AL71)/('Data base original'!AJ59-'Data base original'!AL59)*100-100)*(('Data base original'!AJ59-'Data base original'!AL59)/'Data base original'!AN59)","v":2.9786710231730544},{"$f":"(('Data base original'!AK71-'Data base original'!AM71)/('Data base original'!AK59-'Data base original'!AM59)*100-100)*(('Data base original'!AK59-'Data base original'!AM59)/'Data base original'!AN59)","v":0.13095976574217966},{"$f":"('Data base original'!AN71/'Data base original'!AN59*100-100)*'Data base original'!AN59/('Data base original'!$AN59)","v":13.125847346461455}]
["2011-02-01",{"$f":"'Data base original'!B72/'Data base original'!B60*100-100","v":6.4575175252161756},{"$f":"'Data base original'!C72/'Data base original'!C60*100-100","v":13.512796300290518},{"$f":"'Data base original'!D72/'Data base original'!D60*100-100","v":12.243384170295471},{"$f":"'Data base original'!E72/'Data base original'!E60*100-100","v":20.792284002031352},{"$f":"'Data base original'!F72/'Data base original'!F60*100-100","v":9.6433676184100676},{"$f":"'Data base original'!G72","v":26.447192406930501},null,null,null,{"$f":"'Data base original'!K72","v":7.9065708323920303},null,null,{"$f":"'Data base original'!N72","v":1.74237777338487},null,null,{"$f":"'Data base original'!Q72","v":4.3533094044596599},{"$f":"('Data base original'!S72/'Data base original'!S60*100-100)*'Data base original'!S60/'Data base original'!$V60","v":2.9979605220486998},{"$f":"('Data base original'!T72/'Data base original'!T60*100-100)*'Data base original'!T60/'Data base original'!$V60","v":11.613803590345984},{"$f":"('Data base original'!U72/'Data base original'!U60*100-100)*'Data base original'!U60/'Data base original'!$V60","v":1.3999394642586618},{"$f":"('Data base original'!V72/'Data base original'!V60*100-100)*'Data base original'!V60/'Data base original'!$V60","v":16.01170357665336},{"$f":"('Data base original'!V72/'Data base original'!V60*100-100)*'Data base original'!V60/('Data base original'!$AC60)","v":3.9802499845285602},{"$f":"('Data base original'!W72/'Data base original'!W60*100-100)*'Data base original'!W60/('Data base original'!$AC60)","v":4.9172192470220857},{"$f":"('Data base original'!X72/'Data base original'!X60*100-100)*'Data base original'!X60/('Data base original'!$AC60)","v":0.37083074390017751},{"$f":"('Data base original'!Y72/'Data base original'!Y60*100-100)*'Data base original'!Y60/('Data base original'!$AC60)","v":-2.6289570853792754},{"$f":"('Data base original'!Z72/'Data base original'!Z60*100-100)*'Data base original'!Z60/('Data base original'!$AC60)","v":0.1230728121060008},{"$f":"-('Data base original'!AA72/'Data base original'!AA60*100-100)*'Data base original'!AA60/('Data base original'!$AC60)","v":1.870097650035724},{"$f":"-('Data base original'!AB72/'Data base original'!AB60*100-100)*'Data base original'!AB60/('Data base original'!$AC60)","v":3.2246151643493684E-3},{"$f":"(('Data base original'!Y72-'Data base original'!AA72)/('Data base original'!Y60-'Data base original'!AA60)*100-100)*(('Data base original'!Y60-'Data base original'!AA60)/'Data base original'!AC60)","v":-0.75885943534355094},{"$f":"(('Data base original'!Z72-'Data base original'!AB72)/('Data base original'!Z60-'Data base original'!AB60)*100-100)*(('Data base original'!Z60-'Data base original'!AB60)/'Data base original'!AC60)","v":0.12629742727035015},{"$f":"('Data base original'!AC72/'Data base original'!AC60*100-100)*'Data base original'!AC60/('Data base original'!$AC60)","v":8.6357379673775938},{"$f":"('Data base original'!AC72/'Data base original'!AC60*100-100)*'Data base original'!AC60/('Data base original'!$AN60)","v":5.2863490230406969},{"$f":"('Data base original'!AD72/'Data base original'!AD60*100-100)*'Data base original'!AD60/('Data base original'!$AN60)","v":1.5483377496526693},{"$f":"('Data base original'!AE72/'Data base original'!AE60*100-100)*'Data base original'!AE60/('Data base original'!$AN60)","v":-1.0332486916373298},{"$f":"('Data base original'!AF72/'Data base original'!AF60*100-100)*'Data base original'!AF60/('Data base original'!$AN60)","v":3.872982810714876},{"$f":"('Data base original'!AG72/'Data base original'!AG60*100-100)*'Data base original'!AG60/('Data base original'!$AN60)","v":-0.4874538775555009},{"$f":"('Data base original'!AH72/'Data base original'!AH60*100-100)*'Data base original'!AH60/('Data base original'!$AN60)","v":-0.18763410224914781},{"$f":"('Data base original'!AI72/'Data base original'!AI60*100-100)*'Data base original'!AI60/('Data base original'!$AN60)","v":1.065051081849048},{"$f":"('Data base original'!AJ72/'Data base original'!AJ60*100-100)*'Data base original'!AJ60/('Data base original'!$AN60)","v":1.6397970373649964},{"$f":"('Data base original'!AK72/'Data base original'!AK60*100-100)*'Data base original'!AK60/('Data base original'!$AN60)","v":0.14826493643532893},{"$f":"-('Data base original'!AL72/'Data base original'!AL60*100-100)*'Data base original'!AL60/('Data base original'!$AN60)","v":1.2760434913916328},{"$f":"-('Data base original'!AM72/'Data base original'!AM60*100-100)*'Data base original'!AM60/('Data base original'!$AN60)","v":-2.6757873143653993E-2},{"$f":"(('Data base original'!AJ72-'Data base original'!AL72)/('Data base original'!AJ60-'Data base original'!AL60)*100-100)*(('Data base original'!AJ60-'Data base original'!AL60)/'Data base original'!AN60)","v":2.9158405287566294},{"$f":"(('Data base original'!AK72-'Data base original'!AM72)/('Data base original'!AK60-'Data base original'!AM60)*100-100)*(('Data base original'!AK60-'Data base original'!AM60)/'Data base original'!AN60)","v":0.12150706329167495},{"$f":"('Data base original'!AN72/'Data base original'!AN60*100-100)*'Data base original'!AN60/('Data base original'!$AN60)","v":13.101731585863602}]
["2011-03-01",{"$f":"'Data base original'!B73/'Data base original'!B61*100-100","v":8.2035231140571625},{"$f":"'Data base original'!C73/'Data base original'!C61*100-100","v":15.24757224739632},{"$f":"'Data base original'!D73/'Data base original'!D61*100-100","v":12.639898219269341},{"$f":"'Data base original'!E73/'Data base original'!E61*100-100","v":25.89001155491178},{"$f":"'Data base original'!F73/'Data base original'!F61*100-100","v":11.314920048241177},{"$f":"'Data base original'!G73","v":25.8812617644417},null,null,null,{"$f":"'Data base original'!K73","v":8.2523413456186905},null,null,{"$f":"'Data base original'!N73","v":1.89461768162144},null,null,{"$f":"'Data base original'!Q73","v":4.3926488605217502},{"$f":"('Data base original'!S73/'Data base original'!S61*100-100)*'Data base original'!S61/'Data base original'!$V61","v":2.142248692334225},{"$f":"('Data base original'!T73/'Data base original'!T61*100-100)*'Data base original'!T61/'Data base original'!$V61","v":10.870894844664084},{"$f":"('Data base original'!U73/'Data base original'!U61*100-100)*'Data base original'!U61/'Data base original'!$V61","v":-0.18781107661547569},{"$f":"('Data base original'!V73/'Data base original'!V61*100-100)*'Data base original'!V61/'Data base original'!$V61","v":12.825332460382825},{"$f":"('Data base original'!V73/'Data base original'!V61*100-100)*'Data base original'!V61/('Data base original'!$AC61)","v":3.2258474916941897},{"$f":"('Data base original'!W73/'Data base original'!W61*100-100)*'Data base original'!W61/('Data base original'!$AC61)","v":5.6919661107527606},{"$f":"('Data base original'!X73/'Data base original'!X61*100-100)*'Data base original'!X61/('Data base original'!$AC61)","v":0.30597565405903759},{"$f":"('Data base original'!Y73/'Data base original'!Y61*100-100)*'Data base original'!Y61/('Data base original'!$AC61)","v":-2.906768713560866},{"$f":"('Data base original'!Z73/'Data base original'!Z61*100-100)*'Data base original'!Z61/('Data base original'!$AC61)","v":0.1382910797570075},{"$f":"-('Data base original'!AA73/'Data base original'!AA61*100-100)*'Data base original'!AA61/('Data base original'!$AC61)","v":2.0649815264100169},{"$f":"-('Data base original'!AB73/'Data base original'!AB61*100-100)*'Data base original'!AB61/('Data base original'!$AC61)","v":-1.4165539539770303E-3},{"$f":"(('Data base original'!Y73-'Data base original'!AA73)/('Data base original'!Y61-'Data base original'!AA61)*100-100)*(('Data base original'!Y61-'Data base original'!AA61)/'Data base original'!AC61)","v":-0.84178718715084921},{"$f":"(('Data base original'!Z73-'Data base original'!AB73)/('Data base original'!Z61-'Data base original'!AB61)*100-100)*(('Data base original'!Z61-'Data base original'!AB61)/'Data base original'!AC61)","v":0.13687452580303053},{"$f":"('Data base original'!AC73/'Data base original'!AC61*100-100)*'Data base original'!AC61/('Data base original'!$AC61)","v":8.5188765951581757},{"$f":"('Data base original'!AC73/'Data base original'!AC61*100-100)*'Data base original'!AC61/('Data base original'!$AN61)","v":5.1966449067499738},{"$f":"('Data base original'!AD73/'Data base original'!AD61*100-100)*'Data base original'!AD61/('Data base original'!$AN61)","v":1.2736042156245537},{"$f":"('Data base original'!AE73/'Data base original'!AE61*100-100)*'Data base original'!AE61/('Data base original'!$AN61)","v":-1.0487171002882523},{"$f":"('Data base original'!AF73/'Data base original'!AF61*100-100)*'Data base original'!AF61/('Data base original'!$AN61)","v":3.8945868542582387},{"$f":"('Data base original'!AG73/'Data base original'!AG61*100-100)*'Data base original'!AG61/('Data base original'!$AN61)","v":-0.47332148866650736},{"$f":"('Data base original'!AH73/'Data base original'!AH61*100-100)*'Data base original'!AH61/('Data base original'!$AN61)","v":-0.17174376243262141},{"$f":"('Data base original'!AI73/'Data base original'!AI61*100-100)*'Data base original'!AI61/('Data base original'!$AN61)","v":1.103696707255676},{"$f":"('Data base original'!AJ73/'Data base original'!AJ61*100-100)*'Data base original'!AJ61/('Data base original'!$AN61)","v":1.170449943220055},{"$f":"('Data base original'!AK73/'Data base original'!AK61*100-100)*'Data base original'!AK61/('Data base original'!$AN61)","v":-0.14582017565033897},{"$f":"-('Data base original'!AL73/'Data base original'!AL61*100-100)*'Data base original'!AL61/('Data base original'!$AN61)","v":1.3756783385797908},{"$f":"-('Data base original'!AM73/'Data base original'!AM61*100-100)*'Data base original'!AM61/('Data base original'!$AN61)","v":-3.0244184579329574E-2},{"$f":"(('Data base original'!AJ73-'Data base original'!AL73)/('Data base original'!AJ61-'Data base original'!AL61)*100-100)*(('Data base original'!AJ61-'Data base original'!AL61)/'Data base original'!AN61)","v":2.5461282817998447},{"$f":"(('Data base original'!AK73-'Data base original'!AM73)/('Data base original'!AK61-'Data base original'!AM61)*100-100)*(('Data base original'!AK61-'Data base original'!AM61)/'Data base original'!AN61)","v":-0.17606436022966851},{"$f":"('Data base original'!AN73/'Data base original'!AN61*100-100)*'Data base original'!AN61/('Data base original'!$AN61)","v":12.144814254071235}]
["2011-04-01",{"$f":"'Data base original'!B74/'Data base original'!B62*100-100","v":8.8543120419594601},{"$f":"'Data base original'!C74/'Data base original'!C62*100-100","v":15.582002455314381},{"$f":"'Data base original'!D74/'Data base original'!D62*100-100","v":13.169709934082704},{"$f":"'Data base original'!E74/'Data base original'!E62*100-100","v":22.283118630898556},{"$f":"'Data base original'!F74/'Data base original'!F62*100-100","v":11.629987680018132},{"$f":"'Data base original'!G74","v":27.117885715615099},null,null,null,{"$f":"'Data base original'!K74","v":8.4234255582339106},null,null,{"$f":"'Data base original'!N74","v":1.6399518332446801},null,null,{"$f":"'Data base original'!Q74","v":4.3059766507292601},{"$f":"('Data base original'!S74/'Data base original'!S62*100-100)*'Data base original'!S62/'Data base original'!$V62","v":1.961796592669077},{"$f":"('Data base original'!T74/'Data base original'!T62*100-100)*'Data base original'!T62/'Data base original'!$V62","v":9.2095114345114144},{"$f":"('Data base original'!U74/'Data base original'!U62*100-100)*'Data base original'!U62/'Data base original'!$V62","v":2.5563845595724839},{"$f":"('Data base original'!V74/'Data base original'!V62*100-100)*'Data base original'!V62/'Data base original'!$V62","v":13.727692586752994},{"$f":"('Data base original'!V74/'Data base original'!V62*100-100)*'Data base original'!V62/('Data base original'!$AC62)","v":3.4583462737180111},{"$f":"('Data base original'!W74/'Data base original'!W62*100-100)*'Data base original'!W62/('Data base original'!$AC62)","v":7.2892938997026597},{"$f":"('Data base original'!X74/'Data base original'!X62*100-100)*'Data base original'!X62/('Data base original'!$AC62)","v":0.24992470403145867},{"$f":"('Data base original'!Y74/'Data base original'!Y62*100-100)*'Data base original'!Y62/('Data base original'!$AC62)","v":-3.3919105928995199},{"$f":"('Data base original'!Z74/'Data base original'!Z62*100-100)*'Data base original'!Z62/('Data base original'!$AC62)","v":0.16591344627686153},{"$f":"-('Data base original'!AA74/'Data base original'!AA62*100-100)*'Data base original'!AA62/('Data base original'!$AC62)","v":2.1892138631616374},{"$f":"-('Data base original'!AB74/'Data base original'!AB62*100-100)*'Data base original'!AB62/('Data base original'!$AC62)","v":1.2302903855275721E-3},{"$f":"(('Data base original'!Y74-'Data base original'!AA74)/('Data base original'!Y62-'Data base original'!AA62)*100-100)*(('Data base original'!Y62-'Data base original'!AA62)/'Data base original'!AC62)","v":-1.2026967297378826},{"$f":"(('Data base original'!Z74-'Data base original'!AB74)/('Data base original'!Z62-'Data base original'!AB62)*100-100)*(('Data base original'!Z62-'Data base original'!AB62)/'Data base original'!AC62)","v":0.16714373666238902},{"$f":"('Data base original'!AC74/'Data base original'!AC62*100-100)*'Data base original'!AC62/('Data base original'!$AC62)","v":9.9620118843766345},{"$f":"('Data base original'!AC74/'Data base original'!AC62*100-100)*'Data base original'!AC62/('Data base original'!$AN62)","v":6.0608721045147567},{"$f":"('Data base original'!AD74/'Data base original'!AD62*100-100)*'Data base original'!AD62/('Data base original'!$AN62)","v":1.0409589658306313},{"$f":"('Data base original'!AE74/'Data base original'!AE62*100-100)*'Data base original'!AE62/('Data base original'!$AN62)","v":-1.3183341643272586},{"$f":"('Data base original'!AF74/'Data base original'!AF62*100-100)*'Data base original'!AF62/('Data base original'!$AN62)","v":3.7966398603782645},{"$f":"('Data base original'!AG74/'Data base original'!AG62*100-100)*'Data base original'!AG62/('Data base original'!$AN62)","v":-0.39232444228377872},{"$f":"('Data base original'!AH74/'Data base original'!AH62*100-100)*'Data base original'!AH62/('Data base original'!$AN62)","v":-0.19397016579525064},{"$f":"('Data base original'!AI74/'Data base original'!AI62*100-100)*'Data base original'!AI62/('Data base original'!$AN62)","v":1.1242570690029008},{"$f":"('Data base original'!AJ74/'Data base original'!AJ62*100-100)*'Data base original'!AJ62/('Data base original'!$AN62)","v":0.89542787671964108},{"$f":"('Data base original'!AK74/'Data base original'!AK62*100-100)*'Data base original'!AK62/('Data base original'!$AN62)","v":0.12959858927444531},{"$f":"-('Data base original'!AL74/'Data base original'!AL62*100-100)*'Data base original'!AL62/('Data base original'!$AN62)","v":1.4483604717181207},{"$f":"-('Data base original'!AM74/'Data base original'!AM62*100-100)*'Data base original'!AM62/('Data base original'!$AN62)","v":-3.6035251308158468E-2},{"$f":"(('Data base original'!AJ74-'Data base original'!AL74)/('Data base original'!AJ62-'Data base original'!AL62)*100-100)*(('Data base original'!AJ62-'Data base original'!AL62)/'Data base original'!AN62)","v":2.3437883484377608},{"$f":"(('Data base original'!AK74-'Data base original'!AM74)/('Data base original'!AK62-'Data base original'!AM62)*100-100)*(('Data base original'!AK62-'Data base original'!AM62)/'Data base original'!AN62)","v":9.3563337966286672E-2},{"$f":"('Data base original'!AN74/'Data base original'!AN62*100-100)*'Data base original'!AN62/('Data base original'!$AN62)","v":12.555450913724313}]
["2011-05-01",{"$f":"'Data base original'!B75/'Data base original'!B63*100-100","v":9.9920773991111389},{"$f":"'Data base original'!C75/'Data base original'!C63*100-100","v":16.123681239131656},{"$f":"'Data base original'!D75/'Data base original'!D63*100-100","v":12.939603793113434},{"$f":"'Data base original'!E75/'Data base original'!E63*100-100","v":23.691101925593699},{"$f":"'Data base original'!F75/'Data base original'!F63*100-100","v":12.427053581933407},{"$f":"'Data base original'!G75","v":27.319752293923599},null,null,null,{"$f":"'Data base original'!K75","v":8.6587811839057807},null,null,{"$f":"'Data base original'!N75","v":1.6287831033851501},null,null,{"$f":"'Data base original'!Q75","v":4.16},{"$f":"('Data base original'!S75/'Data base original'!S63*100-100)*'Data base original'!S63/'Data base original'!$V63","v":1.7868194613587809},{"$f":"('Data base original'!T75/'Data base original'!T63*100-100)*'Data base original'!T63/'Data base original'!$V63","v":5.7753359020942661},{"$f":"('Data base original'!U75/'Data base original'!U63*100-100)*'Data base original'!U63/'Data base original'!$V63","v":2.7721162996532707},{"$f":"('Data base original'!V75/'Data base original'!V63*100-100)*'Data base original'!V63/'Data base original'!$V63","v":10.334271663106321},{"$f":"('Data base original'!V75/'Data base original'!V63*100-100)*'Data base original'!V63/('Data base original'!$AC63)","v":2.6886525228954197},{"$f":"('Data base original'!W75/'Data base original'!W63*100-100)*'Data base original'!W63/('Data base original'!$AC63)","v":8.4877136379549007},{"$f":"('Data base original'!X75/'Data base original'!X63*100-100)*'Data base original'!X63/('Data base original'!$AC63)","v":0.2423925257295122},{"$f":"('Data base original'!Y75/'Data base original'!Y63*100-100)*'Data base original'!Y63/('Data base original'!$AC63)","v":-2.9658456898189587},{"$f":"('Data base original'!Z75/'Data base original'!Z63*100-100)*'Data base original'!Z63/('Data base original'!$AC63)","v":0.16136416712850382},{"$f":"-('Data base original'!AA75/'Data base original'!AA63*100-100)*'Data base original'!AA63/('Data base original'!$AC63)","v":2.1687205552056197},{"$f":"-('Data base original'!AB75/'Data base original'!AB63*100-100)*'Data base original'!AB63/('Data base original'!$AC63)","v":0},{"$f":"(('Data base original'!Y75-'Data base original'!AA75)/('Data base original'!Y63-'Data base original'!AA63)*100-100)*(('Data base original'!Y63-'Data base original'!AA63)/'Data base original'!AC63)","v":-0.79712513461333767},{"$f":"(('Data base original'!Z75-'Data base original'!AB75)/('Data base original'!Z63-'Data base original'!AB63)*100-100)*(('Data base original'!Z63-'Data base original'!AB63)/'Data base original'!AC63)","v":0.16136416712850388},{"$f":"('Data base original'!AC75/'Data base original'!AC63*100-100)*'Data base original'!AC63/('Data base original'!$AC63)","v":10.782997719094995},{"$f":"('Data base original'!AC75/'Data base original'!AC63*100-100)*'Data base original'!AC63/('Data base original'!$AN63)","v":6.5820332686379732},{"$f":"('Data base original'!AD75/'Data base original'!AD63*100-100)*'Data base original'!AD63/('Data base original'!$AN63)","v":0.88426312988469857},{"$f":"('Data base original'!AE75/'Data base original'!AE63*100-100)*'Data base original'!AE63/('Data base original'!$AN63)","v":-0.35309228121725628},{"$f":"('Data base original'!AF75/'Data base original'!AF63*100-100)*'Data base original'!AF63/('Data base original'!$AN63)","v":3.6246650610320947},{"$f":"('Data base original'!AG75/'Data base original'!AG63*100-100)*'Data base original'!AG63/('Data base original'!$AN63)","v":-0.627766581990572},{"$f":"('Data base original'!AH75/'Data base original'!AH63*100-100)*'Data base original'!AH63/('Data base original'!$AN63)","v":-0.20872710428137706},{"$f":"('Data base original'!AI75/'Data base original'!AI63*100-100)*'Data base original'!AI63/('Data base original'!$AN63)","v":1.1186715943384196},{"$f":"('Data base original'!AJ75/'Data base original'!AJ63*100-100)*'Data base original'!AJ63/('Data base original'!$AN63)","v":0.81968983331967504},{"$f":"('Data base original'!AK75/'Data base original'!AK63*100-100)*'Data base original'!AK63/('Data base original'!$AN63)","v":0.14056053098442101},{"$f":"-('Data base original'!AL75/'Data base original'!AL63*100-100)*'Data base original'!AL63/('Data base original'!$AN63)","v":1.1428733699740814},{"$f":"-('Data base original'!AM75/'Data base original'!AM63*100-100)*'Data base original'!AM63/('Data base original'!$AN63)","v":-3.4875921221698414E-2},{"$f":"(('Data base original'!AJ75-'Data base original'!AL75)/('Data base original'!AJ63-'Data base original'!AL63)*100-100)*(('Data base original'!AJ63-'Data base original'!AL63)/'Data base original'!AN63)","v":1.9625632032937579},{"$f":"(('Data base original'!AK75-'Data base original'!AM75)/('Data base original'!AK63-'Data base original'!AM63)*100-100)*(('Data base original'!AK63-'Data base original'!AM63)/'Data base original'!AN63)","v":0.10568460976272259},{"$f":"('Data base original'!AN75/'Data base original'!AN63*100-100)*'Data base original'!AN63/('Data base original'!$AN63)","v":13.088294899460465}]
["2011-06-01",{"$f":"'Data base original'!B76/'Data base original'!B64*100-100","v":10.020583411672206},{"$f":"'Data base original'!C76/'Data base original'!C64*100-100","v":16.739563119408942},{"$f":"'Data base original'!D76/'Data base original'!D64*100-100","v":12.676304603767093},{"$f":"'Data base original'!E76/'Data base original'!E64*100-100","v":16.28320501983373},{"$f":"'Data base original'!F76/'Data base original'!F64*100-100","v":11.908836515628423},{"$f":"'Data base original'!G76","v":26.940850667834901},null,null,null,{"$f":"'Data base original'!K76","v":9.0991380381480607},null,null,{"$f":"'Data base original'!N76","v":1.7759442266732399},null,null,{"$f":"'Data base original'!Q76","v":4.13},{"$f":"('Data base original'!S76/'Data base original'!S64*100-100)*'Data base original'!S64/'Data base original'!$V64","v":1.8273899650185357},{"$f":"('Data base original'!T76/'Data base original'!T64*100-100)*'Data base original'!T64/'Data base original'!$V64","v":4.5803372839763918},{"$f":"('Data base original'!U76/'Data base original'!U64*100-100)*'Data base original'!U64/'Data base original'!$V64","v":2.6287161280217188},{"$f":"('Data base original'!V76/'Data base original'!V64*100-100)*'Data base original'!V64/'Data base original'!$V64","v":9.0364433770166386},{"$f":"('Data base original'!V76/'Data base original'!V64*100-100)*'Data base original'!V64/('Data base original'!$AC64)","v":2.4024061956331062},{"$f":"('Data base original'!W76/'Data base original'!W64*100-100)*'Data base original'!W64/('Data base original'!$AC64)","v":10.392879299961805},{"$f":"('Data base original'!X76/'Data base original'!X64*100-100)*'Data base original'!X64/('Data base original'!$AC64)","v":0.20855786849277652},{"$f":"('Data base original'!Y76/'Data base original'!Y64*100-100)*'Data base original'!Y64/('Data base original'!$AC64)","v":-2.2885842640763201},{"$f":"('Data base original'!Z76/'Data base original'!Z64*100-100)*'Data base original'!Z64/('Data base original'!$AC64)","v":0.15355550217646269},{"$f":"-('Data base original'!AA76/'Data base original'!AA64*100-100)*'Data base original'!AA64/('Data base original'!$AC64)","v":2.1445717592102591},{"$f":"-('Data base original'!AB76/'Data base original'!AB64*100-100)*'Data base original'!AB64/('Data base original'!$AC64)","v":-2.7761446721168434E-3},{"$f":"(('Data base original'!Y76-'Data base original'!AA76)/('Data base original'!Y64-'Data base original'!AA64)*100-100)*(('Data base original'!Y64-'Data base original'!AA64)/'Data base original'!AC64)","v":-0.14401250486606104},{"$f":"(('Data base original'!Z76-'Data base original'!AB76)/('Data base original'!Z64-'Data base original'!AB64)*100-100)*(('Data base original'!Z64-'Data base original'!AB64)/'Data base original'!AC64)","v":0.15077935750434585},{"$f":"('Data base original'!AC76/'Data base original'!AC64*100-100)*'Data base original'!AC64/('Data base original'!$AC64)","v":13.010610216725979},{"$f":"('Data base original'!AC76/'Data base original'!AC64*100-100)*'Data base original'!AC64/('Data base original'!$AN64)","v":7.907913971574656},{"$f":"('Data base original'!AD76/'Data base original'!AD64*100-100)*'Data base original'!AD64/('Data base original'!$AN64)","v":0.63423441725900609},{"$f":"('Data base original'!AE76/'Data base original'!AE64*100-100)*'Data base original'!AE64/('Data base original'!$AN64)","v":0.88881404533736286},{"$f":"('Data base original'!AF76/'Data base original'!AF64*100-100)*'Data base original'!AF64/('Data base original'!$AN64)","v":3.4852309646783528},{"$f":"('Data base original'!AG76/'Data base original'!AG64*100-100)*'Data base original'!AG64/('Data base original'!$AN64)","v":-0.81805061102063614},{"$f":"('Data base original'!AH76/'Data base original'!AH64*100-100)*'Data base original'!AH64/('Data base original'!$AN64)","v":-0.174535743359437},{"$f":"('Data base original'!AI76/'Data base original'!AI64*100-100)*'Data base original'!AI64/('Data base original'!$AN64)","v":1.2327180085368317},{"$f":"('Data base original'!AJ76/'Data base original'!AJ64*100-100)*'Data base original'!AJ64/('Data base original'!$AN64)","v":0.68221856422489224},{"$f":"('Data base original'!AK76/'Data base original'!AK64*100-100)*'Data base original'!AK64/('Data base original'!$AN64)","v":0.13920675603290442},{"$f":"-('Data base original'!AL76/'Data base original'!AL64*100-100)*'Data base original'!AL64/('Data base original'!$AN64)","v":0.75203286156866778},{"$f":"-('Data base original'!AM76/'Data base original'!AM64*100-100)*'Data base original'!AM64/('Data base original'!$AN64)","v":-3.5118067999210009E-2},{"$f":"(('Data base original'!AJ76-'Data base original'!AL76)/('Data base original'!AJ64-'Data base original'!AL64)*100-100)*(('Data base original'!AJ64-'Data base original'!AL64)/'Data base original'!AN64)","v":1.4342514257935621},{"$f":"(('Data base original'!AK76-'Data base original'!AM76)/('Data base original'!AK64-'Data base original'!AM64)*100-100)*(('Data base original'!AK64-'Data base original'!AM64)/'Data base original'!AN64)","v":0.10408868803369448},{"$f":"('Data base original'!AN76/'Data base original'!AN64*100-100)*'Data base original'!AN64/('Data base original'!$AN64)","v":14.694665166833417}]
["2011-07-01",{"$f":"'Data base original'!B77/'Data base original'!B65*100-100","v":11.248296822379118},{"$f":"'Data base original'!C77/'Data base original'!C65*100-100","v":17.020027254733122},{"$f":"'Data base original'!D77/'Data base original'!D65*100-100","v":12.826064611698868},{"$f":"'Data base original'!E77/'Data base original'!E65*100-100","v":24.93166533780186},{"$f":"'Data base original'!F77/'Data base original'!F65*100-100","v":13.309131062443598},{"$f":"'Data base original'!G77","v":27.438141379244001},null,null,null,{"$f":"'Data base original'!K77","v":9.4809083494664108},null,null,{"$f":"'Data base original'!N77","v":1.7864255577894801},null,null,{"$f":"'Data base original'!Q77","v":4.13},{"$f":"('Data base original'!S77/'Data base original'!S65*100-100)*'Data base original'!S65/'Data base original'!$V65","v":1.8679062151294477},{"$f":"('Data base original'!T77/'Data base original'!T65*100-100)*'Data base original'!T65/'Data base original'!$V65","v":5.4023634394828637},{"$f":"('Data base original'!U77/'Data base original'!U65*100-100)*'Data base original'!U65/'Data base original'!$V65","v":0.34529424970124029},{"$f":"('Data base original'!V77/'Data base original'!V65*100-100)*'Data base original'!V65/'Data base original'!$V65","v":7.6155639043135466},{"$f":"('Data base original'!V77/'Data base original'!V65*100-100)*'Data base original'!V65/('Data base original'!$AC65)","v":2.0162758421983229},{"$f":"('Data base original'!W77/'Data base original'!W65*100-100)*'Data base original'!W65/('Data base original'!$AC65)","v":12.742907025568424},{"$f":"('Data base original'!X77/'Data base original'!X65*100-100)*'Data base original'!X65/('Data base original'!$AC65)","v":0.16677017109911571},{"$f":"('Data base original'!Y77/'Data base original'!Y65*100-100)*'Data base original'!Y65/('Data base original'!$AC65)","v":-3.6886974636922867},{"$f":"('Data base original'!Z77/'Data base original'!Z65*100-100)*'Data base original'!Z65/('Data base original'!$AC65)","v":0.15645629259298582},{"$f":"-('Data base original'!AA77/'Data base original'!AA65*100-100)*'Data base original'!AA65/('Data base original'!$AC65)","v":3.3455424889883383},{"$f":"-('Data base original'!AB77/'Data base original'!AB65*100-100)*'Data base original'!AB65/('Data base original'!$AC65)","v":-1.2236805007272628E-3},{"$f":"(('Data base original'!Y77-'Data base original'!AA77)/('Data base original'!Y65-'Data base original'!AA65)*100-100)*(('Data base original'!Y65-'Data base original'!AA65)/'Data base original'!AC65)","v":-0.34315497470394596},{"$f":"(('Data base original'!Z77-'Data base original'!AB77)/('Data base original'!Z65-'Data base original'!AB65)*100-100)*(('Data base original'!Z65-'Data base original'!AB65)/'Data base original'!AC65)","v":0.15523261209225855},{"$f":"('Data base original'!AC77/'Data base original'!AC65*100-100)*'Data base original'!AC65/('Data base original'!$AC65)","v":14.738030676254184},{"$f":"('Data base original'!AC77/'Data base original'!AC65*100-100)*'Data base original'!AC65/('Data base original'!$AN65)","v":8.9985423286875186},{"$f":"('Data base original'!AD77/'Data base original'!AD65*100-100)*'Data base original'!AD65/('Data base original'!$AN65)","v":0.74895234327223581},{"$f":"('Data base original'!AE77/'Data base original'!AE65*100-100)*'Data base original'!AE65/('Data base original'!$AN65)","v":2.0829136353082074},{"$f":"('Data base original'!AF77/'Data base original'!AF65*100-100)*'Data base original'!AF65/('Data base original'!$AN65)","v":3.6224445743646037},{"$f":"('Data base original'!AG77/'Data base original'!AG65*100-100)*'Data base original'!AG65/('Data base original'!$AN65)","v":-0.67754731011716574},{"$f":"('Data base original'!AH77/'Data base original'!AH65*100-100)*'Data base original'!AH65/('Data base original'!$AN65)","v":-0.10854845847340232},{"$f":"('Data base original'!AI77/'Data base original'!AI65*100-100)*'Data base original'!AI65/('Data base original'!$AN65)","v":1.3584033736391281},{"$f":"('Data base original'!AJ77/'Data base original'!AJ65*100-100)*'Data base original'!AJ65/('Data base original'!$AN65)","v":0.14046191873254468},{"$f":"('Data base original'!AK77/'Data base original'!AK65*100-100)*'Data base original'!AK65/('Data base original'!$AN65)","v":0.10278482351021272},{"$f":"-('Data base original'!AL77/'Data base original'!AL65*100-100)*'Data base original'!AL65/('Data base original'!$AN65)","v":1.1781296800682544},{"$f":"-('Data base original'!AM77/'Data base original'!AM65*100-100)*'Data base original'!AM65/('Data base original'!$AN65)","v":-5.1445778745506314E-2},{"$f":"(('Data base original'!AJ77-'Data base original'!AL77)/('Data base original'!AJ65-'Data base original'!AL65)*100-100)*(('Data base original'!AJ65-'Data base original'!AL65)/'Data base original'!AN65)","v":1.3185915988007995},{"$f":"(('Data base original'!AK77-'Data base original'!AM77)/('Data base original'!AK65-'Data base original'!AM65)*100-100)*(('Data base original'!AK65-'Data base original'!AM65)/'Data base original'!AN65)","v":5.133904476470641E-2},{"$f":"('Data base original'!AN77/'Data base original'!AN65*100-100)*'Data base original'!AN65/('Data base original'!$AN65)","v":17.395091130246641}]
["2011-08-01",{"$f":"'Data base original'!B78/'Data base original'!B66*100-100","v":11.737279838085229},{"$f":"'Data base original'!C78/'Data base original'!C66*100-100","v":17.274914686564429},{"$f":"'Data base original'!D78/'Data base original'!D66*100-100","v":12.256788858208949},{"$f":"'Data base original'!E78/'Data base original'!E66*100-100","v":31.110256444694727},{"$f":"'Data base original'!F78/'Data base original'!F66*100-100","v":13.911022206568774},{"$f":"'Data base original'!G78","v":27.68},null,null,null,{"$f":"'Data base original'!K78","v":9.61},null,null,{"$f":"'Data base original'!N78","v":1.75},null,null,{"$f":"'Data base original'!Q78","v":4.17},{"$f":"('Data base original'!S78/'Data base original'!S66*100-100)*'Data base original'!S66/'Data base original'!$V66","v":2.1394192627069315},{"$f":"('Data base original'!T78/'Data base original'!T66*100-100)*'Data base original'!T66/'Data base original'!$V66","v":5.6478794229650342},{"$f":"('Data base original'!U78/'Data base original'!U66*100-100)*'Data base original'!U66/'Data base original'!$V66","v":1.5108448590469021},{"$f":"('Data base original'!V78/'Data base original'!V66*100-100)*'Data base original'!V66/'Data base original'!$V66","v":9.2981435447188687},{"$f":"('Data base original'!V78/'Data base original'!V66*100-100)*'Data base original'!V66/('Data base original'!$AC66)","v":2.4604766260231363},{"$f":"('Data base original'!W78/'Data base original'!W66*100-100)*'Data base original'!W66/('Data base original'!$AC66)","v":15.661273999597306},{"$f":"('Data base original'!X78/'Data base original'!X66*100-100)*'Data base original'!X66/('Data base original'!$AC66)","v":0.18124671391922445},{"$f":"('Data base original'!Y78/'Data base original'!Y66*100-100)*'Data base original'!Y66/('Data base original'!$AC66)","v":-2.5734933993743181},{"$f":"('Data base original'!Z78/'Data base original'!Z66*100-100)*'Data base original'!Z66/('Data base original'!$AC66)","v":0.15535432621647824},{"$f":"-('Data base original'!AA78/'Data base original'!AA66*100-100)*'Data base original'!AA66/('Data base original'!$AC66)","v":1.7290166734205576},{"$f":"-('Data base original'!AB78/'Data base original'!AB66*100-100)*'Data base original'!AB66/('Data base original'!$AC66)","v":-5.0735084012138191E-3},{"$f":"(('Data base original'!Y78-'Data base original'!AA78)/('Data base original'!Y66-'Data base original'!AA66)*100-100)*(('Data base original'!Y66-'Data base original'!AA66)/'Data base original'!AC66)","v":-0.84447672595376111},{"$f":"(('Data base original'!Z78-'Data base original'!AB78)/('Data base original'!Z66-'Data base original'!AB66)*100-100)*(('Data base original'!Z66-'Data base original'!AB66)/'Data base original'!AC66)","v":0.15028081781526439},{"$f":"('Data base original'!AC78/'Data base original'!AC66*100-100)*'Data base original'!AC66/('Data base original'!$AC66)","v":17.608801431401176},{"$f":"('Data base original'!AC78/'Data base original'!AC66*100-100)*'Data base original'!AC66/('Data base original'!$AN66)","v":10.751649443473962},{"$f":"('Data base original'!AD78/'Data base original'!AD66*100-100)*'Data base original'!AD66/('Data base original'!$AN66)","v":0.84911826454882411},{"$f":"('Data base original'!AE78/'Data base original'!AE66*100-100)*'Data base original'!AE66/('Data base original'!$AN66)","v":2.7764853355331578},{"$f":"('Data base original'!AF78/'Data base original'!AF66*100-100)*'Data base original'!AF66/('Data base original'!$AN66)","v":4.0314156880202123},{"$f":"('Data base original'!AG78/'Data base original'!AG66*100-100)*'Data base original'!AG66/('Data base original'!$AN66)","v":-0.63921546044284383},{"$f":"('Data base original'!AH78/'Data base original'!AH66*100-100)*'Data base original'!AH66/('Data base original'!$AN66)","v":-5.896506252748164E-2},{"$f":"('Data base original'!AI78/'Data base original'!AI66*100-100)*'Data base original'!AI66/('Data base original'!$AN66)","v":1.3238297462012314},{"$f":"('Data base original'!AJ78/'Data base original'!AJ66*100-100)*'Data base original'!AJ66/('Data base original'!$AN66)","v":-0.61443304285883171},{"$f":"('Data base original'!AK78/'Data base original'!AK66*100-100)*'Data base original'!AK66/('Data base original'!$AN66)","v":6.1635581663690063E-2},{"$f":"-('Data base original'!AL78/'Data base original'!AL66*100-100)*'Data base original'!AL66/('Data base original'!$AN66)","v":1.2933858280484558},{"$f":"-('Data base original'!AM78/'Data base original'!AM66*100-100)*'Data base original'!AM66/('Data base original'!$AN66)","v":-7.413361122114541E-2},{"$f":"(('Data base original'!AJ78-'Data base original'!AL78)/('Data base original'!AJ66-'Data base original'!AL66)*100-100)*(('Data base original'!AJ66-'Data base original'!AL66)/'Data base original'!AN66)","v":0.67895278518962465},{"$f":"(('Data base original'!AK78-'Data base original'!AM78)/('Data base original'!AK66-'Data base original'!AM66)*100-100)*(('Data base original'!AK66-'Data base original'!AM66)/'Data base original'!AN66)","v":-1.2498029557455281E-2},{"$f":"('Data base original'!AN78/'Data base original'!AN66*100-100)*'Data base original'!AN66/('Data base original'!$AN66)","v":19.700772710439225}]
["2011-09-01",{"$f":"'Data base original'!B79/'Data base original'!B67*100-100","v":13.754569266109158},{"$f":"'Data base original'!C79/'Data base original'!C67*100-100","v":17.352151178709292},{"$f":"'Data base original'!D79/'Data base original'!D67*100-100","v":12.13321307685311},{"$f":"'Data base original'!E79/'Data base original'!E67*100-100","v":53.739933410933929},{"$f":"'Data base original'!F79/'Data base original'!F67*100-100","v":16.553744090807541},{"$f":"'Data base original'!G79","v":28.74},null,null,null,{"$f":"'Data base original'!K79","v":9.3000000000000007},null,null,{"$f":"'Data base original'!N79","v":1.81},null,null,{"$f":"'Data base original'!Q79","v":4.17},{"$f":"('Data base original'!S79/'Data base original'!S67*100-100)*'Data base original'!S67/'Data base original'!$V67","v":2.1579929451459505},{"$f":"('Data base original'!T79/'Data base original'!T67*100-100)*'Data base original'!T67/'Data base original'!$V67","v":6.5855378687183652},{"$f":"('Data base original'!U79/'Data base original'!U67*100-100)*'Data base original'!U67/'Data base original'!$V67","v":-1.3103729998466314},{"$f":"('Data base original'!V79/'Data base original'!V67*100-100)*'Data base original'!V67/'Data base original'!$V67","v":7.4331578140177044},{"$f":"('Data base original'!V79/'Data base original'!V67*100-100)*'Data base original'!V67/('Data base original'!$AC67)","v":2.0181212611373747},{"$f":"('Data base original'!W79/'Data base original'!W67*100-100)*'Data base original'!W67/('Data base original'!$AC67)","v":17.746892877032177},{"$f":"('Data base original'!X79/'Data base original'!X67*100-100)*'Data base original'!X67/('Data base original'!$AC67)","v":0.16395500273167241},{"$f":"('Data base original'!Y79/'Data base original'!Y67*100-100)*'Data base original'!Y67/('Data base original'!$AC67)","v":1.6107494659903141},{"$f":"('Data base original'!Z79/'Data base original'!Z67*100-100)*'Data base original'!Z67/('Data base original'!$AC67)","v":0.16117904501346422},{"$f":"-('Data base original'!AA79/'Data base original'!AA67*100-100)*'Data base original'!AA67/('Data base original'!$AC67)","v":-2.2957170329581911},{"$f":"-('Data base original'!AB79/'Data base original'!AB67*100-100)*'Data base original'!AB67/('Data base original'!$AC67)","v":-1.0583338800668812E-2},{"$f":"(('Data base original'!Y79-'Data base original'!AA79)/('Data base original'!Y67-'Data base original'!AA67)*100-100)*(('Data base original'!Y67-'Data base original'!AA67)/'Data base original'!AC67)","v":-0.68496756696787664},{"$f":"(('Data base original'!Z79-'Data base original'!AB79)/('Data base original'!Z67-'Data base original'!AB67)*100-100)*(('Data base original'!Z67-'Data base original'!AB67)/'Data base original'!AC67)","v":0.15059570621279547},{"$f":"('Data base original'!AC79/'Data base original'!AC67*100-100)*'Data base original'!AC67/('Data base original'!$AC67)","v":19.394597280146115},{"$f":"('Data base original'!AC79/'Data base original'!AC67*100-100)*'Data base original'!AC67/('Data base original'!$AN67)","v":11.701387735447621},{"$f":"('Data base original'!AD79/'Data base original'!AD67*100-100)*'Data base original'!AD67/('Data base original'!$AN67)","v":0.74268023856270959},{"$f":"('Data base original'!AE79/'Data base original'!AE67*100-100)*'Data base original'!AE67/('Data base original'!$AN67)","v":3.5840209567510395},{"$f":"('Data base original'!AF79/'Data base original'!AF67*100-100)*'Data base original'!AF67/('Data base original'!$AN67)","v":4.1996238437118993},{"$f":"('Data base original'!AG79/'Data base original'!AG67*100-100)*'Data base original'!AG67/('Data base original'!$AN67)","v":-0.55478580188616811},{"$f":"('Data base original'!AH79/'Data base original'!AH67*100-100)*'Data base original'!AH67/('Data base original'!$AN67)","v":-3.422923721071261E-2},{"$f":"('Data base original'!AI79/'Data base original'!AI67*100-100)*'Data base original'!AI67/('Data base original'!$AN67)","v":1.2537112356963471},{"$f":"('Data base original'!AJ79/'Data base original'!AJ67*100-100)*'Data base original'!AJ67/('Data base original'!$AN67)","v":-1.1037097160542935},{"$f":"('Data base original'!AK79/'Data base original'!AK67*100-100)*'Data base original'!AK67/('Data base original'!$AN67)","v":1.6120191224616956E-2},{"$f":"-('Data base original'!AL79/'Data base original'!AL67*100-100)*'Data base original'!AL67/('Data base original'!$AN67)","v":0.5546811253197742},{"$f":"-('Data base original'!AM79/'Data base original'!AM67*100-100)*'Data base original'!AM67/('Data base original'!$AN67)","v":-8.9917170532116661E-2},{"$f":"(('Data base original'!AJ79-'Data base original'!AL79)/('Data base original'!AJ67-'Data base original'!AL67)*100-100)*(('Data base original'!AJ67-'Data base original'!AL67)/'Data base original'!AN67)","v":-0.54902859073451948},{"$f":"(('Data base original'!AK79-'Data base original'!AM79)/('Data base original'!AK67-'Data base original'!AM67)*100-100)*(('Data base original'!AK67-'Data base original'!AM67)/'Data base original'!AN67)","v":-7.3796979307499705E-2},{"$f":"('Data base original'!AN79/'Data base original'!AN67*100-100)*'Data base original'!AN67/('Data base original'!$AN67)","v":20.269583401030715}]
["2011-10-01",{"$f":"'Data base original'!B80/'Data base original'!B68*100-100","v":14.015088342973428},{"$f":"'Data base original'!C80/'Data base original'!C68*100-100","v":17.234479025918944},{"$f":"'Data base original'!D80/'Data base original'!D68*100-100","v":11.884133383645917},{"$f":"'Data base original'!E80/'Data base original'!E68*100-100","v":35.634797748585015},{"$f":"'Data base original'!F80/'Data base original'!F68*100-100","v":15.454617394643861},{"$f":"'Data base original'!G80","v":27.73},null,null,null,{"$f":"'Data base original'!K80","v":9.59},null,null,{"$f":"'Data base original'!N80","v":2.02},null,null,{"$f":"'Data base original'!Q80","v":4.1100000000000003},{"$f":"('Data base original'!S80/'Data base original'!S68*100-100)*'Data base original'!S68/'Data base original'!$V68","v":2.4383455239821323},{"$f":"('Data base original'!T80/'Data base original'!T68*100-100)*'Data base original'!T68/'Data base original'!$V68","v":7.3749831704317508},{"$f":"('Data base original'!U80/'Data base original'!U68*100-100)*'Data base original'!U68/'Data base original'!$V68","v":-0.3039753382096046},{"$f":"('Data base original'!V80/'Data base original'!V68*100-100)*'Data base original'!V68/'Data base original'!$V68","v":9.5093533562042865},{"$f":"('Data base original'!V80/'Data base original'!V68*100-100)*'Data base original'!V68/('Data base original'!$AC68)","v":2.5283667004966879},{"$f":"('Data base original'!W80/'Data base original'!W68*100-100)*'Data base original'!W68/('Data base original'!$AC68)","v":18.339680223311372},{"$f":"('Data base original'!X80/'Data base original'!X68*100-100)*'Data base original'!X68/('Data base original'!$AC68)","v":0.2233898289595467},{"$f":"('Data base original'!Y80/'Data base original'!Y68*100-100)*'Data base original'!Y68/('Data base original'!$AC68)","v":2.4447245919648397},{"$f":"('Data base original'!Z80/'Data base original'!Z68*100-100)*'Data base original'!Z68/('Data base original'!$AC68)","v":0.16866104189549749},{"$f":"-('Data base original'!AA80/'Data base original'!AA68*100-100)*'Data base original'!AA68/('Data base original'!$AC68)","v":-3.1520683493020765},{"$f":"-('Data base original'!AB80/'Data base original'!AB68*100-100)*'Data base original'!AB68/('Data base original'!$AC68)","v":-1.2219320382224817E-2},{"$f":"(('Data base original'!Y80-'Data base original'!AA80)/('Data base original'!Y68-'Data base original'!AA68)*100-100)*(('Data base original'!Y68-'Data base original'!AA68)/'Data base original'!AC68)","v":-0.70734375733723631},{"$f":"(('Data base original'!Z80-'Data base original'!AB80)/('Data base original'!Z68-'Data base original'!AB68)*100-100)*(('Data base original'!Z68-'Data base original'!AB68)/'Data base original'!AC68)","v":0.15644172151327271},{"$f":"('Data base original'!AC80/'Data base original'!AC68*100-100)*'Data base original'!AC68/('Data base original'!$AC68)","v":20.540534716943654},{"$f":"('Data base original'!AC80/'Data base original'!AC68*100-100)*'Data base original'!AC68/('Data base original'!$AN68)","v":12.320042411027545},{"$f":"('Data base original'!AD80/'Data base original'!AD68*100-100)*'Data base original'!AD68/('Data base original'!$AN68)","v":0.4600783478226283},{"$f":"('Data base original'!AE80/'Data base original'!AE68*100-100)*'Data base original'!AE68/('Data base original'!$AN68)","v":4.5727060022092756},{"$f":"('Data base original'!AF80/'Data base original'!AF68*100-100)*'Data base original'!AF68/('Data base original'!$AN68)","v":4.3647055824510073},{"$f":"('Data base original'!AG80/'Data base original'!AG68*100-100)*'Data base original'!AG68/('Data base original'!$AN68)","v":-0.648465824774903},{"$f":"('Data base original'!AH80/'Data base original'!AH68*100-100)*'Data base original'!AH68/('Data base original'!$AN68)","v":-3.0141996312364167E-2},{"$f":"('Data base original'!AI80/'Data base original'!AI68*100-100)*'Data base original'!AI68/('Data base original'!$AN68)","v":1.3646479152378588},{"$f":"('Data base original'!AJ80/'Data base original'!AJ68*100-100)*'Data base original'!AJ68/('Data base original'!$AN68)","v":-1.2021701679924415},{"$f":"('Data base original'!AK80/'Data base original'!AK68*100-100)*'Data base original'!AK68/('Data base original'!$AN68)","v":-1.5483902215255507E-2},{"$f":"-('Data base original'!AL80/'Data base original'!AL68*100-100)*'Data base original'!AL68/('Data base original'!$AN68)","v":0.31205224264478393},{"$f":"-('Data base original'!AM80/'Data base original'!AM68*100-100)*'Data base original'!AM68/('Data base original'!$AN68)","v":-9.2800187276764992E-2},{"$f":"(('Data base original'!AJ80-'Data base original'!AL80)/('Data base original'!AJ68-'Data base original'!AL68)*100-100)*(('Data base original'!AJ68-'Data base original'!AL68)/'Data base original'!AN68)","v":-0.89011792534765743},{"$f":"(('Data base original'!AK80-'Data base original'!AM80)/('Data base original'!AK68-'Data base original'!AM68)*100-100)*(('Data base original'!AK68-'Data base original'!AM68)/'Data base original'!AN68)","v":-0.10828408949202067},{"$f":"('Data base original'!AN80/'Data base original'!AN68*100-100)*'Data base original'!AN68/('Data base original'!$AN68)","v":21.405170422821371}]
["2011-11-01",{"$f":"'Data base original'!B81/'Data base original'!B69*100-100","v":15.287564811146126},{"$f":"'Data base original'!C81/'Data base original'!C69*100-100","v":18.101772472356743},{"$f":"'Data base original'!D81/'Data base original'!D69*100-100","v":12.247254713659288},{"$f":"'Data base original'!E81/'Data base original'!E69*100-100","v":38.36536602609857},{"$f":"'Data base original'!F81/'Data base original'!F69*100-100","v":16.585731333614319},{"$f":"'Data base original'!G81","v":26.96},null,null,null,{"$f":"'Data base original'!K81","v":9.5},null,null,{"$f":"'Data base original'!N81","v":2.2200000000000002},null,null,{"$f":"'Data base original'!Q81","v":4.1500000000000004},{"$f":"('Data base original'!S81/'Data base original'!S69*100-100)*'Data base original'!S69/'Data base original'!$V69","v":2.7586296764441385},{"$f":"('Data base original'!T81/'Data base original'!T69*100-100)*'Data base original'!T69/'Data base original'!$V69","v":7.1604197886397341},{"$f":"('Data base original'!U81/'Data base original'!U69*100-100)*'Data base original'!U69/'Data base original'!$V69","v":-0.41826109902139785},{"$f":"('Data base original'!V81/'Data base original'!V69*100-100)*'Data base original'!V69/'Data base original'!$V69","v":9.5007883660624817},{"$f":"('Data base original'!V81/'Data base original'!V69*100-100)*'Data base original'!V69/('Data base original'!$AC69)","v":2.4839138599046207},{"$f":"('Data base original'!W81/'Data base original'!W69*100-100)*'Data base original'!W69/('Data base original'!$AC69)","v":18.574085077320238},{"$f":"('Data base original'!X81/'Data base original'!X69*100-100)*'Data base original'!X69/('Data base original'!$AC69)","v":0.21871796709076449},{"$f":"('Data base original'!Y81/'Data base original'!Y69*100-100)*'Data base original'!Y69/('Data base original'!$AC69)","v":1.6432805518104392},{"$f":"('Data base original'!Z81/'Data base original'!Z69*100-100)*'Data base original'!Z69/('Data base original'!$AC69)","v":0.16557154518085906},{"$f":"-('Data base original'!AA81/'Data base original'!AA69*100-100)*'Data base original'!AA69/('Data base original'!$AC69)","v":-2.2795045448665192},{"$f":"-('Data base original'!AB81/'Data base original'!AB69*100-100)*'Data base original'!AB69/('Data base original'!$AC69)","v":-6.8136438346032557E-3},{"$f":"(('Data base original'!Y81-'Data base original'!AA81)/('Data base original'!Y69-'Data base original'!AA69)*100-100)*(('Data base original'!Y69-'Data base original'!AA69)/'Data base original'!AC69)","v":-0.63622399305608079},{"$f":"(('Data base original'!Z81-'Data base original'!AB81)/('Data base original'!Z69-'Data base original'!AB69)*100-100)*(('Data base original'!Z69-'Data base original'!AB69)/'Data base original'!AC69)","v":0.15875790134625586},{"$f":"('Data base original'!AC81/'Data base original'!AC69*100-100)*'Data base original'!AC69/('Data base original'!$AC69)","v":20.799250812605834},{"$f":"('Data base original'!AC81/'Data base original'!AC69*100-100)*'Data base original'!AC69/('Data base original'!$AN69)","v":12.399956842089454},{"$f":"('Data base original'!AD81/'Data base original'!AD69*100-100)*'Data base original'!AD69/('Data base original'!$AN69)","v":0.21407331043084107},{"$f":"('Data base original'!AE81/'Data base original'!AE69*100-100)*'Data base original'!AE69/('Data base original'!$AN69)","v":4.6648280429984101},{"$f":"('Data base original'!AF81/'Data base original'!AF69*100-100)*'Data base original'!AF69/('Data base original'!$AN69)","v":3.9119155555533216},{"$f":"('Data base original'!AG81/'Data base original'!AG69*100-100)*'Data base original'!AG69/('Data base original'!$AN69)","v":-0.5618916634790514},{"$f":"('Data base original'!AH81/'Data base original'!AH69*100-100)*'Data base original'!AH69/('Data base original'!$AN69)","v":-5.1182613120087074E-2},{"$f":"('Data base original'!AI81/'Data base original'!AI69*100-100)*'Data base original'!AI69/('Data base original'!$AN69)","v":1.4896780790844384},{"$f":"('Data base original'!AJ81/'Data base original'!AJ69*100-100)*'Data base original'!AJ69/('Data base original'!$AN69)","v":-1.3070861378346048},{"$f":"('Data base original'!AK81/'Data base original'!AK69*100-100)*'Data base original'!AK69/('Data base original'!$AN69)","v":-3.2090686003864166E-2},{"$f":"-('Data base original'!AL81/'Data base original'!AL69*100-100)*'Data base original'!AL69/('Data base original'!$AN69)","v":0.27795002402713981},{"$f":"-('Data base original'!AM81/'Data base original'!AM69*100-100)*'Data base original'!AM69/('Data base original'!$AN69)","v":-7.961739818680208E-2},{"$f":"(('Data base original'!AJ81-'Data base original'!AL81)/('Data base original'!AJ69-'Data base original'!AL69)*100-100)*(('Data base original'!AJ69-'Data base original'!AL69)/'Data base original'!AN69)","v":-1.0291361138074655},{"$f":"(('Data base original'!AK81-'Data base original'!AM81)/('Data base original'!AK69-'Data base original'!AM69)*100-100)*(('Data base original'!AK69-'Data base original'!AM69)/'Data base original'!AN69)","v":-0.11170808419066633},{"$f":"('Data base original'!AN81/'Data base original'!AN69*100-100)*'Data base original'!AN69/('Data base original'!$AN69)","v":20.926533355559201}]
["2011-12-01",{"$f":"'Data base original'!B82/'Data base original'!B70*100-100","v":15.569854725386008},{"$f":"'Data base original'!C82/'Data base original'!C70*100-100","v":17.71566490830692},{"$f":"'Data base original'!D82/'Data base original'!D70*100-100","v":12.392925608811893},{"$f":"'Data base original'!E82/'Data base original'!E70*100-100","v":43.920502370324016},{"$f":"'Data base original'!F82/'Data base original'!F70*100-100","v":16.937997631403405},{"$f":"'Data base original'!G82","v":27.48},null,null,null,{"$f":"'Data base original'!K82","v":9.2799999999999994},null,null,{"$f":"'Data base original'!N82","v":2.75},null,null,{"$f":"'Data base original'!Q82","v":4.26},{"$f":"('Data base original'!S82/'Data base original'!S70*100-100)*'Data base original'!S70/'Data base original'!$V70","v":2.717722006283608},{"$f":"('Data base original'!T82/'Data base original'!T70*100-100)*'Data base original'!T70/'Data base original'!$V70","v":6.9973049411998289},{"$f":"('Data base original'!U82/'Data base original'!U70*100-100)*'Data base original'!U70/'Data base original'!$V70","v":2.1052320960671551},{"$f":"('Data base original'!V82/'Data base original'!V70*100-100)*'Data base original'!V70/'Data base original'!$V70","v":11.820259043550593},{"$f":"('Data base original'!V82/'Data base original'!V70*100-100)*'Data base original'!V70/('Data base original'!$AC70)","v":3.1728140584879232},{"$f":"('Data base original'!W82/'Data base original'!W70*100-100)*'Data base original'!W70/('Data base original'!$AC70)","v":18.904995152154434},{"$f":"('Data base original'!X82/'Data base original'!X70*100-100)*'Data base original'!X70/('Data base original'!$AC70)","v":0.23999854200885709},{"$f":"('Data base original'!Y82/'Data base original'!Y70*100-100)*'Data base original'!Y70/('Data base original'!$AC70)","v":1.6104902162719377},{"$f":"('Data base original'!Z82/'Data base original'!Z70*100-100)*'Data base original'!Z70/('Data base original'!$AC70)","v":0.15916569973504083},{"$f":"-('Data base original'!AA82/'Data base original'!AA70*100-100)*'Data base original'!AA70/('Data base original'!$AC70)","v":-2.1699868173300838},{"$f":"-('Data base original'!AB82/'Data base original'!AB70*100-100)*'Data base original'!AB70/('Data base original'!$AC70)","v":-1.533324018389922E-2},{"$f":"(('Data base original'!Y82-'Data base original'!AA82)/('Data base original'!Y70-'Data base original'!AA70)*100-100)*(('Data base original'!Y70-'Data base original'!AA70)/'Data base original'!AC70)","v":-0.55949660105814669},{"$f":"(('Data base original'!Z82-'Data base original'!AB82)/('Data base original'!Z70-'Data base original'!AB70)*100-100)*(('Data base original'!Z70-'Data base original'!AB70)/'Data base original'!AC70)","v":0.1438324595511416},{"$f":"('Data base original'!AC82/'Data base original'!AC70*100-100)*'Data base original'!AC70/('Data base original'!$AC70)","v":21.902143611144226},{"$f":"('Data base original'!AC82/'Data base original'!AC70*100-100)*'Data base original'!AC70/('Data base original'!$AN70)","v":13.115362891340297},{"$f":"('Data base original'!AD82/'Data base original'!AD70*100-100)*'Data base original'!AD70/('Data base original'!$AN70)","v":0.15748775768466469},{"$f":"('Data base original'!AE82/'Data base original'!AE70*100-100)*'Data base original'!AE70/('Data base original'!$AN70)","v":4.5512764345334533},{"$f":"('Data base original'!AF82/'Data base original'!AF70*100-100)*'Data base original'!AF70/('Data base original'!$AN70)","v":3.6482667821057921},{"$f":"('Data base original'!AG82/'Data base original'!AG70*100-100)*'Data base original'!AG70/('Data base original'!$AN70)","v":-0.47934961987290697},{"$f":"('Data base original'!AH82/'Data base original'!AH70*100-100)*'Data base original'!AH70/('Data base original'!$AN70)","v":-4.9402053266102246E-2},{"$f":"('Data base original'!AI82/'Data base original'!AI70*100-100)*'Data base original'!AI70/('Data base original'!$AN70)","v":1.5828617470714783},{"$f":"('Data base original'!AJ82/'Data base original'!AJ70*100-100)*'Data base original'!AJ70/('Data base original'!$AN70)","v":-1.4203838829962969},{"$f":"('Data base original'!AK82/'Data base original'!AK70*100-100)*'Data base original'!AK70/('Data base original'!$AN70)","v":-4.8803240499240362E-2},{"$f":"-('Data base original'!AL82/'Data base original'!AL70*100-100)*'Data base original'!AL70/('Data base original'!$AN70)","v":-3.3234108560832087E-2},{"$f":"-('Data base original'!AM82/'Data base original'!AM70*100-100)*'Data base original'!AM70/('Data base original'!$AN70)","v":-6.7965249038819467E-2},{"$f":"(('Data base original'!AJ82-'Data base original'!AL82)/('Data base original'!AJ70-'Data base original'!AL70)*100-100)*(('Data base original'!AJ70-'Data base original'!AL70)/'Data base original'!AN70)","v":-1.453617991557129},{"$f":"(('Data base original'!AK82-'Data base original'!AM82)/('Data base original'!AK70-'Data base original'!AM70)*100-100)*(('Data base original'!AK70-'Data base original'!AM70)/'Data base original'!AN70)","v":-0.11676848953805977},{"$f":"('Data base original'!AN82/'Data base original'!AN70*100-100)*'Data base original'!AN70/('Data base original'!$AN70)","v":20.956117458501481}]
["2012-01-01",{"$f":"'Data base original'!B83/'Data base original'!B71*100-100","v":15.911833996848543},{"$f":"'Data base original'!C83/'Data base original'!C71*100-100","v":17.2436283594445},{"$f":"'Data base original'!D83/'Data base original'!D71*100-100","v":12.765775694553128},{"$f":"'Data base original'!E83/'Data base original'!E71*100-100","v":17.367214757638337},{"$f":"'Data base original'!F83/'Data base original'!F71*100-100","v":15.410465404287393},{"$f":"'Data base original'!G83","v":28.04},null,null,null,{"$f":"'Data base original'!K83","v":9.39},null,null,{"$f":"'Data base original'!N83","v":2.7},null,null,{"$f":"'Data base original'!Q83","v":4.33},{"$f":"('Data base original'!S83/'Data base original'!S71*100-100)*'Data base original'!S71/'Data base original'!$V71","v":2.6733855803176079},{"$f":"('Data base original'!T83/'Data base original'!T71*100-100)*'Data base original'!T71/'Data base original'!$V71","v":5.6364598624270572},{"$f":"('Data base original'!U83/'Data base original'!U71*100-100)*'Data base original'!U71/'Data base original'!$V71","v":2.0173027696562795},{"$f":"('Data base original'!V83/'Data base original'!V71*100-100)*'Data base original'!V71/'Data base original'!$V71","v":10.327148212400942},{"$f":"('Data base original'!V83/'Data base original'!V71*100-100)*'Data base original'!V71/('Data base original'!$AC71)","v":2.7977905692023164},{"$f":"('Data base original'!W83/'Data base original'!W71*100-100)*'Data base original'!W71/('Data base original'!$AC71)","v":18.295060644872574},{"$f":"('Data base original'!X83/'Data base original'!X71*100-100)*'Data base original'!X71/('Data base original'!$AC71)","v":0.22575409247079964},{"$f":"('Data base original'!Y83/'Data base original'!Y71*100-100)*'Data base original'!Y71/('Data base original'!$AC71)","v":1.8667704870126083},{"$f":"('Data base original'!Z83/'Data base original'!Z71*100-100)*'Data base original'!Z71/('Data base original'!$AC71)","v":0.14376779222715785},{"$f":"-('Data base original'!AA83/'Data base original'!AA71*100-100)*'Data base original'!AA71/('Data base original'!$AC71)","v":-1.9476537067495305},{"$f":"-('Data base original'!AB83/'Data base original'!AB71*100-100)*'Data base original'!AB71/('Data base original'!$AC71)","v":-1.4876517667366132E-2},{"$f":"(('Data base original'!Y83-'Data base original'!AA83)/('Data base original'!Y71-'Data base original'!AA71)*100-100)*(('Data base original'!Y71-'Data base original'!AA71)/'Data base original'!AC71)","v":-8.0883219736922626E-2},{"$f":"(('Data base original'!Z83-'Data base original'!AB83)/('Data base original'!Z71-'Data base original'!AB71)*100-100)*(('Data base original'!Z71-'Data base original'!AB71)/'Data base original'!AC71)","v":0.1288912745597918},{"$f":"('Data base original'!AC83/'Data base original'!AC71*100-100)*'Data base original'!AC71/('Data base original'!$AC71)","v":21.366613361368582},{"$f":"('Data base original'!AC83/'Data base original'!AC71*100-100)*'Data base original'!AC71/('Data base original'!$AN71)","v":12.712625932544896},{"$f":"('Data base original'!AD83/'Data base original'!AD71*100-100)*'Data base original'!AD71/('Data base original'!$AN71)","v":0.3652649158648465},{"$f":"('Data base original'!AE83/'Data base original'!AE71*100-100)*'Data base original'!AE71/('Data base original'!$AN71)","v":4.6437277209838337},{"$f":"('Data base original'!AF83/'Data base original'!AF71*100-100)*'Data base original'!AF71/('Data base original'!$AN71)","v":2.889339543286666},{"$f":"('Data base original'!AG83/'Data base original'!AG71*100-100)*'Data base original'!AG71/('Data base original'!$AN71)","v":1.0133319738806344E-2},{"$f":"('Data base original'!AH83/'Data base original'!AH71*100-100)*'Data base original'!AH71/('Data base original'!$AN71)","v":-3.1991288845341581E-2},{"$f":"('Data base original'!AI83/'Data base original'!AI71*100-100)*'Data base original'!AI71/('Data base original'!$AN71)","v":1.5465557819569684},{"$f":"('Data base original'!AJ83/'Data base original'!AJ71*100-100)*'Data base original'!AJ71/('Data base original'!$AN71)","v":-1.2553762596404878},{"$f":"('Data base original'!AK83/'Data base original'!AK71*100-100)*'Data base original'!AK71/('Data base original'!$AN71)","v":-4.8596875470446763E-2},{"$f":"-('Data base original'!AL83/'Data base original'!AL71*100-100)*'Data base original'!AL71/('Data base original'!$AN71)","v":-0.43942975862328754},{"$f":"-('Data base original'!AM83/'Data base original'!AM71*100-100)*'Data base original'!AM71/('Data base original'!$AN71)","v":-6.3787214205046808E-2},{"$f":"(('Data base original'!AJ83-'Data base original'!AL83)/('Data base original'!AJ71-'Data base original'!AL71)*100-100)*(('Data base original'!AJ71-'Data base original'!AL71)/'Data base original'!AN71)","v":-1.6948060182637745},{"$f":"(('Data base original'!AK83-'Data base original'!AM83)/('Data base original'!AK71-'Data base original'!AM71)*100-100)*(('Data base original'!AK71-'Data base original'!AM71)/'Data base original'!AN71)","v":-0.1123840896754937},{"$f":"('Data base original'!AN83/'Data base original'!AN71*100-100)*'Data base original'!AN71/('Data base original'!$AN71)","v":20.328465817591407}]
["2012-02-01",{"$f":"'Data base original'!B84/'Data base original'!B72*100-100","v":16.240271699794803},{"$f":"'Data base original'!C84/'Data base original'!C72*100-100","v":16.970955632180093},{"$f":"'Data base original'!D84/'Data base original'!D72*100-100","v":12.821499601797683},{"$f":"'Data base original'!E84/'Data base original'!E72*100-100","v":15.729348735249914},{"$f":"'Data base original'!F84/'Data base original'!F72*100-100","v":15.453087649510294},{"$f":"'Data base original'!G84","v":29.81},null,null,null,{"$f":"'Data base original'!K84","v":9.4600000000000009},null,null,{"$f":"'Data base original'!N84","v":2.5},null,null,{"$f":"'Data base original'!Q84","v":4.32},{"$f":"('Data base original'!S84/'Data base original'!S72*100-100)*'Data base original'!S72/'Data base original'!$V72","v":2.7538871529826841},{"$f":"('Data base original'!T84/'Data base original'!T72*100-100)*'Data base original'!T72/'Data base original'!$V72","v":4.4770283701600908},{"$f":"('Data base original'!U84/'Data base original'!U72*100-100)*'Data base original'!U72/'Data base original'!$V72","v":2.9455112157486485},{"$f":"('Data base original'!V84/'Data base original'!V72*100-100)*'Data base original'!V72/'Data base original'!$V72","v":10.176426738891436},{"$f":"('Data base original'!V84/'Data base original'!V72*100-100)*'Data base original'!V72/('Data base original'!$AC72)","v":2.7014516787626572},{"$f":"('Data base original'!W84/'Data base original'!W72*100-100)*'Data base original'!W72/('Data base original'!$AC72)","v":18.056029507296593},{"$f":"('Data base original'!X84/'Data base original'!X72*100-100)*'Data base original'!X72/('Data base original'!$AC72)","v":0.2839029905054638},{"$f":"('Data base original'!Y84/'Data base original'!Y72*100-100)*'Data base original'!Y72/('Data base original'!$AC72)","v":1.9851025500702975},{"$f":"('Data base original'!Z84/'Data base original'!Z72*100-100)*'Data base original'!Z72/('Data base original'!$AC72)","v":0.13448952674889256},{"$f":"-('Data base original'!AA84/'Data base original'!AA72*100-100)*'Data base original'!AA72/('Data base original'!$AC72)","v":-2.1451842034490083},{"$f":"-('Data base original'!AB84/'Data base original'!AB72*100-100)*'Data base original'!AB72/('Data base original'!$AC72)","v":-2.6820446340084683E-3},{"$f":"(('Data base original'!Y84-'Data base original'!AA84)/('Data base original'!Y72-'Data base original'!AA72)*100-100)*(('Data base original'!Y72-'Data base original'!AA72)/'Data base original'!AC72)","v":-0.16008165337870978},{"$f":"(('Data base original'!Z84-'Data base original'!AB84)/('Data base original'!Z72-'Data base original'!AB72)*100-100)*(('Data base original'!Z72-'Data base original'!AB72)/'Data base original'!AC72)","v":0.13180748211488413},{"$f":"('Data base original'!AC84/'Data base original'!AC72*100-100)*'Data base original'!AC72/('Data base original'!$AC72)","v":21.013110005300902},{"$f":"('Data base original'!AC84/'Data base original'!AC72*100-100)*'Data base original'!AC72/('Data base original'!$AN72)","v":12.355211272529932},{"$f":"('Data base original'!AD84/'Data base original'!AD72*100-100)*'Data base original'!AD72/('Data base original'!$AN72)","v":0.30746978752524873},{"$f":"('Data base original'!AE84/'Data base original'!AE72*100-100)*'Data base original'!AE72/('Data base original'!$AN72)","v":4.4276783835383133},{"$f":"('Data base original'!AF84/'Data base original'!AF72*100-100)*'Data base original'!AF72/('Data base original'!$AN72)","v":2.5257802886986269},{"$f":"('Data base original'!AG84/'Data base original'!AG72*100-100)*'Data base original'!AG72/('Data base original'!$AN72)","v":0.10197959648873607},{"$f":"('Data base original'!AH84/'Data base original'!AH72*100-100)*'Data base original'!AH72/('Data base original'!$AN72)","v":-1.3822905886383581E-2},{"$f":"('Data base original'!AI84/'Data base original'!AI72*100-100)*'Data base original'!AI72/('Data base original'!$AN72)","v":1.4180841020012578},{"$f":"('Data base original'!AJ84/'Data base original'!AJ72*100-100)*'Data base original'!AJ72/('Data base original'!$AN72)","v":-0.8615341184150217},{"$f":"('Data base original'!AK84/'Data base original'!AK72*100-100)*'Data base original'!AK72/('Data base original'!$AN72)","v":-3.5564656833208766E-2},{"$f":"-('Data base original'!AL84/'Data base original'!AL72*100-100)*'Data base original'!AL72/('Data base original'!$AN72)","v":-0.67158232067461199},{"$f":"-('Data base original'!AM84/'Data base original'!AM72*100-100)*'Data base original'!AM72/('Data base original'!$AN72)","v":-6.2097830872379037E-2},{"$f":"(('Data base original'!AJ84-'Data base original'!AL84)/('Data base original'!AJ72-'Data base original'!AL72)*100-100)*(('Data base original'!AJ72-'Data base original'!AL72)/'Data base original'!AN72)","v":-1.5331164390896328},{"$f":"(('Data base original'!AK84-'Data base original'!AM84)/('Data base original'!AK72-'Data base original'!AM72)*100-100)*(('Data base original'!AK72-'Data base original'!AM72)/'Data base original'!AN72)","v":-9.7662487705587719E-2},{"$f":"('Data base original'!AN84/'Data base original'!AN72*100-100)*'Data base original'!AN72/('Data base original'!$AN72)","v":19.491601598100502}]
["2012-03-01",{"$f":"'Data base original'!B85/'Data base original'!B73*100-100","v":16.926108451801497},{"$f":"'Data base original'!C85/'Data base original'!C73*100-100","v":15.955980044480839},{"$f":"'Data base original'!D85/'Data base original'!D73*100-100","v":12.863688815859575},{"$f":"'Data base original'!E85/'Data base original'!E73*100-100","v":15.531903240227152},{"$f":"'Data base original'!F85/'Data base original'!F73*100-100","v":15.713502920320039},{"$f":"'Data base original'!G85","v":27.97},null,null,null,{"$f":"'Data base original'!K85","v":9.33},null,null,{"$f":"'Data base original'!N85","v":2.34},null,null,{"$f":"'Data base original'!Q85","v":4.29},{"$f":"('Data base original'!S85/'Data base original'!S73*100-100)*'Data base original'!S73/'Data base original'!$V73","v":2.9290300439896422},{"$f":"('Data base original'!T85/'Data base original'!T73*100-100)*'Data base original'!T73/'Data base original'!$V73","v":6.2548722428477843},{"$f":"('Data base original'!U85/'Data base original'!U73*100-100)*'Data base original'!U73/'Data base original'!$V73","v":2.2776395345209526},{"$f":"('Data base original'!V85/'Data base original'!V73*100-100)*'Data base original'!V73/'Data base original'!$V73","v":11.461541821358395},{"$f":"('Data base original'!V85/'Data base original'!V73*100-100)*'Data base original'!V73/('Data base original'!$AC73)","v":2.9972265826437372},{"$f":"('Data base original'!W85/'Data base original'!W73*100-100)*'Data base original'!W73/('Data base original'!$AC73)","v":18.137971166197421},{"$f":"('Data base original'!X85/'Data base original'!X73*100-100)*'Data base original'!X73/('Data base original'!$AC73)","v":0.33519333022267905},{"$f":"('Data base original'!Y85/'Data base original'!Y73*100-100)*'Data base original'!Y73/('Data base original'!$AC73)","v":2.4140765904652079},{"$f":"('Data base original'!Z85/'Data base original'!Z73*100-100)*'Data base original'!Z73/('Data base original'!$AC73)","v":0.11557652123668323},{"$f":"-('Data base original'!AA85/'Data base original'!AA73*100-100)*'Data base original'!AA73/('Data base original'!$AC73)","v":-3.0933941567596759},{"$f":"-('Data base original'!AB85/'Data base original'!AB73*100-100)*'Data base original'!AB73/('Data base original'!$AC73)","v":-6.2203582200760464E-3},{"$f":"(('Data base original'!Y85-'Data base original'!AA85)/('Data base original'!Y73-'Data base original'!AA73)*100-100)*(('Data base original'!Y73-'Data base original'!AA73)/'Data base original'!AC73)","v":-0.67931756629446749},{"$f":"(('Data base original'!Z85-'Data base original'!AB85)/('Data base original'!Z73-'Data base original'!AB73)*100-100)*(('Data base original'!Z73-'Data base original'!AB73)/'Data base original'!AC73)","v":0.10935616301660712},{"$f":"('Data base original'!AC85/'Data base original'!AC73*100-100)*'Data base original'!AC73/('Data base original'!$AC73)","v":20.900429675785961},{"$f":"('Data base original'!AC85/'Data base original'!AC73*100-100)*'Data base original'!AC73/('Data base original'!$AN73)","v":12.337353897743712},{"$f":"('Data base original'!AD85/'Data base original'!AD73*100-100)*'Data base original'!AD73/('Data base original'!$AN73)","v":0.69677484341105933},{"$f":"('Data base original'!AE85/'Data base original'!AE73*100-100)*'Data base original'!AE73/('Data base original'!$AN73)","v":4.3695341814194055},{"$f":"('Data base original'!AF85/'Data base original'!AF73*100-100)*'Data base original'!AF73/('Data base original'!$AN73)","v":2.2567652941209113},{"$f":"('Data base original'!AG85/'Data base original'!AG73*100-100)*'Data base original'!AG73/('Data base original'!$AN73)","v":-0.26509432014108897},{"$f":"('Data base original'!AH85/'Data base original'!AH73*100-100)*'Data base original'!AH73/('Data base original'!$AN73)","v":-2.1095102295990539E-2},{"$f":"('Data base original'!AI85/'Data base original'!AI73*100-100)*'Data base original'!AI73/('Data base original'!$AN73)","v":1.4136613078350209},{"$f":"('Data base original'!AJ85/'Data base original'!AJ73*100-100)*'Data base original'!AJ73/('Data base original'!$AN73)","v":-0.7054542896666175},{"$f":"('Data base original'!AK85/'Data base original'!AK73*100-100)*'Data base original'!AK73/('Data base original'!$AN73)","v":0.2143296290247565},{"$f":"-('Data base original'!AL85/'Data base original'!AL73*100-100)*'Data base original'!AL73/('Data base original'!$AN73)","v":-0.41379082098905767},{"$f":"-('Data base original'!AM85/'Data base original'!AM73*100-100)*'Data base original'!AM73/('Data base original'!$AN73)","v":-5.1983375082085545E-2},{"$f":"(('Data base original'!AJ85-'Data base original'!AL85)/('Data base original'!AJ73-'Data base original'!AL73)*100-100)*(('Data base original'!AJ73-'Data base original'!AL73)/'Data base original'!AN73)","v":-1.1192451106556747},{"$f":"(('Data base original'!AK85-'Data base original'!AM85)/('Data base original'!AK73-'Data base original'!AM73)*100-100)*(('Data base original'!AK73-'Data base original'!AM73)/'Data base original'!AN73)","v":0.16234625394267096},{"$f":"('Data base original'!AN85/'Data base original'!AN73*100-100)*'Data base original'!AN73/('Data base original'!$AN73)","v":19.831001245380023}]
["2012-04-01",{"$f":"'Data base original'!B86/'Data base original'!B74*100-100","v":16.603698344029112},{"$f":"'Data base original'!C86/'Data base original'!C74*100-100","v":15.053279950196938},{"$f":"'Data base original'!D86/'Data base original'!D74*100-100","v":12.603150533748746},{"$f":"'Data base original'!E86/'Data base original'!E74*100-100","v":17.825094983654211},{"$f":"'Data base original'!F86/'Data base original'!F74*100-100","v":15.543699423101074},{"$f":"'Data base original'!G86","v":28.97},null,null,null,{"$f":"'Data base original'!K86","v":9.84},null,null,{"$f":"'Data base original'!N86","v":2.4500000000000002},null,null,{"$f":"'Data base original'!Q86","v":4.37},{"$f":"('Data base original'!S86/'Data base original'!S74*100-100)*'Data base original'!S74/'Data base original'!$V74","v":2.9753642302855559},{"$f":"('Data base original'!T86/'Data base original'!T74*100-100)*'Data base original'!T74/'Data base original'!$V74","v":6.9964911204490408},{"$f":"('Data base original'!U86/'Data base original'!U74*100-100)*'Data base original'!U74/'Data base original'!$V74","v":2.1025733828175377},{"$f":"('Data base original'!V86/'Data base original'!V74*100-100)*'Data base original'!V74/'Data base original'!$V74","v":12.074428733552139},{"$f":"('Data base original'!V86/'Data base original'!V74*100-100)*'Data base original'!V74/('Data base original'!$AC74)","v":3.1460170628941628},{"$f":"('Data base original'!W86/'Data base original'!W74*100-100)*'Data base original'!W74/('Data base original'!$AC74)","v":18.301795425178288},{"$f":"('Data base original'!X86/'Data base original'!X74*100-100)*'Data base original'!X74/('Data base original'!$AC74)","v":0.30854195131622264},{"$f":"('Data base original'!Y86/'Data base original'!Y74*100-100)*'Data base original'!Y74/('Data base original'!$AC74)","v":2.339882944011543},{"$f":"('Data base original'!Z86/'Data base original'!Z74*100-100)*'Data base original'!Z74/('Data base original'!$AC74)","v":2.2805688169225451E-2},{"$f":"-('Data base original'!AA86/'Data base original'!AA74*100-100)*'Data base original'!AA74/('Data base original'!$AC74)","v":-2.9668598433936673},{"$f":"-('Data base original'!AB86/'Data base original'!AB74*100-100)*'Data base original'!AB74/('Data base original'!$AC74)","v":-1.1824875233428348E-2},{"$f":"(('Data base original'!Y86-'Data base original'!AA86)/('Data base original'!Y74-'Data base original'!AA74)*100-100)*(('Data base original'!Y74-'Data base original'!AA74)/'Data base original'!AC74)","v":-0.62697689938212464},{"$f":"(('Data base original'!Z86-'Data base original'!AB86)/('Data base original'!Z74-'Data base original'!AB74)*100-100)*(('Data base original'!Z74-'Data base original'!AB74)/'Data base original'!AC74)","v":1.098081293579712E-2},{"$f":"('Data base original'!AC86/'Data base original'!AC74*100-100)*'Data base original'!AC74/('Data base original'!$AC74)","v":21.140358352942329},{"$f":"('Data base original'!AC86/'Data base original'!AC74*100-100)*'Data base original'!AC74/('Data base original'!$AN74)","v":12.565406822087153},{"$f":"('Data base original'!AD86/'Data base original'!AD74*100-100)*'Data base original'!AD74/('Data base original'!$AN74)","v":0.86347944510223618},{"$f":"('Data base original'!AE86/'Data base original'!AE74*100-100)*'Data base original'!AE74/('Data base original'!$AN74)","v":4.3122291360618874},{"$f":"('Data base original'!AF86/'Data base original'!AF74*100-100)*'Data base original'!AF74/('Data base original'!$AN74)","v":2.1102905249084052},{"$f":"('Data base original'!AG86/'Data base original'!AG74*100-100)*'Data base original'!AG74/('Data base original'!$AN74)","v":-0.26231189009419342},{"$f":"('Data base original'!AH86/'Data base original'!AH74*100-100)*'Data base original'!AH74/('Data base original'!$AN74)","v":-2.1240840036459308E-2},{"$f":"('Data base original'!AI86/'Data base original'!AI74*100-100)*'Data base original'!AI74/('Data base original'!$AN74)","v":1.4790723186883163},{"$f":"('Data base original'!AJ86/'Data base original'!AJ74*100-100)*'Data base original'!AJ74/('Data base original'!$AN74)","v":-0.89408476066341147},{"$f":"('Data base original'!AK86/'Data base original'!AK74*100-100)*'Data base original'!AK74/('Data base original'!$AN74)","v":-5.5623787636516396E-2},{"$f":"-('Data base original'!AL86/'Data base original'!AL74*100-100)*'Data base original'!AL74/('Data base original'!$AN74)","v":8.6367848638297579E-2},{"$f":"-('Data base original'!AM86/'Data base original'!AM74*100-100)*'Data base original'!AM74/('Data base original'!$AN74)","v":-4.2340509205686883E-2},{"$f":"(('Data base original'!AJ86-'Data base original'!AL86)/('Data base original'!AJ74-'Data base original'!AL74)*100-100)*(('Data base original'!AJ74-'Data base original'!AL74)/'Data base original'!AN74)","v":-0.80771691202511275},{"$f":"(('Data base original'!AK86-'Data base original'!AM86)/('Data base original'!AK74-'Data base original'!AM74)*100-100)*(('Data base original'!AK74-'Data base original'!AM74)/'Data base original'!AN74)","v":-9.7964296842203286E-2},{"$f":"('Data base original'!AN86/'Data base original'!AN74*100-100)*'Data base original'!AN74/('Data base original'!$AN74)","v":20.14124430785003}]
["2012-05-01",{"$f":"'Data base original'!B87/'Data base original'!B75*100-100","v":17.101473200796008},{"$f":"'Data base original'!C87/'Data base original'!C75*100-100","v":14.970362393794389},{"$f":"'Data base original'!D87/'Data base original'!D75*100-100","v":12.317496470118812},{"$f":"'Data base original'!E87/'Data base original'!E75*100-100","v":23.031683635036956},{"$f":"'Data base original'!F87/'Data base original'!F75*100-100","v":16.185675971790218},{"$f":"'Data base original'!G87","v":27.931544579865701},null,null,null,{"$f":"'Data base original'!K87","v":9.9690185256623103},null,null,{"$f":"'Data base original'!N87","v":2.2949663942874898},null,null,{"$f":"'Data base original'!Q87","v":4.3499999999999996},{"$f":"('Data base original'!S87/'Data base original'!S75*100-100)*'Data base original'!S75/'Data base original'!$V75","v":3.0108265579386706},{"$f":"('Data base original'!T87/'Data base original'!T75*100-100)*'Data base original'!T75/'Data base original'!$V75","v":5.7023462568457708},{"$f":"('Data base original'!U87/'Data base original'!U75*100-100)*'Data base original'!U75/'Data base original'!$V75","v":4.3101570604839727},{"$f":"('Data base original'!V87/'Data base original'!V75*100-100)*'Data base original'!V75/'Data base original'!$V75","v":13.023329875268402},{"$f":"('Data base original'!V87/'Data base original'!V75*100-100)*'Data base original'!V75/('Data base original'!$AC75)","v":3.3745367753134574},{"$f":"('Data base original'!W87/'Data base original'!W75*100-100)*'Data base original'!W75/('Data base original'!$AC75)","v":18.573725685966359},{"$f":"('Data base original'!X87/'Data base original'!X75*100-100)*'Data base original'!X75/('Data base original'!$AC75)","v":0.34246324590226856},{"$f":"('Data base original'!Y87/'Data base original'!Y75*100-100)*'Data base original'!Y75/('Data base original'!$AC75)","v":1.4660784039426558},{"$f":"('Data base original'!Z87/'Data base original'!Z75*100-100)*'Data base original'!Z75/('Data base original'!$AC75)","v":2.1369336209920167E-2},{"$f":"-('Data base original'!AA87/'Data base original'!AA75*100-100)*'Data base original'!AA75/('Data base original'!$AC75)","v":-2.3026763132266925},{"$f":"-('Data base original'!AB87/'Data base original'!AB75*100-100)*'Data base original'!AB75/('Data base original'!$AC75)","v":-6.6994150992132125E-3},{"$f":"(('Data base original'!Y87-'Data base original'!AA87)/('Data base original'!Y75-'Data base original'!AA75)*100-100)*(('Data base original'!Y75-'Data base original'!AA75)/'Data base original'!AC75)","v":-0.83659790928403843},{"$f":"(('Data base original'!Z87-'Data base original'!AB87)/('Data base original'!Z75-'Data base original'!AB75)*100-100)*(('Data base original'!Z75-'Data base original'!AB75)/'Data base original'!AC75)","v":1.4669921110706955E-2},{"$f":"('Data base original'!AC87/'Data base original'!AC75*100-100)*'Data base original'!AC75/('Data base original'!$AC75)","v":21.468797719008734},{"$f":"('Data base original'!AC87/'Data base original'!AC75*100-100)*'Data base original'!AC75/('Data base original'!$AN75)","v":12.837597070686783},{"$f":"('Data base original'!AD87/'Data base original'!AD75*100-100)*'Data base original'!AD75/('Data base original'!$AN75)","v":0.8706490914563445},{"$f":"('Data base original'!AE87/'Data base original'!AE75*100-100)*'Data base original'!AE75/('Data base original'!$AN75)","v":4.0094498922846942},{"$f":"('Data base original'!AF87/'Data base original'!AF75*100-100)*'Data base original'!AF75/('Data base original'!$AN75)","v":1.9744507879166235},{"$f":"('Data base original'!AG87/'Data base original'!AG75*100-100)*'Data base original'!AG75/('Data base original'!$AN75)","v":-0.13437165736951576},{"$f":"('Data base original'!AH87/'Data base original'!AH75*100-100)*'Data base original'!AH75/('Data base original'!$AN75)","v":-5.5579307979656527E-3},{"$f":"('Data base original'!AI87/'Data base original'!AI75*100-100)*'Data base original'!AI75/('Data base original'!$AN75)","v":1.4921805106197708},{"$f":"('Data base original'!AJ87/'Data base original'!AJ75*100-100)*'Data base original'!AJ75/('Data base original'!$AN75)","v":-1.0985257996371902},{"$f":"('Data base original'!AK87/'Data base original'!AK75*100-100)*'Data base original'!AK75/('Data base original'!$AN75)","v":-7.2671438401701996E-2},{"$f":"-('Data base original'!AL87/'Data base original'!AL75*100-100)*'Data base original'!AL75/('Data base original'!$AN75)","v":0.25447118039080308},{"$f":"-('Data base original'!AM87/'Data base original'!AM75*100-100)*'Data base original'!AM75/('Data base original'!$AN75)","v":-4.3369897634786415E-2},{"$f":"(('Data base original'!AJ87-'Data base original'!AL87)/('Data base original'!AJ75-'Data base original'!AL75)*100-100)*(('Data base original'!AJ75-'Data base original'!AL75)/'Data base original'!AN75)","v":-0.84405461924638747},{"$f":"(('Data base original'!AK87-'Data base original'!AM87)/('Data base original'!AK75-'Data base original'!AM75)*100-100)*(('Data base original'!AK75-'Data base original'!AM75)/'Data base original'!AN75)","v":-0.11604133603648842},{"$f":"('Data base original'!AN87/'Data base original'!AN75*100-100)*'Data base original'!AN75/('Data base original'!$AN75)","v":20.084301809513889}]
["2012-06-01",{"$f":"'Data base original'!B88/'Data base original'!B76*100-100","v":17.778368808158334},{"$f":"'Data base original'!C88/'Data base original'!C76*100-100","v":14.42767446945372},{"$f":"'Data base original'!D88/'Data base original'!D76*100-100","v":11.972170696872951},{"$f":"'Data base original'!E88/'Data base original'!E76*100-100","v":22.1899436231447},{"$f":"'Data base original'!F88/'Data base original'!F76*100-100","v":16.32617140211714},{"$f":"'Data base original'!G88","v":28.013292606401102},null,null,null,{"$f":"'Data base original'!K88","v":9.4490771800013693},null,null,{"$f":"'Data base original'!N88","v":2.3694759377230001},null,null,{"$f":"'Data base original'!Q88","v":4.3},{"$f":"('Data base original'!S88/'Data base original'!S76*100-100)*'Data base original'!S76/'Data base original'!$V76","v":2.9862752139821636},{"$f":"('Data base original'!T88/'Data base original'!T76*100-100)*'Data base original'!T76/'Data base original'!$V76","v":5.8427290955886679},{"$f":"('Data base original'!U88/'Data base original'!U76*100-100)*'Data base original'!U76/'Data base original'!$V76","v":1.4864083916921145},{"$f":"('Data base original'!V88/'Data base original'!V76*100-100)*'Data base original'!V76/'Data base original'!$V76","v":10.315412701262943},{"$f":"('Data base original'!V88/'Data base original'!V76*100-100)*'Data base original'!V76/('Data base original'!$AC76)","v":2.6459886234200716},{"$f":"('Data base original'!W88/'Data base original'!W76*100-100)*'Data base original'!W76/('Data base original'!$AC76)","v":18.926556894783111},{"$f":"('Data base original'!X88/'Data base original'!X76*100-100)*'Data base original'!X76/('Data base original'!$AC76)","v":0.423438999733528},{"$f":"('Data base original'!Y88/'Data base original'!Y76*100-100)*'Data base original'!Y76/('Data base original'!$AC76)","v":3.1220352032131964},{"$f":"('Data base original'!Z88/'Data base original'!Z76*100-100)*'Data base original'!Z76/('Data base original'!$AC76)","v":9.3429667522328827E-2},{"$f":"-('Data base original'!AA88/'Data base original'!AA76*100-100)*'Data base original'!AA76/('Data base original'!$AC76)","v":-3.7923544408792416},{"$f":"-('Data base original'!AB88/'Data base original'!AB76*100-100)*'Data base original'!AB76/('Data base original'!$AC76)","v":-6.1377575960500424E-3},{"$f":"(('Data base original'!Y88-'Data base original'!AA88)/('Data base original'!Y76-'Data base original'!AA76)*100-100)*(('Data base original'!Y76-'Data base original'!AA76)/'Data base original'!AC76)","v":-0.67031923766604784},{"$f":"(('Data base original'!Z88-'Data base original'!AB88)/('Data base original'!Z76-'Data base original'!AB76)*100-100)*(('Data base original'!Z76-'Data base original'!AB76)/'Data base original'!AC76)","v":8.7291909926278749E-2},{"$f":"('Data base original'!AC88/'Data base original'!AC76*100-100)*'Data base original'!AC76/('Data base original'!$AC76)","v":21.412957190196963},{"$f":"('Data base original'!AC88/'Data base original'!AC76*100-100)*'Data base original'!AC76/('Data base original'!$AN76)","v":12.823805452816249},{"$f":"('Data base original'!AD88/'Data base original'!AD76*100-100)*'Data base original'!AD76/('Data base original'!$AN76)","v":0.78370748766441534},{"$f":"('Data base original'!AE88/'Data base original'!AE76*100-100)*'Data base original'!AE76/('Data base original'!$AN76)","v":3.516402967852045},{"$f":"('Data base original'!AF88/'Data base original'!AF76*100-100)*'Data base original'!AF76/('Data base original'!$AN76)","v":1.8792646028246611},{"$f":"('Data base original'!AG88/'Data base original'!AG76*100-100)*'Data base original'!AG76/('Data base original'!$AN76)","v":-0.14074876570594533},{"$f":"('Data base original'!AH88/'Data base original'!AH76*100-100)*'Data base original'!AH76/('Data base original'!$AN76)","v":-3.0803938663057188E-2},{"$f":"('Data base original'!AI88/'Data base original'!AI76*100-100)*'Data base original'!AI76/('Data base original'!$AN76)","v":1.2073241906605769},{"$f":"('Data base original'!AJ88/'Data base original'!AJ76*100-100)*'Data base original'!AJ76/('Data base original'!$AN76)","v":-1.1577164487509957},{"$f":"('Data base original'!AK88/'Data base original'!AK76*100-100)*'Data base original'!AK76/('Data base original'!$AN76)","v":-7.6303221632715856E-2},{"$f":"-('Data base original'!AL88/'Data base original'!AL76*100-100)*'Data base original'!AL76/('Data base original'!$AN76)","v":0.14163081897514271},{"$f":"-('Data base original'!AM88/'Data base original'!AM76*100-100)*'Data base original'!AM76/('Data base original'!$AN76)","v":-4.331642166947576E-2},{"$f":"(('Data base original'!AJ88-'Data base original'!AL88)/('Data base original'!AJ76-'Data base original'!AL76)*100-100)*(('Data base original'!AJ76-'Data base original'!AL76)/'Data base original'!AN76)","v":-1.0160856297758534},{"$f":"(('Data base original'!AK88-'Data base original'!AM88)/('Data base original'!AK76-'Data base original'!AM76)*100-100)*(('Data base original'!AK76-'Data base original'!AM76)/'Data base original'!AN76)","v":-0.11961964330219169},{"$f":"('Data base original'!AN88/'Data base original'!AN76*100-100)*'Data base original'!AN76/('Data base original'!$AN76)","v":18.903246724370888}]
["2012-07-01",{"$f":"'Data base original'!B89/'Data base original'!B77*100-100","v":17.357014848829351},{"$f":"'Data base original'!C89/'Data base original'!C77*100-100","v":13.990203975613014},{"$f":"'Data base original'!D89/'Data base original'!D77*100-100","v":11.406169053728647},{"$f":"'Data base original'!E89/'Data base original'!E77*100-100","v":16.608365350408533},{"$f":"'Data base original'!F89/'Data base original'!F77*100-100","v":15.450783858350832},{"$f":"'Data base original'!G89","v":28.0070344328368},null,null,null,{"$f":"'Data base original'!K89","v":9.4289346983885807},null,null,{"$f":"'Data base original'!N89","v":2.17729347799188},null,null,{"$f":"'Data base original'!Q89","v":4.3499999999999996},{"$f":"('Data base original'!S89/'Data base original'!S77*100-100)*'Data base original'!S77/'Data base original'!$V77","v":3.2749728505954492},{"$f":"('Data base original'!T89/'Data base original'!T77*100-100)*'Data base original'!T77/'Data base original'!$V77","v":6.6738773644523972},{"$f":"('Data base original'!U89/'Data base original'!U77*100-100)*'Data base original'!U77/'Data base original'!$V77","v":2.5743448864019616},{"$f":"('Data base original'!V89/'Data base original'!V77*100-100)*'Data base original'!V77/'Data base original'!$V77","v":12.523195101449787},{"$f":"('Data base original'!V89/'Data base original'!V77*100-100)*'Data base original'!V77/('Data base original'!$AC77)","v":3.1097875513990796},{"$f":"('Data base original'!W89/'Data base original'!W77*100-100)*'Data base original'!W77/('Data base original'!$AC77)","v":18.555429501242003},{"$f":"('Data base original'!X89/'Data base original'!X77*100-100)*'Data base original'!X77/('Data base original'!$AC77)","v":0.34885197996580714},{"$f":"('Data base original'!Y89/'Data base original'!Y77*100-100)*'Data base original'!Y77/('Data base original'!$AC77)","v":4.1294858148912486},{"$f":"('Data base original'!Z89/'Data base original'!Z77*100-100)*'Data base original'!Z77/('Data base original'!$AC77)","v":8.929217932960222E-2},{"$f":"-('Data base original'!AA89/'Data base original'!AA77*100-100)*'Data base original'!AA77/('Data base original'!$AC77)","v":-4.6228661432744689},{"$f":"-('Data base original'!AB89/'Data base original'!AB77*100-100)*'Data base original'!AB77/('Data base original'!$AC77)","v":-9.9676836267381368E-3},{"$f":"(('Data base original'!Y89-'Data base original'!AA89)/('Data base original'!Y77-'Data base original'!AA77)*100-100)*(('Data base original'!Y77-'Data base original'!AA77)/'Data base original'!AC77)","v":-0.49338032838321871},{"$f":"(('Data base original'!Z89-'Data base original'!AB89)/('Data base original'!Z77-'Data base original'!AB77)*100-100)*(('Data base original'!Z77-'Data base original'!AB77)/'Data base original'!AC77)","v":7.9324495702863998E-2},{"$f":"('Data base original'!AC89/'Data base original'!AC77*100-100)*'Data base original'!AC77/('Data base original'!$AC77)","v":21.600013199926522},{"$f":"('Data base original'!AC89/'Data base original'!AC77*100-100)*'Data base original'!AC77/('Data base original'!$AN77)","v":12.889740631999981},{"$f":"('Data base original'!AD89/'Data base original'!AD77*100-100)*'Data base original'!AD77/('Data base original'!$AN77)","v":0.68597179318426349},{"$f":"('Data base original'!AE89/'Data base original'!AE77*100-100)*'Data base original'!AE77/('Data base original'!$AN77)","v":2.8707659062954187},{"$f":"('Data base original'!AF89/'Data base original'!AF77*100-100)*'Data base original'!AF77/('Data base original'!$AN77)","v":1.6551732289254353},{"$f":"('Data base original'!AG89/'Data base original'!AG77*100-100)*'Data base original'!AG77/('Data base original'!$AN77)","v":-0.28910298452826727},{"$f":"('Data base original'!AH89/'Data base original'!AH77*100-100)*'Data base original'!AH77/('Data base original'!$AN77)","v":-8.1149586223740008E-2},{"$f":"('Data base original'!AI89/'Data base original'!AI77*100-100)*'Data base original'!AI77/('Data base original'!$AN77)","v":0.96367252061721254},{"$f":"('Data base original'!AJ89/'Data base original'!AJ77*100-100)*'Data base original'!AJ77/('Data base original'!$AN77)","v":-1.0238147042105659},{"$f":"('Data base original'!AK89/'Data base original'!AK77*100-100)*'Data base original'!AK77/('Data base original'!$AN77)","v":-6.6524111443936315E-2},{"$f":"-('Data base original'!AL89/'Data base original'!AL77*100-100)*'Data base original'!AL77/('Data base original'!$AN77)","v":0.19854004878253295},{"$f":"-('Data base original'!AM89/'Data base original'!AM77*100-100)*'Data base original'!AM77/('Data base original'!$AN77)","v":-3.2566445695618847E-2},{"$f":"(('Data base original'!AJ89-'Data base original'!AL89)/('Data base original'!AJ77-'Data base original'!AL77)*100-100)*(('Data base original'!AJ77-'Data base original'!AL77)/'Data base original'!AN77)","v":-0.82527465542803358},{"$f":"(('Data base original'!AK89-'Data base original'!AM89)/('Data base original'!AK77-'Data base original'!AM77)*100-100)*(('Data base original'!AK77-'Data base original'!AM77)/'Data base original'!AN77)","v":-9.9090557139555113E-2},{"$f":"('Data base original'!AN89/'Data base original'!AN77*100-100)*'Data base original'!AN77/('Data base original'!$AN77)","v":17.770706297702702}]
["2012-08-01",{"$f":"'Data base original'!B90/'Data base original'!B78*100-100","v":16.353560309777521},{"$f":"'Data base original'!C90/'Data base original'!C78*100-100","v":13.657751759824606},{"$f":"'Data base original'!D90/'Data base original'!D78*100-100","v":11.263214832546069},{"$f":"'Data base original'!E90/'Data base original'!E78*100-100","v":16.080273022699274},{"$f":"'Data base original'!F90/'Data base original'!F78*100-100","v":14.777438494206379},{"$f":"'Data base original'!G90","v":27.7289703324582},null,null,null,{"$f":"'Data base original'!K90","v":9.6431246179204493},null,null,{"$f":"'Data base original'!N90","v":1.77855340825422},null,null,{"$f":"'Data base original'!Q90","v":4.2699999999999996},{"$f":"('Data base original'!S90/'Data base original'!S78*100-100)*'Data base original'!S78/'Data base original'!$V78","v":3.2737055407694147},{"$f":"('Data base original'!T90/'Data base original'!T78*100-100)*'Data base original'!T78/'Data base original'!$V78","v":6.142477921606579},{"$f":"('Data base original'!U90/'Data base original'!U78*100-100)*'Data base original'!U78/'Data base original'!$V78","v":-1.697153701911438},{"$f":"('Data base original'!V90/'Data base original'!V78*100-100)*'Data base original'!V78/'Data base original'!$V78","v":7.7190297604645508},{"$f":"('Data base original'!V90/'Data base original'!V78*100-100)*'Data base original'!V78/('Data base original'!$AC78)","v":1.898273014250881},{"$f":"('Data base original'!W90/'Data base original'!W78*100-100)*'Data base original'!W78/('Data base original'!$AC78)","v":16.237672004541487},{"$f":"('Data base original'!X90/'Data base original'!X78*100-100)*'Data base original'!X78/('Data base original'!$AC78)","v":0.4148633418885852},{"$f":"('Data base original'!Y90/'Data base original'!Y78*100-100)*'Data base original'!Y78/('Data base original'!$AC78)","v":4.415217061004765},{"$f":"('Data base original'!Z90/'Data base original'!Z78*100-100)*'Data base original'!Z78/('Data base original'!$AC78)","v":9.0711416993322538E-2},{"$f":"-('Data base original'!AA90/'Data base original'!AA78*100-100)*'Data base original'!AA78/('Data base original'!$AC78)","v":-4.9107565457506288},{"$f":"-('Data base original'!AB90/'Data base original'!AB78*100-100)*'Data base original'!AB78/('Data base original'!$AC78)","v":-1.0642181039248359E-2},{"$f":"(('Data base original'!Y90-'Data base original'!AA90)/('Data base original'!Y78-'Data base original'!AA78)*100-100)*(('Data base original'!Y78-'Data base original'!AA78)/'Data base original'!AC78)","v":-0.49553948474586157},{"$f":"(('Data base original'!Z90-'Data base original'!AB90)/('Data base original'!Z78-'Data base original'!AB78)*100-100)*(('Data base original'!Z78-'Data base original'!AB78)/'Data base original'!AC78)","v":8.0069235954074419E-2},{"$f":"('Data base original'!AC90/'Data base original'!AC78*100-100)*'Data base original'!AC78/('Data base original'!$AC78)","v":18.135338111889169},{"$f":"('Data base original'!AC90/'Data base original'!AC78*100-100)*'Data base original'!AC78/('Data base original'!$AN78)","v":10.879622504923201},{"$f":"('Data base original'!AD90/'Data base original'!AD78*100-100)*'Data base original'!AD78/('Data base original'!$AN78)","v":0.48014597851305718},{"$f":"('Data base original'!AE90/'Data base original'!AE78*100-100)*'Data base original'!AE78/('Data base original'!$AN78)","v":2.7864514690359532},{"$f":"('Data base original'!AF90/'Data base original'!AF78*100-100)*'Data base original'!AF78/('Data base original'!$AN78)","v":1.2602091759292953},{"$f":"('Data base original'!AG90/'Data base original'!AG78*100-100)*'Data base original'!AG78/('Data base original'!$AN78)","v":-0.30198758294702704},{"$f":"('Data base original'!AH90/'Data base original'!AH78*100-100)*'Data base original'!AH78/('Data base original'!$AN78)","v":-0.10963538100443224},{"$f":"('Data base original'!AI90/'Data base original'!AI78*100-100)*'Data base original'!AI78/('Data base original'!$AN78)","v":0.93906947477340796},{"$f":"('Data base original'!AJ90/'Data base original'!AJ78*100-100)*'Data base original'!AJ78/('Data base original'!$AN78)","v":-0.72944275372607881},{"$f":"('Data base original'!AK90/'Data base original'!AK78*100-100)*'Data base original'!AK78/('Data base original'!$AN78)","v":-4.6037322550782134E-2},{"$f":"-('Data base original'!AL90/'Data base original'!AL78*100-100)*'Data base original'!AL78/('Data base original'!$AN78)","v":0.18281184143233478},{"$f":"-('Data base original'!AM90/'Data base original'!AM78*100-100)*'Data base original'!AM78/('Data base original'!$AN78)","v":-1.4638467073621382E-2},{"$f":"(('Data base original'!AJ90-'Data base original'!AL90)/('Data base original'!AJ78-'Data base original'!AL78)*100-100)*(('Data base original'!AJ78-'Data base original'!AL78)/'Data base original'!AN78)","v":-0.5466309122937435},{"$f":"(('Data base original'!AK90-'Data base original'!AM90)/('Data base original'!AK78-'Data base original'!AM78)*100-100)*(('Data base original'!AK78-'Data base original'!AM78)/'Data base original'!AN78)","v":-6.0675789624403544E-2},{"$f":"('Data base original'!AN90/'Data base original'!AN78*100-100)*'Data base original'!AN78/('Data base original'!$AN78)","v":15.326568937305282}]
["2012-09-01",{"$f":"'Data base original'!B91/'Data base original'!B79*100-100","v":14.547131813598725},{"$f":"'Data base original'!C91/'Data base original'!C79*100-100","v":13.319415348940595},{"$f":"'Data base original'!D91/'Data base original'!D79*100-100","v":11.186938571416334},{"$f":"'Data base original'!E91/'Data base original'!E79*100-100","v":0.3244158312569283},{"$f":"'Data base original'!F91/'Data base original'!F79*100-100","v":12.30486469608465},{"$f":"'Data base original'!G91","v":28.481981974524398},null,null,null,{"$f":"'Data base original'!K91","v":9.5346932300959608},null,null,{"$f":"'Data base original'!N91","v":1.79598059436146},null,null,{"$f":"'Data base original'!Q91","v":4.3099999999999996},{"$f":"('Data base original'!S91/'Data base original'!S79*100-100)*'Data base original'!S79/'Data base original'!$V79","v":3.6184570544848906},{"$f":"('Data base original'!T91/'Data base original'!T79*100-100)*'Data base original'!T79/'Data base original'!$V79","v":4.8513368427313752},{"$f":"('Data base original'!U91/'Data base original'!U79*100-100)*'Data base original'!U79/'Data base original'!$V79","v":2.3958794313585656},{"$f":"('Data base original'!V91/'Data base original'!V79*100-100)*'Data base original'!V79/'Data base original'!$V79","v":10.865673328574843},{"$f":"('Data base original'!V91/'Data base original'!V79*100-100)*'Data base original'!V79/('Data base original'!$AC79)","v":2.6545090763132038},{"$f":"('Data base original'!W91/'Data base original'!W79*100-100)*'Data base original'!W79/('Data base original'!$AC79)","v":14.50021025518083},{"$f":"('Data base original'!X91/'Data base original'!X79*100-100)*'Data base original'!X79/('Data base original'!$AC79)","v":0.29333278772678162},{"$f":"('Data base original'!Y91/'Data base original'!Y79*100-100)*'Data base original'!Y79/('Data base original'!$AC79)","v":2.5115014737953798},{"$f":"('Data base original'!Z91/'Data base original'!Z79*100-100)*'Data base original'!Z79/('Data base original'!$AC79)","v":8.0173347630995595E-2},{"$f":"-('Data base original'!AA91/'Data base original'!AA79*100-100)*'Data base original'!AA79/('Data base original'!$AC79)","v":-3.0110113717302869},{"$f":"-('Data base original'!AB91/'Data base original'!AB79*100-100)*'Data base original'!AB79/('Data base original'!$AC79)","v":-2.9986529384036999E-3},{"$f":"(('Data base original'!Y91-'Data base original'!AA91)/('Data base original'!Y79-'Data base original'!AA79)*100-100)*(('Data base original'!Y79-'Data base original'!AA79)/'Data base original'!AC79)","v":-0.49950989793490769},{"$f":"(('Data base original'!Z91-'Data base original'!AB91)/('Data base original'!Z79-'Data base original'!AB79)*100-100)*(('Data base original'!Z79-'Data base original'!AB79)/'Data base original'!AC79)","v":7.7174694692592014E-2},{"$f":"('Data base original'!AC91/'Data base original'!AC79*100-100)*'Data base original'!AC79/('Data base original'!$AC79)","v":17.025716915978521},{"$f":"('Data base original'!AC91/'Data base original'!AC79*100-100)*'Data base original'!AC79/('Data base original'!$AN79)","v":10.197433473585843},{"$f":"('Data base original'!AD91/'Data base original'!AD79*100-100)*'Data base original'!AD79/('Data base original'!$AN79)","v":0.12041284713082878},{"$f":"('Data base original'!AE91/'Data base original'!AE79*100-100)*'Data base original'!AE79/('Data base original'!$AN79)","v":1.8957725542923565},{"$f":"('Data base original'!AF91/'Data base original'!AF79*100-100)*'Data base original'!AF79/('Data base original'!$AN79)","v":0.99973560524248972},{"$f":"('Data base original'!AG91/'Data base original'!AG79*100-100)*'Data base original'!AG79/('Data base original'!$AN79)","v":-0.4266104889746829},{"$f":"('Data base original'!AH91/'Data base original'!AH79*100-100)*'Data base original'!AH79/('Data base original'!$AN79)","v":-0.11654291922065638},{"$f":"('Data base original'!AI91/'Data base original'!AI79*100-100)*'Data base original'!AI79/('Data base original'!$AN79)","v":0.85779636874758725},{"$f":"('Data base original'!AJ91/'Data base original'!AJ79*100-100)*'Data base original'!AJ79/('Data base original'!$AN79)","v":-0.40210910505712322},{"$f":"('Data base original'!AK91/'Data base original'!AK79*100-100)*'Data base original'!AK79/('Data base original'!$AN79)","v":-1.637070970157135E-2},{"$f":"-('Data base original'!AL91/'Data base original'!AL79*100-100)*'Data base original'!AL79/('Data base original'!$AN79)","v":0.29353333656892966},{"$f":"-('Data base original'!AM91/'Data base original'!AM79*100-100)*'Data base original'!AM79/('Data base original'!$AN79)","v":-2.4952363343620763E-3},{"$f":"(('Data base original'!AJ91-'Data base original'!AL91)/('Data base original'!AJ79-'Data base original'!AL79)*100-100)*(('Data base original'!AJ79-'Data base original'!AL79)/'Data base original'!AN79)","v":-0.10857576848819422},{"$f":"(('Data base original'!AK91-'Data base original'!AM91)/('Data base original'!AK79-'Data base original'!AM79)*100-100)*(('Data base original'!AK79-'Data base original'!AM79)/'Data base original'!AN79)","v":-1.8865946035933393E-2},{"$f":"('Data base original'!AN91/'Data base original'!AN79*100-100)*'Data base original'!AN79/('Data base original'!$AN79)","v":13.400555726279634}]
["2012-10-01",{"$f":"'Data base original'!B92/'Data base original'!B80*100-100","v":14.320998170273597},{"$f":"'Data base original'!C92/'Data base original'!C80*100-100","v":13.246211443462158},{"$f":"'Data base original'!D92/'Data base original'!D80*100-100","v":11.516184283929533},{"$f":"'Data base original'!E92/'Data base original'!E80*100-100","v":5.302834566766478},{"$f":"'Data base original'!F92/'Data base original'!F80*100-100","v":12.751338683889628},{"$f":"'Data base original'!G92","v":27.4284071406062},null,null,null,{"$f":"'Data base original'!K92","v":9.4280744323333803},null,null,{"$f":"'Data base original'!N92","v":1.8064579251033399},null,null,{"$f":"'Data base original'!Q92","v":4.34},{"$f":"('Data base original'!S92/'Data base original'!S80*100-100)*'Data base original'!S80/'Data base original'!$V80","v":3.0455665825358658},{"$f":"('Data base original'!T92/'Data base original'!T80*100-100)*'Data base original'!T80/'Data base original'!$V80","v":3.7250267465022739},{"$f":"('Data base original'!U92/'Data base original'!U80*100-100)*'Data base original'!U80/'Data base original'!$V80","v":1.4732224658797337},{"$f":"('Data base original'!V92/'Data base original'!V80*100-100)*'Data base original'!V80/'Data base original'!$V80","v":8.2438157949178645},{"$f":"('Data base original'!V92/'Data base original'!V80*100-100)*'Data base original'!V80/('Data base original'!$AC80)","v":1.9912943257491378},{"$f":"('Data base original'!W92/'Data base original'!W80*100-100)*'Data base original'!W80/('Data base original'!$AC80)","v":13.318358925798988},{"$f":"('Data base original'!X92/'Data base original'!X80*100-100)*'Data base original'!X80/('Data base original'!$AC80)","v":0.29133468213462216},{"$f":"('Data base original'!Y92/'Data base original'!Y80*100-100)*'Data base original'!Y80/('Data base original'!$AC80)","v":0.71856189106519974},{"$f":"('Data base original'!Z92/'Data base original'!Z80*100-100)*'Data base original'!Z80/('Data base original'!$AC80)","v":5.1605921565521899E-2},{"$f":"-('Data base original'!AA92/'Data base original'!AA80*100-100)*'Data base original'!AA80/('Data base original'!$AC80)","v":-1.16183058045298},{"$f":"-('Data base original'!AB92/'Data base original'!AB80*100-100)*'Data base original'!AB80/('Data base original'!$AC80)","v":2.3926733075317818E-3},{"$f":"(('Data base original'!Y92-'Data base original'!AA92)/('Data base original'!Y80-'Data base original'!AA80)*100-100)*(('Data base original'!Y80-'Data base original'!AA80)/'Data base original'!AC80)","v":-0.44326868938778247},{"$f":"(('Data base original'!Z92-'Data base original'!AB92)/('Data base original'!Z80-'Data base original'!AB80)*100-100)*(('Data base original'!Z80-'Data base original'!AB80)/'Data base original'!AC80)","v":5.3998594873053626E-2},{"$f":"('Data base original'!AC92/'Data base original'!AC80*100-100)*'Data base original'!AC80/('Data base original'!$AC80)","v":15.211717839167989},{"$f":"('Data base original'!AC92/'Data base original'!AC80*100-100)*'Data base original'!AC80/('Data base original'!$AN80)","v":9.0588829805538911},{"$f":"('Data base original'!AD92/'Data base original'!AD80*100-100)*'Data base original'!AD80/('Data base original'!$AN80)","v":8.596133143865263E-2},{"$f":"('Data base original'!AE92/'Data base original'!AE80*100-100)*'Data base original'!AE80/('Data base original'!$AN80)","v":1.1038251206754455},{"$f":"('Data base original'!AF92/'Data base original'!AF80*100-100)*'Data base original'!AF80/('Data base original'!$AN80)","v":0.72421784041727721},{"$f":"('Data base original'!AG92/'Data base original'!AG80*100-100)*'Data base original'!AG80/('Data base original'!$AN80)","v":-0.44011181384050829},{"$f":"('Data base original'!AH92/'Data base original'!AH80*100-100)*'Data base original'!AH80/('Data base original'!$AN80)","v":-0.1058823840757135},{"$f":"('Data base original'!AI92/'Data base original'!AI80*100-100)*'Data base original'!AI80/('Data base original'!$AN80)","v":0.63486824643088646},{"$f":"('Data base original'!AJ92/'Data base original'!AJ80*100-100)*'Data base original'!AJ80/('Data base original'!$AN80)","v":-0.22378429768044275},{"$f":"('Data base original'!AK92/'Data base original'!AK80*100-100)*'Data base original'!AK80/('Data base original'!$AN80)","v":-4.984023117255286E-3},{"$f":"-('Data base original'!AL92/'Data base original'!AL80*100-100)*'Data base original'!AL80/('Data base original'!$AN80)","v":0.2313627480028389},{"$f":"-('Data base original'!AM92/'Data base original'!AM80*100-100)*'Data base original'!AM80/('Data base original'!$AN80)","v":-1.7418509046671108E-3},{"$f":"(('Data base original'!AJ92-'Data base original'!AL92)/('Data base original'!AJ80-'Data base original'!AL80)*100-100)*(('Data base original'!AJ80-'Data base original'!AL80)/'Data base original'!AN80)","v":7.5784503223958848E-3},{"$f":"(('Data base original'!AK92-'Data base original'!AM92)/('Data base original'!AK80-'Data base original'!AM80)*100-100)*(('Data base original'!AK80-'Data base original'!AM80)/'Data base original'!AN80)","v":-6.7258740219224063E-3},{"$f":"('Data base original'!AN92/'Data base original'!AN80*100-100)*'Data base original'!AN80/('Data base original'!$AN80)","v":11.062613897900391}]
["2012-11-01",{"$f":"'Data base original'!B93/'Data base original'!B81*100-100","v":14.426238309818643},{"$f":"'Data base original'!C93/'Data base original'!C81*100-100","v":11.933243645897335},{"$f":"'Data base original'!D93/'Data base original'!D81*100-100","v":11.629699800585882},{"$f":"'Data base original'!E93/'Data base original'!E81*100-100","v":1.3854213203778869},{"$f":"'Data base original'!F93/'Data base original'!F81*100-100","v":12.321201152703253},{"$f":"'Data base original'!G93","v":25.904770674609601},null,null,null,{"$f":"'Data base original'!K93","v":9.1915253581540899},null,null,{"$f":"'Data base original'!N93","v":1.99207197945793},null,null,{"$f":"'Data base original'!Q93","v":4.34},{"$f":"('Data base original'!S93/'Data base original'!S81*100-100)*'Data base original'!S81/'Data base original'!$V81","v":2.9673695734958128},{"$f":"('Data base original'!T93/'Data base original'!T81*100-100)*'Data base original'!T81/'Data base original'!$V81","v":4.026401251904022},{"$f":"('Data base original'!U93/'Data base original'!U81*100-100)*'Data base original'!U81/'Data base original'!$V81","v":1.7269189118431143},{"$f":"('Data base original'!V93/'Data base original'!V81*100-100)*'Data base original'!V81/'Data base original'!$V81","v":8.7206897372429353},{"$f":"('Data base original'!V93/'Data base original'!V81*100-100)*'Data base original'!V81/('Data base original'!$AC81)","v":2.0667156461459575},{"$f":"('Data base original'!W93/'Data base original'!W81*100-100)*'Data base original'!W81/('Data base original'!$AC81)","v":11.912884767122716},{"$f":"('Data base original'!X93/'Data base original'!X81*100-100)*'Data base original'!X81/('Data base original'!$AC81)","v":0.29163055914804481},{"$f":"('Data base original'!Y93/'Data base original'!Y81*100-100)*'Data base original'!Y81/('Data base original'!$AC81)","v":2.8334628414784295},{"$f":"('Data base original'!Z93/'Data base original'!Z81*100-100)*'Data base original'!Z81/('Data base original'!$AC81)","v":4.2780476041732463E-2},{"$f":"-('Data base original'!AA93/'Data base original'!AA81*100-100)*'Data base original'!AA81/('Data base original'!$AC81)","v":-3.153618498567746},{"$f":"-('Data base original'!AB93/'Data base original'!AB81*100-100)*'Data base original'!AB81/('Data base original'!$AC81)","v":-2.8543939980279669E-3},{"$f":"(('Data base original'!Y93-'Data base original'!AA93)/('Data base original'!Y81-'Data base original'!AA81)*100-100)*(('Data base original'!Y81-'Data base original'!AA81)/'Data base original'!AC81)","v":-0.32015565708931853},{"$f":"(('Data base original'!Z93-'Data base original'!AB93)/('Data base original'!Z81-'Data base original'!AB81)*100-100)*(('Data base original'!Z81-'Data base original'!AB81)/'Data base original'!AC81)","v":3.9926082043704458E-2},{"$f":"('Data base original'!AC93/'Data base original'!AC81*100-100)*'Data base original'!AC81/('Data base original'!$AC81)","v":13.991001397371065},{"$f":"('Data base original'!AC93/'Data base original'!AC81*100-100)*'Data base original'!AC81/('Data base original'!$AN81)","v":8.3322812236940234},{"$f":"('Data base original'!AD93/'Data base original'!AD81*100-100)*'Data base original'!AD81/('Data base original'!$AN81)","v":0.45627430006326158},{"$f":"('Data base original'!AE93/'Data base original'!AE81*100-100)*'Data base original'!AE81/('Data base original'!$AN81)","v":1.2524617004975862},{"$f":"('Data base original'!AF93/'Data base original'!AF81*100-100)*'Data base original'!AF81/('Data base original'!$AN81)","v":0.70617878768165299},{"$f":"('Data base original'!AG93/'Data base original'!AG81*100-100)*'Data base original'!AG81/('Data base original'!$AN81)","v":-0.58393906317821487},{"$f":"('Data base original'!AH93/'Data base original'!AH81*100-100)*'Data base original'!AH81/('Data base original'!$AN81)","v":-7.7198042466354061E-2},{"$f":"('Data base original'!AI93/'Data base original'!AI81*100-100)*'Data base original'!AI81/('Data base original'!$AN81)","v":0.4815642382496052},{"$f":"('Data base original'!AJ93/'Data base original'!AJ81*100-100)*'Data base original'!AJ81/('Data base original'!$AN81)","v":-0.10195067446148345},{"$f":"('Data base original'!AK93/'Data base original'!AK81*100-100)*'Data base original'!AK81/('Data base original'!$AN81)","v":-1.2921501408660479E-3},{"$f":"-('Data base original'!AL93/'Data base original'!AL81*100-100)*'Data base original'!AL81/('Data base original'!$AN81)","v":-8.6966138939848905E-2},{"$f":"-('Data base original'!AM93/'Data base original'!AM81*100-100)*'Data base original'!AM81/('Data base original'!$AN81)","v":-2.1065053880118794E-3},{"$f":"(('Data base original'!AJ93-'Data base original'!AL93)/('Data base original'!AJ81-'Data base original'!AL81)*100-100)*(('Data base original'!AJ81-'Data base original'!AL81)/'Data base original'!AN81)","v":-0.18891681340133309},{"$f":"(('Data base original'!AK93-'Data base original'!AM93)/('Data base original'!AK81-'Data base original'!AM81)*100-100)*(('Data base original'!AK81-'Data base original'!AM81)/'Data base original'!AN81)","v":-3.398655528877853E-3},{"$f":"('Data base original'!AN93/'Data base original'!AN81*100-100)*'Data base original'!AN81/('Data base original'!$AN81)","v":10.375307675611339}]
["2012-12-01",{"$f":"'Data base original'!B94/'Data base original'!B82*100-100","v":14.126870693979726},{"$f":"'Data base original'!C94/'Data base original'!C82*100-100","v":11.565110643533203},{"$f":"'Data base original'!D94/'Data base original'!D82*100-100","v":10.951721531361343},{"$f":"'Data base original'!E94/'Data base original'!E82*100-100","v":5.8853330726463611},{"$f":"'Data base original'!F94/'Data base original'!F82*100-100","v":12.388964337547947},{"$f":"'Data base original'!G94","v":25.6580552670092},null,null,null,{"$f":"'Data base original'!K94","v":8.9380054820874104},null,null,{"$f":"'Data base original'!N94","v":1.93347585976437},null,null,{"$f":"'Data base original'!Q94","v":4.38},{"$f":"('Data base original'!S94/'Data base original'!S82*100-100)*'Data base original'!S82/'Data base original'!$V82","v":3.06612212714683},{"$f":"('Data base original'!T94/'Data base original'!T82*100-100)*'Data base original'!T82/'Data base original'!$V82","v":6.8654258125059062},{"$f":"('Data base original'!U94/'Data base original'!U82*100-100)*'Data base original'!U82/'Data base original'!$V82","v":-1.1064761703805401},{"$f":"('Data base original'!V94/'Data base original'!V82*100-100)*'Data base original'!V82/'Data base original'!$V82","v":8.825071769272185},{"$f":"('Data base original'!V94/'Data base original'!V82*100-100)*'Data base original'!V82/('Data base original'!$AC82)","v":2.1729264390319516},{"$f":"('Data base original'!W94/'Data base original'!W82*100-100)*'Data base original'!W82/('Data base original'!$AC82)","v":9.7948940379527976},{"$f":"('Data base original'!X94/'Data base original'!X82*100-100)*'Data base original'!X82/('Data base original'!$AC82)","v":0.28024904332828232},{"$f":"('Data base original'!Y94/'Data base original'!Y82*100-100)*'Data base original'!Y82/('Data base original'!$AC82)","v":2.3512991586921759},{"$f":"('Data base original'!Z94/'Data base original'!Z82*100-100)*'Data base original'!Z82/('Data base original'!$AC82)","v":3.1738538288344081E-2},{"$f":"-('Data base original'!AA94/'Data base original'!AA82*100-100)*'Data base original'!AA82/('Data base original'!$AC82)","v":-2.641385491036067},{"$f":"-('Data base original'!AB94/'Data base original'!AB82*100-100)*'Data base original'!AB82/('Data base original'!$AC82)","v":8.2533126844736102E-3},{"$f":"(('Data base original'!Y94-'Data base original'!AA94)/('Data base original'!Y82-'Data base original'!AA82)*100-100)*(('Data base original'!Y82-'Data base original'!AA82)/'Data base original'!AC82)","v":-0.29008633234389042},{"$f":"(('Data base original'!Z94-'Data base original'!AB94)/('Data base original'!Z82-'Data base original'!AB82)*100-100)*(('Data base original'!Z82-'Data base original'!AB82)/'Data base original'!AC82)","v":3.9991850972817655E-2},{"$f":"('Data base original'!AC94/'Data base original'!AC82*100-100)*'Data base original'!AC82/('Data base original'!$AC82)","v":11.997975038941959},{"$f":"('Data base original'!AC94/'Data base original'!AC82*100-100)*'Data base original'!AC82/('Data base original'!$AN82)","v":7.2407765939304358},{"$f":"('Data base original'!AD94/'Data base original'!AD82*100-100)*'Data base original'!AD82/('Data base original'!$AN82)","v":0.81124836118156651},{"$f":"('Data base original'!AE94/'Data base original'!AE82*100-100)*'Data base original'!AE82/('Data base original'!$AN82)","v":0.40527763430142622},{"$f":"('Data base original'!AF94/'Data base original'!AF82*100-100)*'Data base original'!AF82/('Data base original'!$AN82)","v":0.60615896669896729},{"$f":"('Data base original'!AG94/'Data base original'!AG82*100-100)*'Data base original'!AG82/('Data base original'!$AN82)","v":-0.49760746710880716},{"$f":"('Data base original'!AH94/'Data base original'!AH82*100-100)*'Data base original'!AH82/('Data base original'!$AN82)","v":-5.4860733545834678E-2},{"$f":"('Data base original'!AI94/'Data base original'!AI82*100-100)*'Data base original'!AI82/('Data base original'!$AN82)","v":0.4432419517757667},{"$f":"('Data base original'!AJ94/'Data base original'!AJ82*100-100)*'Data base original'!AJ82/('Data base original'!$AN82)","v":-9.1484873317583208E-3},{"$f":"('Data base original'!AK94/'Data base original'!AK82*100-100)*'Data base original'!AK82/('Data base original'!$AN82)","v":1.0018657763430392E-2},{"$f":"-('Data base original'!AL94/'Data base original'!AL82*100-100)*'Data base original'!AL82/('Data base original'!$AN82)","v":1.9430875175936568E-2},{"$f":"-('Data base original'!AM94/'Data base original'!AM82*100-100)*'Data base original'!AM82/('Data base original'!$AN82)","v":9.7051723620372014E-5},{"$f":"(('Data base original'!AJ94-'Data base original'!AL94)/('Data base original'!AJ82-'Data base original'!AL82)*100-100)*(('Data base original'!AJ82-'Data base original'!AL82)/'Data base original'!AN82)","v":1.0282387844177785E-2},{"$f":"(('Data base original'!AK94-'Data base original'!AM94)/('Data base original'!AK82-'Data base original'!AM82)*100-100)*(('Data base original'!AK82-'Data base original'!AM82)/'Data base original'!AN82)","v":1.0115709487050775E-2},{"$f":"('Data base original'!AN94/'Data base original'!AN82*100-100)*'Data base original'!AN82/('Data base original'!$AN82)","v":8.9746334045647416}]
["2013-01-01",{"$f":"'Data base original'!B95/'Data base original'!B83*100-100","v":12.873180930696833},{"$f":"'Data base original'!C95/'Data base original'!C83*100-100","v":11.42271621760915},{"$f":"'Data base original'!D95/'Data base original'!D83*100-100","v":10.584707149563584},{"$f":"'Data base original'!E95/'Data base original'!E83*100-100","v":12.581433479378902},{"$f":"'Data base original'!F95/'Data base original'!F83*100-100","v":12.130276420488542},{"$f":"'Data base original'!G95","v":25.89170232802476},{"$f":"'Data base original'!H95","v":34.276679850088797},{"$f":"'Data base original'!I95","v":17.879241495422065},{"$f":"'Data base original'!J95","v":35.487278086287489},{"$f":"'Data base original'!K95","v":9.3112663279834216},{"$f":"'Data base original'!L95","v":7.9345490200935469},{"$f":"'Data base original'!M95","v":13.885975581647898},{"$f":"'Data base original'!N95","v":1.8710290952025586},{"$f":"'Data base original'!O95","v":1.5992605766579482},{"$f":"'Data base original'!P95","v":2.1423179466952456},{"$f":"'Data base original'!Q95","v":4.43},{"$f":"('Data base original'!S95/'Data base original'!S83*100-100)*'Data base original'!S83/'Data base original'!$V83","v":2.9938235613165425},{"$f":"('Data base original'!T95/'Data base original'!T83*100-100)*'Data base original'!T83/'Data base original'!$V83","v":7.5059231716542421},{"$f":"('Data base original'!U95/'Data base original'!U83*100-100)*'Data base original'!U83/'Data base original'!$V83","v":8.529213237094159E-2},{"$f":"('Data base original'!V95/'Data base original'!V83*100-100)*'Data base original'!V83/'Data base original'!$V83","v":10.585038865341716},{"$f":"('Data base original'!V95/'Data base original'!V83*100-100)*'Data base original'!V83/('Data base original'!$AC83)","v":2.6068161802560668},{"$f":"('Data base original'!W95/'Data base original'!W83*100-100)*'Data base original'!W83/('Data base original'!$AC83)","v":9.3251799813198115},{"$f":"('Data base original'!X95/'Data base original'!X83*100-100)*'Data base original'!X83/('Data base original'!$AC83)","v":0.25433667369623458},{"$f":"('Data base original'!Y95/'Data base original'!Y83*100-100)*'Data base original'!Y83/('Data base original'!$AC83)","v":0.63683433186359883},{"$f":"('Data base original'!Z95/'Data base original'!Z83*100-100)*'Data base original'!Z83/('Data base original'!$AC83)","v":2.6766730107429346E-2},{"$f":"-('Data base original'!AA95/'Data base original'!AA83*100-100)*'Data base original'!AA83/('Data base original'!$AC83)","v":-0.99655676502577473},{"$f":"-('Data base original'!AB95/'Data base original'!AB83*100-100)*'Data base original'!AB83/('Data base original'!$AC83)","v":6.2529624763947092E-3},{"$f":"(('Data base original'!Y95-'Data base original'!AA95)/('Data base original'!Y83-'Data base original'!AA83)*100-100)*(('Data base original'!Y83-'Data base original'!AA83)/'Data base original'!AC83)","v":-0.35972243316217667},{"$f":"(('Data base original'!Z95-'Data base original'!AB95)/('Data base original'!Z83-'Data base original'!AB83)*100-100)*(('Data base original'!Z83-'Data base original'!AB83)/'Data base original'!AC83)","v":3.3019692583824117E-2},{"$f":"('Data base original'!AC95/'Data base original'!AC83*100-100)*'Data base original'!AC83/('Data base original'!$AC83)","v":11.859630094693756},{"$f":"('Data base original'!AC95/'Data base original'!AC83*100-100)*'Data base original'!AC83/('Data base original'!$AN83)","v":7.1170755205374974},{"$f":"('Data base original'!AD95/'Data base original'!AD83*100-100)*'Data base original'!AD83/('Data base original'!$AN83)","v":0.54565907390398394},{"$f":"('Data base original'!AE95/'Data base original'!AE83*100-100)*'Data base original'!AE83/('Data base original'!$AN83)","v":-3.3380004997506395E-2},{"$f":"('Data base original'!AF95/'Data base original'!AF83*100-100)*'Data base original'!AF83/('Data base original'!$AN83)","v":0.9488404555907608},{"$f":"('Data base original'!AG95/'Data base original'!AG83*100-100)*'Data base original'!AG83/('Data base original'!$AN83)","v":-0.70281974300300376},{"$f":"('Data base original'!AH95/'Data base original'!AH83*100-100)*'Data base original'!AH83/('Data base original'!$AN83)","v":-4.2047248429499931E-2},{"$f":"('Data base original'!AI95/'Data base original'!AI83*100-100)*'Data base original'!AI83/('Data base original'!$AN83)","v":0.46688484838501615},{"$f":"('Data base original'!AJ95/'Data base original'!AJ83*100-100)*'Data base original'!AJ83/('Data base original'!$AN83)","v":-4.742679064125005E-2},{"$f":"('Data base original'!AK95/'Data base original'!AK83*100-100)*'Data base original'!AK83/('Data base original'!$AN83)","v":1.4918109683570716E-2},{"$f":"-('Data base original'!AL95/'Data base original'!AL83*100-100)*'Data base original'!AL83/('Data base original'!$AN83)","v":0.10860825281371231},{"$f":"-('Data base original'!AM95/'Data base original'!AM83*100-100)*'Data base original'!AM83/('Data base original'!$AN83)","v":4.4312049545532734E-3},{"$f":"(('Data base original'!AJ95-'Data base original'!AL95)/('Data base original'!AJ83-'Data base original'!AL83)*100-100)*(('Data base original'!AJ83-'Data base original'!AL83)/'Data base original'!AN83)","v":6.1181462172462529E-2},{"$f":"(('Data base original'!AK95-'Data base original'!AM95)/('Data base original'!AK83-'Data base original'!AM83)*100-100)*(('Data base original'!AK83-'Data base original'!AM83)/'Data base original'!AN83)","v":1.9349314638124119E-2},{"$f":"('Data base original'!AN95/'Data base original'!AN83*100-100)*'Data base original'!AN83/('Data base original'!$AN83)","v":8.3807436787978702}]
["2013-02-01",{"$f":"'Data base original'!B96/'Data base original'!B84*100-100","v":12.887861446613627},{"$f":"'Data base original'!C96/'Data base original'!C84*100-100","v":11.001522577444405},{"$f":"'Data base original'!D96/'Data base original'!D84*100-100","v":10.598185467217718},{"$f":"'Data base original'!E96/'Data base original'!E84*100-100","v":12.259796341476843},{"$f":"'Data base original'!F96/'Data base original'!F84*100-100","v":12.065884751131264},{"$f":"'Data base original'!G96","v":26.686751233779432},{"$f":"'Data base original'!H96","v":35.737984214140184},{"$f":"'Data base original'!I96","v":18.011629898911512},{"$f":"'Data base original'!J96","v":36.97620386546766},{"$f":"'Data base original'!K96","v":9.676705483834187},{"$f":"'Data base original'!L96","v":8.7479265635799894},{"$f":"'Data base original'!M96","v":12.841079076939385},{"$f":"'Data base original'!N96","v":1.8413967970039411},{"$f":"'Data base original'!O96","v":1.5201833489137551},{"$f":"'Data base original'!P96","v":2.0953665672094592},{"$f":"'Data base original'!Q96","v":4.5199999999999996},{"$f":"('Data base original'!S96/'Data base original'!S84*100-100)*'Data base original'!S84/'Data base original'!$V84","v":3.1076588863042045},{"$f":"('Data base original'!T96/'Data base original'!T84*100-100)*'Data base original'!T84/'Data base original'!$V84","v":5.9966826963167792},{"$f":"('Data base original'!U96/'Data base original'!U84*100-100)*'Data base original'!U84/'Data base original'!$V84","v":1.6068729575192156},{"$f":"('Data base original'!V96/'Data base original'!V84*100-100)*'Data base original'!V84/'Data base original'!$V84","v":10.711214540140219},{"$f":"('Data base original'!V96/'Data base original'!V84*100-100)*'Data base original'!V84/('Data base original'!$AC84)","v":2.5887902969191692},{"$f":"('Data base original'!W96/'Data base original'!W84*100-100)*'Data base original'!W84/('Data base original'!$AC84)","v":9.8577865571604857},{"$f":"('Data base original'!X96/'Data base original'!X84*100-100)*'Data base original'!X84/('Data base original'!$AC84)","v":0.24571797010365415},{"$f":"('Data base original'!Y96/'Data base original'!Y84*100-100)*'Data base original'!Y84/('Data base original'!$AC84)","v":0.70676494156248992},{"$f":"('Data base original'!Z96/'Data base original'!Z84*100-100)*'Data base original'!Z84/('Data base original'!$AC84)","v":3.0110414704885635E-2},{"$f":"-('Data base original'!AA96/'Data base original'!AA84*100-100)*'Data base original'!AA84/('Data base original'!$AC84)","v":-0.80339700976980599},{"$f":"-('Data base original'!AB96/'Data base original'!AB84*100-100)*'Data base original'!AB84/('Data base original'!$AC84)","v":-7.2569738391542165E-3},{"$f":"(('Data base original'!Y96-'Data base original'!AA96)/('Data base original'!Y84-'Data base original'!AA84)*100-100)*(('Data base original'!Y84-'Data base original'!AA84)/'Data base original'!AC84)","v":-9.6632068207317151E-2},{"$f":"(('Data base original'!Z96-'Data base original'!AB96)/('Data base original'!Z84-'Data base original'!AB84)*100-100)*(('Data base original'!Z84-'Data base original'!AB84)/'Data base original'!AC84)","v":2.2853440865731298E-2},{"$f":"('Data base original'!AC96/'Data base original'!AC84*100-100)*'Data base original'!AC84/('Data base original'!$AC84)","v":12.618516196841682},{"$f":"('Data base original'!AC96/'Data base original'!AC84*100-100)*'Data base original'!AC84/('Data base original'!$AN84)","v":7.5138612595232015},{"$f":"('Data base original'!AD96/'Data base original'!AD84*100-100)*'Data base original'!AD84/('Data base original'!$AN84)","v":0.56187509741156783},{"$f":"('Data base original'!AE96/'Data base original'!AE84*100-100)*'Data base original'!AE84/('Data base original'!$AN84)","v":6.609889544865534E-2},{"$f":"('Data base original'!AF96/'Data base original'!AF84*100-100)*'Data base original'!AF84/('Data base original'!$AN84)","v":1.0360419046520675},{"$f":"('Data base original'!AG96/'Data base original'!AG84*100-100)*'Data base original'!AG84/('Data base original'!$AN84)","v":-0.79815193205753632},{"$f":"('Data base original'!AH96/'Data base original'!AH84*100-100)*'Data base original'!AH84/('Data base original'!$AN84)","v":-4.982720095610603E-2},{"$f":"('Data base original'!AI96/'Data base original'!AI84*100-100)*'Data base original'!AI84/('Data base original'!$AN84)","v":0.49079760713329351},{"$f":"('Data base original'!AJ96/'Data base original'!AJ84*100-100)*'Data base original'!AJ84/('Data base original'!$AN84)","v":-0.12226750369117687},{"$f":"('Data base original'!AK96/'Data base original'!AK84*100-100)*'Data base original'!AK84/('Data base original'!$AN84)","v":1.3366781153919469E-2},{"$f":"-('Data base original'!AL96/'Data base original'!AL84*100-100)*'Data base original'!AL84/('Data base original'!$AN84)","v":4.2588540172515489E-2},{"$f":"-('Data base original'!AM96/'Data base original'!AM84*100-100)*'Data base original'!AM84/('Data base original'!$AN84)","v":6.84920552819091E-3},{"$f":"(('Data base original'!AJ96-'Data base original'!AL96)/('Data base original'!AJ84-'Data base original'!AL84)*100-100)*(('Data base original'!AJ84-'Data base original'!AL84)/'Data base original'!AN84)","v":-7.9678963518661328E-2},{"$f":"(('Data base original'!AK96-'Data base original'!AM96)/('Data base original'!AK84-'Data base original'!AM84)*100-100)*(('Data base original'!AK84-'Data base original'!AM84)/'Data base original'!AN84)","v":2.0215986682110356E-2},{"$f":"('Data base original'!AN96/'Data base original'!AN84*100-100)*'Data base original'!AN84/('Data base original'!$AN84)","v":8.7612326543186043}]
["2013-03-01",{"$f":"'Data base original'!B97/'Data base original'!B85*100-100","v":11.733207654473148},{"$f":"'Data base original'!C97/'Data base original'!C85*100-100","v":10.897038368448577},{"$f":"'Data base original'!D97/'Data base original'!D85*100-100","v":10.514497389348193},{"$f":"'Data base original'!E97/'Data base original'!E85*100-100","v":9.8541480675197022},{"$f":"'Data base original'!F97/'Data base original'!F85*100-100","v":11.196389610344355},{"$f":"'Data base original'!G97","v":26.561767147938347},{"$f":"'Data base original'!H97","v":26.173268304710046},{"$f":"'Data base original'!I97","v":15.956792963243938},{"$f":"'Data base original'!J97","v":35.536686807848625},{"$f":"'Data base original'!K97","v":9.2852544936548362},{"$f":"'Data base original'!L97","v":6.8424892073433661},{"$f":"'Data base original'!M97","v":10.993208854277523},{"$f":"'Data base original'!N97","v":1.7211954079737886},{"$f":"'Data base original'!O97","v":1.4536419258085347},{"$f":"'Data base original'!P97","v":2.0507794838662039},{"$f":"'Data base original'!Q97","v":4.53},{"$f":"('Data base original'!S97/'Data base original'!S85*100-100)*'Data base original'!S85/'Data base original'!$V85","v":3.1396678445679687},{"$f":"('Data base original'!T97/'Data base original'!T85*100-100)*'Data base original'!T85/'Data base original'!$V85","v":4.8576675057760719},{"$f":"('Data base original'!U97/'Data base original'!U85*100-100)*'Data base original'!U85/'Data base original'!$V85","v":3.551088920218012},{"$f":"('Data base original'!V97/'Data base original'!V85*100-100)*'Data base original'!V85/'Data base original'!$V85","v":11.548424270562037},{"$f":"('Data base original'!V97/'Data base original'!V85*100-100)*'Data base original'!V85/('Data base original'!$AC85)","v":2.784174586812374},{"$f":"('Data base original'!W97/'Data base original'!W85*100-100)*'Data base original'!W85/('Data base original'!$AC85)","v":9.8462960564727737},{"$f":"('Data base original'!X97/'Data base original'!X85*100-100)*'Data base original'!X85/('Data base original'!$AC85)","v":0.24437079751867352},{"$f":"('Data base original'!Y97/'Data base original'!Y85*100-100)*'Data base original'!Y85/('Data base original'!$AC85)","v":0.49112283230350334},{"$f":"('Data base original'!Z97/'Data base original'!Z85*100-100)*'Data base original'!Z85/('Data base original'!$AC85)","v":3.7265967631900918E-2},{"$f":"-('Data base original'!AA97/'Data base original'!AA85*100-100)*'Data base original'!AA85/('Data base original'!$AC85)","v":-0.33754296125931388},{"$f":"-('Data base original'!AB97/'Data base original'!AB85*100-100)*'Data base original'!AB85/('Data base original'!$AC85)","v":-4.8038864597290147E-3},{"$f":"(('Data base original'!Y97-'Data base original'!AA97)/('Data base original'!Y85-'Data base original'!AA85)*100-100)*(('Data base original'!Y85-'Data base original'!AA85)/'Data base original'!AC85)","v":0.15357987104418935},{"$f":"(('Data base original'!Z97-'Data base original'!AB97)/('Data base original'!Z85-'Data base original'!AB85)*100-100)*(('Data base original'!Z85-'Data base original'!AB85)/'Data base original'!AC85)","v":3.2462081172171822E-2},{"$f":"('Data base original'!AC97/'Data base original'!AC85*100-100)*'Data base original'!AC85/('Data base original'!$AC85)","v":13.060883393020205},{"$f":"('Data base original'!AC97/'Data base original'!AC85*100-100)*'Data base original'!AC85/('Data base original'!$AN85)","v":7.7785386955675504},{"$f":"('Data base original'!AD97/'Data base original'!AD85*100-100)*'Data base original'!AD85/('Data base original'!$AN85)","v":0.42545875066120481},{"$f":"('Data base original'!AE97/'Data base original'!AE85*100-100)*'Data base original'!AE85/('Data base original'!$AN85)","v":-0.17824554228385259},{"$f":"('Data base original'!AF97/'Data base original'!AF85*100-100)*'Data base original'!AF85/('Data base original'!$AN85)","v":1.0545382770563938},{"$f":"('Data base original'!AG97/'Data base original'!AG85*100-100)*'Data base original'!AG85/('Data base original'!$AN85)","v":-0.56176442539429106},{"$f":"('Data base original'!AH97/'Data base original'!AH85*100-100)*'Data base original'!AH85/('Data base original'!$AN85)","v":-5.3295943616673176E-2},{"$f":"('Data base original'!AI97/'Data base original'!AI85*100-100)*'Data base original'!AI85/('Data base original'!$AN85)","v":0.46494624050429517},{"$f":"('Data base original'!AJ97/'Data base original'!AJ85*100-100)*'Data base original'!AJ85/('Data base original'!$AN85)","v":-0.16333546409854591},{"$f":"('Data base original'!AK97/'Data base original'!AK85*100-100)*'Data base original'!AK85/('Data base original'!$AN85)","v":1.2732333239558431E-2},{"$f":"-('Data base original'!AL97/'Data base original'!AL85*100-100)*'Data base original'!AL85/('Data base original'!$AN85)","v":0.1120964105620382},{"$f":"-('Data base original'!AM97/'Data base original'!AM85*100-100)*'Data base original'!AM85/('Data base original'!$AN85)","v":1.3881412979289513E-3},{"$f":"(('Data base original'!AJ97-'Data base original'!AL97)/('Data base original'!AJ85-'Data base original'!AL85)*100-100)*(('Data base original'!AJ85-'Data base original'!AL85)/'Data base original'!AN85)","v":-5.1239053536507873E-2},{"$f":"(('Data base original'!AK97-'Data base original'!AM97)/('Data base original'!AK85-'Data base original'!AM85)*100-100)*(('Data base original'!AK85-'Data base original'!AM85)/'Data base original'!AN85)","v":1.4120474537487342E-2},{"$f":"('Data base original'!AN97/'Data base original'!AN85*100-100)*'Data base original'!AN85/('Data base original'!$AN85)","v":8.8930574734956451}]
["2013-04-01",{"$f":"'Data base original'!B98/'Data base original'!B86*100-100","v":10.771729540869288},{"$f":"'Data base original'!C98/'Data base original'!C86*100-100","v":10.999970817742692},{"$f":"'Data base original'!D98/'Data base original'!D86*100-100","v":10.638889810491037},{"$f":"'Data base original'!E98/'Data base original'!E86*100-100","v":9.6686401332793253},{"$f":"'Data base original'!F98/'Data base original'!F86*100-100","v":10.679277218685627},{"$f":"'Data base original'!G98","v":25.74},{"$f":"'Data base original'!H98","v":25.099909679211386},{"$f":"'Data base original'!I98","v":16.218474186202549},{"$f":"'Data base original'!J98","v":35.47639021779635},{"$f":"'Data base original'!K98","v":9.2200000000000006},{"$f":"'Data base original'!L98","v":7.1537193513329651},{"$f":"'Data base original'!M98","v":11.11862965641018},{"$f":"'Data base original'!N98","v":1.52},{"$f":"'Data base original'!O98","v":1.2766490627366318},{"$f":"'Data base original'!P98","v":1.8876556355107634},{"$f":"'Data base original'!Q98","v":4.53},{"$f":"('Data base original'!S98/'Data base original'!S86*100-100)*'Data base original'!S86/'Data base original'!$V86","v":2.8651579520819395},{"$f":"('Data base original'!T98/'Data base original'!T86*100-100)*'Data base original'!T86/'Data base original'!$V86","v":4.0973552931275279},{"$f":"('Data base original'!U98/'Data base original'!U86*100-100)*'Data base original'!U86/'Data base original'!$V86","v":2.4636861362510971},{"$f":"('Data base original'!V98/'Data base original'!V86*100-100)*'Data base original'!V86/'Data base original'!$V86","v":9.4261993814605631},{"$f":"('Data base original'!V98/'Data base original'!V86*100-100)*'Data base original'!V86/('Data base original'!$AC86)","v":2.2722116524880933},{"$f":"('Data base original'!W98/'Data base original'!W86*100-100)*'Data base original'!W86/('Data base original'!$AC86)","v":8.753409050682718},{"$f":"('Data base original'!X98/'Data base original'!X86*100-100)*'Data base original'!X86/('Data base original'!$AC86)","v":0.23631067683877921},{"$f":"('Data base original'!Y98/'Data base original'!Y86*100-100)*'Data base original'!Y86/('Data base original'!$AC86)","v":1.0496038759081863},{"$f":"('Data base original'!Z98/'Data base original'!Z86*100-100)*'Data base original'!Z86/('Data base original'!$AC86)","v":7.6714974006606318E-2},{"$f":"-('Data base original'!AA98/'Data base original'!AA86*100-100)*'Data base original'!AA86/('Data base original'!$AC86)","v":-0.73224552332906934},{"$f":"-('Data base original'!AB98/'Data base original'!AB86*100-100)*'Data base original'!AB86/('Data base original'!$AC86)","v":-3.7182905280502047E-3},{"$f":"(('Data base original'!Y98-'Data base original'!AA98)/('Data base original'!Y86-'Data base original'!AA86)*100-100)*(('Data base original'!Y86-'Data base original'!AA86)/'Data base original'!AC86)","v":0.31735835257911826},{"$f":"(('Data base original'!Z98-'Data base original'!AB98)/('Data base original'!Z86-'Data base original'!AB86)*100-100)*(('Data base original'!Z86-'Data base original'!AB86)/'Data base original'!AC86)","v":7.2996683478556174E-2},{"$f":"('Data base original'!AC98/'Data base original'!AC86*100-100)*'Data base original'!AC86/('Data base original'!$AC86)","v":11.652286416067255},{"$f":"('Data base original'!AC98/'Data base original'!AC86*100-100)*'Data base original'!AC86/('Data base original'!$AN86)","v":6.9834831365853312},{"$f":"('Data base original'!AD98/'Data base original'!AD86*100-100)*'Data base original'!AD86/('Data base original'!$AN86)","v":0.46355324714363455},{"$f":"('Data base original'!AE98/'Data base original'!AE86*100-100)*'Data base original'!AE86/('Data base original'!$AN86)","v":0.30647874096402422},{"$f":"('Data base original'!AF98/'Data base original'!AF86*100-100)*'Data base original'!AF86/('Data base original'!$AN86)","v":1.205545253429259},{"$f":"('Data base original'!AG98/'Data base original'!AG86*100-100)*'Data base original'!AG86/('Data base original'!$AN86)","v":-0.59872161636848498},{"$f":"('Data base original'!AH98/'Data base original'!AH86*100-100)*'Data base original'!AH86/('Data base original'!$AN86)","v":-4.1294182325951286E-2},{"$f":"('Data base original'!AI98/'Data base original'!AI86*100-100)*'Data base original'!AI86/('Data base original'!$AN86)","v":0.46652062601483824},{"$f":"('Data base original'!AJ98/'Data base original'!AJ86*100-100)*'Data base original'!AJ86/('Data base original'!$AN86)","v":-0.16197000449550472},{"$f":"('Data base original'!AK98/'Data base original'!AK86*100-100)*'Data base original'!AK86/('Data base original'!$AN86)","v":1.6848542264556669E-2},{"$f":"-('Data base original'!AL98/'Data base original'!AL86*100-100)*'Data base original'!AL86/('Data base original'!$AN86)","v":-0.1259233535967301},{"$f":"-('Data base original'!AM98/'Data base original'!AM86*100-100)*'Data base original'!AM86/('Data base original'!$AN86)","v":-7.5453162996517052E-3},{"$f":"(('Data base original'!AJ98-'Data base original'!AL98)/('Data base original'!AJ86-'Data base original'!AL86)*100-100)*(('Data base original'!AJ86-'Data base original'!AL86)/'Data base original'!AN86)","v":-0.28789335809223504},{"$f":"(('Data base original'!AK98-'Data base original'!AM98)/('Data base original'!AK86-'Data base original'!AM86)*100-100)*(('Data base original'!AK86-'Data base original'!AM86)/'Data base original'!AN86)","v":9.3032259649050465E-3},{"$f":"('Data base original'!AN98/'Data base original'!AN86*100-100)*'Data base original'!AN86/('Data base original'!$AN86)","v":8.5069750733153313}]
["2013-05-01",{"$f":"'Data base original'!B99/'Data base original'!B87*100-100","v":9.8147731043772239},{"$f":"'Data base original'!C99/'Data base original'!C87*100-100","v":10.7789133143946},{"$f":"'Data base original'!D99/'Data base original'!D87*100-100","v":10.285565812562993},{"$f":"'Data base original'!E99/'Data base original'!E87*100-100","v":6.6982561280424022},{"$f":"'Data base original'!F99/'Data base original'!F87*100-100","v":9.7660467132638047},{"$f":"'Data base original'!G99","v":26.62},{"$f":"'Data base original'!H99","v":27.214571884394715},{"$f":"'Data base original'!I99","v":16.350231273634741},{"$f":"'Data base original'!J99","v":35.79288413008841},{"$f":"'Data base original'!K99","v":9.1300000000000008},{"$f":"'Data base original'!L99","v":7.0924092152010729},{"$f":"'Data base original'!M99","v":10.892780111542804},{"$f":"'Data base original'!N99","v":1.44},{"$f":"'Data base original'!O99","v":1.1652457123381132},{"$f":"'Data base original'!P99","v":1.9833324124911127},{"$f":"'Data base original'!Q99","v":4.51},{"$f":"('Data base original'!S99/'Data base original'!S87*100-100)*'Data base original'!S87/'Data base original'!$V87","v":3.1317613663531367},{"$f":"('Data base original'!T99/'Data base original'!T87*100-100)*'Data base original'!T87/'Data base original'!$V87","v":5.570735365564186},{"$f":"('Data base original'!U99/'Data base original'!U87*100-100)*'Data base original'!U87/'Data base original'!$V87","v":5.1932309917610006E-3},{"$f":"('Data base original'!V99/'Data base original'!V87*100-100)*'Data base original'!V87/'Data base original'!$V87","v":8.7076899629090718},{"$f":"('Data base original'!V99/'Data base original'!V87*100-100)*'Data base original'!V87/('Data base original'!$AC87)","v":2.0994157314072894},{"$f":"('Data base original'!W99/'Data base original'!W87*100-100)*'Data base original'!W87/('Data base original'!$AC87)","v":7.4310474919866341},{"$f":"('Data base original'!X99/'Data base original'!X87*100-100)*'Data base original'!X87/('Data base original'!$AC87)","v":0.21923257862062095},{"$f":"('Data base original'!Y99/'Data base original'!Y87*100-100)*'Data base original'!Y87/('Data base original'!$AC87)","v":3.7424407016046111},{"$f":"('Data base original'!Z99/'Data base original'!Z87*100-100)*'Data base original'!Z87/('Data base original'!$AC87)","v":5.6572758276505944E-2},{"$f":"-('Data base original'!AA99/'Data base original'!AA87*100-100)*'Data base original'!AA87/('Data base original'!$AC87)","v":-2.8580056939058216},{"$f":"-('Data base original'!AB99/'Data base original'!AB87*100-100)*'Data base original'!AB87/('Data base original'!$AC87)","v":-6.2919740131342199E-3},{"$f":"(('Data base original'!Y99-'Data base original'!AA99)/('Data base original'!Y87-'Data base original'!AA87)*100-100)*(('Data base original'!Y87-'Data base original'!AA87)/'Data base original'!AC87)","v":0.88443500769879146},{"$f":"(('Data base original'!Z99-'Data base original'!AB99)/('Data base original'!Z87-'Data base original'!AB87)*100-100)*(('Data base original'!Z87-'Data base original'!AB87)/'Data base original'!AC87)","v":5.0280784263371729E-2},{"$f":"('Data base original'!AC99/'Data base original'!AC87*100-100)*'Data base original'!AC87/('Data base original'!$AC87)","v":10.684411593976705},{"$f":"('Data base original'!AC99/'Data base original'!AC87*100-100)*'Data base original'!AC87/('Data base original'!$AN87)","v":6.462567942395756},{"$f":"('Data base original'!AD99/'Data base original'!AD87*100-100)*'Data base original'!AD87/('Data base original'!$AN87)","v":0.62817775286415523},{"$f":"('Data base original'!AE99/'Data base original'!AE87*100-100)*'Data base original'!AE87/('Data base original'!$AN87)","v":0.5898748387469126},{"$f":"('Data base original'!AF99/'Data base original'!AF87*100-100)*'Data base original'!AF87/('Data base original'!$AN87)","v":1.5011352364965733},{"$f":"('Data base original'!AG99/'Data base original'!AG87*100-100)*'Data base original'!AG87/('Data base original'!$AN87)","v":-0.49196963921585607},{"$f":"('Data base original'!AH99/'Data base original'!AH87*100-100)*'Data base original'!AH87/('Data base original'!$AN87)","v":-3.5722475712182213E-2},{"$f":"('Data base original'!AI99/'Data base original'!AI87*100-100)*'Data base original'!AI87/('Data base original'!$AN87)","v":0.45726198682729369},{"$f":"('Data base original'!AJ99/'Data base original'!AJ87*100-100)*'Data base original'!AJ87/('Data base original'!$AN87)","v":-2.2119451262597296E-2},{"$f":"('Data base original'!AK99/'Data base original'!AK87*100-100)*'Data base original'!AK87/('Data base original'!$AN87)","v":2.9147600110290956E-2},{"$f":"-('Data base original'!AL99/'Data base original'!AL87*100-100)*'Data base original'!AL87/('Data base original'!$AN87)","v":-0.3513992038510157},{"$f":"-('Data base original'!AM99/'Data base original'!AM87*100-100)*'Data base original'!AM87/('Data base original'!$AN87)","v":-1.1766009100960291E-2},{"$f":"(('Data base original'!AJ99-'Data base original'!AL99)/('Data base original'!AJ87-'Data base original'!AL87)*100-100)*(('Data base original'!AJ87-'Data base original'!AL87)/'Data base original'!AN87)","v":-0.37351865511361326},{"$f":"(('Data base original'!AK99-'Data base original'!AM99)/('Data base original'!AK87-'Data base original'!AM87)*100-100)*(('Data base original'!AK87-'Data base original'!AM87)/'Data base original'!AN87)","v":1.738159100933066E-2},{"$f":"('Data base original'!AN99/'Data base original'!AN87*100-100)*'Data base original'!AN87/('Data base original'!$AN87)","v":8.7551885782983589}]
["2013-06-01",{"$f":"'Data base original'!B100/'Data base original'!B88*100-100","v":9.40134325108788},{"$f":"'Data base original'!C100/'Data base original'!C88*100-100","v":10.647731451508307},{"$f":"'Data base original'!D100/'Data base original'!D88*100-100","v":10.078986304374553},{"$f":"'Data base original'!E100/'Data base original'!E88*100-100","v":11.627699676451769},{"$f":"'Data base original'!F100/'Data base original'!F88*100-100","v":9.8922242248196284},{"$f":"'Data base original'!G100","v":26.36},{"$f":"'Data base original'!H100","v":28.022812697517871},{"$f":"'Data base original'!I100","v":15.956952948129221},{"$f":"'Data base original'!J100","v":36.183460757486131},{"$f":"'Data base original'!K100","v":9.0359999999999996},{"$f":"'Data base original'!L100","v":7.004507965268493},{"$f":"'Data base original'!M100","v":11.069089415975037},{"$f":"'Data base original'!N100","v":1.43},{"$f":"'Data base original'!O100","v":1.1594420622293382},{"$f":"'Data base original'!P100","v":1.8839872119990264},{"$f":"'Data base original'!Q100","v":4.45},{"$f":"('Data base original'!S100/'Data base original'!S88*100-100)*'Data base original'!S88/'Data base original'!$V88","v":2.9669411335491698},{"$f":"('Data base original'!T100/'Data base original'!T88*100-100)*'Data base original'!T88/'Data base original'!$V88","v":6.5899633952520658},{"$f":"('Data base original'!U100/'Data base original'!U88*100-100)*'Data base original'!U88/'Data base original'!$V88","v":3.1589915376750395},{"$f":"('Data base original'!V100/'Data base original'!V88*100-100)*'Data base original'!V88/'Data base original'!$V88","v":12.715896066476276},{"$f":"('Data base original'!V100/'Data base original'!V88*100-100)*'Data base original'!V88/('Data base original'!$AC88)","v":2.9635993514726784},{"$f":"('Data base original'!W100/'Data base original'!W88*100-100)*'Data base original'!W88/('Data base original'!$AC88)","v":6.8847737830180344},{"$f":"('Data base original'!X100/'Data base original'!X88*100-100)*'Data base original'!X88/('Data base original'!$AC88)","v":0.1298104037936347},{"$f":"('Data base original'!Y100/'Data base original'!Y88*100-100)*'Data base original'!Y88/('Data base original'!$AC88)","v":2.5406371133404915},{"$f":"('Data base original'!Z100/'Data base original'!Z88*100-100)*'Data base original'!Z88/('Data base original'!$AC88)","v":4.0043195176999368E-3},{"$f":"-('Data base original'!AA100/'Data base original'!AA88*100-100)*'Data base original'!AA88/('Data base original'!$AC88)","v":-1.8564454960993571},{"$f":"-('Data base original'!AB100/'Data base original'!AB88*100-100)*'Data base original'!AB88/('Data base original'!$AC88)","v":-1.2000509821618472E-2},{"$f":"(('Data base original'!Y100-'Data base original'!AA100)/('Data base original'!Y88-'Data base original'!AA88)*100-100)*(('Data base original'!Y88-'Data base original'!AA88)/'Data base original'!AC88)","v":0.68419161724113231},{"$f":"(('Data base original'!Z100-'Data base original'!AB100)/('Data base original'!Z88-'Data base original'!AB88)*100-100)*(('Data base original'!Z88-'Data base original'!AB88)/'Data base original'!AC88)","v":-7.9961903039185381E-3},{"$f":"('Data base original'!AC100/'Data base original'!AC88*100-100)*'Data base original'!AC88/('Data base original'!$AC88)","v":10.654378965221568},{"$f":"('Data base original'!AC100/'Data base original'!AC88*100-100)*'Data base original'!AC88/('Data base original'!$AN88)","v":6.5153797822846835},{"$f":"('Data base original'!AD100/'Data base original'!AD88*100-100)*'Data base original'!AD88/('Data base original'!$AN88)","v":0.91722499832176485},{"$f":"('Data base original'!AE100/'Data base original'!AE88*100-100)*'Data base original'!AE88/('Data base original'!$AN88)","v":0.42906615476575893},{"$f":"('Data base original'!AF100/'Data base original'!AF88*100-100)*'Data base original'!AF88/('Data base original'!$AN88)","v":1.7290658697204069},{"$f":"('Data base original'!AG100/'Data base original'!AG88*100-100)*'Data base original'!AG88/('Data base original'!$AN88)","v":-0.50477788897569875},{"$f":"('Data base original'!AH100/'Data base original'!AH88*100-100)*'Data base original'!AH88/('Data base original'!$AN88)","v":-3.5417562534797373E-2},{"$f":"('Data base original'!AI100/'Data base original'!AI88*100-100)*'Data base original'!AI88/('Data base original'!$AN88)","v":0.47369610864235762},{"$f":"('Data base original'!AJ100/'Data base original'!AJ88*100-100)*'Data base original'!AJ88/('Data base original'!$AN88)","v":0.10571320596899236},{"$f":"('Data base original'!AK100/'Data base original'!AK88*100-100)*'Data base original'!AK88/('Data base original'!$AN88)","v":3.2824569612776272E-2},{"$f":"-('Data base original'!AL100/'Data base original'!AL88*100-100)*'Data base original'!AL88/('Data base original'!$AN88)","v":-0.16437873797541017},{"$f":"-('Data base original'!AM100/'Data base original'!AM88*100-100)*'Data base original'!AM88/('Data base original'!$AN88)","v":-1.107465761225988E-2},{"$f":"(('Data base original'!AJ100-'Data base original'!AL100)/('Data base original'!AJ88-'Data base original'!AL88)*100-100)*(('Data base original'!AJ88-'Data base original'!AL88)/'Data base original'!AN88)","v":-5.8665532006417685E-2},{"$f":"(('Data base original'!AK100-'Data base original'!AM100)/('Data base original'!AK88-'Data base original'!AM88)*100-100)*(('Data base original'!AK88-'Data base original'!AM88)/'Data base original'!AN88)","v":2.1749912000516382E-2},{"$f":"('Data base original'!AN100/'Data base original'!AN88*100-100)*'Data base original'!AN88/('Data base original'!$AN88)","v":9.4873218422185488}]
["2013-07-01",{"$f":"'Data base original'!B101/'Data base original'!B89*100-100","v":9.8928127275763558},{"$f":"'Data base original'!C101/'Data base original'!C89*100-100","v":10.485660187884463},{"$f":"'Data base original'!D101/'Data base original'!D89*100-100","v":10.80702455788385},{"$f":"'Data base original'!E101/'Data base original'!E89*100-100","v":17.663241534745879},{"$f":"'Data base original'!F101/'Data base original'!F89*100-100","v":10.813367315449767},{"$f":"'Data base original'!G101","v":26.99},{"$f":"'Data base original'!H101","v":28.251789521882767},{"$f":"'Data base original'!I101","v":16.277407031945078},{"$f":"'Data base original'!J101","v":36.195445698235588},{"$f":"'Data base original'!K101","v":9.2200000000000006},{"$f":"'Data base original'!L101","v":7.2360119466197137},{"$f":"'Data base original'!M101","v":11.11571503580709},{"$f":"'Data base original'!N101","v":1.48},{"$f":"'Data base original'!O101","v":1.282517036762912},{"$f":"'Data base original'!P101","v":1.7922752793318626},{"$f":"'Data base original'!Q101","v":4.46},{"$f":"('Data base original'!S101/'Data base original'!S89*100-100)*'Data base original'!S89/'Data base original'!$V89","v":2.8628964584054168},{"$f":"('Data base original'!T101/'Data base original'!T89*100-100)*'Data base original'!T89/'Data base original'!$V89","v":6.6558024185408913},{"$f":"('Data base original'!U101/'Data base original'!U89*100-100)*'Data base original'!U89/'Data base original'!$V89","v":4.1615053104671009},{"$f":"('Data base original'!V101/'Data base original'!V89*100-100)*'Data base original'!V89/'Data base original'!$V89","v":13.680204187413423},{"$f":"('Data base original'!V101/'Data base original'!V89*100-100)*'Data base original'!V89/('Data base original'!$AC89)","v":3.1435226009372141},{"$f":"('Data base original'!W101/'Data base original'!W89*100-100)*'Data base original'!W89/('Data base original'!$AC89)","v":6.4789397859968938},{"$f":"('Data base original'!X101/'Data base original'!X89*100-100)*'Data base original'!X89/('Data base original'!$AC89)","v":0.19439306436513115},{"$f":"('Data base original'!Y101/'Data base original'!Y89*100-100)*'Data base original'!Y89/('Data base original'!$AC89)","v":0.78091081166151244},{"$f":"('Data base original'!Z101/'Data base original'!Z89*100-100)*'Data base original'!Z89/('Data base original'!$AC89)","v":6.7241788634723404E-3},{"$f":"-('Data base original'!AA101/'Data base original'!AA89*100-100)*'Data base original'!AA89/('Data base original'!$AC89)","v":-0.26446936136224297},{"$f":"-('Data base original'!AB101/'Data base original'!AB89*100-100)*'Data base original'!AB89/('Data base original'!$AC89)","v":-1.2665344499285918E-2},{"$f":"(('Data base original'!Y101-'Data base original'!AA101)/('Data base original'!Y89-'Data base original'!AA89)*100-100)*(('Data base original'!Y89-'Data base original'!AA89)/'Data base original'!AC89)","v":0.51644145029927158},{"$f":"(('Data base original'!Z101-'Data base original'!AB101)/('Data base original'!Z89-'Data base original'!AB89)*100-100)*(('Data base original'!Z89-'Data base original'!AB89)/'Data base original'!AC89)","v":-5.9411656358135398E-3},{"$f":"('Data base original'!AC101/'Data base original'!AC89*100-100)*'Data base original'!AC89/('Data base original'!$AC89)","v":10.327355735962684},{"$f":"('Data base original'!AC101/'Data base original'!AC89*100-100)*'Data base original'!AC89/('Data base original'!$AN89)","v":6.3632009932318505},{"$f":"('Data base original'!AD101/'Data base original'!AD89*100-100)*'Data base original'!AD89/('Data base original'!$AN89)","v":1.3759280830256349},{"$f":"('Data base original'!AE101/'Data base original'!AE89*100-100)*'Data base original'!AE89/('Data base original'!$AN89)","v":0.62547796938416977},{"$f":"('Data base original'!AF101/'Data base original'!AF89*100-100)*'Data base original'!AF89/('Data base original'!$AN89)","v":1.8955454605070547},{"$f":"('Data base original'!AG101/'Data base original'!AG89*100-100)*'Data base original'!AG89/('Data base original'!$AN89)","v":-0.54874071717886319},{"$f":"('Data base original'!AH101/'Data base original'!AH89*100-100)*'Data base original'!AH89/('Data base original'!$AN89)","v":-3.0144893704220927E-2},{"$f":"('Data base original'!AI101/'Data base original'!AI89*100-100)*'Data base original'!AI89/('Data base original'!$AN89)","v":0.41958302338906184},{"$f":"('Data base original'!AJ101/'Data base original'!AJ89*100-100)*'Data base original'!AJ89/('Data base original'!$AN89)","v":0.29372543154037689},{"$f":"('Data base original'!AK101/'Data base original'!AK89*100-100)*'Data base original'!AK89/('Data base original'!$AN89)","v":3.2207781047347714E-2},{"$f":"-('Data base original'!AL101/'Data base original'!AL89*100-100)*'Data base original'!AL89/('Data base original'!$AN89)","v":-0.17707031613657839},{"$f":"-('Data base original'!AM101/'Data base original'!AM89*100-100)*'Data base original'!AM89/('Data base original'!$AN89)","v":-1.0308732060433645E-2},{"$f":"(('Data base original'!AJ101-'Data base original'!AL101)/('Data base original'!AJ89-'Data base original'!AL89)*100-100)*(('Data base original'!AJ89-'Data base original'!AL89)/'Data base original'!AN89)","v":0.11665511540379842},{"$f":"(('Data base original'!AK101-'Data base original'!AM101)/('Data base original'!AK89-'Data base original'!AM89)*100-100)*(('Data base original'!AK89-'Data base original'!AM89)/'Data base original'!AN89)","v":2.1899048986914017E-2},{"$f":"('Data base original'!AN101/'Data base original'!AN89*100-100)*'Data base original'!AN89/('Data base original'!$AN89)","v":10.2394040830454}]
["2013-08-01",{"$f":"'Data base original'!B102/'Data base original'!B90*100-100","v":11.054962735275069},{"$f":"'Data base original'!C102/'Data base original'!C90*100-100","v":10.263818164196707},{"$f":"'Data base original'!D102/'Data base original'!D90*100-100","v":11.129304272929048},{"$f":"'Data base original'!E102/'Data base original'!E90*100-100","v":12.924569093994293},{"$f":"'Data base original'!F102/'Data base original'!F90*100-100","v":11.135056436796376},{"$f":"'Data base original'!G102","v":27.410764499772498},{"$f":"'Data base original'!H102","v":31.846919797108157},{"$f":"'Data base original'!I102","v":15.591562672046479},{"$f":"'Data base original'!J102","v":35.902965937685209},{"$f":"'Data base original'!K102","v":8.8965493557184914},{"$f":"'Data base original'!L102","v":7.125036704190963},{"$f":"'Data base original'!M102","v":10.6665350824013},{"$f":"'Data base original'!N102","v":1.6821505055583721},{"$f":"'Data base original'!O102","v":1.5204008062693743},{"$f":"'Data base original'!P102","v":1.8796683960316261},{"$f":"'Data base original'!Q102","v":4.49},{"$f":"('Data base original'!S102/'Data base original'!S90*100-100)*'Data base original'!S90/'Data base original'!$V90","v":2.7381737871115992},{"$f":"('Data base original'!T102/'Data base original'!T90*100-100)*'Data base original'!T90/'Data base original'!$V90","v":6.9880371920434001},{"$f":"('Data base original'!U102/'Data base original'!U90*100-100)*'Data base original'!U90/'Data base original'!$V90","v":5.0805091051211964},{"$f":"('Data base original'!V102/'Data base original'!V90*100-100)*'Data base original'!V90/'Data base original'!$V90","v":14.806720084276193},{"$f":"('Data base original'!V102/'Data base original'!V90*100-100)*'Data base original'!V90/('Data base original'!$AC90)","v":3.3202243417123452},{"$f":"('Data base original'!W102/'Data base original'!W90*100-100)*'Data base original'!W90/('Data base original'!$AC90)","v":6.927415843634491},{"$f":"('Data base original'!X102/'Data base original'!X90*100-100)*'Data base original'!X90/('Data base original'!$AC90)","v":0.1516805821526373},{"$f":"('Data base original'!Y102/'Data base original'!Y90*100-100)*'Data base original'!Y90/('Data base original'!$AC90)","v":1.7861165386369964},{"$f":"('Data base original'!Z102/'Data base original'!Z90*100-100)*'Data base original'!Z90/('Data base original'!$AC90)","v":-8.9475375836565296E-3},{"$f":"-('Data base original'!AA102/'Data base original'!AA90*100-100)*'Data base original'!AA90/('Data base original'!$AC90)","v":-0.8312262714881713},{"$f":"-('Data base original'!AB102/'Data base original'!AB90*100-100)*'Data base original'!AB90/('Data base original'!$AC90)","v":-1.0524091232106229E-2},{"$f":"(('Data base original'!Y102-'Data base original'!AA102)/('Data base original'!Y90-'Data base original'!AA90)*100-100)*(('Data base original'!Y90-'Data base original'!AA90)/'Data base original'!AC90)","v":0.95489026714882608},{"$f":"(('Data base original'!Z102-'Data base original'!AB102)/('Data base original'!Z90-'Data base original'!AB90)*100-100)*(('Data base original'!Z90-'Data base original'!AB90)/'Data base original'!AC90)","v":-1.9471628815762823E-2},{"$f":"('Data base original'!AC102/'Data base original'!AC90*100-100)*'Data base original'!AC90/('Data base original'!$AC90)","v":11.334739405832536},{"$f":"('Data base original'!AC102/'Data base original'!AC90*100-100)*'Data base original'!AC90/('Data base original'!$AN90)","v":6.9654658393731443},{"$f":"('Data base original'!AD102/'Data base original'!AD90*100-100)*'Data base original'!AD90/('Data base original'!$AN90)","v":1.7903746288005289},{"$f":"('Data base original'!AE102/'Data base original'!AE90*100-100)*'Data base original'!AE90/('Data base original'!$AN90)","v":0.62752927642309764},{"$f":"('Data base original'!AF102/'Data base original'!AF90*100-100)*'Data base original'!AF90/('Data base original'!$AN90)","v":2.1251132600524492},{"$f":"('Data base original'!AG102/'Data base original'!AG90*100-100)*'Data base original'!AG90/('Data base original'!$AN90)","v":-0.54767322647581385},{"$f":"('Data base original'!AH102/'Data base original'!AH90*100-100)*'Data base original'!AH90/('Data base original'!$AN90)","v":-2.2114614187383846E-2},{"$f":"('Data base original'!AI102/'Data base original'!AI90*100-100)*'Data base original'!AI90/('Data base original'!$AN90)","v":0.88600533571989659},{"$f":"('Data base original'!AJ102/'Data base original'!AJ90*100-100)*'Data base original'!AJ90/('Data base original'!$AN90)","v":0.43177524095476383},{"$f":"('Data base original'!AK102/'Data base original'!AK90*100-100)*'Data base original'!AK90/('Data base original'!$AN90)","v":3.3741412217340262E-2},{"$f":"-('Data base original'!AL102/'Data base original'!AL90*100-100)*'Data base original'!AL90/('Data base original'!$AN90)","v":-0.32807282131467175},{"$f":"-('Data base original'!AM102/'Data base original'!AM90*100-100)*'Data base original'!AM90/('Data base original'!$AN90)","v":-1.2999993759277703E-2},{"$f":"(('Data base original'!AJ102-'Data base original'!AL102)/('Data base original'!AJ90-'Data base original'!AL90)*100-100)*(('Data base original'!AJ90-'Data base original'!AL90)/'Data base original'!AN90)","v":0.10370241964009144},{"$f":"(('Data base original'!AK102-'Data base original'!AM102)/('Data base original'!AK90-'Data base original'!AM90)*100-100)*(('Data base original'!AK90-'Data base original'!AM90)/'Data base original'!AN90)","v":2.0741418458062551E-2},{"$f":"('Data base original'!AN102/'Data base original'!AN90*100-100)*'Data base original'!AN90/('Data base original'!$AN90)","v":11.949144337804071}]
["2013-09-01",{"$f":"'Data base original'!B103/'Data base original'!B91*100-100","v":10.620346190305725},{"$f":"'Data base original'!C103/'Data base original'!C91*100-100","v":10.103639121283152},{"$f":"'Data base original'!D103/'Data base original'!D91*100-100","v":11.390851946324474},{"$f":"'Data base original'!E103/'Data base original'!E91*100-100","v":9.5923379884182367},{"$f":"'Data base original'!F103/'Data base original'!F91*100-100","v":10.655079012796762},{"$f":"'Data base original'!G103","v":27.456714660823657},{"$f":"'Data base original'!H103","v":31.165323148352044},{"$f":"'Data base original'!I103","v":14.20804883190101},{"$f":"'Data base original'!J103","v":35.704905589331588},{"$f":"'Data base original'!K103","v":9.2435012481818664},{"$f":"'Data base original'!L103","v":6.8945340367623675},{"$f":"'Data base original'!M103","v":11.022305956128957},{"$f":"'Data base original'!N103","v":1.4553408483150525},{"$f":"'Data base original'!O103","v":1.3135641342240492},{"$f":"'Data base original'!P103","v":1.7691063868823258},{"$f":"'Data base original'!Q103","v":4.37},{"$f":"('Data base original'!S103/'Data base original'!S91*100-100)*'Data base original'!S91/'Data base original'!$V91","v":3.0314610843228289},{"$f":"('Data base original'!T103/'Data base original'!T91*100-100)*'Data base original'!T91/'Data base original'!$V91","v":7.411079677770009},{"$f":"('Data base original'!U103/'Data base original'!U91*100-100)*'Data base original'!U91/'Data base original'!$V91","v":2.7831832167598041},{"$f":"('Data base original'!V103/'Data base original'!V91*100-100)*'Data base original'!V91/'Data base original'!$V91","v":13.225723978852642},{"$f":"('Data base original'!V103/'Data base original'!V91*100-100)*'Data base original'!V91/('Data base original'!$AC91)","v":3.0609963655057211},{"$f":"('Data base original'!W103/'Data base original'!W91*100-100)*'Data base original'!W91/('Data base original'!$AC91)","v":6.7630014873497419},{"$f":"('Data base original'!X103/'Data base original'!X91*100-100)*'Data base original'!X91/('Data base original'!$AC91)","v":0.22743635412838401},{"$f":"('Data base original'!Y103/'Data base original'!Y91*100-100)*'Data base original'!Y91/('Data base original'!$AC91)","v":1.8618671233020561},{"$f":"('Data base original'!Z103/'Data base original'!Z91*100-100)*'Data base original'!Z91/('Data base original'!$AC91)","v":-2.110497479871103E-2},{"$f":"-('Data base original'!AA103/'Data base original'!AA91*100-100)*'Data base original'!AA91/('Data base original'!$AC91)","v":-1.0078576462317146},{"$f":"-('Data base original'!AB103/'Data base original'!AB91*100-100)*'Data base original'!AB91/('Data base original'!$AC91)","v":-1.5228467095046352E-2},{"$f":"(('Data base original'!Y103-'Data base original'!AA103)/('Data base original'!Y91-'Data base original'!AA91)*100-100)*(('Data base original'!Y91-'Data base original'!AA91)/'Data base original'!AC91)","v":0.85400947707034125},{"$f":"(('Data base original'!Z103-'Data base original'!AB103)/('Data base original'!Z91-'Data base original'!AB91)*100-100)*(('Data base original'!Z91-'Data base original'!AB91)/'Data base original'!AC91)","v":-3.6333441893757444E-2},{"$f":"('Data base original'!AC103/'Data base original'!AC91*100-100)*'Data base original'!AC91/('Data base original'!$AC91)","v":10.869110242160417},{"$f":"('Data base original'!AC103/'Data base original'!AC91*100-100)*'Data base original'!AC91/('Data base original'!$AN91)","v":6.7180865368992064},{"$f":"('Data base original'!AD103/'Data base original'!AD91*100-100)*'Data base original'!AD91/('Data base original'!$AN91)","v":1.8471862750475712},{"$f":"('Data base original'!AE103/'Data base original'!AE91*100-100)*'Data base original'!AE91/('Data base original'!$AN91)","v":0.77447337938425564},{"$f":"('Data base original'!AF103/'Data base original'!AF91*100-100)*'Data base original'!AF91/('Data base original'!$AN91)","v":2.1988233483809876},{"$f":"('Data base original'!AG103/'Data base original'!AG91*100-100)*'Data base original'!AG91/('Data base original'!$AN91)","v":-0.50136487946625741},{"$f":"('Data base original'!AH103/'Data base original'!AH91*100-100)*'Data base original'!AH91/('Data base original'!$AN91)","v":-2.0547492612517815E-2},{"$f":"('Data base original'!AI103/'Data base original'!AI91*100-100)*'Data base original'!AI91/('Data base original'!$AN91)","v":1.2084117394826597},{"$f":"('Data base original'!AJ103/'Data base original'!AJ91*100-100)*'Data base original'!AJ91/('Data base original'!$AN91)","v":0.3614808668596971},{"$f":"('Data base original'!AK103/'Data base original'!AK91*100-100)*'Data base original'!AK91/('Data base original'!$AN91)","v":3.1496875648167985E-2},{"$f":"-('Data base original'!AL103/'Data base original'!AL91*100-100)*'Data base original'!AL91/('Data base original'!$AN91)","v":-0.34000516496987382},{"$f":"-('Data base original'!AM103/'Data base original'!AM91*100-100)*'Data base original'!AM91/('Data base original'!$AN91)","v":-1.533768822234231E-2},{"$f":"(('Data base original'!AJ103-'Data base original'!AL103)/('Data base original'!AJ91-'Data base original'!AL91)*100-100)*(('Data base original'!AJ91-'Data base original'!AL91)/'Data base original'!AN91)","v":2.1475701889822625E-2},{"$f":"(('Data base original'!AK103-'Data base original'!AM103)/('Data base original'!AK91-'Data base original'!AM91)*100-100)*(('Data base original'!AK91-'Data base original'!AM91)/'Data base original'!AN91)","v":1.6159187425825589E-2},{"$f":"('Data base original'!AN103/'Data base original'!AN91*100-100)*'Data base original'!AN91/('Data base original'!$AN91)","v":12.262703796431566}]
["2013-10-01",{"$f":"'Data base original'!B104/'Data base original'!B92*100-100","v":10.008016601017047},{"$f":"'Data base original'!C104/'Data base original'!C92*100-100","v":10.243643667531344},{"$f":"'Data base original'!D104/'Data base original'!D92*100-100","v":11.319330338618585},{"$f":"'Data base original'!E104/'Data base original'!E92*100-100","v":9.1932362684713667},{"$f":"'Data base original'!F104/'Data base original'!F92*100-100","v":10.278353984996613},{"$f":"'Data base original'!G104","v":26.863969371184837},{"$f":"'Data base original'!H104","v":29.728903353522245},{"$f":"'Data base original'!I104","v":15.766727938179059},{"$f":"'Data base original'!J104","v":35.537349645069781},{"$f":"'Data base original'!K104","v":8.8171856697406028},{"$f":"'Data base original'!L104","v":7.1883724453017619},{"$f":"'Data base original'!M104","v":10.174885845762081},{"$f":"'Data base original'!N104","v":1.6687795377367145},{"$f":"'Data base original'!O104","v":1.5634216322485095},{"$f":"'Data base original'!P104","v":1.7905766682535385},{"$f":"'Data base original'!Q104","v":4.3899999999999997},{"$f":"('Data base original'!S104/'Data base original'!S92*100-100)*'Data base original'!S92/'Data base original'!$V92","v":3.1478153330175647},{"$f":"('Data base original'!T104/'Data base original'!T92*100-100)*'Data base original'!T92/'Data base original'!$V92","v":7.9973203984077355},{"$f":"('Data base original'!U104/'Data base original'!U92*100-100)*'Data base original'!U92/'Data base original'!$V92","v":0.25596799877157322},{"$f":"('Data base original'!V104/'Data base original'!V92*100-100)*'Data base original'!V92/'Data base original'!$V92","v":11.401103730196866},{"$f":"('Data base original'!V104/'Data base original'!V92*100-100)*'Data base original'!V92/('Data base original'!$AC92)","v":2.5873817800101548},{"$f":"('Data base original'!W104/'Data base original'!W92*100-100)*'Data base original'!W92/('Data base original'!$AC92)","v":6.5685177496950855},{"$f":"('Data base original'!X104/'Data base original'!X92*100-100)*'Data base original'!X92/('Data base original'!$AC92)","v":0.21594551360970862},{"$f":"('Data base original'!Y104/'Data base original'!Y92*100-100)*'Data base original'!Y92/('Data base original'!$AC92)","v":1.9374769230087026},{"$f":"('Data base original'!Z104/'Data base original'!Z92*100-100)*'Data base original'!Z92/('Data base original'!$AC92)","v":-6.2622517829797079E-3},{"$f":"-('Data base original'!AA104/'Data base original'!AA92*100-100)*'Data base original'!AA92/('Data base original'!$AC92)","v":-1.5175927086515859},{"$f":"-('Data base original'!AB104/'Data base original'!AB92*100-100)*'Data base original'!AB92/('Data base original'!$AC92)","v":-1.747242071122249E-2},{"$f":"(('Data base original'!Y104-'Data base original'!AA104)/('Data base original'!Y92-'Data base original'!AA92)*100-100)*(('Data base original'!Y92-'Data base original'!AA92)/'Data base original'!AC92)","v":0.41988421435711809},{"$f":"(('Data base original'!Z104-'Data base original'!AB104)/('Data base original'!Z92-'Data base original'!AB92)*100-100)*(('Data base original'!Z92-'Data base original'!AB92)/'Data base original'!AC92)","v":-2.3734672494202108E-2},{"$f":"('Data base original'!AC104/'Data base original'!AC92*100-100)*'Data base original'!AC92/('Data base original'!$AC92)","v":9.7679945851778598},{"$f":"('Data base original'!AC104/'Data base original'!AC92*100-100)*'Data base original'!AC92/('Data base original'!$AN92)","v":6.034350890478712},{"$f":"('Data base original'!AD104/'Data base original'!AD92*100-100)*'Data base original'!AD92/('Data base original'!$AN92)","v":1.6308289048106837},{"$f":"('Data base original'!AE104/'Data base original'!AE92*100-100)*'Data base original'!AE92/('Data base original'!$AN92)","v":0.67282723390222798},{"$f":"('Data base original'!AF104/'Data base original'!AF92*100-100)*'Data base original'!AF92/('Data base original'!$AN92)","v":2.3430837080142797},{"$f":"('Data base original'!AG104/'Data base original'!AG92*100-100)*'Data base original'!AG92/('Data base original'!$AN92)","v":-0.36907294514842981},{"$f":"('Data base original'!AH104/'Data base original'!AH92*100-100)*'Data base original'!AH92/('Data base original'!$AN92)","v":-1.8670070043136207E-2},{"$f":"('Data base original'!AI104/'Data base original'!AI92*100-100)*'Data base original'!AI92/('Data base original'!$AN92)","v":1.1244872254018667},{"$f":"('Data base original'!AJ104/'Data base original'!AJ92*100-100)*'Data base original'!AJ92/('Data base original'!$AN92)","v":0.39978434590075945},{"$f":"('Data base original'!AK104/'Data base original'!AK92*100-100)*'Data base original'!AK92/('Data base original'!$AN92)","v":3.8194621774334733E-2},{"$f":"-('Data base original'!AL104/'Data base original'!AL92*100-100)*'Data base original'!AL92/('Data base original'!$AN92)","v":-0.31698515354304568},{"$f":"-('Data base original'!AM104/'Data base original'!AM92*100-100)*'Data base original'!AM92/('Data base original'!$AN92)","v":-1.6189113170581203E-2},{"$f":"(('Data base original'!AJ104-'Data base original'!AL104)/('Data base original'!AJ92-'Data base original'!AL92)*100-100)*(('Data base original'!AJ92-'Data base original'!AL92)/'Data base original'!AN92)","v":8.2799192357713616E-2},{"$f":"(('Data base original'!AK104-'Data base original'!AM104)/('Data base original'!AK92-'Data base original'!AM92)*100-100)*(('Data base original'!AK92-'Data base original'!AM92)/'Data base original'!AN92)","v":2.2005508603753585E-2},{"$f":"('Data base original'!AN104/'Data base original'!AN92*100-100)*'Data base original'!AN92/('Data base original'!$AN92)","v":11.522639648377677}]
["2013-11-01",{"$f":"'Data base original'!B105/'Data base original'!B93*100-100","v":10.472881465167958},{"$f":"'Data base original'!C105/'Data base original'!C93*100-100","v":10.408234025971311},{"$f":"'Data base original'!D105/'Data base original'!D93*100-100","v":10.782447771735121},{"$f":"'Data base original'!E105/'Data base original'!E93*100-100","v":12.240040219752558},{"$f":"'Data base original'!F105/'Data base original'!F93*100-100","v":10.678124607964335},{"$f":"'Data base original'!G105","v":26.783234874877937},{"$f":"'Data base original'!H105","v":29.49860397661892},{"$f":"'Data base original'!I105","v":15.579875176664661},{"$f":"'Data base original'!J105","v":35.355460238795061},{"$f":"'Data base original'!K105","v":8.8913731545848123},{"$f":"'Data base original'!L105","v":6.6389807958743869},{"$f":"'Data base original'!M105","v":11.091098509406459},{"$f":"'Data base original'!N105","v":1.5710335556046542},{"$f":"'Data base original'!O105","v":1.3861692296394117},{"$f":"'Data base original'!P105","v":1.8152955775910864},{"$f":"'Data base original'!Q105","v":4.3600000000000003},{"$f":"('Data base original'!S105/'Data base original'!S93*100-100)*'Data base original'!S93/'Data base original'!$V93","v":2.9160652375559266},{"$f":"('Data base original'!T105/'Data base original'!T93*100-100)*'Data base original'!T93/'Data base original'!$V93","v":7.4383713931355535},{"$f":"('Data base original'!U105/'Data base original'!U93*100-100)*'Data base original'!U93/'Data base original'!$V93","v":3.4983075775800136},{"$f":"('Data base original'!V105/'Data base original'!V93*100-100)*'Data base original'!V93/'Data base original'!$V93","v":13.852744208271488},{"$f":"('Data base original'!V105/'Data base original'!V93*100-100)*'Data base original'!V93/('Data base original'!$AC93)","v":3.1311749714606871},{"$f":"('Data base original'!W105/'Data base original'!W93*100-100)*'Data base original'!W93/('Data base original'!$AC93)","v":6.8456442352629425},{"$f":"('Data base original'!X105/'Data base original'!X93*100-100)*'Data base original'!X93/('Data base original'!$AC93)","v":0.19696438392397894},{"$f":"('Data base original'!Y105/'Data base original'!Y93*100-100)*'Data base original'!Y93/('Data base original'!$AC93)","v":2.0945714993429516},{"$f":"('Data base original'!Z105/'Data base original'!Z93*100-100)*'Data base original'!Z93/('Data base original'!$AC93)","v":2.1946519306752315E-3},{"$f":"-('Data base original'!AA105/'Data base original'!AA93*100-100)*'Data base original'!AA93/('Data base original'!$AC93)","v":-1.685740188108543},{"$f":"-('Data base original'!AB105/'Data base original'!AB93*100-100)*'Data base original'!AB93/('Data base original'!$AC93)","v":-1.7191632839948873E-2},{"$f":"(('Data base original'!Y105-'Data base original'!AA105)/('Data base original'!Y93-'Data base original'!AA93)*100-100)*(('Data base original'!Y93-'Data base original'!AA93)/'Data base original'!AC93)","v":0.40883131123440741},{"$f":"(('Data base original'!Z105-'Data base original'!AB105)/('Data base original'!Z93-'Data base original'!AB93)*100-100)*(('Data base original'!Z93-'Data base original'!AB93)/'Data base original'!AC93)","v":-1.4996980909273627E-2},{"$f":"('Data base original'!AC105/'Data base original'!AC93*100-100)*'Data base original'!AC93/('Data base original'!$AC93)","v":10.567617920972765},{"$f":"('Data base original'!AC105/'Data base original'!AC93*100-100)*'Data base original'!AC93/('Data base original'!$AN93)","v":6.4996633637957117},{"$f":"('Data base original'!AD105/'Data base original'!AD93*100-100)*'Data base original'!AD93/('Data base original'!$AN93)","v":1.4043545169581937},{"$f":"('Data base original'!AE105/'Data base original'!AE93*100-100)*'Data base original'!AE93/('Data base original'!$AN93)","v":0.47580649756245269},{"$f":"('Data base original'!AF105/'Data base original'!AF93*100-100)*'Data base original'!AF93/('Data base original'!$AN93)","v":2.175137813612817},{"$f":"('Data base original'!AG105/'Data base original'!AG93*100-100)*'Data base original'!AG93/('Data base original'!$AN93)","v":-0.25788667419377903},{"$f":"('Data base original'!AH105/'Data base original'!AH93*100-100)*'Data base original'!AH93/('Data base original'!$AN93)","v":-2.2216915373686755E-2},{"$f":"('Data base original'!AI105/'Data base original'!AI93*100-100)*'Data base original'!AI93/('Data base original'!$AN93)","v":1.1294745155571273},{"$f":"('Data base original'!AJ105/'Data base original'!AJ93*100-100)*'Data base original'!AJ93/('Data base original'!$AN93)","v":0.60462522348992009},{"$f":"('Data base original'!AK105/'Data base original'!AK93*100-100)*'Data base original'!AK93/('Data base original'!$AN93)","v":4.564751857196428E-2},{"$f":"-('Data base original'!AL105/'Data base original'!AL93*100-100)*'Data base original'!AL93/('Data base original'!$AN93)","v":-0.44479146252893437},{"$f":"-('Data base original'!AM105/'Data base original'!AM93*100-100)*'Data base original'!AM93/('Data base original'!$AN93)","v":-1.7845926096897717E-2},{"$f":"(('Data base original'!AJ105-'Data base original'!AL105)/('Data base original'!AJ93-'Data base original'!AL93)*100-100)*(('Data base original'!AJ93-'Data base original'!AL93)/'Data base original'!AN93)","v":0.159833760960987},{"$f":"(('Data base original'!AK105-'Data base original'!AM105)/('Data base original'!AK93-'Data base original'!AM93)*100-100)*(('Data base original'!AK93-'Data base original'!AM93)/'Data base original'!AN93)","v":2.7801592475066455E-2},{"$f":"('Data base original'!AN105/'Data base original'!AN93*100-100)*'Data base original'!AN93/('Data base original'!$AN93)","v":11.591968471354889}]
["2013-12-01",{"$f":"'Data base original'!B106/'Data base original'!B94*100-100","v":9.8351553928431628},{"$f":"'Data base original'!C106/'Data base original'!C94*100-100","v":10.397704852451966},{"$f":"'Data base original'!D106/'Data base original'!D94*100-100","v":11.342144201315406},{"$f":"'Data base original'!E106/'Data base original'!E94*100-100","v":7.6438001478593236},{"$f":"'Data base original'!F106/'Data base original'!F94*100-100","v":10.084698851076681},{"$f":"'Data base original'!G106","v":26.061785231993277},{"$f":"'Data base original'!H106","v":26.895884212139769},{"$f":"'Data base original'!I106","v":15.98790360800349},{"$f":"'Data base original'!J106","v":34.378369600617553},{"$f":"'Data base original'!K106","v":8.3457161833633986},{"$f":"'Data base original'!L106","v":6.4396360524949783},{"$f":"'Data base original'!M106","v":10.437750909014721},{"$f":"'Data base original'!N106","v":1.6486526813059557},{"$f":"'Data base original'!O106","v":1.5128739369708393},{"$f":"'Data base original'!P106","v":1.8519406511584169},{"$f":"'Data base original'!Q106","v":4.3600000000000003},{"$f":"('Data base original'!S106/'Data base original'!S94*100-100)*'Data base original'!S94/'Data base original'!$V94","v":2.5213262133021344},{"$f":"('Data base original'!T106/'Data base original'!T94*100-100)*'Data base original'!T94/'Data base original'!$V94","v":6.8712494417916181},{"$f":"('Data base original'!U106/'Data base original'!U94*100-100)*'Data base original'!U94/'Data base original'!$V94","v":3.4323230510057745},{"$f":"('Data base original'!V106/'Data base original'!V94*100-100)*'Data base original'!V94/'Data base original'!$V94","v":12.824898706099532},{"$f":"('Data base original'!V106/'Data base original'!V94*100-100)*'Data base original'!V94/('Data base original'!$AC94)","v":3.0683119649624553},{"$f":"('Data base original'!W106/'Data base original'!W94*100-100)*'Data base original'!W94/('Data base original'!$AC94)","v":7.2934125406669557},{"$f":"('Data base original'!X106/'Data base original'!X94*100-100)*'Data base original'!X94/('Data base original'!$AC94)","v":0.19030056129657535},{"$f":"('Data base original'!Y106/'Data base original'!Y94*100-100)*'Data base original'!Y94/('Data base original'!$AC94)","v":1.9268712887277777},{"$f":"('Data base original'!Z106/'Data base original'!Z94*100-100)*'Data base original'!Z94/('Data base original'!$AC94)","v":1.2497226548011523E-2},{"$f":"-('Data base original'!AA106/'Data base original'!AA94*100-100)*'Data base original'!AA94/('Data base original'!$AC94)","v":-1.3481078877651507},{"$f":"-('Data base original'!AB106/'Data base original'!AB94*100-100)*'Data base original'!AB94/('Data base original'!$AC94)","v":-1.8930949770201193E-2},{"$f":"(('Data base original'!Y106-'Data base original'!AA106)/('Data base original'!Y94-'Data base original'!AA94)*100-100)*(('Data base original'!Y94-'Data base original'!AA94)/'Data base original'!AC94)","v":0.57876340096262713},{"$f":"(('Data base original'!Z106-'Data base original'!AB106)/('Data base original'!Z94-'Data base original'!AB94)*100-100)*(('Data base original'!Z94-'Data base original'!AB94)/'Data base original'!AC94)","v":-6.4337232221896475E-3},{"$f":"('Data base original'!AC106/'Data base original'!AC94*100-100)*'Data base original'!AC94/('Data base original'!$AC94)","v":11.124354744666391},{"$f":"('Data base original'!AC106/'Data base original'!AC94*100-100)*'Data base original'!AC94/('Data base original'!$AN94)","v":6.8998043707291759},{"$f":"('Data base original'!AD106/'Data base original'!AD94*100-100)*'Data base original'!AD94/('Data base original'!$AN94)","v":1.181321780375761},{"$f":"('Data base original'!AE106/'Data base original'!AE94*100-100)*'Data base original'!AE94/('Data base original'!$AN94)","v":0.71315581292793206},{"$f":"('Data base original'!AF106/'Data base original'!AF94*100-100)*'Data base original'!AF94/('Data base original'!$AN94)","v":2.0547959680117751},{"$f":"('Data base original'!AG106/'Data base original'!AG94*100-100)*'Data base original'!AG94/('Data base original'!$AN94)","v":-0.37626818021617281},{"$f":"('Data base original'!AH106/'Data base original'!AH94*100-100)*'Data base original'!AH94/('Data base original'!$AN94)","v":-2.5070354943897994E-2},{"$f":"('Data base original'!AI106/'Data base original'!AI94*100-100)*'Data base original'!AI94/('Data base original'!$AN94)","v":1.032228302713744},{"$f":"('Data base original'!AJ106/'Data base original'!AJ94*100-100)*'Data base original'!AJ94/('Data base original'!$AN94)","v":0.80448948458098257},{"$f":"('Data base original'!AK106/'Data base original'!AK94*100-100)*'Data base original'!AK94/('Data base original'!$AN94)","v":4.5181198194013075E-2},{"$f":"-('Data base original'!AL106/'Data base original'!AL94*100-100)*'Data base original'!AL94/('Data base original'!$AN94)","v":-0.67636896769640564},{"$f":"-('Data base original'!AM106/'Data base original'!AM94*100-100)*'Data base original'!AM94/('Data base original'!$AN94)","v":-1.7016051494807102E-2},{"$f":"(('Data base original'!AJ106-'Data base original'!AL106)/('Data base original'!AJ94-'Data base original'!AL94)*100-100)*(('Data base original'!AJ94-'Data base original'!AL94)/'Data base original'!AN94)","v":0.12812051688457751},{"$f":"(('Data base original'!AK106-'Data base original'!AM106)/('Data base original'!AK94-'Data base original'!AM94)*100-100)*(('Data base original'!AK94-'Data base original'!AM94)/'Data base original'!AN94)","v":2.8165146699206049E-2},{"$f":"('Data base original'!AN106/'Data base original'!AN94*100-100)*'Data base original'!AN94/('Data base original'!$AN94)","v":11.636253363182107}]
["2014-01-01",{"$f":"'Data base original'!B107/'Data base original'!B95*100-100","v":11.01727310358676},{"$f":"'Data base original'!C107/'Data base original'!C95*100-100","v":10.809090356488312},{"$f":"'Data base original'!D107/'Data base original'!D95*100-100","v":12.220495809732938},{"$f":"'Data base original'!E107/'Data base original'!E95*100-100","v":13.008616373607325},{"$f":"'Data base original'!F107/'Data base original'!F95*100-100","v":11.427737634954951},{"$f":"'Data base original'!G107","v":26.412031708642619},{"$f":"'Data base original'!H107","v":28.034345939279952},{"$f":"'Data base original'!I107","v":16.783340296670406},{"$f":"'Data base original'!J107","v":33.01531303897486},{"$f":"'Data base original'!K107","v":8.5691470463123132},{"$f":"'Data base original'!L107","v":6.4201853735809484},{"$f":"'Data base original'!M107","v":10.815662098772957},{"$f":"'Data base original'!N107","v":1.9783569076592389},{"$f":"'Data base original'!O107","v":2.0253880406420528},{"$f":"'Data base original'!P107","v":1.9409025910652504},{"$f":"'Data base original'!Q107","v":4.32},{"$f":"('Data base original'!S107/'Data base original'!S95*100-100)*'Data base original'!S95/'Data base original'!$V95","v":2.7967112523580506},{"$f":"('Data base original'!T107/'Data base original'!T95*100-100)*'Data base original'!T95/'Data base original'!$V95","v":6.8930290436503174},{"$f":"('Data base original'!U107/'Data base original'!U95*100-100)*'Data base original'!U95/'Data base original'!$V95","v":1.4480218885246241},{"$f":"('Data base original'!V107/'Data base original'!V95*100-100)*'Data base original'!V95/'Data base original'!$V95","v":11.137762184532988},{"$f":"('Data base original'!V107/'Data base original'!V95*100-100)*'Data base original'!V95/('Data base original'!$AC95)","v":2.7116828072088168},{"$f":"('Data base original'!W107/'Data base original'!W95*100-100)*'Data base original'!W95/('Data base original'!$AC95)","v":7.9318276075263681},{"$f":"('Data base original'!X107/'Data base original'!X95*100-100)*'Data base original'!X95/('Data base original'!$AC95)","v":0.20179900218511615},{"$f":"('Data base original'!Y107/'Data base original'!Y95*100-100)*'Data base original'!Y95/('Data base original'!$AC95)","v":2.9195019499468069},{"$f":"('Data base original'!Z107/'Data base original'!Z95*100-100)*'Data base original'!Z95/('Data base original'!$AC95)","v":2.7157627451013817E-2},{"$f":"-('Data base original'!AA107/'Data base original'!AA95*100-100)*'Data base original'!AA95/('Data base original'!$AC95)","v":-2.3499221643853865},{"$f":"-('Data base original'!AB107/'Data base original'!AB95*100-100)*'Data base original'!AB95/('Data base original'!$AC95)","v":-1.5229076941158473E-2},{"$f":"(('Data base original'!Y107-'Data base original'!AA107)/('Data base original'!Y95-'Data base original'!AA95)*100-100)*(('Data base original'!Y95-'Data base original'!AA95)/'Data base original'!AC95)","v":0.5695797855614223},{"$f":"(('Data base original'!Z107-'Data base original'!AB107)/('Data base original'!Z95-'Data base original'!AB95)*100-100)*(('Data base original'!Z95-'Data base original'!AB95)/'Data base original'!AC95)","v":1.1928550509855182E-2},{"$f":"('Data base original'!AC107/'Data base original'!AC95*100-100)*'Data base original'!AC95/('Data base original'!$AC95)","v":11.426817752991596},{"$f":"('Data base original'!AC107/'Data base original'!AC95*100-100)*'Data base original'!AC95/('Data base original'!$AN95)","v":7.0774528332420026},{"$f":"('Data base original'!AD107/'Data base original'!AD95*100-100)*'Data base original'!AD95/('Data base original'!$AN95)","v":1.280358065541928},{"$f":"('Data base original'!AE107/'Data base original'!AE95*100-100)*'Data base original'!AE95/('Data base original'!$AN95)","v":0.51002958504797735},{"$f":"('Data base original'!AF107/'Data base original'!AF95*100-100)*'Data base original'!AF95/('Data base original'!$AN95)","v":1.3803512554031008},{"$f":"('Data base original'!AG107/'Data base original'!AG95*100-100)*'Data base original'!AG95/('Data base original'!$AN95)","v":-0.43333614126721864},{"$f":"('Data base original'!AH107/'Data base original'!AH95*100-100)*'Data base original'!AH95/('Data base original'!$AN95)","v":-2.7351689223719014E-2},{"$f":"('Data base original'!AI107/'Data base original'!AI95*100-100)*'Data base original'!AI95/('Data base original'!$AN95)","v":1.0171555977500053},{"$f":"('Data base original'!AJ107/'Data base original'!AJ95*100-100)*'Data base original'!AJ95/('Data base original'!$AN95)","v":0.9851854181138866},{"$f":"('Data base original'!AK107/'Data base original'!AK95*100-100)*'Data base original'!AK95/('Data base original'!$AN95)","v":3.7291793876504324E-2},{"$f":"-('Data base original'!AL107/'Data base original'!AL95*100-100)*'Data base original'!AL95/('Data base original'!$AN95)","v":-0.83313192088746346},{"$f":"-('Data base original'!AM107/'Data base original'!AM95*100-100)*'Data base original'!AM95/('Data base original'!$AN95)","v":-2.5807857982912696E-2},{"$f":"(('Data base original'!AJ107-'Data base original'!AL107)/('Data base original'!AJ95-'Data base original'!AL95)*100-100)*(('Data base original'!AJ95-'Data base original'!AL95)/'Data base original'!AN95)","v":0.15205349722642281},{"$f":"(('Data base original'!AK107-'Data base original'!AM107)/('Data base original'!AK95-'Data base original'!AM95)*100-100)*(('Data base original'!AK95-'Data base original'!AM95)/'Data base original'!AN95)","v":1.1483935893591675E-2},{"$f":"('Data base original'!AN107/'Data base original'!AN95*100-100)*'Data base original'!AN95/('Data base original'!$AN95)","v":10.968196939614089}]
["2014-02-01",{"$f":"'Data base original'!B108/'Data base original'!B96*100-100","v":10.4818536690467},{"$f":"'Data base original'!C108/'Data base original'!C96*100-100","v":10.839167082191679},{"$f":"'Data base original'!D108/'Data base original'!D96*100-100","v":12.498940970695287},{"$f":"'Data base original'!E108/'Data base original'!E96*100-100","v":12.306941074646957},{"$f":"'Data base original'!F108/'Data base original'!F96*100-100","v":11.139751956183687},{"$f":"'Data base original'!G108","v":26.870807576773871},{"$f":"'Data base original'!H108","v":28.298966010716921},{"$f":"'Data base original'!I108","v":16.792079552065417},{"$f":"'Data base original'!J108","v":33.556208752618844},{"$f":"'Data base original'!K108","v":8.5283087521029941},{"$f":"'Data base original'!L108","v":6.3520008870919629},{"$f":"'Data base original'!M108","v":10.287635810321621},{"$f":"'Data base original'!N108","v":1.573835960313003},{"$f":"'Data base original'!O108","v":1.4685126367093424},{"$f":"'Data base original'!P108","v":1.7031621634800065},{"$f":"'Data base original'!Q108","v":4.3},{"$f":"('Data base original'!S108/'Data base original'!S96*100-100)*'Data base original'!S96/'Data base original'!$V96","v":2.6155221573075371},{"$f":"('Data base original'!T108/'Data base original'!T96*100-100)*'Data base original'!T96/'Data base original'!$V96","v":6.6339300145680546},{"$f":"('Data base original'!U108/'Data base original'!U96*100-100)*'Data base original'!U96/'Data base original'!$V96","v":3.3426040914752559},{"$f":"('Data base original'!V108/'Data base original'!V96*100-100)*'Data base original'!V96/'Data base original'!$V96","v":12.592056263350855},{"$f":"('Data base original'!V108/'Data base original'!V96*100-100)*'Data base original'!V96/('Data base original'!$AC96)","v":2.9918280094744993},{"$f":"('Data base original'!W108/'Data base original'!W96*100-100)*'Data base original'!W96/('Data base original'!$AC96)","v":7.9830755347611868},{"$f":"('Data base original'!X108/'Data base original'!X96*100-100)*'Data base original'!X96/('Data base original'!$AC96)","v":0.21687204394672471},{"$f":"('Data base original'!Y108/'Data base original'!Y96*100-100)*'Data base original'!Y96/('Data base original'!$AC96)","v":4.1632063185143311},{"$f":"('Data base original'!Z108/'Data base original'!Z96*100-100)*'Data base original'!Z96/('Data base original'!$AC96)","v":3.5979198065430387E-2},{"$f":"-('Data base original'!AA108/'Data base original'!AA96*100-100)*'Data base original'!AA96/('Data base original'!$AC96)","v":-3.5093021305089005},{"$f":"-('Data base original'!AB108/'Data base original'!AB96*100-100)*'Data base original'!AB96/('Data base original'!$AC96)","v":-1.2490942828370443E-2},{"$f":"(('Data base original'!Y108-'Data base original'!AA108)/('Data base original'!Y96-'Data base original'!AA96)*100-100)*(('Data base original'!Y96-'Data base original'!AA96)/'Data base original'!AC96)","v":0.65390418800543004},{"$f":"(('Data base original'!Z108-'Data base original'!AB108)/('Data base original'!Z96-'Data base original'!AB96)*100-100)*(('Data base original'!Z96-'Data base original'!AB96)/'Data base original'!AC96)","v":2.3488255237060055E-2},{"$f":"('Data base original'!AC108/'Data base original'!AC96*100-100)*'Data base original'!AC96/('Data base original'!$AC96)","v":11.86916803142492},{"$f":"('Data base original'!AC108/'Data base original'!AC96*100-100)*'Data base original'!AC96/('Data base original'!$AN96)","v":7.3183106455318061},{"$f":"('Data base original'!AD108/'Data base original'!AD96*100-100)*'Data base original'!AD96/('Data base original'!$AN96)","v":1.7206669057826323},{"$f":"('Data base original'!AE108/'Data base original'!AE96*100-100)*'Data base original'!AE96/('Data base original'!$AN96)","v":0.87129847978039976},{"$f":"('Data base original'!AF108/'Data base original'!AF96*100-100)*'Data base original'!AF96/('Data base original'!$AN96)","v":1.5224227709329405},{"$f":"('Data base original'!AG108/'Data base original'!AG96*100-100)*'Data base original'!AG96/('Data base original'!$AN96)","v":-0.39724926360472884},{"$f":"('Data base original'!AH108/'Data base original'!AH96*100-100)*'Data base original'!AH96/('Data base original'!$AN96)","v":-3.3936074819335596E-2},{"$f":"('Data base original'!AI108/'Data base original'!AI96*100-100)*'Data base original'!AI96/('Data base original'!$AN96)","v":1.0160001104187184},{"$f":"('Data base original'!AJ108/'Data base original'!AJ96*100-100)*'Data base original'!AJ96/('Data base original'!$AN96)","v":1.2667822940414815},{"$f":"('Data base original'!AK108/'Data base original'!AK96*100-100)*'Data base original'!AK96/('Data base original'!$AN96)","v":3.9605328334487079E-2},{"$f":"-('Data base original'!AL108/'Data base original'!AL96*100-100)*'Data base original'!AL96/('Data base original'!$AN96)","v":-1.0570132435052519},{"$f":"-('Data base original'!AM108/'Data base original'!AM96*100-100)*'Data base original'!AM96/('Data base original'!$AN96)","v":-3.4458650031919988E-2},{"$f":"(('Data base original'!AJ108-'Data base original'!AL108)/('Data base original'!AJ96-'Data base original'!AL96)*100-100)*(('Data base original'!AJ96-'Data base original'!AL96)/'Data base original'!AN96)","v":0.20976905053623041},{"$f":"(('Data base original'!AK108-'Data base original'!AM108)/('Data base original'!AK96-'Data base original'!AM96)*100-100)*(('Data base original'!AK96-'Data base original'!AM96)/'Data base original'!AN96)","v":5.146678302567027E-3},{"$f":"('Data base original'!AN108/'Data base original'!AN96*100-100)*'Data base original'!AN96/('Data base original'!$AN96)","v":12.232429302861235}]
["2014-03-01",{"$f":"'Data base original'!B109/'Data base original'!B97*100-100","v":8.8494460935687727},{"$f":"'Data base original'!C109/'Data base original'!C97*100-100","v":10.450260864939025},{"$f":"'Data base original'!D109/'Data base original'!D97*100-100","v":12.880964406179871},{"$f":"'Data base original'!E109/'Data base original'!E97*100-100","v":6.7406485234794218},{"$f":"'Data base original'!F109/'Data base original'!F97*100-100","v":9.8261912385824388},{"$f":"'Data base original'!G109","v":24.533370625872152},{"$f":"'Data base original'!H109","v":25.245979574918692},{"$f":"'Data base original'!I109","v":15.113614278177737},{"$f":"'Data base original'!J109","v":33.846129119697459},{"$f":"'Data base original'!K109","v":8.4679797802710421},{"$f":"'Data base original'!L109","v":6.257895577809828},{"$f":"'Data base original'!M109","v":11.375784584375012},{"$f":"'Data base original'!N109","v":1.5645734390072867},{"$f":"'Data base original'!O109","v":1.3952677077475253},{"$f":"'Data base original'!P109","v":1.8499777390643179},{"$f":"'Data base original'!Q109","v":4.3},{"$f":"('Data base original'!S109/'Data base original'!S97*100-100)*'Data base original'!S97/'Data base original'!$V97","v":2.4324611596303938},{"$f":"('Data base original'!T109/'Data base original'!T97*100-100)*'Data base original'!T97/'Data base original'!$V97","v":6.7918803917769344},{"$f":"('Data base original'!U109/'Data base original'!U97*100-100)*'Data base original'!U97/'Data base original'!$V97","v":2.0538432741051018},{"$f":"('Data base original'!V109/'Data base original'!V97*100-100)*'Data base original'!V97/'Data base original'!$V97","v":11.27818482551244},{"$f":"('Data base original'!V109/'Data base original'!V97*100-100)*'Data base original'!V97/('Data base original'!$AC97)","v":2.6826499521751708},{"$f":"('Data base original'!W109/'Data base original'!W97*100-100)*'Data base original'!W97/('Data base original'!$AC97)","v":6.9339013241175165},{"$f":"('Data base original'!X109/'Data base original'!X97*100-100)*'Data base original'!X97/('Data base original'!$AC97)","v":0.22508055750894576},{"$f":"('Data base original'!Y109/'Data base original'!Y97*100-100)*'Data base original'!Y97/('Data base original'!$AC97)","v":2.7043149505727291},{"$f":"('Data base original'!Z109/'Data base original'!Z97*100-100)*'Data base original'!Z97/('Data base original'!$AC97)","v":3.1279444095540627E-2},{"$f":"-('Data base original'!AA109/'Data base original'!AA97*100-100)*'Data base original'!AA97/('Data base original'!$AC97)","v":-2.1720430578794345},{"$f":"-('Data base original'!AB109/'Data base original'!AB97*100-100)*'Data base original'!AB97/('Data base original'!$AC97)","v":-1.3238376941114766E-2},{"$f":"(('Data base original'!Y109-'Data base original'!AA109)/('Data base original'!Y97-'Data base original'!AA97)*100-100)*(('Data base original'!Y97-'Data base original'!AA97)/'Data base original'!AC97)","v":0.53227189269329422},{"$f":"(('Data base original'!Z109-'Data base original'!AB109)/('Data base original'!Z97-'Data base original'!AB97)*100-100)*(('Data base original'!Z97-'Data base original'!AB97)/'Data base original'!AC97)","v":1.8041067154425838E-2},{"$f":"('Data base original'!AC109/'Data base original'!AC97*100-100)*'Data base original'!AC97/('Data base original'!$AC97)","v":10.39194479364933},{"$f":"('Data base original'!AC109/'Data base original'!AC97*100-100)*'Data base original'!AC97/('Data base original'!$AN97)","v":6.4259076204609347},{"$f":"('Data base original'!AD109/'Data base original'!AD97*100-100)*'Data base original'!AD97/('Data base original'!$AN97)","v":1.8176656153874071},{"$f":"('Data base original'!AE109/'Data base original'!AE97*100-100)*'Data base original'!AE97/('Data base original'!$AN97)","v":1.1104711972089154},{"$f":"('Data base original'!AF109/'Data base original'!AF97*100-100)*'Data base original'!AF97/('Data base original'!$AN97)","v":1.4147736769126786},{"$f":"('Data base original'!AG109/'Data base original'!AG97*100-100)*'Data base original'!AG97/('Data base original'!$AN97)","v":-0.46337623316852311},{"$f":"('Data base original'!AH109/'Data base original'!AH97*100-100)*'Data base original'!AH97/('Data base original'!$AN97)","v":-3.1169546509759505E-2},{"$f":"('Data base original'!AI109/'Data base original'!AI97*100-100)*'Data base original'!AI97/('Data base original'!$AN97)","v":0.98149963343649882},{"$f":"('Data base original'!AJ109/'Data base original'!AJ97*100-100)*'Data base original'!AJ97/('Data base original'!$AN97)","v":1.6600686771598767},{"$f":"('Data base original'!AK109/'Data base original'!AK97*100-100)*'Data base original'!AK97/('Data base original'!$AN97)","v":4.690121048155358E-2},{"$f":"-('Data base original'!AL109/'Data base original'!AL97*100-100)*'Data base original'!AL97/('Data base original'!$AN97)","v":-1.3128843560246828},{"$f":"-('Data base original'!AM109/'Data base original'!AM97*100-100)*'Data base original'!AM97/('Data base original'!$AN97)","v":-3.5986541454073158E-2},{"$f":"(('Data base original'!AJ109-'Data base original'!AL109)/('Data base original'!AJ97-'Data base original'!AL97)*100-100)*(('Data base original'!AJ97-'Data base original'!AL97)/'Data base original'!AN97)","v":0.34718432113519437},{"$f":"(('Data base original'!AK109-'Data base original'!AM109)/('Data base original'!AK97-'Data base original'!AM97)*100-100)*(('Data base original'!AK97-'Data base original'!AM97)/'Data base original'!AN97)","v":1.0914669027480459E-2},{"$f":"('Data base original'!AN109/'Data base original'!AN97*100-100)*'Data base original'!AN97/('Data base original'!$AN97)","v":11.613870953890796}]
["2014-04-01",{"$f":"'Data base original'!B110/'Data base original'!B98*100-100","v":8.8590801887445707},{"$f":"'Data base original'!C110/'Data base original'!C98*100-100","v":10.346302893740017},{"$f":"'Data base original'!D110/'Data base original'!D98*100-100","v":13.473467156097541},{"$f":"'Data base original'!E110/'Data base original'!E98*100-100","v":7.9554647014397943},{"$f":"'Data base original'!F110/'Data base original'!F98*100-100","v":10.055393628039198},{"$f":"'Data base original'!G110","v":26.128753305750863},{"$f":"'Data base original'!H110","v":27.970359313594294},{"$f":"'Data base original'!I110","v":15.24987607050376},{"$f":"'Data base original'!J110","v":34.284568837278428},{"$f":"'Data base original'!K110","v":8.7159404390390769},{"$f":"'Data base original'!L110","v":5.9723921931852928},{"$f":"'Data base original'!M110","v":11.071794970937495},{"$f":"'Data base original'!N110","v":1.5915439607837103},{"$f":"'Data base original'!O110","v":1.4654610817892866},{"$f":"'Data base original'!P110","v":1.7693950851914799},{"$f":"'Data base original'!Q110","v":4.25},{"$f":"('Data base original'!S110/'Data base original'!S98*100-100)*'Data base original'!S98/'Data base original'!$V98","v":2.6006051832231369},{"$f":"('Data base original'!T110/'Data base original'!T98*100-100)*'Data base original'!T98/'Data base original'!$V98","v":7.3253313006497169},{"$f":"('Data base original'!U110/'Data base original'!U98*100-100)*'Data base original'!U98/'Data base original'!$V98","v":3.1166690893070021},{"$f":"('Data base original'!V110/'Data base original'!V98*100-100)*'Data base original'!V98/'Data base original'!$V98","v":13.04260557317987},{"$f":"('Data base original'!V110/'Data base original'!V98*100-100)*'Data base original'!V98/('Data base original'!$AC98)","v":3.0812732689557585},{"$f":"('Data base original'!W110/'Data base original'!W98*100-100)*'Data base original'!W98/('Data base original'!$AC98)","v":5.4178325249389232},{"$f":"('Data base original'!X110/'Data base original'!X98*100-100)*'Data base original'!X98/('Data base original'!$AC98)","v":0.22843492970293494},{"$f":"('Data base original'!Y110/'Data base original'!Y98*100-100)*'Data base original'!Y98/('Data base original'!$AC98)","v":1.4685863241103612},{"$f":"('Data base original'!Z110/'Data base original'!Z98*100-100)*'Data base original'!Z98/('Data base original'!$AC98)","v":2.9810185253135977E-2},{"$f":"-('Data base original'!AA110/'Data base original'!AA98*100-100)*'Data base original'!AA98/('Data base original'!$AC98)","v":-0.92267835428266776},{"$f":"-('Data base original'!AB110/'Data base original'!AB98*100-100)*'Data base original'!AB98/('Data base original'!$AC98)","v":-1.2824606200595128E-2},{"$f":"(('Data base original'!Y110-'Data base original'!AA110)/('Data base original'!Y98-'Data base original'!AA98)*100-100)*(('Data base original'!Y98-'Data base original'!AA98)/'Data base original'!AC98)","v":0.54590796982769141},{"$f":"(('Data base original'!Z110-'Data base original'!AB110)/('Data base original'!Z98-'Data base original'!AB98)*100-100)*(('Data base original'!Z98-'Data base original'!AB98)/'Data base original'!AC98)","v":1.6985579052540615E-2},{"$f":"('Data base original'!AC110/'Data base original'!AC98*100-100)*'Data base original'!AC98/('Data base original'!$AC98)","v":9.2904342724778672},{"$f":"('Data base original'!AC110/'Data base original'!AC98*100-100)*'Data base original'!AC98/('Data base original'!$AN98)","v":5.7293706272863663},{"$f":"('Data base original'!AD110/'Data base original'!AD98*100-100)*'Data base original'!AD98/('Data base original'!$AN98)","v":2.0241753014999895},{"$f":"('Data base original'!AE110/'Data base original'!AE98*100-100)*'Data base original'!AE98/('Data base original'!$AN98)","v":0.54929786815157322},{"$f":"('Data base original'!AF110/'Data base original'!AF98*100-100)*'Data base original'!AF98/('Data base original'!$AN98)","v":1.1886813440930724},{"$f":"('Data base original'!AG110/'Data base original'!AG98*100-100)*'Data base original'!AG98/('Data base original'!$AN98)","v":-0.33230847744616526},{"$f":"('Data base original'!AH110/'Data base original'!AH98*100-100)*'Data base original'!AH98/('Data base original'!$AN98)","v":-2.2801962396683324E-2},{"$f":"('Data base original'!AI110/'Data base original'!AI98*100-100)*'Data base original'!AI98/('Data base original'!$AN98)","v":0.76964027755306197},{"$f":"('Data base original'!AJ110/'Data base original'!AJ98*100-100)*'Data base original'!AJ98/('Data base original'!$AN98)","v":2.1865959588457535},{"$f":"('Data base original'!AK110/'Data base original'!AK98*100-100)*'Data base original'!AK98/('Data base original'!$AN98)","v":5.4883888351236101E-2},{"$f":"-('Data base original'!AL110/'Data base original'!AL98*100-100)*'Data base original'!AL98/('Data base original'!$AN98)","v":-1.4933714417140707},{"$f":"-('Data base original'!AM110/'Data base original'!AM98*100-100)*'Data base original'!AM98/('Data base original'!$AN98)","v":-3.3181772013897291E-2},{"$f":"(('Data base original'!AJ110-'Data base original'!AL110)/('Data base original'!AJ98-'Data base original'!AL98)*100-100)*(('Data base original'!AJ98-'Data base original'!AL98)/'Data base original'!AN98)","v":0.69322451713168209},{"$f":"(('Data base original'!AK110-'Data base original'!AM110)/('Data base original'!AK98-'Data base original'!AM98)*100-100)*(('Data base original'!AK98-'Data base original'!AM98)/'Data base original'!AN98)","v":2.1702116337338817E-2},{"$f":"('Data base original'!AN110/'Data base original'!AN98*100-100)*'Data base original'!AN98/('Data base original'!$AN98)","v":10.620981612210215}]
["2014-05-01",{"$f":"'Data base original'!B111/'Data base original'!B99*100-100","v":8.0892820022049108},{"$f":"'Data base original'!C111/'Data base original'!C99*100-100","v":10.172961967836287},{"$f":"'Data base original'!D111/'Data base original'!D99*100-100","v":14.460377102131616},{"$f":"'Data base original'!E111/'Data base original'!E99*100-100","v":-1.2233582247140191},{"$f":"'Data base original'!F111/'Data base original'!F99*100-100","v":9.0360988673035223},{"$f":"'Data base original'!G111","v":27.427716397807067},{"$f":"'Data base original'!H111","v":30.483858889072962},{"$f":"'Data base original'!I111","v":15.470669963980157},{"$f":"'Data base original'!J111","v":34.061190931859919},{"$f":"'Data base original'!K111","v":8.5526738198805123},{"$f":"'Data base original'!L111","v":5.7994443883841766},{"$f":"'Data base original'!M111","v":11.069368667306577},{"$f":"'Data base original'!N111","v":1.241849285992547},{"$f":"'Data base original'!O111","v":1.0215195241530253},{"$f":"'Data base original'!P111","v":1.6340814842366758},{"$f":"'Data base original'!Q111","v":4.1399999999999997},{"$f":"('Data base original'!S111/'Data base original'!S99*100-100)*'Data base original'!S99/'Data base original'!$V99","v":2.1133466604262816},{"$f":"('Data base original'!T111/'Data base original'!T99*100-100)*'Data base original'!T99/'Data base original'!$V99","v":6.5535208846267938},{"$f":"('Data base original'!U111/'Data base original'!U99*100-100)*'Data base original'!U99/'Data base original'!$V99","v":3.8258911364910566},{"$f":"('Data base original'!V111/'Data base original'!V99*100-100)*'Data base original'!V99/'Data base original'!$V99","v":12.492758681544132},{"$f":"('Data base original'!V111/'Data base original'!V99*100-100)*'Data base original'!V99/('Data base original'!$AC99)","v":2.9582007776920363},{"$f":"('Data base original'!W111/'Data base original'!W99*100-100)*'Data base original'!W99/('Data base original'!$AC99)","v":3.6086593364229329},{"$f":"('Data base original'!X111/'Data base original'!X99*100-100)*'Data base original'!X99/('Data base original'!$AC99)","v":0.24337219750493286},{"$f":"('Data base original'!Y111/'Data base original'!Y99*100-100)*'Data base original'!Y99/('Data base original'!$AC99)","v":1.0662012747354597},{"$f":"('Data base original'!Z111/'Data base original'!Z99*100-100)*'Data base original'!Z99/('Data base original'!$AC99)","v":3.2583201695806814E-2},{"$f":"-('Data base original'!AA111/'Data base original'!AA99*100-100)*'Data base original'!AA99/('Data base original'!$AC99)","v":-0.47846226777784173},{"$f":"-('Data base original'!AB111/'Data base original'!AB99*100-100)*'Data base original'!AB99/('Data base original'!$AC99)","v":-1.1621771377023688E-2},{"$f":"(('Data base original'!Y111-'Data base original'!AA111)/('Data base original'!Y99-'Data base original'!AA99)*100-100)*(('Data base original'!Y99-'Data base original'!AA99)/'Data base original'!AC99)","v":0.58773900695761794},{"$f":"(('Data base original'!Z111-'Data base original'!AB111)/('Data base original'!Z99-'Data base original'!AB99)*100-100)*(('Data base original'!Z99-'Data base original'!AB99)/'Data base original'!AC99)","v":2.0961430318783142E-2},{"$f":"('Data base original'!AC111/'Data base original'!AC99*100-100)*'Data base original'!AC99/('Data base original'!$AC99)","v":7.4189327488963102},{"$f":"('Data base original'!AC111/'Data base original'!AC99*100-100)*'Data base original'!AC99/('Data base original'!$AN99)","v":4.5670148233586731},{"$f":"('Data base original'!AD111/'Data base original'!AD99*100-100)*'Data base original'!AD99/('Data base original'!$AN99)","v":2.1567385013269105},{"$f":"('Data base original'!AE111/'Data base original'!AE99*100-100)*'Data base original'!AE99/('Data base original'!$AN99)","v":0.60171723675222377},{"$f":"('Data base original'!AF111/'Data base original'!AF99*100-100)*'Data base original'!AF99/('Data base original'!$AN99)","v":1.0999424894276302},{"$f":"('Data base original'!AG111/'Data base original'!AG99*100-100)*'Data base original'!AG99/('Data base original'!$AN99)","v":-0.11764197959093442},{"$f":"('Data base original'!AH111/'Data base original'!AH99*100-100)*'Data base original'!AH99/('Data base original'!$AN99)","v":-2.0265448373023749E-2},{"$f":"('Data base original'!AI111/'Data base original'!AI99*100-100)*'Data base original'!AI99/('Data base original'!$AN99)","v":0.663209498289838},{"$f":"('Data base original'!AJ111/'Data base original'!AJ99*100-100)*'Data base original'!AJ99/('Data base original'!$AN99)","v":2.7329618081041223},{"$f":"('Data base original'!AK111/'Data base original'!AK99*100-100)*'Data base original'!AK99/('Data base original'!$AN99)","v":6.3110911585425894E-2},{"$f":"-('Data base original'!AL111/'Data base original'!AL99*100-100)*'Data base original'!AL99/('Data base original'!$AN99)","v":-1.7136696066119699},{"$f":"-('Data base original'!AM111/'Data base original'!AM99*100-100)*'Data base original'!AM99/('Data base original'!$AN99)","v":-2.8534716028018027E-2},{"$f":"(('Data base original'!AJ111-'Data base original'!AL111)/('Data base original'!AJ99-'Data base original'!AL99)*100-100)*(('Data base original'!AJ99-'Data base original'!AL99)/'Data base original'!AN99)","v":1.0192922014921519},{"$f":"(('Data base original'!AK111-'Data base original'!AM111)/('Data base original'!AK99-'Data base original'!AM99)*100-100)*(('Data base original'!AK99-'Data base original'!AM99)/'Data base original'!AN99)","v":3.4576195557407832E-2},{"$f":"('Data base original'!AN111/'Data base original'!AN99*100-100)*'Data base original'!AN99/('Data base original'!$AN99)","v":10.004583518240892}]
["2014-06-01",{"$f":"'Data base original'!B112/'Data base original'!B100*100-100","v":7.8021011285882764},{"$f":"'Data base original'!C112/'Data base original'!C100*100-100","v":9.7965398163549509},{"$f":"'Data base original'!D112/'Data base original'!D100*100-100","v":15.00664138254983},{"$f":"'Data base original'!E112/'Data base original'!E100*100-100","v":-5.9011162680432108},{"$f":"'Data base original'!F112/'Data base original'!F100*100-100","v":8.5507506142370033},{"$f":"'Data base original'!G112","v":26.578430844051667},{"$f":"'Data base original'!H112","v":28.896511441683906},{"$f":"'Data base original'!I112","v":15.226036140217682},{"$f":"'Data base original'!J112","v":33.745644952398877},{"$f":"'Data base original'!K112","v":8.2215048189788327},{"$f":"'Data base original'!L112","v":6.1963520386099233},{"$f":"'Data base original'!M112","v":9.4834937933566223},{"$f":"'Data base original'!N112","v":1.367077825268709},{"$f":"'Data base original'!O112","v":1.1871845049230478},{"$f":"'Data base original'!P112","v":1.6914843293215895},{"$f":"'Data base original'!Q112","v":3.94},{"$f":"('Data base original'!S112/'Data base original'!S100*100-100)*'Data base original'!S100/'Data base original'!$V100","v":2.1854400017406381},{"$f":"('Data base original'!T112/'Data base original'!T100*100-100)*'Data base original'!T100/'Data base original'!$V100","v":6.0276022617903067},{"$f":"('Data base original'!U112/'Data base original'!U100*100-100)*'Data base original'!U100/'Data base original'!$V100","v":3.1432951769583224},{"$f":"('Data base original'!V112/'Data base original'!V100*100-100)*'Data base original'!V100/'Data base original'!$V100","v":11.35633744048927},{"$f":"('Data base original'!V112/'Data base original'!V100*100-100)*'Data base original'!V100/('Data base original'!$AC100)","v":2.6960464662016492},{"$f":"('Data base original'!W112/'Data base original'!W100*100-100)*'Data base original'!W100/('Data base original'!$AC100)","v":2.5057193276781686},{"$f":"('Data base original'!X112/'Data base original'!X100*100-100)*'Data base original'!X100/('Data base original'!$AC100)","v":0.26071094572314379},{"$f":"('Data base original'!Y112/'Data base original'!Y100*100-100)*'Data base original'!Y100/('Data base original'!$AC100)","v":0.20702309645772549},{"$f":"('Data base original'!Z112/'Data base original'!Z100*100-100)*'Data base original'!Z100/('Data base original'!$AC100)","v":2.2537487632073829E-2},{"$f":"-('Data base original'!AA112/'Data base original'!AA100*100-100)*'Data base original'!AA100/('Data base original'!$AC100)","v":0.19937164853808717},{"$f":"-('Data base original'!AB112/'Data base original'!AB100*100-100)*'Data base original'!AB100/('Data base original'!$AC100)","v":-6.8159579322374323E-3},{"$f":"(('Data base original'!Y112-'Data base original'!AA112)/('Data base original'!Y100-'Data base original'!AA100)*100-100)*(('Data base original'!Y100-'Data base original'!AA100)/'Data base original'!AC100)","v":0.4063947449958113},{"$f":"(('Data base original'!Z112-'Data base original'!AB112)/('Data base original'!Z100-'Data base original'!AB100)*100-100)*(('Data base original'!Z100-'Data base original'!AB100)/'Data base original'!AC100)","v":1.5721529699836322E-2},{"$f":"('Data base original'!AC112/'Data base original'!AC100*100-100)*'Data base original'!AC100/('Data base original'!$AC100)","v":5.8845930142986163},{"$f":"('Data base original'!AC112/'Data base original'!AC100*100-100)*'Data base original'!AC100/('Data base original'!$AN100)","v":3.6369120602956908},{"$f":"('Data base original'!AD112/'Data base original'!AD100*100-100)*'Data base original'!AD100/('Data base original'!$AN100)","v":1.7994093975289616},{"$f":"('Data base original'!AE112/'Data base original'!AE100*100-100)*'Data base original'!AE100/('Data base original'!$AN100)","v":0.62270778139395055},{"$f":"('Data base original'!AF112/'Data base original'!AF100*100-100)*'Data base original'!AF100/('Data base original'!$AN100)","v":1.137878038513761},{"$f":"('Data base original'!AG112/'Data base original'!AG100*100-100)*'Data base original'!AG100/('Data base original'!$AN100)","v":0.12090555392116059},{"$f":"('Data base original'!AH112/'Data base original'!AH100*100-100)*'Data base original'!AH100/('Data base original'!$AN100)","v":-2.0859905854497172E-2},{"$f":"('Data base original'!AI112/'Data base original'!AI100*100-100)*'Data base original'!AI100/('Data base original'!$AN100)","v":0.75988026884181581},{"$f":"('Data base original'!AJ112/'Data base original'!AJ100*100-100)*'Data base original'!AJ100/('Data base original'!$AN100)","v":3.2722297799833218},{"$f":"('Data base original'!AK112/'Data base original'!AK100*100-100)*'Data base original'!AK100/('Data base original'!$AN100)","v":7.6534435048968993E-2},{"$f":"-('Data base original'!AL112/'Data base original'!AL100*100-100)*'Data base original'!AL100/('Data base original'!$AN100)","v":-1.9604670303790213},{"$f":"-('Data base original'!AM112/'Data base original'!AM100*100-100)*'Data base original'!AM100/('Data base original'!$AN100)","v":-2.8405436183451104E-2},{"$f":"(('Data base original'!AJ112-'Data base original'!AL112)/('Data base original'!AJ100-'Data base original'!AL100)*100-100)*(('Data base original'!AJ100-'Data base original'!AL100)/'Data base original'!AN100)","v":1.3117627496043001},{"$f":"(('Data base original'!AK112-'Data base original'!AM112)/('Data base original'!AK100-'Data base original'!AM100)*100-100)*(('Data base original'!AK100-'Data base original'!AM100)/'Data base original'!AN100)","v":4.8128998865517927E-2},{"$f":"('Data base original'!AN112/'Data base original'!AN100*100-100)*'Data base original'!AN100/('Data base original'!$AN100)","v":9.4167249431106939}]
["2014-07-01",{"$f":"'Data base original'!B113/'Data base original'!B101*100-100","v":7.8188365090886975},{"$f":"'Data base original'!C113/'Data base original'!C101*100-100","v":9.8145472604617083},{"$f":"'Data base original'!D113/'Data base original'!D101*100-100","v":14.798262886551768},{"$f":"'Data base original'!E113/'Data base original'!E101*100-100","v":-5.3825847649971621},{"$f":"'Data base original'!F113/'Data base original'!F101*100-100","v":8.5375953163018039},{"$f":"'Data base original'!G113","v":24.957813606664963},{"$f":"'Data base original'!H113","v":26.025322012966271},{"$f":"'Data base original'!I113","v":15.202943041096539},{"$f":"'Data base original'!J113","v":33.344070261990986},{"$f":"'Data base original'!K113","v":8.05413924045423},{"$f":"'Data base original'!L113","v":5.6506261608419788},{"$f":"'Data base original'!M113","v":10.103122554276478},{"$f":"'Data base original'!N113","v":1.2390792352240154},{"$f":"'Data base original'!O113","v":1.1136074675088106},{"$f":"'Data base original'!P113","v":1.4387413590719831},{"$f":"'Data base original'!Q113","v":3.86},{"$f":"('Data base original'!S113/'Data base original'!S101*100-100)*'Data base original'!S101/'Data base original'!$V101","v":2.0224960761482476},{"$f":"('Data base original'!T113/'Data base original'!T101*100-100)*'Data base original'!T101/'Data base original'!$V101","v":5.9964952178854585},{"$f":"('Data base original'!U113/'Data base original'!U101*100-100)*'Data base original'!U101/'Data base original'!$V101","v":1.965021005329419},{"$f":"('Data base original'!V113/'Data base original'!V101*100-100)*'Data base original'!V101/'Data base original'!$V101","v":9.9840122993631155},{"$f":"('Data base original'!V113/'Data base original'!V101*100-100)*'Data base original'!V101/('Data base original'!$AC101)","v":2.363908980195109},{"$f":"('Data base original'!W113/'Data base original'!W101*100-100)*'Data base original'!W101/('Data base original'!$AC101)","v":3.072691774269245},{"$f":"('Data base original'!X113/'Data base original'!X101*100-100)*'Data base original'!X101/('Data base original'!$AC101)","v":0.3015454846708806},{"$f":"('Data base original'!Y113/'Data base original'!Y101*100-100)*'Data base original'!Y101/('Data base original'!$AC101)","v":-0.34639763486621872},{"$f":"('Data base original'!Z113/'Data base original'!Z101*100-100)*'Data base original'!Z101/('Data base original'!$AC101)","v":2.1921886758845262E-2},{"$f":"-('Data base original'!AA113/'Data base original'!AA101*100-100)*'Data base original'!AA101/('Data base original'!$AC101)","v":0.67657653306657406},{"$f":"-('Data base original'!AB113/'Data base original'!AB101*100-100)*'Data base original'!AB101/('Data base original'!$AC101)","v":-7.0422033904364734E-3},{"$f":"(('Data base original'!Y113-'Data base original'!AA113)/('Data base original'!Y101-'Data base original'!AA101)*100-100)*(('Data base original'!Y101-'Data base original'!AA101)/'Data base original'!AC101)","v":0.33017889820035518},{"$f":"(('Data base original'!Z113-'Data base original'!AB113)/('Data base original'!Z101-'Data base original'!AB101)*100-100)*(('Data base original'!Z101-'Data base original'!AB101)/'Data base original'!AC101)","v":1.4879683368408697E-2},{"$f":"('Data base original'!AC113/'Data base original'!AC101*100-100)*'Data base original'!AC101/('Data base original'!$AC101)","v":6.0832048207040117},{"$f":"('Data base original'!AC113/'Data base original'!AC101*100-100)*'Data base original'!AC101/('Data base original'!$AN101)","v":3.7511574739201947},{"$f":"('Data base original'!AD113/'Data base original'!AD101*100-100)*'Data base original'!AD101/('Data base original'!$AN101)","v":1.4736474327534252},{"$f":"('Data base original'!AE113/'Data base original'!AE101*100-100)*'Data base original'!AE101/('Data base original'!$AN101)","v":0.15114419783501806},{"$f":"('Data base original'!AF113/'Data base original'!AF101*100-100)*'Data base original'!AF101/('Data base original'!$AN101)","v":1.1034784321713738},{"$f":"('Data base original'!AG113/'Data base original'!AG101*100-100)*'Data base original'!AG101/('Data base original'!$AN101)","v":-4.537186314864404E-2},{"$f":"('Data base original'!AH113/'Data base original'!AH101*100-100)*'Data base original'!AH101/('Data base original'!$AN101)","v":-4.9924084714346798E-3},{"$f":"('Data base original'!AI113/'Data base original'!AI101*100-100)*'Data base original'!AI101/('Data base original'!$AN101)","v":0.92710718450455254},{"$f":"('Data base original'!AJ113/'Data base original'!AJ101*100-100)*'Data base original'!AJ101/('Data base original'!$AN101)","v":3.7316729793428736},{"$f":"('Data base original'!AK113/'Data base original'!AK101*100-100)*'Data base original'!AK101/('Data base original'!$AN101)","v":9.5623775856008869E-2},{"$f":"-('Data base original'!AL113/'Data base original'!AL101*100-100)*'Data base original'!AL101/('Data base original'!$AN101)","v":-2.1384509922688011},{"$f":"-('Data base original'!AM113/'Data base original'!AM101*100-100)*'Data base original'!AM101/('Data base original'!$AN101)","v":-3.1462018327489641E-2},{"$f":"(('Data base original'!AJ113-'Data base original'!AL113)/('Data base original'!AJ101-'Data base original'!AL101)*100-100)*(('Data base original'!AJ101-'Data base original'!AL101)/'Data base original'!AN101)","v":1.5932219870740727},{"$f":"(('Data base original'!AK113-'Data base original'!AM113)/('Data base original'!AK101-'Data base original'!AM101)*100-100)*(('Data base original'!AK101-'Data base original'!AM101)/'Data base original'!AN101)","v":6.4161757528519173E-2},{"$f":"('Data base original'!AN113/'Data base original'!AN101*100-100)*'Data base original'!AN101/('Data base original'!$AN101)","v":9.0135541941670709}]
["2014-08-01",{"$f":"'Data base original'!B114/'Data base original'!B102*100-100","v":8.0283115404260315},{"$f":"'Data base original'!C114/'Data base original'!C102*100-100","v":9.3955426649378353},{"$f":"'Data base original'!D114/'Data base original'!D102*100-100","v":14.916275364476931},{"$f":"'Data base original'!E114/'Data base original'!E102*100-100","v":-4.5542669195978078},{"$f":"'Data base original'!F114/'Data base original'!F102*100-100","v":8.7273621587996786},{"$f":"'Data base original'!G114","v":24.736555562183391},{"$f":"'Data base original'!H114","v":26.571384079799781},{"$f":"'Data base original'!I114","v":14.587982654580076},{"$f":"'Data base original'!J114","v":32.944830229592128},{"$f":"'Data base original'!K114","v":7.6667139531344972},{"$f":"'Data base original'!L114","v":5.5018822049095393},{"$f":"'Data base original'!M114","v":9.1105911661443617},{"$f":"'Data base original'!N114","v":1.3430400832379437},{"$f":"'Data base original'!O114","v":1.2883507273028563},{"$f":"'Data base original'!P114","v":1.4114953529957284},{"$f":"'Data base original'!Q114","v":3.67},{"$f":"('Data base original'!S114/'Data base original'!S102*100-100)*'Data base original'!S102/'Data base original'!$V102","v":1.9798524884461466},{"$f":"('Data base original'!T114/'Data base original'!T102*100-100)*'Data base original'!T102/'Data base original'!$V102","v":7.1023098808911245},{"$f":"('Data base original'!U114/'Data base original'!U102*100-100)*'Data base original'!U102/'Data base original'!$V102","v":1.5542409535049422},{"$f":"('Data base original'!V114/'Data base original'!V102*100-100)*'Data base original'!V102/'Data base original'!$V102","v":10.636403322842213},{"$f":"('Data base original'!V114/'Data base original'!V102*100-100)*'Data base original'!V102/('Data base original'!$AC102)","v":2.4594611839892533},{"$f":"('Data base original'!W114/'Data base original'!W102*100-100)*'Data base original'!W102/('Data base original'!$AC102)","v":3.1106444176373507},{"$f":"('Data base original'!X114/'Data base original'!X102*100-100)*'Data base original'!X102/('Data base original'!$AC102)","v":0.25226918899797957},{"$f":"('Data base original'!Y114/'Data base original'!Y102*100-100)*'Data base original'!Y102/('Data base original'!$AC102)","v":-1.6660461905039756},{"$f":"('Data base original'!Z114/'Data base original'!Z102*100-100)*'Data base original'!Z102/('Data base original'!$AC102)","v":3.9478096198936947E-2},{"$f":"-('Data base original'!AA114/'Data base original'!AA102*100-100)*'Data base original'!AA102/('Data base original'!$AC102)","v":1.8867288933978774},{"$f":"-('Data base original'!AB114/'Data base original'!AB102*100-100)*'Data base original'!AB102/('Data base original'!$AC102)","v":-6.7865400147273554E-3},{"$f":"(('Data base original'!Y114-'Data base original'!AA114)/('Data base original'!Y102-'Data base original'!AA102)*100-100)*(('Data base original'!Y102-'Data base original'!AA102)/'Data base original'!AC102)","v":0.22068270289389968},{"$f":"(('Data base original'!Z114-'Data base original'!AB114)/('Data base original'!Z102-'Data base original'!AB102)*100-100)*(('Data base original'!Z102-'Data base original'!AB102)/'Data base original'!AC102)","v":3.2691556184209686E-2},{"$f":"('Data base original'!AC114/'Data base original'!AC102*100-100)*'Data base original'!AC102/('Data base original'!$AC102)","v":6.0757490497026927},{"$f":"('Data base original'!AC114/'Data base original'!AC102*100-100)*'Data base original'!AC102/('Data base original'!$AN102)","v":3.7132002663230943},{"$f":"('Data base original'!AD114/'Data base original'!AD102*100-100)*'Data base original'!AD102/('Data base original'!$AN102)","v":1.4754131658154037},{"$f":"('Data base original'!AE114/'Data base original'!AE102*100-100)*'Data base original'!AE102/('Data base original'!$AN102)","v":-0.10057255738733901},{"$f":"('Data base original'!AF114/'Data base original'!AF102*100-100)*'Data base original'!AF102/('Data base original'!$AN102)","v":0.95553433665315335},{"$f":"('Data base original'!AG114/'Data base original'!AG102*100-100)*'Data base original'!AG102/('Data base original'!$AN102)","v":-6.8784154093355449E-2},{"$f":"('Data base original'!AH114/'Data base original'!AH102*100-100)*'Data base original'!AH102/('Data base original'!$AN102)","v":5.8350114318682731E-3},{"$f":"('Data base original'!AI114/'Data base original'!AI102*100-100)*'Data base original'!AI102/('Data base original'!$AN102)","v":0.54769648466203247},{"$f":"('Data base original'!AJ114/'Data base original'!AJ102*100-100)*'Data base original'!AJ102/('Data base original'!$AN102)","v":4.3327136568264244},{"$f":"('Data base original'!AK114/'Data base original'!AK102*100-100)*'Data base original'!AK102/('Data base original'!$AN102)","v":0.12064579576575166},{"$f":"-('Data base original'!AL114/'Data base original'!AL102*100-100)*'Data base original'!AL102/('Data base original'!$AN102)","v":-2.3386807818255098},{"$f":"-('Data base original'!AM114/'Data base original'!AM102*100-100)*'Data base original'!AM102/('Data base original'!$AN102)","v":-3.3590749235896743E-2},{"$f":"(('Data base original'!AJ114-'Data base original'!AL114)/('Data base original'!AJ102-'Data base original'!AL102)*100-100)*(('Data base original'!AJ102-'Data base original'!AL102)/'Data base original'!AN102)","v":1.9940328750009144},{"$f":"(('Data base original'!AK114-'Data base original'!AM114)/('Data base original'!AK102-'Data base original'!AM102)*100-100)*(('Data base original'!AK102-'Data base original'!AM102)/'Data base original'!AN102)","v":8.7055046529854935E-2},{"$f":"('Data base original'!AN114/'Data base original'!AN102*100-100)*'Data base original'!AN102/('Data base original'!$AN102)","v":8.6094104749356148}]
["2014-09-01",{"$f":"'Data base original'!B115/'Data base original'!B103*100-100","v":8.0629015418861769},{"$f":"'Data base original'!C115/'Data base original'!C103*100-100","v":9.4204846839571559},{"$f":"'Data base original'!D115/'Data base original'!D103*100-100","v":15.251453669224574},{"$f":"'Data base original'!E115/'Data base original'!E103*100-100","v":0.56806621214791164},{"$f":"'Data base original'!F115/'Data base original'!F103*100-100","v":9.3119428795189805},{"$f":"'Data base original'!G115","v":24.962352136693131},{"$f":"'Data base original'!H115","v":27.061107365624707},{"$f":"'Data base original'!I115","v":14.389216938665404},{"$f":"'Data base original'!J115","v":32.097890084746204},{"$f":"'Data base original'!K115","v":7.3536800904046364},{"$f":"'Data base original'!L115","v":5.2648061730301059},{"$f":"'Data base original'!M115","v":8.8290249133065366},{"$f":"'Data base original'!N115","v":1.2830019285065295},{"$f":"'Data base original'!O115","v":1.0518275822548373},{"$f":"'Data base original'!P115","v":1.6187405267488699},{"$f":"'Data base original'!Q115","v":3.58},{"$f":"('Data base original'!S115/'Data base original'!S103*100-100)*'Data base original'!S103/'Data base original'!$V103","v":1.5001860684838508},{"$f":"('Data base original'!T115/'Data base original'!T103*100-100)*'Data base original'!T103/'Data base original'!$V103","v":7.0252162883564955},{"$f":"('Data base original'!U115/'Data base original'!U103*100-100)*'Data base original'!U103/'Data base original'!$V103","v":1.6432095738913599},{"$f":"('Data base original'!V115/'Data base original'!V103*100-100)*'Data base original'!V103/'Data base original'!$V103","v":10.168611930731686},{"$f":"('Data base original'!V115/'Data base original'!V103*100-100)*'Data base original'!V103/('Data base original'!$AC103)","v":2.403474820980493},{"$f":"('Data base original'!W115/'Data base original'!W103*100-100)*'Data base original'!W103/('Data base original'!$AC103)","v":2.7347458975148493},{"$f":"('Data base original'!X115/'Data base original'!X103*100-100)*'Data base original'!X103/('Data base original'!$AC103)","v":0.24965933930130091},{"$f":"('Data base original'!Y115/'Data base original'!Y103*100-100)*'Data base original'!Y103/('Data base original'!$AC103)","v":-1.338126819218344},{"$f":"('Data base original'!Z115/'Data base original'!Z103*100-100)*'Data base original'!Z103/('Data base original'!$AC103)","v":5.6677730629900419E-2},{"$f":"-('Data base original'!AA115/'Data base original'!AA103*100-100)*'Data base original'!AA103/('Data base original'!$AC103)","v":1.5989593447999662},{"$f":"-('Data base original'!AB115/'Data base original'!AB103*100-100)*'Data base original'!AB103/('Data base original'!$AC103)","v":-4.8218067743425169E-3},{"$f":"(('Data base original'!Y115-'Data base original'!AA115)/('Data base original'!Y103-'Data base original'!AA103)*100-100)*(('Data base original'!Y103-'Data base original'!AA103)/'Data base original'!AC103)","v":0.26083252558162351},{"$f":"(('Data base original'!Z115-'Data base original'!AB115)/('Data base original'!Z103-'Data base original'!AB103)*100-100)*(('Data base original'!Z103-'Data base original'!AB103)/'Data base original'!AC103)","v":5.185592385555781E-2},{"$f":"('Data base original'!AC115/'Data base original'!AC103*100-100)*'Data base original'!AC103/('Data base original'!$AC103)","v":5.7005685072338395},{"$f":"('Data base original'!AC115/'Data base original'!AC103*100-100)*'Data base original'!AC103/('Data base original'!$AN103)","v":3.4797242817420244},{"$f":"('Data base original'!AD115/'Data base original'!AD103*100-100)*'Data base original'!AD103/('Data base original'!$AN103)","v":1.8401376030846013},{"$f":"('Data base original'!AE115/'Data base original'!AE103*100-100)*'Data base original'!AE103/('Data base original'!$AN103)","v":-0.33001754469677569},{"$f":"('Data base original'!AF115/'Data base original'!AF103*100-100)*'Data base original'!AF103/('Data base original'!$AN103)","v":1.0505004394242703},{"$f":"('Data base original'!AG115/'Data base original'!AG103*100-100)*'Data base original'!AG103/('Data base original'!$AN103)","v":-2.4160017089072838E-2},{"$f":"('Data base original'!AH115/'Data base original'!AH103*100-100)*'Data base original'!AH103/('Data base original'!$AN103)","v":-5.2087165307048563E-3},{"$f":"('Data base original'!AI115/'Data base original'!AI103*100-100)*'Data base original'!AI103/('Data base original'!$AN103)","v":0.31926812315792585},{"$f":"('Data base original'!AJ115/'Data base original'!AJ103*100-100)*'Data base original'!AJ103/('Data base original'!$AN103)","v":4.4104984887609024},{"$f":"('Data base original'!AK115/'Data base original'!AK103*100-100)*'Data base original'!AK103/('Data base original'!$AN103)","v":0.13211792130330829},{"$f":"-('Data base original'!AL115/'Data base original'!AL103*100-100)*'Data base original'!AL103/('Data base original'!$AN103)","v":-2.4265535571746994},{"$f":"-('Data base original'!AM115/'Data base original'!AM103*100-100)*'Data base original'!AM103/('Data base original'!$AN103)","v":-3.1134798462145313E-2},{"$f":"(('Data base original'!AJ115-'Data base original'!AL115)/('Data base original'!AJ103-'Data base original'!AL103)*100-100)*(('Data base original'!AJ103-'Data base original'!AL103)/'Data base original'!AN103)","v":1.9839449315862034},{"$f":"(('Data base original'!AK115-'Data base original'!AM115)/('Data base original'!AK103-'Data base original'!AM103)*100-100)*(('Data base original'!AK103-'Data base original'!AM103)/'Data base original'!AN103)","v":0.10098312284116305},{"$f":"('Data base original'!AN115/'Data base original'!AN103*100-100)*'Data base original'!AN103/('Data base original'!$AN103)","v":8.4151722235195905}]
["2014-10-01",{"$f":"'Data base original'!B116/'Data base original'!B104*100-100","v":7.8623673037180026},{"$f":"'Data base original'!C116/'Data base original'!C104*100-100","v":8.9854273997387963},{"$f":"'Data base original'!D116/'Data base original'!D104*100-100","v":15.735572064263991},{"$f":"'Data base original'!E116/'Data base original'!E104*100-100","v":-2.3486572880015189},{"$f":"'Data base original'!F116/'Data base original'!F104*100-100","v":9.0484553388988189},{"$f":"'Data base original'!G116","v":24.140386595713494},{"$f":"'Data base original'!H116","v":26.079612161247596},{"$f":"'Data base original'!I116","v":14.479213412056559},{"$f":"'Data base original'!J116","v":31.375564437270441},{"$f":"'Data base original'!K116","v":7.3109124194682353},{"$f":"'Data base original'!L116","v":5.3210779848427414},{"$f":"'Data base original'!M116","v":8.8672979948331871},{"$f":"'Data base original'!N116","v":1.4164985210673096},{"$f":"'Data base original'!O116","v":1.2244827463166235},{"$f":"'Data base original'!P116","v":1.7332163860362249},{"$f":"'Data base original'!Q116","v":3.57},{"$f":"('Data base original'!S116/'Data base original'!S104*100-100)*'Data base original'!S104/'Data base original'!$V104","v":1.5074218116048488},{"$f":"('Data base original'!T116/'Data base original'!T104*100-100)*'Data base original'!T104/'Data base original'!$V104","v":6.3076428767324559},{"$f":"('Data base original'!U116/'Data base original'!U104*100-100)*'Data base original'!U104/'Data base original'!$V104","v":4.0471067194681929},{"$f":"('Data base original'!V116/'Data base original'!V104*100-100)*'Data base original'!V104/'Data base original'!$V104","v":11.862171407805505},{"$f":"('Data base original'!V116/'Data base original'!V104*100-100)*'Data base original'!V104/('Data base original'!$AC104)","v":2.7320684599727016},{"$f":"('Data base original'!W116/'Data base original'!W104*100-100)*'Data base original'!W104/('Data base original'!$AC104)","v":3.1668553502240742},{"$f":"('Data base original'!X116/'Data base original'!X104*100-100)*'Data base original'!X104/('Data base original'!$AC104)","v":0.2730610936530482},{"$f":"('Data base original'!Y116/'Data base original'!Y104*100-100)*'Data base original'!Y104/('Data base original'!$AC104)","v":0.33202974244210348},{"$f":"('Data base original'!Z116/'Data base original'!Z104*100-100)*'Data base original'!Z104/('Data base original'!$AC104)","v":7.0491037431489836E-2},{"$f":"-('Data base original'!AA116/'Data base original'!AA104*100-100)*'Data base original'!AA104/('Data base original'!$AC104)","v":0.31308975370855285},{"$f":"-('Data base original'!AB116/'Data base original'!AB104*100-100)*'Data base original'!AB104/('Data base original'!$AC104)","v":-7.0649375546736242E-3},{"$f":"(('Data base original'!Y116-'Data base original'!AA116)/('Data base original'!Y104-'Data base original'!AA104)*100-100)*(('Data base original'!Y104-'Data base original'!AA104)/'Data base original'!AC104)","v":0.64511949615065634},{"$f":"(('Data base original'!Z116-'Data base original'!AB116)/('Data base original'!Z104-'Data base original'!AB104)*100-100)*(('Data base original'!Z104-'Data base original'!AB104)/'Data base original'!AC104)","v":6.3426099876816161E-2},{"$f":"('Data base original'!AC116/'Data base original'!AC104*100-100)*'Data base original'!AC104/('Data base original'!$AC104)","v":6.880530499877338},{"$f":"('Data base original'!AC116/'Data base original'!AC104*100-100)*'Data base original'!AC104/('Data base original'!$AN104)","v":4.1836925725424621},{"$f":"('Data base original'!AD116/'Data base original'!AD104*100-100)*'Data base original'!AD104/('Data base original'!$AN104)","v":1.8842664153870481},{"$f":"('Data base original'!AE116/'Data base original'!AE104*100-100)*'Data base original'!AE104/('Data base original'!$AN104)","v":-0.14724183719656392},{"$f":"('Data base original'!AF116/'Data base original'!AF104*100-100)*'Data base original'!AF104/('Data base original'!$AN104)","v":0.93396407264727599},{"$f":"('Data base original'!AG116/'Data base original'!AG104*100-100)*'Data base original'!AG104/('Data base original'!$AN104)","v":-7.3654024782249625E-2},{"$f":"('Data base original'!AH116/'Data base original'!AH104*100-100)*'Data base original'!AH104/('Data base original'!$AN104)","v":-1.2052379647160192E-2},{"$f":"('Data base original'!AI116/'Data base original'!AI104*100-100)*'Data base original'!AI104/('Data base original'!$AN104)","v":0.45897606865910429},{"$f":"('Data base original'!AJ116/'Data base original'!AJ104*100-100)*'Data base original'!AJ104/('Data base original'!$AN104)","v":3.6218131656514307},{"$f":"('Data base original'!AK116/'Data base original'!AK104*100-100)*'Data base original'!AK104/('Data base original'!$AN104)","v":0.1184066064013113},{"$f":"-('Data base original'!AL116/'Data base original'!AL104*100-100)*'Data base original'!AL104/('Data base original'!$AN104)","v":-2.1360385485950615},{"$f":"-('Data base original'!AM116/'Data base original'!AM104*100-100)*'Data base original'!AM104/('Data base original'!$AN104)","v":-2.9769390788655252E-2},{"$f":"(('Data base original'!AJ116-'Data base original'!AL116)/('Data base original'!AJ104-'Data base original'!AL104)*100-100)*(('Data base original'!AJ104-'Data base original'!AL104)/'Data base original'!AN104)","v":1.485774617056369},{"$f":"(('Data base original'!AK116-'Data base original'!AM116)/('Data base original'!AK104-'Data base original'!AM104)*100-100)*(('Data base original'!AK104-'Data base original'!AM104)/'Data base original'!AN104)","v":8.8637215612656028E-2},{"$f":"('Data base original'!AN116/'Data base original'!AN104*100-100)*'Data base original'!AN104/('Data base original'!$AN104)","v":8.8023627202789214}]
["2014-11-01",{"$f":"'Data base original'!B117/'Data base original'!B105*100-100","v":8.3552506663502726},{"$f":"'Data base original'!C117/'Data base original'!C105*100-100","v":8.6654794085740434},{"$f":"'Data base original'!D117/'Data base original'!D105*100-100","v":16.773846500890116},{"$f":"'Data base original'!E117/'Data base original'!E105*100-100","v":-1.3262774396251586},{"$f":"'Data base original'!F117/'Data base original'!F105*100-100","v":9.5876245531855204},{"$f":"'Data base original'!G117","v":23.933469138164995},{"$f":"'Data base original'!H117","v":25.50276779642509},{"$f":"'Data base original'!I117","v":14.75867164799423},{"$f":"'Data base original'!J117","v":31.155112929897008},{"$f":"'Data base original'!K117","v":6.8987822627539384},{"$f":"'Data base original'!L117","v":5.2204692214107213},{"$f":"'Data base original'!M117","v":8.198723638467083},{"$f":"'Data base original'!N117","v":1.5128841476348087},{"$f":"'Data base original'!O117","v":1.4029675997861781},{"$f":"'Data base original'!P117","v":1.6661345458542656},{"$f":"'Data base original'!Q117","v":3.65},{"$f":"('Data base original'!S117/'Data base original'!S105*100-100)*'Data base original'!S105/'Data base original'!$V105","v":1.8697332213398221},{"$f":"('Data base original'!T117/'Data base original'!T105*100-100)*'Data base original'!T105/'Data base original'!$V105","v":7.1340610315690434},{"$f":"('Data base original'!U117/'Data base original'!U105*100-100)*'Data base original'!U105/'Data base original'!$V105","v":6.1793688006627265},{"$f":"('Data base original'!V117/'Data base original'!V105*100-100)*'Data base original'!V105/'Data base original'!$V105","v":15.183163053571592},{"$f":"('Data base original'!V117/'Data base original'!V105*100-100)*'Data base original'!V105/('Data base original'!$AC105)","v":3.5338598972548247},{"$f":"('Data base original'!W117/'Data base original'!W105*100-100)*'Data base original'!W105/('Data base original'!$AC105)","v":4.2625608582497412},{"$f":"('Data base original'!X117/'Data base original'!X105*100-100)*'Data base original'!X105/('Data base original'!$AC105)","v":0.30402678235683256},{"$f":"('Data base original'!Y117/'Data base original'!Y105*100-100)*'Data base original'!Y105/('Data base original'!$AC105)","v":-0.21258116276907449},{"$f":"('Data base original'!Z117/'Data base original'!Z105*100-100)*'Data base original'!Z105/('Data base original'!$AC105)","v":7.5303583901382684E-2},{"$f":"-('Data base original'!AA117/'Data base original'!AA105*100-100)*'Data base original'!AA105/('Data base original'!$AC105)","v":0.90758480604165492},{"$f":"-('Data base original'!AB117/'Data base original'!AB105*100-100)*'Data base original'!AB105/('Data base original'!$AC105)","v":-5.744123846092259E-3},{"$f":"(('Data base original'!Y117-'Data base original'!AA117)/('Data base original'!Y105-'Data base original'!AA105)*100-100)*(('Data base original'!Y105-'Data base original'!AA105)/'Data base original'!AC105)","v":0.69500364327258124},{"$f":"(('Data base original'!Z117-'Data base original'!AB117)/('Data base original'!Z105-'Data base original'!AB105)*100-100)*(('Data base original'!Z105-'Data base original'!AB105)/'Data base original'!AC105)","v":6.9559460055290429E-2},{"$f":"('Data base original'!AC117/'Data base original'!AC105*100-100)*'Data base original'!AC105/('Data base original'!$AC105)","v":8.8650106411892722},{"$f":"('Data base original'!AC117/'Data base original'!AC105*100-100)*'Data base original'!AC105/('Data base original'!$AN105)","v":5.40241617583884},{"$f":"('Data base original'!AD117/'Data base original'!AD105*100-100)*'Data base original'!AD105/('Data base original'!$AN105)","v":1.8483062719812209},{"$f":"('Data base original'!AE117/'Data base original'!AE105*100-100)*'Data base original'!AE105/('Data base original'!$AN105)","v":-0.71250844853542239},{"$f":"('Data base original'!AF117/'Data base original'!AF105*100-100)*'Data base original'!AF105/('Data base original'!$AN105)","v":1.195365542908166},{"$f":"('Data base original'!AG117/'Data base original'!AG105*100-100)*'Data base original'!AG105/('Data base original'!$AN105)","v":-0.13726537483424778},{"$f":"('Data base original'!AH117/'Data base original'!AH105*100-100)*'Data base original'!AH105/('Data base original'!$AN105)","v":-1.5958158680490116E-2},{"$f":"('Data base original'!AI117/'Data base original'!AI105*100-100)*'Data base original'!AI105/('Data base original'!$AN105)","v":0.43982163080058401},{"$f":"('Data base original'!AJ117/'Data base original'!AJ105*100-100)*'Data base original'!AJ105/('Data base original'!$AN105)","v":3.2124789735113954},{"$f":"('Data base original'!AK117/'Data base original'!AK105*100-100)*'Data base original'!AK105/('Data base original'!$AN105)","v":0.11927656678307887},{"$f":"-('Data base original'!AL117/'Data base original'!AL105*100-100)*'Data base original'!AL105/('Data base original'!$AN105)","v":-1.7160799543050074},{"$f":"-('Data base original'!AM117/'Data base original'!AM105*100-100)*'Data base original'!AM105/('Data base original'!$AN105)","v":-3.1882448986101965E-2},{"$f":"(('Data base original'!AJ117-'Data base original'!AL117)/('Data base original'!AJ105-'Data base original'!AL105)*100-100)*(('Data base original'!AJ105-'Data base original'!AL105)/'Data base original'!AN105)","v":1.4963990192063885},{"$f":"(('Data base original'!AK117-'Data base original'!AM117)/('Data base original'!AK105-'Data base original'!AM105)*100-100)*(('Data base original'!AK105-'Data base original'!AM105)/'Data base original'!AN105)","v":8.7394117796976881E-2},{"$f":"('Data base original'!AN117/'Data base original'!AN105*100-100)*'Data base original'!AN105/('Data base original'!$AN105)","v":9.6039707764820008}]
["2014-12-01",{"$f":"'Data base original'!B118/'Data base original'!B106*100-100","v":8.1868146153407224},{"$f":"'Data base original'!C118/'Data base original'!C106*100-100","v":8.4139552614156656},{"$f":"'Data base original'!D118/'Data base original'!D106*100-100","v":16.747055315979082},{"$f":"'Data base original'!E118/'Data base original'!E106*100-100","v":1.7593315736509965},{"$f":"'Data base original'!F118/'Data base original'!F106*100-100","v":9.7526474114466595},{"$f":"'Data base original'!G118","v":23.702525572450863},{"$f":"'Data base original'!H118","v":23.964291361547403},{"$f":"'Data base original'!I118","v":15.010740828005918},{"$f":"'Data base original'!J118","v":30.34777356348712},{"$f":"'Data base original'!K118","v":6.8751071984544314},{"$f":"'Data base original'!L118","v":5.2742914788392188},{"$f":"'Data base original'!M118","v":7.9730256528947256},{"$f":"'Data base original'!N118","v":1.3937931498209903},{"$f":"'Data base original'!O118","v":1.2304519005111727},{"$f":"'Data base original'!P118","v":1.7107067853237408},{"$f":"'Data base original'!Q118","v":3.73},{"$f":"('Data base original'!S118/'Data base original'!S106*100-100)*'Data base original'!S106/'Data base original'!$V106","v":2.1137177174292625},{"$f":"('Data base original'!T118/'Data base original'!T106*100-100)*'Data base original'!T106/'Data base original'!$V106","v":7.1640153106746594},{"$f":"('Data base original'!U118/'Data base original'!U106*100-100)*'Data base original'!U106/'Data base original'!$V106","v":6.0032983155263926},{"$f":"('Data base original'!V118/'Data base original'!V106*100-100)*'Data base original'!V106/'Data base original'!$V106","v":15.281031343630332},{"$f":"('Data base original'!V118/'Data base original'!V106*100-100)*'Data base original'!V106/('Data base original'!$AC106)","v":3.7118800764353761},{"$f":"('Data base original'!W118/'Data base original'!W106*100-100)*'Data base original'!W106/('Data base original'!$AC106)","v":5.2020452441472518},{"$f":"('Data base original'!X118/'Data base original'!X106*100-100)*'Data base original'!X106/('Data base original'!$AC106)","v":0.31984722107194635},{"$f":"('Data base original'!Y118/'Data base original'!Y106*100-100)*'Data base original'!Y106/('Data base original'!$AC106)","v":0.16344764890049604},{"$f":"('Data base original'!Z118/'Data base original'!Z106*100-100)*'Data base original'!Z106/('Data base original'!$AC106)","v":7.2077233798892568E-2},{"$f":"-('Data base original'!AA118/'Data base original'!AA106*100-100)*'Data base original'!AA106/('Data base original'!$AC106)","v":8.4981595787362182E-2},{"$f":"-('Data base original'!AB118/'Data base original'!AB106*100-100)*'Data base original'!AB106/('Data base original'!$AC106)","v":-6.4832402749745418E-3},{"$f":"(('Data base original'!Y118-'Data base original'!AA118)/('Data base original'!Y106-'Data base original'!AA106)*100-100)*(('Data base original'!Y106-'Data base original'!AA106)/'Data base original'!AC106)","v":0.24842924468785685},{"$f":"(('Data base original'!Z118-'Data base original'!AB118)/('Data base original'!Z106-'Data base original'!AB106)*100-100)*(('Data base original'!Z106-'Data base original'!AB106)/'Data base original'!AC106)","v":6.5593993523918107E-2},{"$f":"('Data base original'!AC118/'Data base original'!AC106*100-100)*'Data base original'!AC106/('Data base original'!$AC106)","v":9.5477957798663482},{"$f":"('Data base original'!AC118/'Data base original'!AC106*100-100)*'Data base original'!AC106/('Data base original'!$AN106)","v":5.8947999143633218},{"$f":"('Data base original'!AD118/'Data base original'!AD106*100-100)*'Data base original'!AD106/('Data base original'!$AN106)","v":2.072048072990992},{"$f":"('Data base original'!AE118/'Data base original'!AE106*100-100)*'Data base original'!AE106/('Data base original'!$AN106)","v":-0.59507702913952609},{"$f":"('Data base original'!AF118/'Data base original'!AF106*100-100)*'Data base original'!AF106/('Data base original'!$AN106)","v":1.5150783620045658},{"$f":"('Data base original'!AG118/'Data base original'!AG106*100-100)*'Data base original'!AG106/('Data base original'!$AN106)","v":9.6668400194239931E-2},{"$f":"('Data base original'!AH118/'Data base original'!AH106*100-100)*'Data base original'!AH106/('Data base original'!$AN106)","v":1.3988682240345374E-2},{"$f":"('Data base original'!AI118/'Data base original'!AI106*100-100)*'Data base original'!AI106/('Data base original'!$AN106)","v":0.42044038492297214},{"$f":"('Data base original'!AJ118/'Data base original'!AJ106*100-100)*'Data base original'!AJ106/('Data base original'!$AN106)","v":3.1980503911382052},{"$f":"('Data base original'!AK118/'Data base original'!AK106*100-100)*'Data base original'!AK106/('Data base original'!$AN106)","v":0.13126465153513356},{"$f":"-('Data base original'!AL118/'Data base original'!AL106*100-100)*'Data base original'!AL106/('Data base original'!$AN106)","v":-1.5705505049909485},{"$f":"-('Data base original'!AM118/'Data base original'!AM106*100-100)*'Data base original'!AM106/('Data base original'!$AN106)","v":-4.0879977671925291E-2},{"$f":"(('Data base original'!AJ118-'Data base original'!AL118)/('Data base original'!AJ106-'Data base original'!AL106)*100-100)*(('Data base original'!AJ106-'Data base original'!AL106)/'Data base original'!AN106)","v":1.627499886147256},{"$f":"(('Data base original'!AK118-'Data base original'!AM118)/('Data base original'!AK106-'Data base original'!AM106)*100-100)*(('Data base original'!AK106-'Data base original'!AM106)/'Data base original'!AN106)","v":9.0384673863208267E-2},{"$f":"('Data base original'!AN118/'Data base original'!AN106*100-100)*'Data base original'!AN106/('Data base original'!$AN106)","v":11.135831347587384}]
["2015-01-01",{"$f":"'Data base original'!B119/'Data base original'!B107*100-100","v":7.4772718984927451},{"$f":"'Data base original'!C119/'Data base original'!C107*100-100","v":7.6602146829355462},{"$f":"'Data base original'!D119/'Data base original'!D107*100-100","v":15.709729845180377},{"$f":"'Data base original'!E119/'Data base original'!E107*100-100","v":6.1127170983521211},{"$f":"'Data base original'!F119/'Data base original'!F107*100-100","v":9.3441361670302854},{"$f":"'Data base original'!G119","v":24.096004417675232},{"$f":"'Data base original'!H119","v":24.770099273516159},{"$f":"'Data base original'!I119","v":15.33345316100732},{"$f":"'Data base original'!J119","v":30.472606645070002},{"$f":"'Data base original'!K119","v":7.0701299105733071},{"$f":"'Data base original'!L119","v":5.2847722854794892},{"$f":"'Data base original'!M119","v":8.3226654049551438},{"$f":"'Data base original'!N119","v":1.597160986435902},{"$f":"'Data base original'!O119","v":1.5164041911724901},{"$f":"'Data base original'!P119","v":1.6994628902479114},{"$f":"'Data base original'!Q119","v":3.75},{"$f":"('Data base original'!S119/'Data base original'!S107*100-100)*'Data base original'!S107/'Data base original'!$V107","v":1.7884133655867087},{"$f":"('Data base original'!T119/'Data base original'!T107*100-100)*'Data base original'!T107/'Data base original'!$V107","v":7.6472991937501291},{"$f":"('Data base original'!U119/'Data base original'!U107*100-100)*'Data base original'!U107/'Data base original'!$V107","v":4.257861589387625},{"$f":"('Data base original'!V119/'Data base original'!V107*100-100)*'Data base original'!V107/'Data base original'!$V107","v":13.693574148724482},{"$f":"('Data base original'!V119/'Data base original'!V107*100-100)*'Data base original'!V107/('Data base original'!$AC107)","v":3.3252912150335567},{"$f":"('Data base original'!W119/'Data base original'!W107*100-100)*'Data base original'!W107/('Data base original'!$AC107)","v":4.6035817722365584},{"$f":"('Data base original'!X119/'Data base original'!X107*100-100)*'Data base original'!X107/('Data base original'!$AC107)","v":0.3230174514900776},{"$f":"('Data base original'!Y119/'Data base original'!Y107*100-100)*'Data base original'!Y107/('Data base original'!$AC107)","v":1.2262907437820163},{"$f":"('Data base original'!Z119/'Data base original'!Z107*100-100)*'Data base original'!Z107/('Data base original'!$AC107)","v":7.2696107316974026E-2},{"$f":"-('Data base original'!AA119/'Data base original'!AA107*100-100)*'Data base original'!AA107/('Data base original'!$AC107)","v":-0.96325330456134295},{"$f":"-('Data base original'!AB119/'Data base original'!AB107*100-100)*'Data base original'!AB107/('Data base original'!$AC107)","v":-8.2103042931271422E-3},{"$f":"(('Data base original'!Y119-'Data base original'!AA119)/('Data base original'!Y107-'Data base original'!AA107)*100-100)*(('Data base original'!Y107-'Data base original'!AA107)/'Data base original'!AC107)","v":0.26303743922067452},{"$f":"(('Data base original'!Z119-'Data base original'!AB119)/('Data base original'!Z107-'Data base original'!AB107)*100-100)*(('Data base original'!Z107-'Data base original'!AB107)/'Data base original'!AC107)","v":6.4485803023846835E-2},{"$f":"('Data base original'!AC119/'Data base original'!AC107*100-100)*'Data base original'!AC107/('Data base original'!$AC107)","v":8.5794136810047235},{"$f":"('Data base original'!AC119/'Data base original'!AC107*100-100)*'Data base original'!AC107/('Data base original'!$AN107)","v":5.3358116404897089},{"$f":"('Data base original'!AD119/'Data base original'!AD107*100-100)*'Data base original'!AD107/('Data base original'!$AN107)","v":2.2566454755487615},{"$f":"('Data base original'!AE119/'Data base original'!AE107*100-100)*'Data base original'!AE107/('Data base original'!$AN107)","v":-0.13761079216546224},{"$f":"('Data base original'!AF119/'Data base original'!AF107*100-100)*'Data base original'!AF107/('Data base original'!$AN107)","v":1.6654403921734322},{"$f":"('Data base original'!AG119/'Data base original'!AG107*100-100)*'Data base original'!AG107/('Data base original'!$AN107)","v":0.12361155909060398},{"$f":"('Data base original'!AH119/'Data base original'!AH107*100-100)*'Data base original'!AH107/('Data base original'!$AN107)","v":2.7628008617061675E-2},{"$f":"('Data base original'!AI119/'Data base original'!AI107*100-100)*'Data base original'!AI107/('Data base original'!$AN107)","v":0.20793239318263423},{"$f":"('Data base original'!AJ119/'Data base original'!AJ107*100-100)*'Data base original'!AJ107/('Data base original'!$AN107)","v":3.0554733649856307},{"$f":"('Data base original'!AK119/'Data base original'!AK107*100-100)*'Data base original'!AK107/('Data base original'!$AN107)","v":0.14168486129638264},{"$f":"-('Data base original'!AL119/'Data base original'!AL107*100-100)*'Data base original'!AL107/('Data base original'!$AN107)","v":-1.4369635624150943},{"$f":"-('Data base original'!AM119/'Data base original'!AM107*100-100)*'Data base original'!AM107/('Data base original'!$AN107)","v":-4.5876039504396185E-2},{"$f":"(('Data base original'!AJ119-'Data base original'!AL119)/('Data base original'!AJ107-'Data base original'!AL107)*100-100)*(('Data base original'!AJ107-'Data base original'!AL107)/'Data base original'!AN107)","v":1.6185098025705371},{"$f":"(('Data base original'!AK119-'Data base original'!AM119)/('Data base original'!AK107-'Data base original'!AM107)*100-100)*(('Data base original'!AK107-'Data base original'!AM107)/'Data base original'!AN107)","v":9.5808821791986479E-2},{"$f":"('Data base original'!AN119/'Data base original'!AN107*100-100)*'Data base original'!AN107/('Data base original'!$AN107)","v":11.193777301299264}]
["2015-02-01",{"$f":"'Data base original'!B120/'Data base original'!B108*100-100","v":6.7473255790444711},{"$f":"'Data base original'!C120/'Data base original'!C108*100-100","v":7.5092392543177908},{"$f":"'Data base original'!D120/'Data base original'!D108*100-100","v":15.189970443244533},{"$f":"'Data base original'!E120/'Data base original'!E108*100-100","v":1.1701802740905549},{"$f":"'Data base original'!F120/'Data base original'!F108*100-100","v":8.4184642830764886},{"$f":"'Data base original'!G120","v":25.234454506174483},{"$f":"'Data base original'!H120","v":26.275318029970286},{"$f":"'Data base original'!I120","v":15.402136517196087},{"$f":"'Data base original'!J120","v":31.146985890800082},{"$f":"'Data base original'!K120","v":7.1278456061208804},{"$f":"'Data base original'!L120","v":5.5181542645438171},{"$f":"'Data base original'!M120","v":7.8036065890156969},{"$f":"'Data base original'!N120","v":1.684601636833142},{"$f":"'Data base original'!O120","v":1.6581105727950991},{"$f":"'Data base original'!P120","v":1.7358640988313598},{"$f":"'Data base original'!Q120","v":3.73},{"$f":"('Data base original'!S120/'Data base original'!S108*100-100)*'Data base original'!S108/'Data base original'!$V108","v":2.0926092380845498},{"$f":"('Data base original'!T120/'Data base original'!T108*100-100)*'Data base original'!T108/'Data base original'!$V108","v":9.1372597417506167},{"$f":"('Data base original'!U120/'Data base original'!U108*100-100)*'Data base original'!U108/'Data base original'!$V108","v":3.3710841463954284},{"$f":"('Data base original'!V120/'Data base original'!V108*100-100)*'Data base original'!V108/'Data base original'!$V108","v":14.600953126230593},{"$f":"('Data base original'!V120/'Data base original'!V108*100-100)*'Data base original'!V108/('Data base original'!$AC108)","v":3.4915520239897608},{"$f":"('Data base original'!W120/'Data base original'!W108*100-100)*'Data base original'!W108/('Data base original'!$AC108)","v":3.6279802355357695},{"$f":"('Data base original'!X120/'Data base original'!X108*100-100)*'Data base original'!X108/('Data base original'!$AC108)","v":0.32104065186039621},{"$f":"('Data base original'!Y120/'Data base original'!Y108*100-100)*'Data base original'!Y108/('Data base original'!$AC108)","v":0.89916425177465753},{"$f":"('Data base original'!Z120/'Data base original'!Z108*100-100)*'Data base original'!Z108/('Data base original'!$AC108)","v":7.8253983746743971E-2},{"$f":"-('Data base original'!AA120/'Data base original'!AA108*100-100)*'Data base original'!AA108/('Data base original'!$AC108)","v":-0.62573386375584861},{"$f":"-('Data base original'!AB120/'Data base original'!AB108*100-100)*'Data base original'!AB108/('Data base original'!$AC108)","v":-7.2488778060770271E-3},{"$f":"(('Data base original'!Y120-'Data base original'!AA120)/('Data base original'!Y108-'Data base original'!AA108)*100-100)*(('Data base original'!Y108-'Data base original'!AA108)/'Data base original'!AC108)","v":0.27343038801880992},{"$f":"(('Data base original'!Z120-'Data base original'!AB120)/('Data base original'!Z108-'Data base original'!AB108)*100-100)*(('Data base original'!Z108-'Data base original'!AB108)/'Data base original'!AC108)","v":7.1005105940666946E-2},{"$f":"('Data base original'!AC120/'Data base original'!AC108*100-100)*'Data base original'!AC108/('Data base original'!$AC108)","v":7.7850084053453941},{"$f":"('Data base original'!AC120/'Data base original'!AC108*100-100)*'Data base original'!AC108/('Data base original'!$AN108)","v":4.7845565586774832},{"$f":"('Data base original'!AD120/'Data base original'!AD108*100-100)*'Data base original'!AD108/('Data base original'!$AN108)","v":2.0138585136822211},{"$f":"('Data base original'!AE120/'Data base original'!AE108*100-100)*'Data base original'!AE108/('Data base original'!$AN108)","v":-0.47389233394217167},{"$f":"('Data base original'!AF120/'Data base original'!AF108*100-100)*'Data base original'!AF108/('Data base original'!$AN108)","v":1.7587238761749129},{"$f":"('Data base original'!AG120/'Data base original'!AG108*100-100)*'Data base original'!AG108/('Data base original'!$AN108)","v":1.4990925586079427E-2},{"$f":"('Data base original'!AH120/'Data base original'!AH108*100-100)*'Data base original'!AH108/('Data base original'!$AN108)","v":1.3067426835072591E-2},{"$f":"('Data base original'!AI120/'Data base original'!AI108*100-100)*'Data base original'!AI108/('Data base original'!$AN108)","v":6.9842946747640688E-2},{"$f":"('Data base original'!AJ120/'Data base original'!AJ108*100-100)*'Data base original'!AJ108/('Data base original'!$AN108)","v":3.0874574114738871},{"$f":"('Data base original'!AK120/'Data base original'!AK108*100-100)*'Data base original'!AK108/('Data base original'!$AN108)","v":0.14868430791773843},{"$f":"-('Data base original'!AL120/'Data base original'!AL108*100-100)*'Data base original'!AL108/('Data base original'!$AN108)","v":-1.2708699296840253},{"$f":"-('Data base original'!AM120/'Data base original'!AM108*100-100)*'Data base original'!AM108/('Data base original'!$AN108)","v":-4.1627577060096593E-2},{"$f":"(('Data base original'!AJ120-'Data base original'!AL120)/('Data base original'!AJ108-'Data base original'!AL108)*100-100)*(('Data base original'!AJ108-'Data base original'!AL108)/'Data base original'!AN108)","v":1.8165874817898608},{"$f":"(('Data base original'!AK120-'Data base original'!AM120)/('Data base original'!AK108-'Data base original'!AM108)*100-100)*(('Data base original'!AK108-'Data base original'!AM108)/'Data base original'!AN108)","v":0.10705673085764184},{"$f":"('Data base original'!AN120/'Data base original'!AN108*100-100)*'Data base original'!AN108/('Data base original'!$AN108)","v":10.104792126408739}]
["2015-03-01",{"$f":"'Data base original'!B121/'Data base original'!B109*100-100","v":7.4085891490645537},{"$f":"'Data base original'!C121/'Data base original'!C109*100-100","v":7.305032885386936},{"$f":"'Data base original'!D121/'Data base original'!D109*100-100","v":15.085529859651743},{"$f":"'Data base original'!E121/'Data base original'!E109*100-100","v":4.3772653567467614},{"$f":"'Data base original'!F121/'Data base original'!F109*100-100","v":9.0248332251138237},{"$f":"'Data base original'!G121","v":23.299889255728694},{"$f":"'Data base original'!H121","v":24.720736570128857},{"$f":"'Data base original'!I121","v":13.730764952547478},{"$f":"'Data base original'!J121","v":30.790077344049799},{"$f":"'Data base original'!K121","v":7.1450969129499748},{"$f":"'Data base original'!L121","v":5.4522568421928517},{"$f":"'Data base original'!M121","v":8.1683457396932528},{"$f":"'Data base original'!N121","v":1.4588164771542831},{"$f":"'Data base original'!O121","v":1.2203524717978489},{"$f":"'Data base original'!P121","v":1.8134075907534819},{"$f":"'Data base original'!Q121","v":3.67},{"$f":"('Data base original'!S121/'Data base original'!S109*100-100)*'Data base original'!S109/'Data base original'!$V109","v":2.2324104741300896},{"$f":"('Data base original'!T121/'Data base original'!T109*100-100)*'Data base original'!T109/'Data base original'!$V109","v":9.0661792878278096},{"$f":"('Data base original'!U121/'Data base original'!U109*100-100)*'Data base original'!U109/'Data base original'!$V109","v":1.835223249851389},{"$f":"('Data base original'!V121/'Data base original'!V109*100-100)*'Data base original'!V109/'Data base original'!$V109","v":13.133813011809295},{"$f":"('Data base original'!V121/'Data base original'!V109*100-100)*'Data base original'!V109/('Data base original'!$AC109)","v":3.1491132327197904},{"$f":"('Data base original'!W121/'Data base original'!W109*100-100)*'Data base original'!W109/('Data base original'!$AC109)","v":4.061167519132356},{"$f":"('Data base original'!X121/'Data base original'!X109*100-100)*'Data base original'!X109/('Data base original'!$AC109)","v":0.3273882142800279},{"$f":"('Data base original'!Y121/'Data base original'!Y109*100-100)*'Data base original'!Y109/('Data base original'!$AC109)","v":0.35153262779152489},{"$f":"('Data base original'!Z121/'Data base original'!Z109*100-100)*'Data base original'!Z109/('Data base original'!$AC109)","v":8.1289749611183182E-2},{"$f":"-('Data base original'!AA121/'Data base original'!AA109*100-100)*'Data base original'!AA109/('Data base original'!$AC109)","v":-0.41023612548402943},{"$f":"-('Data base original'!AB121/'Data base original'!AB109*100-100)*'Data base original'!AB109/('Data base original'!$AC109)","v":-1.9481096202866151E-2},{"$f":"(('Data base original'!Y121-'Data base original'!AA121)/('Data base original'!Y109-'Data base original'!AA109)*100-100)*(('Data base original'!Y109-'Data base original'!AA109)/'Data base original'!AC109)","v":-5.8703497692504616E-2},{"$f":"(('Data base original'!Z121-'Data base original'!AB121)/('Data base original'!Z109-'Data base original'!AB109)*100-100)*(('Data base original'!Z109-'Data base original'!AB109)/'Data base original'!AC109)","v":6.1808653408317142E-2},{"$f":"('Data base original'!AC121/'Data base original'!AC109*100-100)*'Data base original'!AC109/('Data base original'!$AC109)","v":7.5407741218479885},{"$f":"('Data base original'!AC121/'Data base original'!AC109*100-100)*'Data base original'!AC109/('Data base original'!$AN109)","v":4.6118247204795573},{"$f":"('Data base original'!AD121/'Data base original'!AD109*100-100)*'Data base original'!AD109/('Data base original'!$AN109)","v":1.7068924313222049},{"$f":"('Data base original'!AE121/'Data base original'!AE109*100-100)*'Data base original'!AE109/('Data base original'!$AN109)","v":-0.75007608117182278},{"$f":"('Data base original'!AF121/'Data base original'!AF109*100-100)*'Data base original'!AF109/('Data base original'!$AN109)","v":1.7973333280698309},{"$f":"('Data base original'!AG121/'Data base original'!AG109*100-100)*'Data base original'!AG109/('Data base original'!$AN109)","v":8.599251773212354E-3},{"$f":"('Data base original'!AH121/'Data base original'!AH109*100-100)*'Data base original'!AH109/('Data base original'!$AN109)","v":1.9613474414848325E-2},{"$f":"('Data base original'!AI121/'Data base original'!AI109*100-100)*'Data base original'!AI109/('Data base original'!$AN109)","v":-1.2198003589902777E-2},{"$f":"('Data base original'!AJ121/'Data base original'!AJ109*100-100)*'Data base original'!AJ109/('Data base original'!$AN109)","v":3.205644735436247},{"$f":"('Data base original'!AK121/'Data base original'!AK109*100-100)*'Data base original'!AK109/('Data base original'!$AN109)","v":0.15179101103280807},{"$f":"-('Data base original'!AL121/'Data base original'!AL109*100-100)*'Data base original'!AL109/('Data base original'!$AN109)","v":-1.2199651115748558},{"$f":"-('Data base original'!AM121/'Data base original'!AM109*100-100)*'Data base original'!AM109/('Data base original'!$AN109)","v":-3.8654838201126765E-2},{"$f":"(('Data base original'!AJ121-'Data base original'!AL121)/('Data base original'!AJ109-'Data base original'!AL109)*100-100)*(('Data base original'!AJ109-'Data base original'!AL109)/'Data base original'!AN109)","v":1.9856796238613901},{"$f":"(('Data base original'!AK121-'Data base original'!AM121)/('Data base original'!AK109-'Data base original'!AM109)*100-100)*(('Data base original'!AK109-'Data base original'!AM109)/'Data base original'!AN109)","v":0.11313617283168127},{"$f":"('Data base original'!AN121/'Data base original'!AN109*100-100)*'Data base original'!AN109/('Data base original'!$AN109)","v":9.4808049179909943}]
["2015-04-01",{"$f":"'Data base original'!B122/'Data base original'!B110*100-100","v":7.3291480235368738},{"$f":"'Data base original'!C122/'Data base original'!C110*100-100","v":7.0734290537052971},{"$f":"'Data base original'!D122/'Data base original'!D110*100-100","v":15.096306100914461},{"$f":"'Data base original'!E122/'Data base original'!E110*100-100","v":0.2377839180454373},{"$f":"'Data base original'!F122/'Data base original'!F110*100-100","v":8.6371621800236369},{"$f":"'Data base original'!G122","v":23.619520297404737},{"$f":"'Data base original'!H122","v":24.946302742901871},{"$f":"'Data base original'!I122","v":14.201427247366844},{"$f":"'Data base original'!J122","v":30.556844934074732},{"$f":"'Data base original'!K122","v":7.0364298241080938},{"$f":"'Data base original'!L122","v":5.5670550231722427},{"$f":"'Data base original'!M122","v":7.8905429710960213},{"$f":"'Data base original'!N122","v":1.62},{"$f":"'Data base original'!O122","v":1.5500471797138695},{"$f":"'Data base original'!P122","v":1.6644820074580875},{"$f":"'Data base original'!Q122","v":3.6},{"$f":"('Data base original'!S122/'Data base original'!S110*100-100)*'Data base original'!S110/'Data base original'!$V110","v":2.1033840857624111},{"$f":"('Data base original'!T122/'Data base original'!T110*100-100)*'Data base original'!T110/'Data base original'!$V110","v":8.4964461334591608},{"$f":"('Data base original'!U122/'Data base original'!U110*100-100)*'Data base original'!U110/'Data base original'!$V110","v":2.1352677858458358},{"$f":"('Data base original'!V122/'Data base original'!V110*100-100)*'Data base original'!V110/'Data base original'!$V110","v":12.7350980050674},{"$f":"('Data base original'!V122/'Data base original'!V110*100-100)*'Data base original'!V110/('Data base original'!$AC110)","v":3.1119180708671079},{"$f":"('Data base original'!W122/'Data base original'!W110*100-100)*'Data base original'!W110/('Data base original'!$AC110)","v":5.6913196690186583},{"$f":"('Data base original'!X122/'Data base original'!X110*100-100)*'Data base original'!X110/('Data base original'!$AC110)","v":0.33888165868777903},{"$f":"('Data base original'!Y122/'Data base original'!Y110*100-100)*'Data base original'!Y110/('Data base original'!$AC110)","v":0.13048327335192986},{"$f":"('Data base original'!Z122/'Data base original'!Z110*100-100)*'Data base original'!Z110/('Data base original'!$AC110)","v":7.5068654071821797E-2},{"$f":"-('Data base original'!AA122/'Data base original'!AA110*100-100)*'Data base original'!AA110/('Data base original'!$AC110)","v":-0.46553094553026569},{"$f":"-('Data base original'!AB122/'Data base original'!AB110*100-100)*'Data base original'!AB110/('Data base original'!$AC110)","v":-3.4508818460911687E-2},{"$f":"(('Data base original'!Y122-'Data base original'!AA122)/('Data base original'!Y110-'Data base original'!AA110)*100-100)*(('Data base original'!Y110-'Data base original'!AA110)/'Data base original'!AC110)","v":-0.33504767217833625},{"$f":"(('Data base original'!Z122-'Data base original'!AB122)/('Data base original'!Z110-'Data base original'!AB110)*100-100)*(('Data base original'!Z110-'Data base original'!AB110)/'Data base original'!AC110)","v":4.0559835610910137E-2},{"$f":"('Data base original'!AC122/'Data base original'!AC110*100-100)*'Data base original'!AC110/('Data base original'!$AC110)","v":8.8476315620061143},{"$f":"('Data base original'!AC122/'Data base original'!AC110*100-100)*'Data base original'!AC110/('Data base original'!$AN110)","v":5.3906678717085397},{"$f":"('Data base original'!AD122/'Data base original'!AD110*100-100)*'Data base original'!AD110/('Data base original'!$AN110)","v":1.3180843261260322},{"$f":"('Data base original'!AE122/'Data base original'!AE110*100-100)*'Data base original'!AE110/('Data base original'!$AN110)","v":-0.84606476956828458},{"$f":"('Data base original'!AF122/'Data base original'!AF110*100-100)*'Data base original'!AF110/('Data base original'!$AN110)","v":1.8617847446652358},{"$f":"('Data base original'!AG122/'Data base original'!AG110*100-100)*'Data base original'!AG110/('Data base original'!$AN110)","v":-0.10729700384409285},{"$f":"('Data base original'!AH122/'Data base original'!AH110*100-100)*'Data base original'!AH110/('Data base original'!$AN110)","v":1.2819294892771983E-2},{"$f":"('Data base original'!AI122/'Data base original'!AI110*100-100)*'Data base original'!AI110/('Data base original'!$AN110)","v":9.1944018118569046E-2},{"$f":"('Data base original'!AJ122/'Data base original'!AJ110*100-100)*'Data base original'!AJ110/('Data base original'!$AN110)","v":2.840441136494265},{"$f":"('Data base original'!AK122/'Data base original'!AK110*100-100)*'Data base original'!AK110/('Data base original'!$AN110)","v":0.15353079800048577},{"$f":"-('Data base original'!AL122/'Data base original'!AL110*100-100)*'Data base original'!AL110/('Data base original'!$AN110)","v":-0.84808098626830897},{"$f":"-('Data base original'!AM122/'Data base original'!AM110*100-100)*'Data base original'!AM110/('Data base original'!$AN110)","v":-3.5604566601988352E-2},{"$f":"(('Data base original'!AJ122-'Data base original'!AL122)/('Data base original'!AJ110-'Data base original'!AL110)*100-100)*(('Data base original'!AJ110-'Data base original'!AL110)/'Data base original'!AN110)","v":1.9923601502259547},{"$f":"(('Data base original'!AK122-'Data base original'!AM122)/('Data base original'!AK110-'Data base original'!AM110)*100-100)*(('Data base original'!AK110-'Data base original'!AM110)/'Data base original'!AN110)","v":0.11792623139849748},{"$f":"('Data base original'!AN122/'Data base original'!AN110*100-100)*'Data base original'!AN110/('Data base original'!$AN110)","v":9.8322248637232121}]
["2015-05-01",{"$f":"'Data base original'!B123/'Data base original'!B111*100-100","v":8.4477951045304422},{"$f":"'Data base original'!C123/'Data base original'!C111*100-100","v":5.759415355364311},{"$f":"'Data base original'!D123/'Data base original'!D111*100-100","v":15.187539778684894},{"$f":"'Data base original'!E123/'Data base original'!E111*100-100","v":4.4985089494463466},{"$f":"'Data base original'!F123/'Data base original'!F111*100-100","v":9.4753771805579277},{"$f":"'Data base original'!G123","v":23.777920247312657},{"$f":"'Data base original'!H123","v":25.437449923390041},{"$f":"'Data base original'!I123","v":14.086346710722641},{"$f":"'Data base original'!J123","v":30.347827472409669},{"$f":"'Data base original'!K123","v":6.8780397911292805},{"$f":"'Data base original'!L123","v":5.2827961398552805},{"$f":"'Data base original'!M123","v":8.0814116425379385},{"$f":"'Data base original'!N123","v":1.3818396097605696},{"$f":"'Data base original'!O123","v":1.2428675282110295},{"$f":"'Data base original'!P123","v":1.7682111716674147},{"$f":"'Data base original'!Q123","v":3.61},{"$f":"('Data base original'!S123/'Data base original'!S111*100-100)*'Data base original'!S111/'Data base original'!$V111","v":2.4764212904905842},{"$f":"('Data base original'!T123/'Data base original'!T111*100-100)*'Data base original'!T111/'Data base original'!$V111","v":8.8222620936170042},{"$f":"('Data base original'!U123/'Data base original'!U111*100-100)*'Data base original'!U111/'Data base original'!$V111","v":1.9738493579707495},{"$f":"('Data base original'!V123/'Data base original'!V111*100-100)*'Data base original'!V111/'Data base original'!$V111","v":13.272532742078338},{"$f":"('Data base original'!V123/'Data base original'!V111*100-100)*'Data base original'!V111/('Data base original'!$AC111)","v":3.2912951921852551},{"$f":"('Data base original'!W123/'Data base original'!W111*100-100)*'Data base original'!W111/('Data base original'!$AC111)","v":6.908812124965114},{"$f":"('Data base original'!X123/'Data base original'!X111*100-100)*'Data base original'!X111/('Data base original'!$AC111)","v":0.35729013719786312},{"$f":"('Data base original'!Y123/'Data base original'!Y111*100-100)*'Data base original'!Y111/('Data base original'!$AC111)","v":-0.9389960884208739},{"$f":"('Data base original'!Z123/'Data base original'!Z111*100-100)*'Data base original'!Z111/('Data base original'!$AC111)","v":6.3427458901453349E-2},{"$f":"-('Data base original'!AA123/'Data base original'!AA111*100-100)*'Data base original'!AA111/('Data base original'!$AC111)","v":0.20909146066305015},{"$f":"-('Data base original'!AB123/'Data base original'!AB111*100-100)*'Data base original'!AB111/('Data base original'!$AC111)","v":-2.5784853987595828E-2},{"$f":"(('Data base original'!Y123-'Data base original'!AA123)/('Data base original'!Y111-'Data base original'!AA111)*100-100)*(('Data base original'!Y111-'Data base original'!AA111)/'Data base original'!AC111)","v":-0.72990462775782539},{"$f":"(('Data base original'!Z123-'Data base original'!AB123)/('Data base original'!Z111-'Data base original'!AB111)*100-100)*(('Data base original'!Z111-'Data base original'!AB111)/'Data base original'!AC111)","v":3.7642604913857472E-2},{"$f":"('Data base original'!AC123/'Data base original'!AC111*100-100)*'Data base original'!AC111/('Data base original'!$AC111)","v":9.865135431504271},{"$f":"('Data base original'!AC123/'Data base original'!AC111*100-100)*'Data base original'!AC111/('Data base original'!$AN111)","v":5.9301283159069422},{"$f":"('Data base original'!AD123/'Data base original'!AD111*100-100)*'Data base original'!AD111/('Data base original'!$AN111)","v":1.0914487874849013},{"$f":"('Data base original'!AE123/'Data base original'!AE111*100-100)*'Data base original'!AE111/('Data base original'!$AN111)","v":-0.81627524087912473},{"$f":"('Data base original'!AF123/'Data base original'!AF111*100-100)*'Data base original'!AF111/('Data base original'!$AN111)","v":2.113977120600163},{"$f":"('Data base original'!AG123/'Data base original'!AG111*100-100)*'Data base original'!AG111/('Data base original'!$AN111)","v":-0.36169408508679241},{"$f":"('Data base original'!AH123/'Data base original'!AH111*100-100)*'Data base original'!AH111/('Data base original'!$AN111)","v":2.5923996251617939E-3},{"$f":"('Data base original'!AI123/'Data base original'!AI111*100-100)*'Data base original'!AI111/('Data base original'!$AN111)","v":0.22340444833822448},{"$f":"('Data base original'!AJ123/'Data base original'!AJ111*100-100)*'Data base original'!AJ111/('Data base original'!$AN111)","v":2.1423614793857535},{"$f":"('Data base original'!AK123/'Data base original'!AK111*100-100)*'Data base original'!AK111/('Data base original'!$AN111)","v":0.148288870328633},{"$f":"-('Data base original'!AL123/'Data base original'!AL111*100-100)*'Data base original'!AL111/('Data base original'!$AN111)","v":-0.21679694514593875},{"$f":"-('Data base original'!AM123/'Data base original'!AM111*100-100)*'Data base original'!AM111/('Data base original'!$AN111)","v":-3.3870731124217533E-2},{"$f":"(('Data base original'!AJ123-'Data base original'!AL123)/('Data base original'!AJ111-'Data base original'!AL111)*100-100)*(('Data base original'!AJ111-'Data base original'!AL111)/'Data base original'!AN111)","v":1.925564534239814},{"$f":"(('Data base original'!AK123-'Data base original'!AM123)/('Data base original'!AK111-'Data base original'!AM111)*100-100)*(('Data base original'!AK111-'Data base original'!AM111)/'Data base original'!AN111)","v":0.1144181392044155},{"$f":"('Data base original'!AN123/'Data base original'!AN111*100-100)*'Data base original'!AN111/('Data base original'!$AN111)","v":10.2235644194337}]
["2015-06-01",{"$f":"'Data base original'!B124/'Data base original'!B112*100-100","v":8.1518512910184739},{"$f":"'Data base original'!C124/'Data base original'!C112*100-100","v":5.808109526190421},{"$f":"'Data base original'!D124/'Data base original'!D112*100-100","v":15.179103059860878},{"$f":"'Data base original'!E124/'Data base original'!E112*100-100","v":8.3034370190418798},{"$f":"'Data base original'!F124/'Data base original'!F112*100-100","v":9.6190034568770244},{"$f":"'Data base original'!G124","v":23.479117582852449},{"$f":"'Data base original'!H124","v":25.011463471140058},{"$f":"'Data base original'!I124","v":13.974289954592345},{"$f":"'Data base original'!J124","v":30.109024445817216},{"$f":"'Data base original'!K124","v":7.0624309633953626},{"$f":"'Data base original'!L124","v":5.7113793215964961},{"$f":"'Data base original'!M124","v":8.0822841641447436},{"$f":"'Data base original'!N124","v":1.681825336480314},{"$f":"'Data base original'!O124","v":1.6046976974281602},{"$f":"'Data base original'!P124","v":1.788890231942359},{"$f":"'Data base original'!Q124","v":3.66},{"$f":"('Data base original'!S124/'Data base original'!S112*100-100)*'Data base original'!S112/'Data base original'!$V112","v":2.5556578401332244},{"$f":"('Data base original'!T124/'Data base original'!T112*100-100)*'Data base original'!T112/'Data base original'!$V112","v":9.4795927261950688},{"$f":"('Data base original'!U124/'Data base original'!U112*100-100)*'Data base original'!U112/'Data base original'!$V112","v":2.3663400841786477},{"$f":"('Data base original'!V124/'Data base original'!V112*100-100)*'Data base original'!V112/'Data base original'!$V112","v":14.401590650506947},{"$f":"('Data base original'!V124/'Data base original'!V112*100-100)*'Data base original'!V112/('Data base original'!$AC112)","v":3.5956856218754472},{"$f":"('Data base original'!W124/'Data base original'!W112*100-100)*'Data base original'!W112/('Data base original'!$AC112)","v":7.3120131446746797},{"$f":"('Data base original'!X124/'Data base original'!X112*100-100)*'Data base original'!X112/('Data base original'!$AC112)","v":0.37735934151840922},{"$f":"('Data base original'!Y124/'Data base original'!Y112*100-100)*'Data base original'!Y112/('Data base original'!$AC112)","v":-0.78199083094442257},{"$f":"('Data base original'!Z124/'Data base original'!Z112*100-100)*'Data base original'!Z112/('Data base original'!$AC112)","v":5.5109662375644297E-2},{"$f":"-('Data base original'!AA124/'Data base original'!AA112*100-100)*'Data base original'!AA112/('Data base original'!$AC112)","v":2.4219292929692535E-2},{"$f":"-('Data base original'!AB124/'Data base original'!AB112*100-100)*'Data base original'!AB112/('Data base original'!$AC112)","v":-1.0565974517909582E-2},{"$f":"(('Data base original'!Y124-'Data base original'!AA124)/('Data base original'!Y112-'Data base original'!AA112)*100-100)*(('Data base original'!Y112-'Data base original'!AA112)/'Data base original'!AC112)","v":-0.75777153801473018},{"$f":"(('Data base original'!Z124-'Data base original'!AB124)/('Data base original'!Z112-'Data base original'!AB112)*100-100)*(('Data base original'!Z112-'Data base original'!AB112)/'Data base original'!AC112)","v":4.4543687857734805E-2},{"$f":"('Data base original'!AC124/'Data base original'!AC112*100-100)*'Data base original'!AC112/('Data base original'!$AC112)","v":10.5718302579115},{"$f":"('Data base original'!AC124/'Data base original'!AC112*100-100)*'Data base original'!AC112/('Data base original'!$AN112)","v":6.3228897600830365},{"$f":"('Data base original'!AD124/'Data base original'!AD112*100-100)*'Data base original'!AD112/('Data base original'!$AN112)","v":1.1494996845943937},{"$f":"('Data base original'!AE124/'Data base original'!AE112*100-100)*'Data base original'!AE112/('Data base original'!$AN112)","v":-1.051501834248304},{"$f":"('Data base original'!AF124/'Data base original'!AF112*100-100)*'Data base original'!AF112/('Data base original'!$AN112)","v":2.3759242581694258},{"$f":"('Data base original'!AG124/'Data base original'!AG112*100-100)*'Data base original'!AG112/('Data base original'!$AN112)","v":-0.53855089614722107},{"$f":"('Data base original'!AH124/'Data base original'!AH112*100-100)*'Data base original'!AH112/('Data base original'!$AN112)","v":3.6052806757043837E-3},{"$f":"('Data base original'!AI124/'Data base original'!AI112*100-100)*'Data base original'!AI112/('Data base original'!$AN112)","v":0.1330208155117466},{"$f":"('Data base original'!AJ124/'Data base original'!AJ112*100-100)*'Data base original'!AJ112/('Data base original'!$AN112)","v":1.7402549160352763},{"$f":"('Data base original'!AK124/'Data base original'!AK112*100-100)*'Data base original'!AK112/('Data base original'!$AN112)","v":0.13943532136483799},{"$f":"-('Data base original'!AL124/'Data base original'!AL112*100-100)*'Data base original'!AL112/('Data base original'!$AN112)","v":3.7331774290941255E-2},{"$f":"-('Data base original'!AM124/'Data base original'!AM112*100-100)*'Data base original'!AM112/('Data base original'!$AN112)","v":-3.2478617469348173E-2},{"$f":"(('Data base original'!AJ124-'Data base original'!AL124)/('Data base original'!AJ112-'Data base original'!AL112)*100-100)*(('Data base original'!AJ112-'Data base original'!AL112)/'Data base original'!AN112)","v":1.7775866903262183},{"$f":"(('Data base original'!AK124-'Data base original'!AM124)/('Data base original'!AK112-'Data base original'!AM112)*100-100)*(('Data base original'!AK112-'Data base original'!AM112)/'Data base original'!AN112)","v":0.10695670389548979},{"$f":"('Data base original'!AN124/'Data base original'!AN112*100-100)*'Data base original'!AN112/('Data base original'!$AN112)","v":10.279430462860461}]
["2015-07-01",{"$f":"'Data base original'!B125/'Data base original'!B113*100-100","v":8.949761494478679},{"$f":"'Data base original'!C125/'Data base original'!C113*100-100","v":6.1702024163684968},{"$f":"'Data base original'!D125/'Data base original'!D113*100-100","v":15.539106339178119},{"$f":"'Data base original'!E125/'Data base original'!E113*100-100","v":9.1659769078739259},{"$f":"'Data base original'!F125/'Data base original'!F113*100-100","v":10.263362880610472},{"$f":"'Data base original'!G125","v":22.914229745414907},{"$f":"'Data base original'!H125","v":24.30348207985918},{"$f":"'Data base original'!I125","v":14.254897787068533},{"$f":"'Data base original'!J125","v":29.399690125558152},{"$f":"'Data base original'!K125","v":6.8327055217161652},{"$f":"'Data base original'!L125","v":5.5295721727949161},{"$f":"'Data base original'!M125","v":7.5611642442675038},{"$f":"'Data base original'!N125","v":1.5486261039288127},{"$f":"'Data base original'!O125","v":1.4555430115189918},{"$f":"'Data base original'!P125","v":1.6887426063491797},{"$f":"'Data base original'!Q125","v":3.67},{"$f":"('Data base original'!S125/'Data base original'!S113*100-100)*'Data base original'!S113/'Data base original'!$V113","v":2.4527925940404791},{"$f":"('Data base original'!T125/'Data base original'!T113*100-100)*'Data base original'!T113/'Data base original'!$V113","v":9.6906420418766324},{"$f":"('Data base original'!U125/'Data base original'!U113*100-100)*'Data base original'!U113/'Data base original'!$V113","v":2.5649383172185214},{"$f":"('Data base original'!V125/'Data base original'!V113*100-100)*'Data base original'!V113/'Data base original'!$V113","v":14.708372953135651},{"$f":"('Data base original'!V125/'Data base original'!V113*100-100)*'Data base original'!V113/('Data base original'!$AC113)","v":3.6105486747131974},{"$f":"('Data base original'!W125/'Data base original'!W113*100-100)*'Data base original'!W113/('Data base original'!$AC113)","v":7.8593828366912035},{"$f":"('Data base original'!X125/'Data base original'!X113*100-100)*'Data base original'!X113/('Data base original'!$AC113)","v":0.35147344313999557},{"$f":"('Data base original'!Y125/'Data base original'!Y113*100-100)*'Data base original'!Y113/('Data base original'!$AC113)","v":2.2788724986840179},{"$f":"('Data base original'!Z125/'Data base original'!Z113*100-100)*'Data base original'!Z113/('Data base original'!$AC113)","v":5.4095104814365538E-2},{"$f":"-('Data base original'!AA125/'Data base original'!AA113*100-100)*'Data base original'!AA113/('Data base original'!$AC113)","v":-2.6844295446530086},{"$f":"-('Data base original'!AB125/'Data base original'!AB113*100-100)*'Data base original'!AB113/('Data base original'!$AC113)","v":-3.3945307898622995E-3},{"$f":"(('Data base original'!Y125-'Data base original'!AA125)/('Data base original'!Y113-'Data base original'!AA113)*100-100)*(('Data base original'!Y113-'Data base original'!AA113)/'Data base original'!AC113)","v":-0.405557045968992},{"$f":"(('Data base original'!Z125-'Data base original'!AB125)/('Data base original'!Z113-'Data base original'!AB113)*100-100)*(('Data base original'!Z113-'Data base original'!AB113)/'Data base original'!AC113)","v":5.0700574024503307E-2},{"$f":"('Data base original'!AC125/'Data base original'!AC113*100-100)*'Data base original'!AC113/('Data base original'!$AC113)","v":11.46654848259989},{"$f":"('Data base original'!AC125/'Data base original'!AC113*100-100)*'Data base original'!AC113/('Data base original'!$AN113)","v":6.8806853901008784},{"$f":"('Data base original'!AD125/'Data base original'!AD113*100-100)*'Data base original'!AD113/('Data base original'!$AN113)","v":1.3645977676722707},{"$f":"('Data base original'!AE125/'Data base original'!AE113*100-100)*'Data base original'!AE113/('Data base original'!$AN113)","v":-0.67943531868937246},{"$f":"('Data base original'!AF125/'Data base original'!AF113*100-100)*'Data base original'!AF113/('Data base original'!$AN113)","v":2.8116970851539529},{"$f":"('Data base original'!AG125/'Data base original'!AG113*100-100)*'Data base original'!AG113/('Data base original'!$AN113)","v":-0.13741858231735674},{"$f":"('Data base original'!AH125/'Data base original'!AH113*100-100)*'Data base original'!AH113/('Data base original'!$AN113)","v":8.8223384442192212E-3},{"$f":"('Data base original'!AI125/'Data base original'!AI113*100-100)*'Data base original'!AI113/('Data base original'!$AN113)","v":0.1268635031374343},{"$f":"('Data base original'!AJ125/'Data base original'!AJ113*100-100)*'Data base original'!AJ113/('Data base original'!$AN113)","v":1.6417090220368189},{"$f":"('Data base original'!AK125/'Data base original'!AK113*100-100)*'Data base original'!AK113/('Data base original'!$AN113)","v":0.14280643777412111},{"$f":"-('Data base original'!AL125/'Data base original'!AL113*100-100)*'Data base original'!AL113/('Data base original'!$AN113)","v":1.8181389804134147E-2},{"$f":"-('Data base original'!AM125/'Data base original'!AM113*100-100)*'Data base original'!AM113/('Data base original'!$AN113)","v":-3.3375693959432802E-2},{"$f":"(('Data base original'!AJ125-'Data base original'!AL125)/('Data base original'!AJ113-'Data base original'!AL113)*100-100)*(('Data base original'!AJ113-'Data base original'!AL113)/'Data base original'!AN113)","v":1.6598904118409532},{"$f":"(('Data base original'!AK125-'Data base original'!AM125)/('Data base original'!AK113-'Data base original'!AM113)*100-100)*(('Data base original'!AK113-'Data base original'!AM113)/'Data base original'!AN113)","v":0.10943074381468829},{"$f":"('Data base original'!AN125/'Data base original'!AN113*100-100)*'Data base original'!AN113/('Data base original'!$AN113)","v":12.145133339157653}]
["2015-08-01",{"$f":"'Data base original'!B126/'Data base original'!B114*100-100","v":8.359442782416366},{"$f":"'Data base original'!C126/'Data base original'!C114*100-100","v":5.9827984892422563},{"$f":"'Data base original'!D126/'Data base original'!D114*100-100","v":15.605291474528357},{"$f":"'Data base original'!E126/'Data base original'!E114*100-100","v":12.263534554135916},{"$f":"'Data base original'!F126/'Data base original'!F114*100-100","v":10.160685472514672},{"$f":"'Data base original'!G126","v":23.520368626991754},{"$f":"'Data base original'!H126","v":25.736077519125139},{"$f":"'Data base original'!I126","v":13.959811253181147},{"$f":"'Data base original'!J126","v":29.108933640254506},{"$f":"'Data base original'!K126","v":7.0706048271742716},{"$f":"'Data base original'!L126","v":5.7009310119886552},{"$f":"'Data base original'!M126","v":7.8237022697967475},{"$f":"'Data base original'!N126","v":1.5856321134940072},{"$f":"'Data base original'!O126","v":1.5174930043728518},{"$f":"'Data base original'!P126","v":1.6970344756185507},{"$f":"'Data base original'!Q126","v":3.63},{"$f":"('Data base original'!S126/'Data base original'!S114*100-100)*'Data base original'!S114/'Data base original'!$V114","v":2.6604006780928997},{"$f":"('Data base original'!T126/'Data base original'!T114*100-100)*'Data base original'!T114/'Data base original'!$V114","v":9.0858697696132449},{"$f":"('Data base original'!U126/'Data base original'!U114*100-100)*'Data base original'!U114/'Data base original'!$V114","v":4.1139831369689892},{"$f":"('Data base original'!V126/'Data base original'!V114*100-100)*'Data base original'!V114/'Data base original'!$V114","v":15.860253584675133},{"$f":"('Data base original'!V126/'Data base original'!V114*100-100)*'Data base original'!V114/('Data base original'!$AC114)","v":3.8250511250132084},{"$f":"('Data base original'!W126/'Data base original'!W114*100-100)*'Data base original'!W114/('Data base original'!$AC114)","v":8.8266700761584662},{"$f":"('Data base original'!X126/'Data base original'!X114*100-100)*'Data base original'!X114/('Data base original'!$AC114)","v":0.42045267630711136},{"$f":"('Data base original'!Y126/'Data base original'!Y114*100-100)*'Data base original'!Y114/('Data base original'!$AC114)","v":2.4629204143015868},{"$f":"('Data base original'!Z126/'Data base original'!Z114*100-100)*'Data base original'!Z114/('Data base original'!$AC114)","v":6.1388159386466828E-2},{"$f":"-('Data base original'!AA126/'Data base original'!AA114*100-100)*'Data base original'!AA114/('Data base original'!$AC114)","v":-2.8552731612450817},{"$f":"-('Data base original'!AB126/'Data base original'!AB114*100-100)*'Data base original'!AB114/('Data base original'!$AC114)","v":-8.2066745076140733E-4},{"$f":"(('Data base original'!Y126-'Data base original'!AA126)/('Data base original'!Y114-'Data base original'!AA114)*100-100)*(('Data base original'!Y114-'Data base original'!AA114)/'Data base original'!AC114)","v":-0.39235274694349542},{"$f":"(('Data base original'!Z126-'Data base original'!AB126)/('Data base original'!Z114-'Data base original'!AB114)*100-100)*(('Data base original'!Z114-'Data base original'!AB114)/'Data base original'!AC114)","v":6.0567491935705355E-2},{"$f":"('Data base original'!AC126/'Data base original'!AC114*100-100)*'Data base original'!AC114/('Data base original'!$AC114)","v":12.740388622471002},{"$f":"('Data base original'!AC126/'Data base original'!AC114*100-100)*'Data base original'!AC114/('Data base original'!$AN114)","v":7.6046612243336353},{"$f":"('Data base original'!AD126/'Data base original'!AD114*100-100)*'Data base original'!AD114/('Data base original'!$AN114)","v":1.4900865158494263},{"$f":"('Data base original'!AE126/'Data base original'!AE114*100-100)*'Data base original'!AE114/('Data base original'!$AN114)","v":-0.40353759702996977},{"$f":"('Data base original'!AF126/'Data base original'!AF114*100-100)*'Data base original'!AF114/('Data base original'!$AN114)","v":2.9255524361810736},{"$f":"('Data base original'!AG126/'Data base original'!AG114*100-100)*'Data base original'!AG114/('Data base original'!$AN114)","v":-0.26887732684380483},{"$f":"('Data base original'!AH126/'Data base original'!AH114*100-100)*'Data base original'!AH114/('Data base original'!$AN114)","v":2.1395461244092601E-2},{"$f":"('Data base original'!AI126/'Data base original'!AI114*100-100)*'Data base original'!AI114/('Data base original'!$AN114)","v":0.20906656931098597},{"$f":"('Data base original'!AJ126/'Data base original'!AJ114*100-100)*'Data base original'!AJ114/('Data base original'!$AN114)","v":1.4140637750090834},{"$f":"('Data base original'!AK126/'Data base original'!AK114*100-100)*'Data base original'!AK114/('Data base original'!$AN114)","v":0.11514668474107637},{"$f":"-('Data base original'!AL126/'Data base original'!AL114*100-100)*'Data base original'!AL114/('Data base original'!$AN114)","v":0.15635656383203939},{"$f":"-('Data base original'!AM126/'Data base original'!AM114*100-100)*'Data base original'!AM114/('Data base original'!$AN114)","v":-3.8432500373588224E-2},{"$f":"(('Data base original'!AJ126-'Data base original'!AL126)/('Data base original'!AJ114-'Data base original'!AL114)*100-100)*(('Data base original'!AJ114-'Data base original'!AL114)/'Data base original'!AN114)","v":1.5704203388411218},{"$f":"(('Data base original'!AK126-'Data base original'!AM126)/('Data base original'!AK114-'Data base original'!AM114)*100-100)*(('Data base original'!AK114-'Data base original'!AM114)/'Data base original'!AN114)","v":7.6714184367488114E-2},{"$f":"('Data base original'!AN126/'Data base original'!AN114*100-100)*'Data base original'!AN114/('Data base original'!$AN114)","v":13.225481806254066}]
["2015-09-01",{"$f":"'Data base original'!B127/'Data base original'!B115*100-100","v":9.8101796476738343},{"$f":"'Data base original'!C127/'Data base original'!C115*100-100","v":6.1866904417473734},{"$f":"'Data base original'!D127/'Data base original'!D115*100-100","v":15.896184602003686},{"$f":"'Data base original'!E127/'Data base original'!E115*100-100","v":10.014899714591394},{"$f":"'Data base original'!F127/'Data base original'!F115*100-100","v":10.907684968931619},{"$f":"'Data base original'!G127","v":23.228031870933826},{"$f":"'Data base original'!H127","v":25.411497159861995},{"$f":"'Data base original'!I127","v":13.933832674976603},{"$f":"'Data base original'!J127","v":29.055246976530931},{"$f":"'Data base original'!K127","v":6.3402264133813899},{"$f":"'Data base original'!L127","v":5.5236402854138307},{"$f":"'Data base original'!M127","v":6.7762791700470597},{"$f":"'Data base original'!N127","v":1.573994499198929},{"$f":"'Data base original'!O127","v":1.1955111422170426},{"$f":"'Data base original'!P127","v":2.0853564876013477},{"$f":"'Data base original'!Q127","v":3.65},{"$f":"('Data base original'!S127/'Data base original'!S115*100-100)*'Data base original'!S115/'Data base original'!$V115","v":2.3599333550897823},{"$f":"('Data base original'!T127/'Data base original'!T115*100-100)*'Data base original'!T115/'Data base original'!$V115","v":8.6012459541072381},{"$f":"('Data base original'!U127/'Data base original'!U115*100-100)*'Data base original'!U115/'Data base original'!$V115","v":2.9284409728370742},{"$f":"('Data base original'!V127/'Data base original'!V115*100-100)*'Data base original'!V115/'Data base original'!$V115","v":13.889620282034116},{"$f":"('Data base original'!V127/'Data base original'!V115*100-100)*'Data base original'!V115/('Data base original'!$AC115)","v":3.421754371543813},{"$f":"('Data base original'!W127/'Data base original'!W115*100-100)*'Data base original'!W115/('Data base original'!$AC115)","v":9.5437893248305894},{"$f":"('Data base original'!X127/'Data base original'!X115*100-100)*'Data base original'!X115/('Data base original'!$AC115)","v":0.44795980449740974},{"$f":"('Data base original'!Y127/'Data base original'!Y115*100-100)*'Data base original'!Y115/('Data base original'!$AC115)","v":1.0177438375334253},{"$f":"('Data base original'!Z127/'Data base original'!Z115*100-100)*'Data base original'!Z115/('Data base original'!$AC115)","v":6.8446509552537213E-2},{"$f":"-('Data base original'!AA127/'Data base original'!AA115*100-100)*'Data base original'!AA115/('Data base original'!$AC115)","v":-1.524738009636037},{"$f":"-('Data base original'!AB127/'Data base original'!AB115*100-100)*'Data base original'!AB115/('Data base original'!$AC115)","v":-4.8610478035300358E-4},{"$f":"(('Data base original'!Y127-'Data base original'!AA127)/('Data base original'!Y115-'Data base original'!AA115)*100-100)*(('Data base original'!Y115-'Data base original'!AA115)/'Data base original'!AC115)","v":-0.50699417210261033},{"$f":"(('Data base original'!Z127-'Data base original'!AB127)/('Data base original'!Z115-'Data base original'!AB115)*100-100)*(('Data base original'!Z115-'Data base original'!AB115)/'Data base original'!AC115)","v":6.7960404772184235E-2},{"$f":"('Data base original'!AC127/'Data base original'!AC115*100-100)*'Data base original'!AC115/('Data base original'!$AC115)","v":12.974469733541397},{"$f":"('Data base original'!AC127/'Data base original'!AC115*100-100)*'Data base original'!AC115/('Data base original'!$AN115)","v":7.7215331599527488},{"$f":"('Data base original'!AD127/'Data base original'!AD115*100-100)*'Data base original'!AD115/('Data base original'!$AN115)","v":1.1396475339113168},{"$f":"('Data base original'!AE127/'Data base original'!AE115*100-100)*'Data base original'!AE115/('Data base original'!$AN115)","v":-0.40929184281531644},{"$f":"('Data base original'!AF127/'Data base original'!AF115*100-100)*'Data base original'!AF115/('Data base original'!$AN115)","v":3.0493822096425558},{"$f":"('Data base original'!AG127/'Data base original'!AG115*100-100)*'Data base original'!AG115/('Data base original'!$AN115)","v":-0.26323639740390026},{"$f":"('Data base original'!AH127/'Data base original'!AH115*100-100)*'Data base original'!AH115/('Data base original'!$AN115)","v":2.952944159196615E-2},{"$f":"('Data base original'!AI127/'Data base original'!AI115*100-100)*'Data base original'!AI115/('Data base original'!$AN115)","v":0.15703665563361802},{"$f":"('Data base original'!AJ127/'Data base original'!AJ115*100-100)*'Data base original'!AJ115/('Data base original'!$AN115)","v":1.242711527307552},{"$f":"('Data base original'!AK127/'Data base original'!AK115*100-100)*'Data base original'!AK115/('Data base original'!$AN115)","v":9.4175703163932104E-2},{"$f":"-('Data base original'!AL127/'Data base original'!AL115*100-100)*'Data base original'!AL115/('Data base original'!$AN115)","v":0.30358005016403533},{"$f":"-('Data base original'!AM127/'Data base original'!AM115*100-100)*'Data base original'!AM115/('Data base original'!$AN115)","v":-4.2108370534032442E-2},{"$f":"(('Data base original'!AJ127-'Data base original'!AL127)/('Data base original'!AJ115-'Data base original'!AL115)*100-100)*(('Data base original'!AJ115-'Data base original'!AL115)/'Data base original'!AN115)","v":1.5462915774715882},{"$f":"(('Data base original'!AK127-'Data base original'!AM127)/('Data base original'!AK115-'Data base original'!AM115)*100-100)*(('Data base original'!AK115-'Data base original'!AM115)/'Data base original'!AN115)","v":5.206733262989971E-2},{"$f":"('Data base original'!AN127/'Data base original'!AN115*100-100)*'Data base original'!AN115/('Data base original'!$AN115)","v":13.022959670614483}]
["2015-10-01",{"$f":"'Data base original'!B128/'Data base original'!B116*100-100","v":10.029031480422816},{"$f":"'Data base original'!C128/'Data base original'!C116*100-100","v":6.2737506097104898},{"$f":"'Data base original'!D128/'Data base original'!D116*100-100","v":15.665974403011404},{"$f":"'Data base original'!E128/'Data base original'!E116*100-100","v":11.863925406383117},{"$f":"'Data base original'!F128/'Data base original'!F116*100-100","v":11.12910981217658},{"$f":"'Data base original'!G128","v":23.141147208858296},{"$f":"'Data base original'!H128","v":24.940871813220262},{"$f":"'Data base original'!I128","v":14.3048115110014},{"$f":"'Data base original'!J128","v":28.613100242566055},{"$f":"'Data base original'!K128","v":6.2365347351570826},{"$f":"'Data base original'!L128","v":5.7648304512650892},{"$f":"'Data base original'!M128","v":6.2794680003424563},{"$f":"'Data base original'!N128","v":1.524345819053698},{"$f":"'Data base original'!O128","v":1.2719202144364641},{"$f":"'Data base original'!P128","v":2.0229646707821223},{"$f":"'Data base original'!Q128","v":3.64},{"$f":"('Data base original'!S128/'Data base original'!S116*100-100)*'Data base original'!S116/'Data base original'!$V116","v":2.6515051163659487},{"$f":"('Data base original'!T128/'Data base original'!T116*100-100)*'Data base original'!T116/'Data base original'!$V116","v":9.821269309127862},{"$f":"('Data base original'!U128/'Data base original'!U116*100-100)*'Data base original'!U116/'Data base original'!$V116","v":2.4527518293873172},{"$f":"('Data base original'!V128/'Data base original'!V116*100-100)*'Data base original'!V116/'Data base original'!$V116","v":14.925526254881134},{"$f":"('Data base original'!V128/'Data base original'!V116*100-100)*'Data base original'!V116/('Data base original'!$AC116)","v":3.5978386236706599},{"$f":"('Data base original'!W128/'Data base original'!W116*100-100)*'Data base original'!W116/('Data base original'!$AC116)","v":9.9935320521465911},{"$f":"('Data base original'!X128/'Data base original'!X116*100-100)*'Data base original'!X116/('Data base original'!$AC116)","v":0.47197622986676957},{"$f":"('Data base original'!Y128/'Data base original'!Y116*100-100)*'Data base original'!Y116/('Data base original'!$AC116)","v":1.0004973181273009},{"$f":"('Data base original'!Z128/'Data base original'!Z116*100-100)*'Data base original'!Z116/('Data base original'!$AC116)","v":6.632740378573769E-2},{"$f":"-('Data base original'!AA128/'Data base original'!AA116*100-100)*'Data base original'!AA116/('Data base original'!$AC116)","v":-1.5818793945794103},{"$f":"-('Data base original'!AB128/'Data base original'!AB116*100-100)*'Data base original'!AB116/('Data base original'!$AC116)","v":1.017190290610532E-3},{"$f":"(('Data base original'!Y128-'Data base original'!AA128)/('Data base original'!Y116-'Data base original'!AA116)*100-100)*(('Data base original'!Y116-'Data base original'!AA116)/'Data base original'!AC116)","v":-0.58138207645210793},{"$f":"(('Data base original'!Z128-'Data base original'!AB128)/('Data base original'!Z116-'Data base original'!AB116)*100-100)*(('Data base original'!Z116-'Data base original'!AB116)/'Data base original'!AC116)","v":6.7344594076348033E-2},{"$f":"('Data base original'!AC128/'Data base original'!AC116*100-100)*'Data base original'!AC116/('Data base original'!$AC116)","v":13.549309423308273},{"$f":"('Data base original'!AC128/'Data base original'!AC116*100-100)*'Data base original'!AC116/('Data base original'!$AN116)","v":8.0931068605842569},{"$f":"('Data base original'!AD128/'Data base original'!AD116*100-100)*'Data base original'!AD116/('Data base original'!$AN116)","v":1.2664433498266972},{"$f":"('Data base original'!AE128/'Data base original'!AE116*100-100)*'Data base original'!AE116/('Data base original'!$AN116)","v":-0.43375413632226878},{"$f":"('Data base original'!AF128/'Data base original'!AF116*100-100)*'Data base original'!AF116/('Data base original'!$AN116)","v":3.1916327197939403},{"$f":"('Data base original'!AG128/'Data base original'!AG116*100-100)*'Data base original'!AG116/('Data base original'!$AN116)","v":3.1585098919679588E-2},{"$f":"('Data base original'!AH128/'Data base original'!AH116*100-100)*'Data base original'!AH116/('Data base original'!$AN116)","v":2.0840806463999047E-2},{"$f":"('Data base original'!AI128/'Data base original'!AI116*100-100)*'Data base original'!AI116/('Data base original'!$AN116)","v":0.17844613575853574},{"$f":"('Data base original'!AJ128/'Data base original'!AJ116*100-100)*'Data base original'!AJ116/('Data base original'!$AN116)","v":1.6377129831924715},{"$f":"('Data base original'!AK128/'Data base original'!AK116*100-100)*'Data base original'!AK116/('Data base original'!$AN116)","v":0.10107546426392509},{"$f":"-('Data base original'!AL128/'Data base original'!AL116*100-100)*'Data base original'!AL116/('Data base original'!$AN116)","v":0.27665339093253999},{"$f":"-('Data base original'!AM128/'Data base original'!AM116*100-100)*'Data base original'!AM116/('Data base original'!$AN116)","v":-4.4652126347453608E-2},{"$f":"(('Data base original'!AJ128-'Data base original'!AL128)/('Data base original'!AJ116-'Data base original'!AL116)*100-100)*(('Data base original'!AJ116-'Data base original'!AL116)/'Data base original'!AN116)","v":1.9143663741250119},{"$f":"(('Data base original'!AK128-'Data base original'!AM128)/('Data base original'!AK116-'Data base original'!AM116)*100-100)*(('Data base original'!AK116-'Data base original'!AM116)/'Data base original'!AN116)","v":5.6423337916471625E-2},{"$f":"('Data base original'!AN128/'Data base original'!AN116*100-100)*'Data base original'!AN116/('Data base original'!$AN116)","v":14.319090547066352}]
["2015-11-01",{"$f":"'Data base original'!B129/'Data base original'!B117*100-100","v":8.6745288118679014},{"$f":"'Data base original'!C129/'Data base original'!C117*100-100","v":6.3237493409313572},{"$f":"'Data base original'!D129/'Data base original'!D117*100-100","v":15.182902675053626},{"$f":"'Data base original'!E129/'Data base original'!E117*100-100","v":8.7290657837155976},{"$f":"'Data base original'!F129/'Data base original'!F117*100-100","v":10.028988239702443},{"$f":"'Data base original'!G129","v":22.714055598104022},{"$f":"'Data base original'!H129","v":23.955007142935386},{"$f":"'Data base original'!I129","v":14.680759255295257},{"$f":"'Data base original'!J129","v":28.596815336631021},{"$f":"'Data base original'!K129","v":6.9264196241281217},{"$f":"'Data base original'!L129","v":5.607893200156334},{"$f":"'Data base original'!M129","v":7.6058312050306531},{"$f":"'Data base original'!N129","v":1.5664954774446904},{"$f":"'Data base original'!O129","v":1.3801817198953734},{"$f":"'Data base original'!P129","v":2.0078469605372309},{"$f":"'Data base original'!Q129","v":3.72},{"$f":"('Data base original'!S129/'Data base original'!S117*100-100)*'Data base original'!S117/'Data base original'!$V117","v":2.3580626134143912},{"$f":"('Data base original'!T129/'Data base original'!T117*100-100)*'Data base original'!T117/'Data base original'!$V117","v":9.2485975932252487},{"$f":"('Data base original'!U129/'Data base original'!U117*100-100)*'Data base original'!U117/'Data base original'!$V117","v":-0.29387966101164464},{"$f":"('Data base original'!V129/'Data base original'!V117*100-100)*'Data base original'!V117/'Data base original'!$V117","v":11.312780545627987},{"$f":"('Data base original'!V129/'Data base original'!V117*100-100)*'Data base original'!V117/('Data base original'!$AC117)","v":2.7858460640019298},{"$f":"('Data base original'!W129/'Data base original'!W117*100-100)*'Data base original'!W117/('Data base original'!$AC117)","v":9.0493419638602255},{"$f":"('Data base original'!X129/'Data base original'!X117*100-100)*'Data base original'!X117/('Data base original'!$AC117)","v":0.59120050502653765},{"$f":"('Data base original'!Y129/'Data base original'!Y117*100-100)*'Data base original'!Y117/('Data base original'!$AC117)","v":0.46772953805069312},{"$f":"('Data base original'!Z129/'Data base original'!Z117*100-100)*'Data base original'!Z117/('Data base original'!$AC117)","v":6.4706375476074593E-2},{"$f":"-('Data base original'!AA129/'Data base original'!AA117*100-100)*'Data base original'!AA117/('Data base original'!$AC117)","v":-1.0068871646643989},{"$f":"-('Data base original'!AB129/'Data base original'!AB117*100-100)*'Data base original'!AB117/('Data base original'!$AC117)","v":3.0705189579344305E-3},{"$f":"(('Data base original'!Y129-'Data base original'!AA129)/('Data base original'!Y117-'Data base original'!AA117)*100-100)*(('Data base original'!Y117-'Data base original'!AA117)/'Data base original'!AC117)","v":-0.53915762661370525},{"$f":"(('Data base original'!Z129-'Data base original'!AB129)/('Data base original'!Z117-'Data base original'!AB117)*100-100)*(('Data base original'!Z117-'Data base original'!AB117)/'Data base original'!AC117)","v":6.7776894434008972E-2},{"$f":"('Data base original'!AC129/'Data base original'!AC117*100-100)*'Data base original'!AC117/('Data base original'!$AC117)","v":11.955007800708998},{"$f":"('Data base original'!AC129/'Data base original'!AC117*100-100)*'Data base original'!AC117/('Data base original'!$AN117)","v":7.2363684386239395},{"$f":"('Data base original'!AD129/'Data base original'!AD117*100-100)*'Data base original'!AD117/('Data base original'!$AN117)","v":1.3955960626175057},{"$f":"('Data base original'!AE129/'Data base original'!AE117*100-100)*'Data base original'!AE117/('Data base original'!$AN117)","v":-0.17152329440769262},{"$f":"('Data base original'!AF129/'Data base original'!AF117*100-100)*'Data base original'!AF117/('Data base original'!$AN117)","v":3.3367628272119196},{"$f":"('Data base original'!AG129/'Data base original'!AG117*100-100)*'Data base original'!AG117/('Data base original'!$AN117)","v":2.5218712226412341E-2},{"$f":"('Data base original'!AH129/'Data base original'!AH117*100-100)*'Data base original'!AH117/('Data base original'!$AN117)","v":9.8786271114695949E-3},{"$f":"('Data base original'!AI129/'Data base original'!AI117*100-100)*'Data base original'!AI117/('Data base original'!$AN117)","v":0.17002161990368769},{"$f":"('Data base original'!AJ129/'Data base original'!AJ117*100-100)*'Data base original'!AJ117/('Data base original'!$AN117)","v":1.4972229212577017},{"$f":"('Data base original'!AK129/'Data base original'!AK117*100-100)*'Data base original'!AK117/('Data base original'!$AN117)","v":0.10240656885196762},{"$f":"-('Data base original'!AL129/'Data base original'!AL117*100-100)*'Data base original'!AL117/('Data base original'!$AN117)","v":0.45261987210451365},{"$f":"-('Data base original'!AM129/'Data base original'!AM117*100-100)*'Data base original'!AM117/('Data base original'!$AN117)","v":-4.6160425353636562E-2},{"$f":"(('Data base original'!AJ129-'Data base original'!AL129)/('Data base original'!AJ117-'Data base original'!AL117)*100-100)*(('Data base original'!AJ117-'Data base original'!AL117)/'Data base original'!AN117)","v":1.9498427933622144},{"$f":"(('Data base original'!AK129-'Data base original'!AM129)/('Data base original'!AK117-'Data base original'!AM117)*100-100)*(('Data base original'!AK117-'Data base original'!AM117)/'Data base original'!AN117)","v":5.6246143498331007E-2},{"$f":"('Data base original'!AN129/'Data base original'!AN117*100-100)*'Data base original'!AN117/('Data base original'!$AN117)","v":14.008411930147814}]
["2015-12-01",{"$f":"'Data base original'!B130/'Data base original'!B118*100-100","v":9.0718105425074356},{"$f":"'Data base original'!C130/'Data base original'!C118*100-100","v":6.9886518372827169},{"$f":"'Data base original'!D130/'Data base original'!D118*100-100","v":15.068682758886993},{"$f":"'Data base original'!E130/'Data base original'!E118*100-100","v":9.1393722359512282},{"$f":"'Data base original'!F130/'Data base original'!F118*100-100","v":10.341370536615969},{"$f":"'Data base original'!G130","v":22.825927726055138},{"$f":"'Data base original'!H130","v":23.781892970038665},{"$f":"'Data base original'!I130","v":14.97456553493975},{"$f":"'Data base original'!J130","v":28.351451531380818},{"$f":"'Data base original'!K130","v":6.8557463959947142},{"$f":"'Data base original'!L130","v":5.9062377760400713},{"$f":"'Data base original'!M130","v":7.370222798872728},{"$f":"'Data base original'!N130","v":1.8296947426139958},{"$f":"'Data base original'!O130","v":1.5875071771999423},{"$f":"'Data base original'!P130","v":2.3271249699481498},{"$f":"'Data base original'!Q130","v":3.77},{"$f":"('Data base original'!S130/'Data base original'!S118*100-100)*'Data base original'!S118/'Data base original'!$V118","v":2.0347305996394773},{"$f":"('Data base original'!T130/'Data base original'!T118*100-100)*'Data base original'!T118/'Data base original'!$V118","v":8.2827409663816187},{"$f":"('Data base original'!U130/'Data base original'!U118*100-100)*'Data base original'!U118/'Data base original'!$V118","v":0.34998209531787355},{"$f":"('Data base original'!V130/'Data base original'!V118*100-100)*'Data base original'!V118/'Data base original'!$V118","v":10.667453661338968},{"$f":"('Data base original'!V130/'Data base original'!V118*100-100)*'Data base original'!V118/('Data base original'!$AC118)","v":2.7268185810281866},{"$f":"('Data base original'!W130/'Data base original'!W118*100-100)*'Data base original'!W118/('Data base original'!$AC118)","v":8.087691095853085},{"$f":"('Data base original'!X130/'Data base original'!X118*100-100)*'Data base original'!X118/('Data base original'!$AC118)","v":0.43573502720327251},{"$f":"('Data base original'!Y130/'Data base original'!Y118*100-100)*'Data base original'!Y118/('Data base original'!$AC118)","v":0.36762786323662555},{"$f":"('Data base original'!Z130/'Data base original'!Z118*100-100)*'Data base original'!Z118/('Data base original'!$AC118)","v":6.4022221610325405E-2},{"$f":"-('Data base original'!AA130/'Data base original'!AA118*100-100)*'Data base original'!AA118/('Data base original'!$AC118)","v":-0.65689965084715096},{"$f":"-('Data base original'!AB130/'Data base original'!AB118*100-100)*'Data base original'!AB118/('Data base original'!$AC118)","v":5.4344548066244495E-3},{"$f":"(('Data base original'!Y130-'Data base original'!AA130)/('Data base original'!Y118-'Data base original'!AA118)*100-100)*(('Data base original'!Y118-'Data base original'!AA118)/'Data base original'!AC118)","v":-0.28927178761052635},{"$f":"(('Data base original'!Z130-'Data base original'!AB130)/('Data base original'!Z118-'Data base original'!AB118)*100-100)*(('Data base original'!Z118-'Data base original'!AB118)/'Data base original'!AC118)","v":6.9456676416949928E-2},{"$f":"('Data base original'!AC130/'Data base original'!AC118*100-100)*'Data base original'!AC118/('Data base original'!$AC118)","v":11.030429592890982},{"$f":"('Data base original'!AC130/'Data base original'!AC118*100-100)*'Data base original'!AC118/('Data base original'!$AN118)","v":6.7128650279688138},{"$f":"('Data base original'!AD130/'Data base original'!AD118*100-100)*'Data base original'!AD118/('Data base original'!$AN118)","v":1.1231425689273731},{"$f":"('Data base original'!AE130/'Data base original'!AE118*100-100)*'Data base original'!AE118/('Data base original'!$AN118)","v":-0.28792898432500386},{"$f":"('Data base original'!AF130/'Data base original'!AF118*100-100)*'Data base original'!AF118/('Data base original'!$AN118)","v":3.0632946935716392},{"$f":"('Data base original'!AG130/'Data base original'!AG118*100-100)*'Data base original'!AG118/('Data base original'!$AN118)","v":-0.18431044683587688},{"$f":"('Data base original'!AH130/'Data base original'!AH118*100-100)*'Data base original'!AH118/('Data base original'!$AN118)","v":-3.0517393559824024E-2},{"$f":"('Data base original'!AI130/'Data base original'!AI118*100-100)*'Data base original'!AI118/('Data base original'!$AN118)","v":9.8101594180011159E-2},{"$f":"('Data base original'!AJ130/'Data base original'!AJ118*100-100)*'Data base original'!AJ118/('Data base original'!$AN118)","v":0.84899249066858617},{"$f":"('Data base original'!AK130/'Data base original'!AK118*100-100)*'Data base original'!AK118/('Data base original'!$AN118)","v":8.4680635060902829E-2},{"$f":"-('Data base original'!AL130/'Data base original'!AL118*100-100)*'Data base original'!AL118/('Data base original'!$AN118)","v":0.80711968930893552},{"$f":"-('Data base original'!AM130/'Data base original'!AM118*100-100)*'Data base original'!AM118/('Data base original'!$AN118)","v":-3.9851657522341405E-2},{"$f":"(('Data base original'!AJ130-'Data base original'!AL130)/('Data base original'!AJ118-'Data base original'!AL118)*100-100)*(('Data base original'!AJ118-'Data base original'!AL118)/'Data base original'!AN118)","v":1.6561121799775225},{"$f":"(('Data base original'!AK130-'Data base original'!AM130)/('Data base original'!AK118-'Data base original'!AM118)*100-100)*(('Data base original'!AK118-'Data base original'!AM118)/'Data base original'!AN118)","v":4.4828977538561347E-2},{"$f":"('Data base original'!AN130/'Data base original'!AN118*100-100)*'Data base original'!AN118/('Data base original'!$AN118)","v":12.195588217443202}]
["2016-01-01",{"$f":"'Data base original'!B131/'Data base original'!B119*100-100","v":9.1413208492857621},{"$f":"'Data base original'!C131/'Data base original'!C119*100-100","v":7.1630125773033342},{"$f":"'Data base original'!D131/'Data base original'!D119*100-100","v":15.271367091105191},{"$f":"'Data base original'!E131/'Data base original'!E119*100-100","v":2.0991100033026271},{"$f":"'Data base original'!F131/'Data base original'!F119*100-100","v":9.9168344194184215},{"$f":"'Data base original'!G131","v":23.394943708509853},{"$f":"'Data base original'!H131","v":24.447465877359313},{"$f":"'Data base original'!I131","v":15.451477396160207},{"$f":"'Data base original'!J131","v":28.29147038398424},{"$f":"'Data base original'!K131","v":7.284385244263115},{"$f":"'Data base original'!L131","v":6.1313677293026814},{"$f":"'Data base original'!M131","v":7.7377699307429086},{"$f":"'Data base original'!N131","v":1.8924019749186181},{"$f":"'Data base original'!O131","v":1.5592783054401773},{"$f":"'Data base original'!P131","v":2.4438192098983369},{"$f":"'Data base original'!Q131","v":3.8323364446336332},{"$f":"('Data base original'!S131/'Data base original'!S119*100-100)*'Data base original'!S119/'Data base original'!$V119","v":2.0264190281514187},{"$f":"('Data base original'!T131/'Data base original'!T119*100-100)*'Data base original'!T119/'Data base original'!$V119","v":8.885666782749027},{"$f":"('Data base original'!U131/'Data base original'!U119*100-100)*'Data base original'!U119/'Data base original'!$V119","v":2.4810601943083204},{"$f":"('Data base original'!V131/'Data base original'!V119*100-100)*'Data base original'!V119/'Data base original'!$V119","v":13.393146005208763},{"$f":"('Data base original'!V131/'Data base original'!V119*100-100)*'Data base original'!V119/('Data base original'!$AC119)","v":3.4055236280096768},{"$f":"('Data base original'!W131/'Data base original'!W119*100-100)*'Data base original'!W119/('Data base original'!$AC119)","v":8.4427778102178532},{"$f":"('Data base original'!X131/'Data base original'!X119*100-100)*'Data base original'!X119/('Data base original'!$AC119)","v":0.43058004201644878},{"$f":"('Data base original'!Y131/'Data base original'!Y119*100-100)*'Data base original'!Y119/('Data base original'!$AC119)","v":-0.42655058940500995},{"$f":"('Data base original'!Z131/'Data base original'!Z119*100-100)*'Data base original'!Z119/('Data base original'!$AC119)","v":5.1990755737699033E-2},{"$f":"-('Data base original'!AA131/'Data base original'!AA119*100-100)*'Data base original'!AA119/('Data base original'!$AC119)","v":4.2365358064196154E-2},{"$f":"-('Data base original'!AB131/'Data base original'!AB119*100-100)*'Data base original'!AB119/('Data base original'!$AC119)","v":5.6972537442941283E-3},{"$f":"(('Data base original'!Y131-'Data base original'!AA131)/('Data base original'!Y119-'Data base original'!AA119)*100-100)*(('Data base original'!Y119-'Data base original'!AA119)/'Data base original'!AC119)","v":-0.38418523134081461},{"$f":"(('Data base original'!Z131-'Data base original'!AB131)/('Data base original'!Z119-'Data base original'!AB119)*100-100)*(('Data base original'!Z119-'Data base original'!AB119)/'Data base original'!AC119)","v":5.7688009481993187E-2},{"$f":"('Data base original'!AC131/'Data base original'!AC119*100-100)*'Data base original'!AC119/('Data base original'!$AC119)","v":11.952384258385138},{"$f":"('Data base original'!AC131/'Data base original'!AC119*100-100)*'Data base original'!AC119/('Data base original'!$AN119)","v":7.258793413036595},{"$f":"('Data base original'!AD131/'Data base original'!AD119*100-100)*'Data base original'!AD119/('Data base original'!$AN119)","v":0.73592659418218553},{"$f":"('Data base original'!AE131/'Data base original'!AE119*100-100)*'Data base original'!AE119/('Data base original'!$AN119)","v":-0.38862664867772767},{"$f":"('Data base original'!AF131/'Data base original'!AF119*100-100)*'Data base original'!AF119/('Data base original'!$AN119)","v":2.8934340913462404},{"$f":"('Data base original'!AG131/'Data base original'!AG119*100-100)*'Data base original'!AG119/('Data base original'!$AN119)","v":-0.19372061039167288},{"$f":"('Data base original'!AH131/'Data base original'!AH119*100-100)*'Data base original'!AH119/('Data base original'!$AN119)","v":-6.8342669149084156E-2},{"$f":"('Data base original'!AI131/'Data base original'!AI119*100-100)*'Data base original'!AI119/('Data base original'!$AN119)","v":0.18372573379811602},{"$f":"('Data base original'!AJ131/'Data base original'!AJ119*100-100)*'Data base original'!AJ119/('Data base original'!$AN119)","v":0.52516225646611225},{"$f":"('Data base original'!AK131/'Data base original'!AK119*100-100)*'Data base original'!AK119/('Data base original'!$AN119)","v":6.0142608528647015E-2},{"$f":"-('Data base original'!AL131/'Data base original'!AL119*100-100)*'Data base original'!AL119/('Data base original'!$AN119)","v":0.95864120917546658},{"$f":"-('Data base original'!AM131/'Data base original'!AM119*100-100)*'Data base original'!AM119/('Data base original'!$AN119)","v":-3.1046494577178788E-2},{"$f":"(('Data base original'!AJ131-'Data base original'!AL131)/('Data base original'!AJ119-'Data base original'!AL119)*100-100)*(('Data base original'!AJ119-'Data base original'!AL119)/'Data base original'!AN119)","v":1.4838034656415784},{"$f":"(('Data base original'!AK131-'Data base original'!AM131)/('Data base original'!AK119-'Data base original'!AM119)*100-100)*(('Data base original'!AK119-'Data base original'!AM119)/'Data base original'!AN119)","v":2.9096113951468244E-2},{"$f":"('Data base original'!AN131/'Data base original'!AN119*100-100)*'Data base original'!AN119/('Data base original'!$AN119)","v":11.934089483737708}]
["2016-02-01",{"$f":"'Data base original'!B132/'Data base original'!B120*100-100","v":9.7405958543755702},{"$f":"'Data base original'!C132/'Data base original'!C120*100-100","v":7.3509443150262825},{"$f":"'Data base original'!D132/'Data base original'!D120*100-100","v":15.52334117920195},{"$f":"'Data base original'!E132/'Data base original'!E120*100-100","v":6.9432715838034085},{"$f":"'Data base original'!F132/'Data base original'!F120*100-100","v":10.720961365930194},{"$f":"'Data base original'!G132","v":23.872567741311805},{"$f":"'Data base original'!H132","v":25.132125998528121},{"$f":"'Data base original'!I132","v":15.352342143309691},{"$f":"'Data base original'!J132","v":28.75408687545659},{"$f":"'Data base original'!K132","v":7.7532675581529702},{"$f":"'Data base original'!L132","v":6.3603777598715503},{"$f":"'Data base original'!M132","v":8.1278525900319156},{"$f":"'Data base original'!N132","v":1.6664341180083597},{"$f":"'Data base original'!O132","v":1.4349342698509562},{"$f":"'Data base original'!P132","v":2.1904252892147831},{"$f":"'Data base original'!Q132","v":3.8285425470190493},{"$f":"('Data base original'!S132/'Data base original'!S120*100-100)*'Data base original'!S120/'Data base original'!$V120","v":2.0245761019297692},{"$f":"('Data base original'!T132/'Data base original'!T120*100-100)*'Data base original'!T120/'Data base original'!$V120","v":8.7339075720012627},{"$f":"('Data base original'!U132/'Data base original'!U120*100-100)*'Data base original'!U120/'Data base original'!$V120","v":1.0797699117773856},{"$f":"('Data base original'!V132/'Data base original'!V120*100-100)*'Data base original'!V120/'Data base original'!$V120","v":11.838253585708431},{"$f":"('Data base original'!V132/'Data base original'!V120*100-100)*'Data base original'!V120/('Data base original'!$AC120)","v":3.0099190736372723},{"$f":"('Data base original'!W132/'Data base original'!W120*100-100)*'Data base original'!W120/('Data base original'!$AC120)","v":9.1243879931528067},{"$f":"('Data base original'!X132/'Data base original'!X120*100-100)*'Data base original'!X120/('Data base original'!$AC120)","v":0.43710183293804861},{"$f":"('Data base original'!Y132/'Data base original'!Y120*100-100)*'Data base original'!Y120/('Data base original'!$AC120)","v":-1.3187232877246233},{"$f":"('Data base original'!Z132/'Data base original'!Z120*100-100)*'Data base original'!Z120/('Data base original'!$AC120)","v":3.7575529888960117E-2},{"$f":"-('Data base original'!AA132/'Data base original'!AA120*100-100)*'Data base original'!AA120/('Data base original'!$AC120)","v":0.979066009229968},{"$f":"-('Data base original'!AB132/'Data base original'!AB120*100-100)*'Data base original'!AB120/('Data base original'!$AC120)","v":5.8407618195728036E-3},{"$f":"(('Data base original'!Y132-'Data base original'!AA132)/('Data base original'!Y120-'Data base original'!AA120)*100-100)*(('Data base original'!Y120-'Data base original'!AA120)/'Data base original'!AC120)","v":-0.33965727849465466},{"$f":"(('Data base original'!Z132-'Data base original'!AB132)/('Data base original'!Z120-'Data base original'!AB120)*100-100)*(('Data base original'!Z120-'Data base original'!AB120)/'Data base original'!AC120)","v":4.3416291708532895E-2},{"$f":"('Data base original'!AC132/'Data base original'!AC120*100-100)*'Data base original'!AC120/('Data base original'!$AC120)","v":12.275167912942038},{"$f":"('Data base original'!AC132/'Data base original'!AC120*100-100)*'Data base original'!AC120/('Data base original'!$AN120)","v":7.38519874412271},{"$f":"('Data base original'!AD132/'Data base original'!AD120*100-100)*'Data base original'!AD120/('Data base original'!$AN120)","v":0.63948972982890528},{"$f":"('Data base original'!AE132/'Data base original'!AE120*100-100)*'Data base original'!AE120/('Data base original'!$AN120)","v":-0.31059898167165323},{"$f":"('Data base original'!AF132/'Data base original'!AF120*100-100)*'Data base original'!AF120/('Data base original'!$AN120)","v":2.7709119492196912},{"$f":"('Data base original'!AG132/'Data base original'!AG120*100-100)*'Data base original'!AG120/('Data base original'!$AN120)","v":4.1861540436648116E-2},{"$f":"('Data base original'!AH132/'Data base original'!AH120*100-100)*'Data base original'!AH120/('Data base original'!$AN120)","v":-6.5168820058311427E-2},{"$f":"('Data base original'!AI132/'Data base original'!AI120*100-100)*'Data base original'!AI120/('Data base original'!$AN120)","v":0.27990527405341797},{"$f":"('Data base original'!AJ132/'Data base original'!AJ120*100-100)*'Data base original'!AJ120/('Data base original'!$AN120)","v":0.19651169691974707},{"$f":"('Data base original'!AK132/'Data base original'!AK120*100-100)*'Data base original'!AK120/('Data base original'!$AN120)","v":3.0460185596582534E-2},{"$f":"-('Data base original'!AL132/'Data base original'!AL120*100-100)*'Data base original'!AL120/('Data base original'!$AN120)","v":0.90775901367905931},{"$f":"-('Data base original'!AM132/'Data base original'!AM120*100-100)*'Data base original'!AM120/('Data base original'!$AN120)","v":-3.0728844568880687E-2},{"$f":"(('Data base original'!AJ132-'Data base original'!AL132)/('Data base original'!AJ120-'Data base original'!AL120)*100-100)*(('Data base original'!AJ120-'Data base original'!AL120)/'Data base original'!AN120)","v":1.1042707105988079},{"$f":"(('Data base original'!AK132-'Data base original'!AM132)/('Data base original'!AK120-'Data base original'!AM120)*100-100)*(('Data base original'!AK120-'Data base original'!AM120)/'Data base original'!AN120)","v":-2.6865897229817119E-4},{"$f":"('Data base original'!AN132/'Data base original'!AN120*100-100)*'Data base original'!AN120/('Data base original'!$AN120)","v":11.845601487557929}]
["2016-03-01",{"$f":"'Data base original'!B133/'Data base original'!B121*100-100","v":9.1380105613118303},{"$f":"'Data base original'!C133/'Data base original'!C121*100-100","v":7.6086444033754788},{"$f":"'Data base original'!D133/'Data base original'!D121*100-100","v":15.224785489099318},{"$f":"'Data base original'!E133/'Data base original'!E121*100-100","v":4.2149406403624567},{"$f":"'Data base original'!F133/'Data base original'!F121*100-100","v":10.155670823664039},{"$f":"'Data base original'!G133","v":22.68924006560573},{"$f":"'Data base original'!H133","v":24.299931984157304},{"$f":"'Data base original'!I133","v":14.00804779129461},{"$f":"'Data base original'!J133","v":28.927600120068274},{"$f":"'Data base original'!K133","v":7.7107918387327681},{"$f":"'Data base original'!L133","v":6.1012077241755112},{"$f":"'Data base original'!M133","v":8.4972524704068952},{"$f":"'Data base original'!N133","v":1.8450418925384797},{"$f":"'Data base original'!O133","v":1.6036655001878166},{"$f":"'Data base original'!P133","v":2.3710948304492887},{"$f":"'Data base original'!Q133","v":3.8056222561863335},{"$f":"('Data base original'!S133/'Data base original'!S121*100-100)*'Data base original'!S121/'Data base original'!$V121","v":1.9938396492314852},{"$f":"('Data base original'!T133/'Data base original'!T121*100-100)*'Data base original'!T121/'Data base original'!$V121","v":6.8714734948726708},{"$f":"('Data base original'!U133/'Data base original'!U121*100-100)*'Data base original'!U121/'Data base original'!$V121","v":0.88607196990327075},{"$f":"('Data base original'!V133/'Data base original'!V121*100-100)*'Data base original'!V121/'Data base original'!$V121","v":9.7513851140074337},{"$f":"('Data base original'!V133/'Data base original'!V121*100-100)*'Data base original'!V121/('Data base original'!$AC121)","v":2.4597049930260635},{"$f":"('Data base original'!W133/'Data base original'!W121*100-100)*'Data base original'!W121/('Data base original'!$AC121)","v":9.7136577825936143},{"$f":"('Data base original'!X133/'Data base original'!X121*100-100)*'Data base original'!X121/('Data base original'!$AC121)","v":0.44096208224083916},{"$f":"('Data base original'!Y133/'Data base original'!Y121*100-100)*'Data base original'!Y121/('Data base original'!$AC121)","v":0.34505370032287391},{"$f":"('Data base original'!Z133/'Data base original'!Z121*100-100)*'Data base original'!Z121/('Data base original'!$AC121)","v":4.5118169705888146E-2},{"$f":"-('Data base original'!AA133/'Data base original'!AA121*100-100)*'Data base original'!AA121/('Data base original'!$AC121)","v":-0.25349155673778978},{"$f":"-('Data base original'!AB133/'Data base original'!AB121*100-100)*'Data base original'!AB121/('Data base original'!$AC121)","v":1.8465983915346484E-2},{"$f":"(('Data base original'!Y133-'Data base original'!AA133)/('Data base original'!Y121-'Data base original'!AA121)*100-100)*(('Data base original'!Y121-'Data base original'!AA121)/'Data base original'!AC121)","v":9.1562143585082967E-2},{"$f":"(('Data base original'!Z133-'Data base original'!AB133)/('Data base original'!Z121-'Data base original'!AB121)*100-100)*(('Data base original'!Z121-'Data base original'!AB121)/'Data base original'!AC121)","v":6.3584153621234568E-2},{"$f":"('Data base original'!AC133/'Data base original'!AC121*100-100)*'Data base original'!AC121/('Data base original'!$AC121)","v":12.769471155066796},{"$f":"('Data base original'!AC133/'Data base original'!AC121*100-100)*'Data base original'!AC121/('Data base original'!$AN121)","v":7.6712290269949523},{"$f":"('Data base original'!AD133/'Data base original'!AD121*100-100)*'Data base original'!AD121/('Data base original'!$AN121)","v":0.83728713772283314},{"$f":"('Data base original'!AE133/'Data base original'!AE121*100-100)*'Data base original'!AE121/('Data base original'!$AN121)","v":-0.46668909342811343},{"$f":"('Data base original'!AF133/'Data base original'!AF121*100-100)*'Data base original'!AF121/('Data base original'!$AN121)","v":2.7655924895789763},{"$f":"('Data base original'!AG133/'Data base original'!AG121*100-100)*'Data base original'!AG121/('Data base original'!$AN121)","v":-0.10037340849344552},{"$f":"('Data base original'!AH133/'Data base original'!AH121*100-100)*'Data base original'!AH121/('Data base original'!$AN121)","v":-5.8374115728724786E-2},{"$f":"('Data base original'!AI133/'Data base original'!AI121*100-100)*'Data base original'!AI121/('Data base original'!$AN121)","v":0.39224229516874404},{"$f":"('Data base original'!AJ133/'Data base original'!AJ121*100-100)*'Data base original'!AJ121/('Data base original'!$AN121)","v":-0.16001440817388968},{"$f":"('Data base original'!AK133/'Data base original'!AK121*100-100)*'Data base original'!AK121/('Data base original'!$AN121)","v":2.5745015446383579E-2},{"$f":"-('Data base original'!AL133/'Data base original'!AL121*100-100)*'Data base original'!AL121/('Data base original'!$AN121)","v":0.84763357998046129},{"$f":"-('Data base original'!AM133/'Data base original'!AM121*100-100)*'Data base original'!AM121/('Data base original'!$AN121)","v":-3.0489925818255974E-2},{"$f":"(('Data base original'!AJ133-'Data base original'!AL133)/('Data base original'!AJ121-'Data base original'!AL121)*100-100)*(('Data base original'!AJ121-'Data base original'!AL121)/'Data base original'!AN121)","v":0.68761917180657095},{"$f":"(('Data base original'!AK133-'Data base original'!AM133)/('Data base original'!AK121-'Data base original'!AM121)*100-100)*(('Data base original'!AK121-'Data base original'!AM121)/'Data base original'!AN121)","v":-4.7449103718724449E-3},{"$f":"('Data base original'!AN133/'Data base original'!AN121*100-100)*'Data base original'!AN121/('Data base original'!$AN121)","v":11.723788593249921}]
["2016-04-01",{"$f":"'Data base original'!B134/'Data base original'!B122*100-100","v":9.5840127943295386},{"$f":"'Data base original'!C134/'Data base original'!C122*100-100","v":7.70898164950124},{"$f":"'Data base original'!D134/'Data base original'!D122*100-100","v":14.426758661032665},{"$f":"'Data base original'!E134/'Data base original'!E122*100-100","v":3.3293792230718537},{"$f":"'Data base original'!F134/'Data base original'!F122*100-100","v":10.161387047543684},{"$f":"'Data base original'!G134","v":23.305944415526945},{"$f":"'Data base original'!H134","v":25.077504110031136},{"$f":"'Data base original'!I134","v":14.23914785625983},{"$f":"'Data base original'!J134","v":28.814230956352482},{"$f":"'Data base original'!K134","v":7.4672424302494598},{"$f":"'Data base original'!L134","v":5.9176314808398196},{"$f":"'Data base original'!M134","v":8.3933239732776954},{"$f":"'Data base original'!N134","v":1.9161644549564454},{"$f":"'Data base original'!O134","v":1.746347169192747},{"$f":"'Data base original'!P134","v":2.2065919532138567},{"$f":"'Data base original'!Q134","v":3.7853394200906125},{"$f":"('Data base original'!S134/'Data base original'!S122*100-100)*'Data base original'!S122/'Data base original'!$V122","v":1.7793010449771129},{"$f":"('Data base original'!T134/'Data base original'!T122*100-100)*'Data base original'!T122/'Data base original'!$V122","v":6.5315856430034422},{"$f":"('Data base original'!U134/'Data base original'!U122*100-100)*'Data base original'!U122/'Data base original'!$V122","v":-1.2463548754389719E-2},{"$f":"('Data base original'!V134/'Data base original'!V122*100-100)*'Data base original'!V122/'Data base original'!$V122","v":8.2984231392261734},{"$f":"('Data base original'!V134/'Data base original'!V122*100-100)*'Data base original'!V122/('Data base original'!$AC122)","v":2.1002045841207568},{"$f":"('Data base original'!W134/'Data base original'!W122*100-100)*'Data base original'!W122/('Data base original'!$AC122)","v":9.2034070930551639},{"$f":"('Data base original'!X134/'Data base original'!X122*100-100)*'Data base original'!X122/('Data base original'!$AC122)","v":0.43616218785403266},{"$f":"('Data base original'!Y134/'Data base original'!Y122*100-100)*'Data base original'!Y122/('Data base original'!$AC122)","v":1.6728366988166061},{"$f":"('Data base original'!Z134/'Data base original'!Z122*100-100)*'Data base original'!Z122/('Data base original'!$AC122)","v":6.4084395077529915E-2},{"$f":"-('Data base original'!AA134/'Data base original'!AA122*100-100)*'Data base original'!AA122/('Data base original'!$AC122)","v":-1.250055171640406},{"$f":"-('Data base original'!AB134/'Data base original'!AB122*100-100)*'Data base original'!AB122/('Data base original'!$AC122)","v":3.2545774057460355E-2},{"$f":"(('Data base original'!Y134-'Data base original'!AA134)/('Data base original'!Y122-'Data base original'!AA122)*100-100)*(('Data base original'!Y122-'Data base original'!AA122)/'Data base original'!AC122)","v":0.42278152717619993},{"$f":"(('Data base original'!Z134-'Data base original'!AB134)/('Data base original'!Z122-'Data base original'!AB122)*100-100)*(('Data base original'!Z122-'Data base original'!AB122)/'Data base original'!AC122)","v":9.6630169134990188E-2},{"$f":"('Data base original'!AC134/'Data base original'!AC122*100-100)*'Data base original'!AC122/('Data base original'!$AC122)","v":12.259185561341141},{"$f":"('Data base original'!AC134/'Data base original'!AC122*100-100)*'Data base original'!AC122/('Data base original'!$AN122)","v":7.4022946285265823},{"$f":"('Data base original'!AD134/'Data base original'!AD122*100-100)*'Data base original'!AD122/('Data base original'!$AN122)","v":0.90584081102001113},{"$f":"('Data base original'!AE134/'Data base original'!AE122*100-100)*'Data base original'!AE122/('Data base original'!$AN122)","v":-0.22276552931722257},{"$f":"('Data base original'!AF134/'Data base original'!AF122*100-100)*'Data base original'!AF122/('Data base original'!$AN122)","v":2.7013392955729656},{"$f":"('Data base original'!AG134/'Data base original'!AG122*100-100)*'Data base original'!AG122/('Data base original'!$AN122)","v":-0.22327645280359398},{"$f":"('Data base original'!AH134/'Data base original'!AH122*100-100)*'Data base original'!AH122/('Data base original'!$AN122)","v":-4.0810684415707101E-2},{"$f":"('Data base original'!AI134/'Data base original'!AI122*100-100)*'Data base original'!AI122/('Data base original'!$AN122)","v":0.3729021948392226},{"$f":"('Data base original'!AJ134/'Data base original'!AJ122*100-100)*'Data base original'!AJ122/('Data base original'!$AN122)","v":-0.16659916975299388},{"$f":"('Data base original'!AK134/'Data base original'!AK122*100-100)*'Data base original'!AK122/('Data base original'!$AN122)","v":2.1814681958016082E-2},{"$f":"-('Data base original'!AL134/'Data base original'!AL122*100-100)*'Data base original'!AL122/('Data base original'!$AN122)","v":0.62044528207000771},{"$f":"-('Data base original'!AM134/'Data base original'!AM122*100-100)*'Data base original'!AM122/('Data base original'!$AN122)","v":-2.7016198950832009E-2},{"$f":"(('Data base original'!AJ134-'Data base original'!AL134)/('Data base original'!AJ122-'Data base original'!AL122)*100-100)*(('Data base original'!AJ122-'Data base original'!AL122)/'Data base original'!AN122)","v":0.45384611231701366},{"$f":"(('Data base original'!AK134-'Data base original'!AM134)/('Data base original'!AK122-'Data base original'!AM122)*100-100)*(('Data base original'!AK122-'Data base original'!AM122)/'Data base original'!AN122)","v":-5.2015169928160063E-3},{"$f":"('Data base original'!AN134/'Data base original'!AN122*100-100)*'Data base original'!AN122/('Data base original'!$AN122)","v":11.344168858746471}]
["2016-05-01",{"$f":"'Data base original'!B135/'Data base original'!B123*100-100","v":9.0855802607023008},{"$f":"'Data base original'!C135/'Data base original'!C123*100-100","v":9.0663501596525577},{"$f":"'Data base original'!D135/'Data base original'!D123*100-100","v":13.747466871740286},{"$f":"'Data base original'!E135/'Data base original'!E123*100-100","v":6.2150055851810606},{"$f":"'Data base original'!F135/'Data base original'!F123*100-100","v":10.07598243169376},{"$f":"'Data base original'!G135","v":22.869276252876251},{"$f":"'Data base original'!H135","v":24.523690257111927},{"$f":"'Data base original'!I135","v":14.247919375759514},{"$f":"'Data base original'!J135","v":28.439069611595251},{"$f":"'Data base original'!K135","v":7.4539913137159282},{"$f":"'Data base original'!L135","v":5.7712906225209792},{"$f":"'Data base original'!M135","v":8.6629449025872098},{"$f":"'Data base original'!N135","v":1.6293377522747461},{"$f":"'Data base original'!O135","v":1.3775519155017051},{"$f":"'Data base original'!P135","v":2.3008880657992288},{"$f":"'Data base original'!Q135","v":3.7880666525968389},{"$f":"('Data base original'!S135/'Data base original'!S123*100-100)*'Data base original'!S123/'Data base original'!$V123","v":1.462109231088885},{"$f":"('Data base original'!T135/'Data base original'!T123*100-100)*'Data base original'!T123/'Data base original'!$V123","v":6.2954525925190197},{"$f":"('Data base original'!U135/'Data base original'!U123*100-100)*'Data base original'!U123/'Data base original'!$V123","v":-1.4730238752340608},{"$f":"('Data base original'!V135/'Data base original'!V123*100-100)*'Data base original'!V123/'Data base original'!$V123","v":6.2845379483738526},{"$f":"('Data base original'!V135/'Data base original'!V123*100-100)*'Data base original'!V123/('Data base original'!$AC123)","v":1.6067603233832628},{"$f":"('Data base original'!W135/'Data base original'!W123*100-100)*'Data base original'!W123/('Data base original'!$AC123)","v":8.9675535247087055},{"$f":"('Data base original'!X135/'Data base original'!X123*100-100)*'Data base original'!X123/('Data base original'!$AC123)","v":0.42766033182340307},{"$f":"('Data base original'!Y135/'Data base original'!Y123*100-100)*'Data base original'!Y123/('Data base original'!$AC123)","v":1.7200969703286331},{"$f":"('Data base original'!Z135/'Data base original'!Z123*100-100)*'Data base original'!Z123/('Data base original'!$AC123)","v":7.1959465363787001E-2},{"$f":"-('Data base original'!AA135/'Data base original'!AA123*100-100)*'Data base original'!AA123/('Data base original'!$AC123)","v":-1.2944832960259018},{"$f":"-('Data base original'!AB135/'Data base original'!AB123*100-100)*'Data base original'!AB123/('Data base original'!$AC123)","v":2.4419141637209176E-2},{"$f":"(('Data base original'!Y135-'Data base original'!AA135)/('Data base original'!Y123-'Data base original'!AA123)*100-100)*(('Data base original'!Y123-'Data base original'!AA123)/'Data base original'!AC123)","v":0.42561367430272901},{"$f":"(('Data base original'!Z135-'Data base original'!AB135)/('Data base original'!Z123-'Data base original'!AB123)*100-100)*(('Data base original'!Z123-'Data base original'!AB123)/'Data base original'!AC123)","v":9.6378607000996097E-2},{"$f":"('Data base original'!AC135/'Data base original'!AC123*100-100)*'Data base original'!AC123/('Data base original'!$AC123)","v":11.523966461219075},{"$f":"('Data base original'!AC135/'Data base original'!AC123*100-100)*'Data base original'!AC123/('Data base original'!$AN123)","v":6.9047581106783138},{"$f":"('Data base original'!AD135/'Data base original'!AD123*100-100)*'Data base original'!AD123/('Data base original'!$AN123)","v":1.0084323182106634},{"$f":"('Data base original'!AE135/'Data base original'!AE123*100-100)*'Data base original'!AE123/('Data base original'!$AN123)","v":-9.1474806470859413E-2},{"$f":"('Data base original'!AF135/'Data base original'!AF123*100-100)*'Data base original'!AF123/('Data base original'!$AN123)","v":2.9149675174986749},{"$f":"('Data base original'!AG135/'Data base original'!AG123*100-100)*'Data base original'!AG123/('Data base original'!$AN123)","v":-0.1935914624590771},{"$f":"('Data base original'!AH135/'Data base original'!AH123*100-100)*'Data base original'!AH123/('Data base original'!$AN123)","v":-1.7354715363605409E-2},{"$f":"('Data base original'!AI135/'Data base original'!AI123*100-100)*'Data base original'!AI123/('Data base original'!$AN123)","v":0.26056826643752135},{"$f":"('Data base original'!AJ135/'Data base original'!AJ123*100-100)*'Data base original'!AJ123/('Data base original'!$AN123)","v":0.15624330488458127},{"$f":"('Data base original'!AK135/'Data base original'!AK123*100-100)*'Data base original'!AK123/('Data base original'!$AN123)","v":2.0076769312654747E-2},{"$f":"-('Data base original'!AL135/'Data base original'!AL123*100-100)*'Data base original'!AL123/('Data base original'!$AN123)","v":0.26585676361547761},{"$f":"-('Data base original'!AM135/'Data base original'!AM123*100-100)*'Data base original'!AM123/('Data base original'!$AN123)","v":-2.5265492345280152E-2},{"$f":"(('Data base original'!AJ135-'Data base original'!AL135)/('Data base original'!AJ123-'Data base original'!AL123)*100-100)*(('Data base original'!AJ123-'Data base original'!AL123)/'Data base original'!AN123)","v":0.42210006850005743},{"$f":"(('Data base original'!AK135-'Data base original'!AM135)/('Data base original'!AK123-'Data base original'!AM123)*100-100)*(('Data base original'!AK123-'Data base original'!AM123)/'Data base original'!AN123)","v":-5.1887230326254008E-3},{"$f":"('Data base original'!AN135/'Data base original'!AN123*100-100)*'Data base original'!AN123/('Data base original'!$AN123)","v":11.203216573999057}]
["2016-06-01",{"$f":"'Data base original'!B136/'Data base original'!B124*100-100","v":8.941329153156147},{"$f":"'Data base original'!C136/'Data base original'!C124*100-100","v":9.2591530059643219},{"$f":"'Data base original'!D136/'Data base original'!D124*100-100","v":13.260327356400154},{"$f":"'Data base original'!E136/'Data base original'!E124*100-100","v":0.82564735573036785},{"$f":"'Data base original'!F136/'Data base original'!F124*100-100","v":9.5071516980104462},{"$f":"'Data base original'!G136","v":23.123982168214148},{"$f":"'Data base original'!H136","v":24.978523676452529},{"$f":"'Data base original'!I136","v":14.220726080919539},{"$f":"'Data base original'!J136","v":28.57058895440548},{"$f":"'Data base original'!K136","v":7.1565532655242983},{"$f":"'Data base original'!L136","v":5.7764030016906611},{"$f":"'Data base original'!M136","v":7.9335158750111407},{"$f":"'Data base original'!N136","v":1.7025387899104221},{"$f":"'Data base original'!O136","v":1.4582992533577621},{"$f":"'Data base original'!P136","v":2.3739945131060245},{"$f":"'Data base original'!Q136","v":3.7565380192537412},{"$f":"('Data base original'!S136/'Data base original'!S124*100-100)*'Data base original'!S124/'Data base original'!$V124","v":1.4201425916071022},{"$f":"('Data base original'!T136/'Data base original'!T124*100-100)*'Data base original'!T124/'Data base original'!$V124","v":4.0326801073118039},{"$f":"('Data base original'!U136/'Data base original'!U124*100-100)*'Data base original'!U124/'Data base original'!$V124","v":-0.45352408492268065},{"$f":"('Data base original'!V136/'Data base original'!V124*100-100)*'Data base original'!V124/'Data base original'!$V124","v":4.999298613996217},{"$f":"('Data base original'!V136/'Data base original'!V124*100-100)*'Data base original'!V124/('Data base original'!$AC124)","v":1.2914211481900184},{"$f":"('Data base original'!W136/'Data base original'!W124*100-100)*'Data base original'!W124/('Data base original'!$AC124)","v":9.2103051805399154},{"$f":"('Data base original'!X136/'Data base original'!X124*100-100)*'Data base original'!X124/('Data base original'!$AC124)","v":0.41534100804749025},{"$f":"('Data base original'!Y136/'Data base original'!Y124*100-100)*'Data base original'!Y124/('Data base original'!$AC124)","v":1.8780033926431314},{"$f":"('Data base original'!Z136/'Data base original'!Z124*100-100)*'Data base original'!Z124/('Data base original'!$AC124)","v":8.648737788957872E-2},{"$f":"-('Data base original'!AA136/'Data base original'!AA124*100-100)*'Data base original'!AA124/('Data base original'!$AC124)","v":-1.5870381744607389},{"$f":"-('Data base original'!AB136/'Data base original'!AB124*100-100)*'Data base original'!AB124/('Data base original'!$AC124)","v":1.0380146751777621E-2},{"$f":"(('Data base original'!Y136-'Data base original'!AA136)/('Data base original'!Y124-'Data base original'!AA124)*100-100)*(('Data base original'!Y124-'Data base original'!AA124)/'Data base original'!AC124)","v":0.29096521818239385},{"$f":"(('Data base original'!Z136-'Data base original'!AB136)/('Data base original'!Z124-'Data base original'!AB124)*100-100)*(('Data base original'!Z124-'Data base original'!AB124)/'Data base original'!AC124)","v":9.6867524641356492E-2},{"$f":"('Data base original'!AC136/'Data base original'!AC124*100-100)*'Data base original'!AC124/('Data base original'!$AC124)","v":11.304900079601182},{"$f":"('Data base original'!AC136/'Data base original'!AC124*100-100)*'Data base original'!AC124/('Data base original'!$AN124)","v":6.7792576590399696},{"$f":"('Data base original'!AD136/'Data base original'!AD124*100-100)*'Data base original'!AD124/('Data base original'!$AN124)","v":1.2435981584148288},{"$f":"('Data base original'!AE136/'Data base original'!AE124*100-100)*'Data base original'!AE124/('Data base original'!$AN124)","v":0.15102023555050328},{"$f":"('Data base original'!AF136/'Data base original'!AF124*100-100)*'Data base original'!AF124/('Data base original'!$AN124)","v":3.0270548858876207},{"$f":"('Data base original'!AG136/'Data base original'!AG124*100-100)*'Data base original'!AG124/('Data base original'!$AN124)","v":-0.24138849706593329},{"$f":"('Data base original'!AH136/'Data base original'!AH124*100-100)*'Data base original'!AH124/('Data base original'!$AN124)","v":-2.2435996392743737E-3},{"$f":"('Data base original'!AI136/'Data base original'!AI124*100-100)*'Data base original'!AI124/('Data base original'!$AN124)","v":0.25495282480639542},{"$f":"('Data base original'!AJ136/'Data base original'!AJ124*100-100)*'Data base original'!AJ124/('Data base original'!$AN124)","v":0.23287951318031602},{"$f":"('Data base original'!AK136/'Data base original'!AK124*100-100)*'Data base original'!AK124/('Data base original'!$AN124)","v":1.4933601679444766E-2},{"$f":"-('Data base original'!AL136/'Data base original'!AL124*100-100)*'Data base original'!AL124/('Data base original'!$AN124)","v":7.8987902012092021E-2},{"$f":"-('Data base original'!AM136/'Data base original'!AM124*100-100)*'Data base original'!AM124/('Data base original'!$AN124)","v":-2.1373150532241172E-2},{"$f":"(('Data base original'!AJ136-'Data base original'!AL136)/('Data base original'!AJ124-'Data base original'!AL124)*100-100)*(('Data base original'!AJ124-'Data base original'!AL124)/'Data base original'!AN124)","v":0.31186741519240929},{"$f":"(('Data base original'!AK136-'Data base original'!AM136)/('Data base original'!AK124-'Data base original'!AM124)*100-100)*(('Data base original'!AK124-'Data base original'!AM124)/'Data base original'!AN124)","v":-6.4395488527963863E-3},{"$f":"('Data base original'!AN136/'Data base original'!AN124*100-100)*'Data base original'!AN124/('Data base original'!$AN124)","v":11.517679533333734}]
["2016-07-01",{"$f":"'Data base original'!B137/'Data base original'!B125*100-100","v":8.7204598090556971},{"$f":"'Data base original'!C137/'Data base original'!C125*100-100","v":8.8746993251915995},{"$f":"'Data base original'!D137/'Data base original'!D125*100-100","v":12.718726849327709},{"$f":"'Data base original'!E137/'Data base original'!E125*100-100","v":-2.2382751310946531},{"$f":"'Data base original'!F137/'Data base original'!F125*100-100","v":8.9512841895549116},{"$f":"'Data base original'!G137","v":23.192294409798944},{"$f":"'Data base original'!H137","v":24.923896282528876},{"$f":"'Data base original'!I137","v":14.581877765256891},{"$f":"'Data base original'!J137","v":28.570781620751685},{"$f":"'Data base original'!K137","v":6.8071528948128659},{"$f":"'Data base original'!L137","v":5.6833298169182314},{"$f":"'Data base original'!M137","v":7.168358797673398},{"$f":"'Data base original'!N137","v":1.7023620827303769},{"$f":"'Data base original'!O137","v":1.4198468154110822},{"$f":"'Data base original'!P137","v":2.1961547450853423},{"$f":"'Data base original'!Q137","v":3.7261514037301411},{"$f":"('Data base original'!S137/'Data base original'!S125*100-100)*'Data base original'!S125/'Data base original'!$V125","v":1.6122356305284029},{"$f":"('Data base original'!T137/'Data base original'!T125*100-100)*'Data base original'!T125/'Data base original'!$V125","v":3.0188311315082559},{"$f":"('Data base original'!U137/'Data base original'!U125*100-100)*'Data base original'!U125/'Data base original'!$V125","v":-0.89830552585618995},{"$f":"('Data base original'!V137/'Data base original'!V125*100-100)*'Data base original'!V125/'Data base original'!$V125","v":3.7327612361804654},{"$f":"('Data base original'!V137/'Data base original'!V125*100-100)*'Data base original'!V125/('Data base original'!$AC125)","v":0.94295148372320969},{"$f":"('Data base original'!W137/'Data base original'!W125*100-100)*'Data base original'!W125/('Data base original'!$AC125)","v":7.8441346036974444},{"$f":"('Data base original'!X137/'Data base original'!X125*100-100)*'Data base original'!X125/('Data base original'!$AC125)","v":0.40111619495454859},{"$f":"('Data base original'!Y137/'Data base original'!Y125*100-100)*'Data base original'!Y125/('Data base original'!$AC125)","v":0.51783392661733596},{"$f":"('Data base original'!Z137/'Data base original'!Z125*100-100)*'Data base original'!Z125/('Data base original'!$AC125)","v":0.12161793426083196},{"$f":"-('Data base original'!AA137/'Data base original'!AA125*100-100)*'Data base original'!AA125/('Data base original'!$AC125)","v":-0.31425749587293106},{"$f":"-('Data base original'!AB137/'Data base original'!AB125*100-100)*'Data base original'!AB125/('Data base original'!$AC125)","v":4.9942511128158815E-3},{"$f":"(('Data base original'!Y137-'Data base original'!AA137)/('Data base original'!Y125-'Data base original'!AA125)*100-100)*(('Data base original'!Y125-'Data base original'!AA125)/'Data base original'!AC125)","v":0.2035764307444054},{"$f":"(('Data base original'!Z137-'Data base original'!AB137)/('Data base original'!Z125-'Data base original'!AB125)*100-100)*(('Data base original'!Z125-'Data base original'!AB125)/'Data base original'!AC125)","v":0.12661218537364791},{"$f":"('Data base original'!AC137/'Data base original'!AC125*100-100)*'Data base original'!AC125/('Data base original'!$AC125)","v":9.5183908984932941},{"$f":"('Data base original'!AC137/'Data base original'!AC125*100-100)*'Data base original'!AC125/('Data base original'!$AN125)","v":5.6771013481608943},{"$f":"('Data base original'!AD137/'Data base original'!AD125*100-100)*'Data base original'!AD125/('Data base original'!$AN125)","v":0.95741248843639115},{"$f":"('Data base original'!AE137/'Data base original'!AE125*100-100)*'Data base original'!AE125/('Data base original'!$AN125)","v":0.6277667036424176},{"$f":"('Data base original'!AF137/'Data base original'!AF125*100-100)*'Data base original'!AF125/('Data base original'!$AN125)","v":3.1067529288798337},{"$f":"('Data base original'!AG137/'Data base original'!AG125*100-100)*'Data base original'!AG125/('Data base original'!$AN125)","v":-0.35734706898256569},{"$f":"('Data base original'!AH137/'Data base original'!AH125*100-100)*'Data base original'!AH125/('Data base original'!$AN125)","v":1.2440095182675602E-2},{"$f":"('Data base original'!AI137/'Data base original'!AI125*100-100)*'Data base original'!AI125/('Data base original'!$AN125)","v":0.16832561540800636},{"$f":"('Data base original'!AJ137/'Data base original'!AJ125*100-100)*'Data base original'!AJ125/('Data base original'!$AN125)","v":7.8932293705011772E-2},{"$f":"('Data base original'!AK137/'Data base original'!AK125*100-100)*'Data base original'!AK125/('Data base original'!$AN125)","v":-4.9197978644288801E-3},{"$f":"-('Data base original'!AL137/'Data base original'!AL125*100-100)*'Data base original'!AL125/('Data base original'!$AN125)","v":3.8924261437813933E-2},{"$f":"-('Data base original'!AM137/'Data base original'!AM125*100-100)*'Data base original'!AM125/('Data base original'!$AN125)","v":-1.5992559612056471E-2},{"$f":"(('Data base original'!AJ137-'Data base original'!AL137)/('Data base original'!AJ125-'Data base original'!AL125)*100-100)*(('Data base original'!AJ125-'Data base original'!AL125)/'Data base original'!AN125)","v":0.11785655514282559},{"$f":"(('Data base original'!AK137-'Data base original'!AM137)/('Data base original'!AK125-'Data base original'!AM125)*100-100)*(('Data base original'!AK125-'Data base original'!AM125)/'Data base original'!AN125)","v":-2.0912357476485351E-2},{"$f":"('Data base original'!AN137/'Data base original'!AN125*100-100)*'Data base original'!AN125/('Data base original'!$AN125)","v":10.289396308393989}]
["2016-08-01",{"$f":"'Data base original'!B138/'Data base original'!B126*100-100","v":8.6323254085719014},{"$f":"'Data base original'!C138/'Data base original'!C126*100-100","v":9.1225132894529111},{"$f":"'Data base original'!D138/'Data base original'!D126*100-100","v":12.243448675735792},{"$f":"'Data base original'!E138/'Data base original'!E126*100-100","v":-3.7365164112959377},{"$f":"'Data base original'!F138/'Data base original'!F126*100-100","v":8.6808317541124325},{"$f":"'Data base original'!G138","v":22.778364058595766},{"$f":"'Data base original'!H138","v":24.441729441717065},{"$f":"'Data base original'!I138","v":14.383365869344365},{"$f":"'Data base original'!J138","v":28.506227896296949},{"$f":"'Data base original'!K138","v":6.7544997313779396},{"$f":"'Data base original'!L138","v":5.7887251999799219},{"$f":"'Data base original'!M138","v":6.9649154081068527},{"$f":"'Data base original'!N138","v":1.6552755263376597},{"$f":"'Data base original'!O138","v":1.2771090580793927},{"$f":"'Data base original'!P138","v":2.4792505818388459},{"$f":"'Data base original'!Q138","v":3.7205523920438139},{"$f":"('Data base original'!S138/'Data base original'!S126*100-100)*'Data base original'!S126/'Data base original'!$V126","v":1.5273101410060401},{"$f":"('Data base original'!T138/'Data base original'!T126*100-100)*'Data base original'!T126/'Data base original'!$V126","v":3.0456992366320037},{"$f":"('Data base original'!U138/'Data base original'!U126*100-100)*'Data base original'!U126/'Data base original'!$V126","v":-1.6697671540681513},{"$f":"('Data base original'!V138/'Data base original'!V126*100-100)*'Data base original'!V126/'Data base original'!$V126","v":2.9032422235698756},{"$f":"('Data base original'!V138/'Data base original'!V126*100-100)*'Data base original'!V126/('Data base original'!$AC126)","v":0.7195572213165119},{"$f":"('Data base original'!W138/'Data base original'!W126*100-100)*'Data base original'!W126/('Data base original'!$AC126)","v":6.5534335729624784},{"$f":"('Data base original'!X138/'Data base original'!X126*100-100)*'Data base original'!X126/('Data base original'!$AC126)","v":0.38151910463800365},{"$f":"('Data base original'!Y138/'Data base original'!Y126*100-100)*'Data base original'!Y126/('Data base original'!$AC126)","v":0.3442044962286136},{"$f":"('Data base original'!Z138/'Data base original'!Z126*100-100)*'Data base original'!Z126/('Data base original'!$AC126)","v":0.13332548318213044},{"$f":"-('Data base original'!AA138/'Data base original'!AA126*100-100)*'Data base original'!AA126/('Data base original'!$AC126)","v":-0.12939097979915365},{"$f":"-('Data base original'!AB138/'Data base original'!AB126*100-100)*'Data base original'!AB126/('Data base original'!$AC126)","v":5.7429372168264995E-3},{"$f":"(('Data base original'!Y138-'Data base original'!AA138)/('Data base original'!Y126-'Data base original'!AA126)*100-100)*(('Data base original'!Y126-'Data base original'!AA126)/'Data base original'!AC126)","v":0.2148135164294602},{"$f":"(('Data base original'!Z138-'Data base original'!AB138)/('Data base original'!Z126-'Data base original'!AB126)*100-100)*(('Data base original'!Z126-'Data base original'!AB126)/'Data base original'!AC126)","v":0.13906842039895695},{"$f":"('Data base original'!AC138/'Data base original'!AC126*100-100)*'Data base original'!AC126/('Data base original'!$AC126)","v":8.0083918357454138},{"$f":"('Data base original'!AC138/'Data base original'!AC126*100-100)*'Data base original'!AC126/('Data base original'!$AN126)","v":4.7596811505431509},{"$f":"('Data base original'!AD138/'Data base original'!AD126*100-100)*'Data base original'!AD126/('Data base original'!$AN126)","v":0.62349671185062483},{"$f":"('Data base original'!AE138/'Data base original'!AE126*100-100)*'Data base original'!AE126/('Data base original'!$AN126)","v":0.30516182284267018},{"$f":"('Data base original'!AF138/'Data base original'!AF126*100-100)*'Data base original'!AF126/('Data base original'!$AN126)","v":3.6066342273491143},{"$f":"('Data base original'!AG138/'Data base original'!AG126*100-100)*'Data base original'!AG126/('Data base original'!$AN126)","v":-8.8296553351119259E-2},{"$f":"('Data base original'!AH138/'Data base original'!AH126*100-100)*'Data base original'!AH126/('Data base original'!$AN126)","v":2.4906528463312531E-2},{"$f":"('Data base original'!AI138/'Data base original'!AI126*100-100)*'Data base original'!AI126/('Data base original'!$AN126)","v":0.14400651574104631},{"$f":"('Data base original'!AJ138/'Data base original'!AJ126*100-100)*'Data base original'!AJ126/('Data base original'!$AN126)","v":4.6827375699484343E-2},{"$f":"('Data base original'!AK138/'Data base original'!AK126*100-100)*'Data base original'!AK126/('Data base original'!$AN126)","v":8.4611813141013889E-3},{"$f":"-('Data base original'!AL138/'Data base original'!AL126*100-100)*'Data base original'!AL126/('Data base original'!$AN126)","v":1.7608443444503807E-2},{"$f":"-('Data base original'!AM138/'Data base original'!AM126*100-100)*'Data base original'!AM126/('Data base original'!$AN126)","v":-1.2349098347417511E-2},{"$f":"(('Data base original'!AJ138-'Data base original'!AL138)/('Data base original'!AJ126-'Data base original'!AL126)*100-100)*(('Data base original'!AJ126-'Data base original'!AL126)/'Data base original'!AN126)","v":6.4435819143989076E-2},{"$f":"(('Data base original'!AK138-'Data base original'!AM138)/('Data base original'!AK126-'Data base original'!AM126)*100-100)*(('Data base original'!AK126-'Data base original'!AM126)/'Data base original'!AN126)","v":-3.8879170333162016E-3},{"$f":"('Data base original'!AN138/'Data base original'!AN126*100-100)*'Data base original'!AN126/('Data base original'!$AN126)","v":9.436138305549477}]
["2016-09-01",{"$f":"'Data base original'!B139/'Data base original'!B127*100-100","v":6.1040102781377783},{"$f":"'Data base original'!C139/'Data base original'!C127*100-100","v":8.9724646027561192},{"$f":"'Data base original'!D139/'Data base original'!D127*100-100","v":11.175996016254786},{"$f":"'Data base original'!E139/'Data base original'!E127*100-100","v":-3.6211999240542667},{"$f":"'Data base original'!F139/'Data base original'!F127*100-100","v":7.0291087231270097},{"$f":"'Data base original'!G139","v":23.155736132412635},{"$f":"'Data base original'!H139","v":24.902500850814242},{"$f":"'Data base original'!I139","v":14.354466412035048},{"$f":"'Data base original'!J139","v":28.284560513239498},{"$f":"'Data base original'!K139","v":6.8776584984803915},{"$f":"'Data base original'!L139","v":5.8587015028244167},{"$f":"'Data base original'!M139","v":7.1215510963571198},{"$f":"'Data base original'!N139","v":1.7863098843074756},{"$f":"'Data base original'!O139","v":1.4163427643100746},{"$f":"'Data base original'!P139","v":2.4950407800932091},{"$f":"'Data base original'!Q139","v":3.6637135539514345},{"$f":"('Data base original'!S139/'Data base original'!S127*100-100)*'Data base original'!S127/'Data base original'!$V127","v":1.6072628007169814},{"$f":"('Data base original'!T139/'Data base original'!T127*100-100)*'Data base original'!T127/'Data base original'!$V127","v":2.7455321297031614},{"$f":"('Data base original'!U139/'Data base original'!U127*100-100)*'Data base original'!U127/'Data base original'!$V127","v":-1.4594248048597231},{"$f":"('Data base original'!V139/'Data base original'!V127*100-100)*'Data base original'!V127/'Data base original'!$V127","v":2.8933701255604092},{"$f":"('Data base original'!V139/'Data base original'!V127*100-100)*'Data base original'!V127/('Data base original'!$AC127)","v":0.71856537136475662},{"$f":"('Data base original'!W139/'Data base original'!W127*100-100)*'Data base original'!W127/('Data base original'!$AC127)","v":6.8535051223427494},{"$f":"('Data base original'!X139/'Data base original'!X127*100-100)*'Data base original'!X127/('Data base original'!$AC127)","v":0.36421087938973207},{"$f":"('Data base original'!Y139/'Data base original'!Y127*100-100)*'Data base original'!Y127/('Data base original'!$AC127)","v":2.2916624510876704},{"$f":"('Data base original'!Z139/'Data base original'!Z127*100-100)*'Data base original'!Z127/('Data base original'!$AC127)","v":0.12105905702723579},{"$f":"-('Data base original'!AA139/'Data base original'!AA127*100-100)*'Data base original'!AA127/('Data base original'!$AC127)","v":-1.8517896252833175},{"$f":"-('Data base original'!AB139/'Data base original'!AB127*100-100)*'Data base original'!AB127/('Data base original'!$AC127)","v":5.2878250253413474E-3},{"$f":"(('Data base original'!Y139-'Data base original'!AA139)/('Data base original'!Y127-'Data base original'!AA127)*100-100)*(('Data base original'!Y127-'Data base original'!AA127)/'Data base original'!AC127)","v":0.43987282580435266},{"$f":"(('Data base original'!Z139-'Data base original'!AB139)/('Data base original'!Z127-'Data base original'!AB127)*100-100)*(('Data base original'!Z127-'Data base original'!AB127)/'Data base original'!AC127)","v":0.1263468820525771},{"$f":"('Data base original'!AC139/'Data base original'!AC127*100-100)*'Data base original'!AC127/('Data base original'!$AC127)","v":8.5025010809541897},{"$f":"('Data base original'!AC139/'Data base original'!AC127*100-100)*'Data base original'!AC127/('Data base original'!$AN127)","v":5.0579467783948244},{"$f":"('Data base original'!AD139/'Data base original'!AD127*100-100)*'Data base original'!AD127/('Data base original'!$AN127)","v":0.5242433950745844},{"$f":"('Data base original'!AE139/'Data base original'!AE127*100-100)*'Data base original'!AE127/('Data base original'!$AN127)","v":0.19919543357580294},{"$f":"('Data base original'!AF139/'Data base original'!AF127*100-100)*'Data base original'!AF127/('Data base original'!$AN127)","v":3.56681287964535},{"$f":"('Data base original'!AG139/'Data base original'!AG127*100-100)*'Data base original'!AG127/('Data base original'!$AN127)","v":-0.26040658266561284},{"$f":"('Data base original'!AH139/'Data base original'!AH127*100-100)*'Data base original'!AH127/('Data base original'!$AN127)","v":3.4228496691583454E-2},{"$f":"('Data base original'!AI139/'Data base original'!AI127*100-100)*'Data base original'!AI127/('Data base original'!$AN127)","v":0.28923960984806096},{"$f":"('Data base original'!AJ139/'Data base original'!AJ127*100-100)*'Data base original'!AJ127/('Data base original'!$AN127)","v":0.42367093541388551},{"$f":"('Data base original'!AK139/'Data base original'!AK127*100-100)*'Data base original'!AK127/('Data base original'!$AN127)","v":2.0923418123877772E-2},{"$f":"-('Data base original'!AL139/'Data base original'!AL127*100-100)*'Data base original'!AL127/('Data base original'!$AN127)","v":-0.20874596760267633},{"$f":"-('Data base original'!AM139/'Data base original'!AM127*100-100)*'Data base original'!AM127/('Data base original'!$AN127)","v":-1.2532497919767429E-2},{"$f":"(('Data base original'!AJ139-'Data base original'!AL139)/('Data base original'!AJ127-'Data base original'!AL127)*100-100)*(('Data base original'!AJ127-'Data base original'!AL127)/'Data base original'!AN127)","v":0.21492496781120796},{"$f":"(('Data base original'!AK139-'Data base original'!AM139)/('Data base original'!AK127-'Data base original'!AM127)*100-100)*(('Data base original'!AK127-'Data base original'!AM127)/'Data base original'!AN127)","v":8.3909202041102353E-3},{"$f":"('Data base original'!AN139/'Data base original'!AN127*100-100)*'Data base original'!AN127/('Data base original'!$AN127)","v":9.634575898579925}]
["2016-10-01",{"$f":"'Data base original'!B140/'Data base original'!B128*100-100","v":5.7408479710687033},{"$f":"'Data base original'!C140/'Data base original'!C128*100-100","v":8.72508332322613},{"$f":"'Data base original'!D140/'Data base original'!D128*100-100","v":10.188025979777663},{"$f":"'Data base original'!E140/'Data base original'!E128*100-100","v":-6.1322414344908935},{"$f":"'Data base original'!F140/'Data base original'!F128*100-100","v":6.3928531279302945},{"$f":"'Data base original'!G140","v":23.20043758159802},{"$f":"'Data base original'!H140","v":24.795545881304694},{"$f":"'Data base original'!I140","v":14.609783529389249},{"$f":"'Data base original'!J140","v":28.114724079691015},{"$f":"'Data base original'!K140","v":7.6756406433441864},{"$f":"'Data base original'!L140","v":5.6156011174358884},{"$f":"'Data base original'!M140","v":9.2740148638792483},{"$f":"'Data base original'!N140","v":1.9606557465891512},{"$f":"'Data base original'!O140","v":1.6573520472038097},{"$f":"'Data base original'!P140","v":2.5182687773443981},{"$f":"'Data base original'!Q140","v":3.5580441087567483},{"$f":"('Data base original'!S140/'Data base original'!S128*100-100)*'Data base original'!S128/'Data base original'!$V128","v":1.6743359657417971},{"$f":"('Data base original'!T140/'Data base original'!T128*100-100)*'Data base original'!T128/'Data base original'!$V128","v":2.4542727278946246},{"$f":"('Data base original'!U140/'Data base original'!U128*100-100)*'Data base original'!U128/'Data base original'!$V128","v":-0.72235729601074394},{"$f":"('Data base original'!V140/'Data base original'!V128*100-100)*'Data base original'!V128/'Data base original'!$V128","v":3.4062513976256668},{"$f":"('Data base original'!V140/'Data base original'!V128*100-100)*'Data base original'!V128/('Data base original'!$AC128)","v":0.83103770503787933},{"$f":"('Data base original'!W140/'Data base original'!W128*100-100)*'Data base original'!W128/('Data base original'!$AC128)","v":7.0538714185627702},{"$f":"('Data base original'!X140/'Data base original'!X128*100-100)*'Data base original'!X128/('Data base original'!$AC128)","v":0.33740014911033617},{"$f":"('Data base original'!Y140/'Data base original'!Y128*100-100)*'Data base original'!Y128/('Data base original'!$AC128)","v":1.8950137444709796},{"$f":"('Data base original'!Z140/'Data base original'!Z128*100-100)*'Data base original'!Z128/('Data base original'!$AC128)","v":5.4735478301932587E-2},{"$f":"-('Data base original'!AA140/'Data base original'!AA128*100-100)*'Data base original'!AA128/('Data base original'!$AC128)","v":-1.5048240602104266},{"$f":"-('Data base original'!AB140/'Data base original'!AB128*100-100)*'Data base original'!AB128/('Data base original'!$AC128)","v":1.9088814559470443E-3},{"$f":"(('Data base original'!Y140-'Data base original'!AA140)/('Data base original'!Y128-'Data base original'!AA128)*100-100)*(('Data base original'!Y128-'Data base original'!AA128)/'Data base original'!AC128)","v":0.39018968426055223},{"$f":"(('Data base original'!Z140-'Data base original'!AB140)/('Data base original'!Z128-'Data base original'!AB128)*100-100)*(('Data base original'!Z128-'Data base original'!AB128)/'Data base original'!AC128)","v":5.6644359757879556E-2},{"$f":"('Data base original'!AC140/'Data base original'!AC128*100-100)*'Data base original'!AC128/('Data base original'!$AC128)","v":8.6691433167294178},{"$f":"('Data base original'!AC140/'Data base original'!AC128*100-100)*'Data base original'!AC128/('Data base original'!$AN128)","v":5.1432784041378996},{"$f":"('Data base original'!AD140/'Data base original'!AD128*100-100)*'Data base original'!AD128/('Data base original'!$AN128)","v":0.29868283842275839},{"$f":"('Data base original'!AE140/'Data base original'!AE128*100-100)*'Data base original'!AE128/('Data base original'!$AN128)","v":-3.9086076859062589E-2},{"$f":"('Data base original'!AF140/'Data base original'!AF128*100-100)*'Data base original'!AF128/('Data base original'!$AN128)","v":3.4324459989982152},{"$f":"('Data base original'!AG140/'Data base original'!AG128*100-100)*'Data base original'!AG128/('Data base original'!$AN128)","v":-0.41030404154105016},{"$f":"('Data base original'!AH140/'Data base original'!AH128*100-100)*'Data base original'!AH128/('Data base original'!$AN128)","v":4.7516169585359896E-2},{"$f":"('Data base original'!AI140/'Data base original'!AI128*100-100)*'Data base original'!AI128/('Data base original'!$AN128)","v":0.35339183252409917},{"$f":"('Data base original'!AJ140/'Data base original'!AJ128*100-100)*'Data base original'!AJ128/('Data base original'!$AN128)","v":0.59096831765827107},{"$f":"('Data base original'!AK140/'Data base original'!AK128*100-100)*'Data base original'!AK128/('Data base original'!$AN128)","v":1.7135640894088255E-2},{"$f":"-('Data base original'!AL140/'Data base original'!AL128*100-100)*'Data base original'!AL128/('Data base original'!$AN128)","v":-0.37077717905152785},{"$f":"-('Data base original'!AM140/'Data base original'!AM128*100-100)*'Data base original'!AM128/('Data base original'!$AN128)","v":-1.2056365829248079E-2},{"$f":"(('Data base original'!AJ140-'Data base original'!AL140)/('Data base original'!AJ128-'Data base original'!AL128)*100-100)*(('Data base original'!AJ128-'Data base original'!AL128)/'Data base original'!AN128)","v":0.22019113860674153},{"$f":"(('Data base original'!AK140-'Data base original'!AM140)/('Data base original'!AK128-'Data base original'!AM128)*100-100)*(('Data base original'!AK128-'Data base original'!AM128)/'Data base original'!AN128)","v":5.0792750648402168E-3},{"$f":"('Data base original'!AN140/'Data base original'!AN128*100-100)*'Data base original'!AN128/('Data base original'!$AN128)","v":9.0511955389397798}]
["2016-11-01",{"$f":"'Data base original'!B141/'Data base original'!B129*100-100","v":5.5258135345470691},{"$f":"'Data base original'!C141/'Data base original'!C129*100-100","v":8.8134863149416987},{"$f":"'Data base original'!D141/'Data base original'!D129*100-100","v":9.6501692532513061},{"$f":"'Data base original'!E141/'Data base original'!E129*100-100","v":-3.8834686447134885},{"$f":"'Data base original'!F141/'Data base original'!F129*100-100","v":6.3050593156710306},{"$f":"'Data base original'!G141","v":22.643910888756665},{"$f":"'Data base original'!H141","v":23.869415946419714},{"$f":"'Data base original'!I141","v":14.728744642808486},{"$f":"'Data base original'!J141","v":28.254370155939764},{"$f":"'Data base original'!K141","v":7.5659576310467216},{"$f":"'Data base original'!L141","v":5.6111875460473222},{"$f":"'Data base original'!M141","v":8.9207011111827441},{"$f":"'Data base original'!N141","v":1.8420806560702021},{"$f":"'Data base original'!O141","v":1.5893557917021535},{"$f":"'Data base original'!P141","v":2.3392083953362466},{"$f":"'Data base original'!Q141","v":3.5103017051701366},{"$f":"('Data base original'!S141/'Data base original'!S129*100-100)*'Data base original'!S129/'Data base original'!$V129","v":1.5489181643896506},{"$f":"('Data base original'!T141/'Data base original'!T129*100-100)*'Data base original'!T129/'Data base original'!$V129","v":3.3486864693491074},{"$f":"('Data base original'!U141/'Data base original'!U129*100-100)*'Data base original'!U129/'Data base original'!$V129","v":-0.40484028315694803},{"$f":"('Data base original'!V141/'Data base original'!V129*100-100)*'Data base original'!V129/'Data base original'!$V129","v":4.492764350581794},{"$f":"('Data base original'!V141/'Data base original'!V129*100-100)*'Data base original'!V129/('Data base original'!$AC129)","v":1.1000258720220595},{"$f":"('Data base original'!W141/'Data base original'!W129*100-100)*'Data base original'!W129/('Data base original'!$AC129)","v":6.3012069469531813},{"$f":"('Data base original'!X141/'Data base original'!X129*100-100)*'Data base original'!X129/('Data base original'!$AC129)","v":0.19170723993671965},{"$f":"('Data base original'!Y141/'Data base original'!Y129*100-100)*'Data base original'!Y129/('Data base original'!$AC129)","v":1.1111747113830559},{"$f":"('Data base original'!Z141/'Data base original'!Z129*100-100)*'Data base original'!Z129/('Data base original'!$AC129)","v":5.18909041131791E-2},{"$f":"-('Data base original'!AA141/'Data base original'!AA129*100-100)*'Data base original'!AA129/('Data base original'!$AC129)","v":-0.98997029903762579},{"$f":"-('Data base original'!AB141/'Data base original'!AB129*100-100)*'Data base original'!AB129/('Data base original'!$AC129)","v":3.0546129762691774E-3},{"$f":"(('Data base original'!Y141-'Data base original'!AA141)/('Data base original'!Y129-'Data base original'!AA129)*100-100)*(('Data base original'!Y129-'Data base original'!AA129)/'Data base original'!AC129)","v":0.12120441234542961},{"$f":"(('Data base original'!Z141-'Data base original'!AB141)/('Data base original'!Z129-'Data base original'!AB129)*100-100)*(('Data base original'!Z129-'Data base original'!AB129)/'Data base original'!AC129)","v":5.4945517089448295E-2},{"$f":"('Data base original'!AC141/'Data base original'!AC129*100-100)*'Data base original'!AC129/('Data base original'!$AC129)","v":7.7690899883468489},{"$f":"('Data base original'!AC141/'Data base original'!AC129*100-100)*'Data base original'!AC129/('Data base original'!$AN129)","v":4.6179325694878939},{"$f":"('Data base original'!AD141/'Data base original'!AD129*100-100)*'Data base original'!AD129/('Data base original'!$AN129)","v":0.22698059844541635},{"$f":"('Data base original'!AE141/'Data base original'!AE129*100-100)*'Data base original'!AE129/('Data base original'!$AN129)","v":-0.29525961020360558},{"$f":"('Data base original'!AF141/'Data base original'!AF129*100-100)*'Data base original'!AF129/('Data base original'!$AN129)","v":3.3905002349778366},{"$f":"('Data base original'!AG141/'Data base original'!AG129*100-100)*'Data base original'!AG129/('Data base original'!$AN129)","v":-0.28588548769991873},{"$f":"('Data base original'!AH141/'Data base original'!AH129*100-100)*'Data base original'!AH129/('Data base original'!$AN129)","v":5.874466886201396E-2},{"$f":"('Data base original'!AI141/'Data base original'!AI129*100-100)*'Data base original'!AI129/('Data base original'!$AN129)","v":0.43938208258831107},{"$f":"('Data base original'!AJ141/'Data base original'!AJ129*100-100)*'Data base original'!AJ129/('Data base original'!$AN129)","v":0.16631706719169184},{"$f":"('Data base original'!AK141/'Data base original'!AK129*100-100)*'Data base original'!AK129/('Data base original'!$AN129)","v":-5.912247748762722E-4},{"$f":"-('Data base original'!AL141/'Data base original'!AL129*100-100)*'Data base original'!AL129/('Data base original'!$AN129)","v":-0.20772970310725869},{"$f":"-('Data base original'!AM141/'Data base original'!AM129*100-100)*'Data base original'!AM129/('Data base original'!$AN129)","v":-2.988447135645762E-3},{"$f":"(('Data base original'!AJ141-'Data base original'!AL141)/('Data base original'!AJ129-'Data base original'!AL129)*100-100)*(('Data base original'!AJ129-'Data base original'!AL129)/'Data base original'!AN129)","v":-4.1412635915565266E-2},{"$f":"(('Data base original'!AK141-'Data base original'!AM141)/('Data base original'!AK129-'Data base original'!AM129)*100-100)*(('Data base original'!AK129-'Data base original'!AM129)/'Data base original'!AN129)","v":-3.5796719105220085E-3},{"$f":"('Data base original'!AN141/'Data base original'!AN129*100-100)*'Data base original'!AN129/('Data base original'!$AN129)","v":8.1074027486318414}]
["2016-12-01",{"$f":"'Data base original'!B142/'Data base original'!B130*100-100","v":4.8990916341074637},{"$f":"'Data base original'!C142/'Data base original'!C130*100-100","v":8.1792116555709811},{"$f":"'Data base original'!D142/'Data base original'!D130*100-100","v":9.5796474632733322},{"$f":"'Data base original'!E142/'Data base original'!E130*100-100","v":-7.3138879363379203},{"$f":"'Data base original'!F142/'Data base original'!F130*100-100","v":5.6529129099853037},{"$f":"'Data base original'!G142","v":22.378849376053722},{"$f":"'Data base original'!H142","v":23.270467124785547},{"$f":"'Data base original'!I142","v":14.584921527419688},{"$f":"'Data base original'!J142","v":28.028790952389844},{"$f":"'Data base original'!K142","v":7.6431049678578153},{"$f":"'Data base original'!L142","v":5.5294398503365843},{"$f":"'Data base original'!M142","v":9.6621759399211076},{"$f":"'Data base original'!N142","v":2.3452091438698139},{"$f":"'Data base original'!O142","v":2.2016661585447528},{"$f":"'Data base original'!P142","v":2.6282840705052526},{"$f":"'Data base original'!Q142","v":3.5887658663321309},{"$f":"('Data base original'!S142/'Data base original'!S130*100-100)*'Data base original'!S130/'Data base original'!$V130","v":1.3413333235474496},{"$f":"('Data base original'!T142/'Data base original'!T130*100-100)*'Data base original'!T130/'Data base original'!$V130","v":3.100953471079694},{"$f":"('Data base original'!U142/'Data base original'!U130*100-100)*'Data base original'!U130/'Data base original'!$V130","v":-0.33050680379480846},{"$f":"('Data base original'!V142/'Data base original'!V130*100-100)*'Data base original'!V130/'Data base original'!$V130","v":4.1117799908323462},{"$f":"('Data base original'!V142/'Data base original'!V130*100-100)*'Data base original'!V130/('Data base original'!$AC130)","v":1.047618709092212},{"$f":"('Data base original'!W142/'Data base original'!W130*100-100)*'Data base original'!W130/('Data base original'!$AC130)","v":5.7254742596772523},{"$f":"('Data base original'!X142/'Data base original'!X130*100-100)*'Data base original'!X130/('Data base original'!$AC130)","v":0.29372997146320479},{"$f":"('Data base original'!Y142/'Data base original'!Y130*100-100)*'Data base original'!Y130/('Data base original'!$AC130)","v":1.8568770213299179},{"$f":"('Data base original'!Z142/'Data base original'!Z130*100-100)*'Data base original'!Z130/('Data base original'!$AC130)","v":7.2869383248916966E-2},{"$f":"-('Data base original'!AA142/'Data base original'!AA130*100-100)*'Data base original'!AA130/('Data base original'!$AC130)","v":-1.6497600743006402},{"$f":"-('Data base original'!AB142/'Data base original'!AB130*100-100)*'Data base original'!AB130/('Data base original'!$AC130)","v":-5.6789943170606552E-3},{"$f":"(('Data base original'!Y142-'Data base original'!AA142)/('Data base original'!Y130-'Data base original'!AA130)*100-100)*(('Data base original'!Y130-'Data base original'!AA130)/'Data base original'!AC130)","v":0.20711694702927894},{"$f":"(('Data base original'!Z142-'Data base original'!AB142)/('Data base original'!Z130-'Data base original'!AB130)*100-100)*(('Data base original'!Z130-'Data base original'!AB130)/'Data base original'!AC130)","v":6.7190388931856221E-2},{"$f":"('Data base original'!AC142/'Data base original'!AC130*100-100)*'Data base original'!AC130/('Data base original'!$AC130)","v":7.3411302761937796},{"$f":"('Data base original'!AC142/'Data base original'!AC130*100-100)*'Data base original'!AC130/('Data base original'!$AN130)","v":4.4212457950470636},{"$f":"('Data base original'!AD142/'Data base original'!AD130*100-100)*'Data base original'!AD130/('Data base original'!$AN130)","v":3.5176308049654471E-2},{"$f":"('Data base original'!AE142/'Data base original'!AE130*100-100)*'Data base original'!AE130/('Data base original'!$AN130)","v":-0.41544817099057268},{"$f":"('Data base original'!AF142/'Data base original'!AF130*100-100)*'Data base original'!AF130/('Data base original'!$AN130)","v":3.3893504613197054},{"$f":"('Data base original'!AG142/'Data base original'!AG130*100-100)*'Data base original'!AG130/('Data base original'!$AN130)","v":-0.15937946736110609},{"$f":"('Data base original'!AH142/'Data base original'!AH130*100-100)*'Data base original'!AH130/('Data base original'!$AN130)","v":7.2014685914821824E-2},{"$f":"('Data base original'!AI142/'Data base original'!AI130*100-100)*'Data base original'!AI130/('Data base original'!$AN130)","v":0.81179348052203182},{"$f":"('Data base original'!AJ142/'Data base original'!AJ130*100-100)*'Data base original'!AJ130/('Data base original'!$AN130)","v":0.70936912138944896},{"$f":"('Data base original'!AK142/'Data base original'!AK130*100-100)*'Data base original'!AK130/('Data base original'!$AN130)","v":-4.3263318142028112E-3},{"$f":"-('Data base original'!AL142/'Data base original'!AL130*100-100)*'Data base original'!AL130/('Data base original'!$AN130)","v":-0.68078907490667973},{"$f":"-('Data base original'!AM142/'Data base original'!AM130*100-100)*'Data base original'!AM130/('Data base original'!$AN130)","v":-5.9705239986906043E-3},{"$f":"(('Data base original'!AJ142-'Data base original'!AL142)/('Data base original'!AJ130-'Data base original'!AL130)*100-100)*(('Data base original'!AJ130-'Data base original'!AL130)/'Data base original'!AN130)","v":2.8580046482770217E-2},{"$f":"(('Data base original'!AK142-'Data base original'!AM142)/('Data base original'!AK130-'Data base original'!AM130)*100-100)*(('Data base original'!AK130-'Data base original'!AM130)/'Data base original'!AN130)","v":-1.0296855812893468E-2},{"$f":"('Data base original'!AN142/'Data base original'!AN130*100-100)*'Data base original'!AN130/('Data base original'!$AN130)","v":8.17303628317147}]
["2017-01-31",{"$f":"'Data base original'!B143/'Data base original'!B131*100-100","v":3.9595359126907823},{"$f":"'Data base original'!C143/'Data base original'!C131*100-100","v":8.0800817832740393},{"$f":"'Data base original'!D143/'Data base original'!D131*100-100","v":9.2862953261291921},{"$f":"'Data base original'!E143/'Data base original'!E131*100-100","v":-9.1092774480824801},{"$f":"'Data base original'!F143/'Data base original'!F131*100-100","v":4.917625619018807},{"$f":"'Data base original'!G143","v":23.038613775515692},{"$f":"'Data base original'!H143","v":23.768248516047464},{"$f":"'Data base original'!I143","v":15.26750709501931},{"$f":"'Data base original'!J143","v":28.299754098690393},{"$f":"'Data base original'!K143","v":7.8844185914542511},{"$f":"'Data base original'!L143","v":5.512484198731153},{"$f":"'Data base original'!M143","v":9.7640941070317133},{"$f":"'Data base original'!N143","v":2.2144960410537435},{"$f":"'Data base original'!O143","v":2.1412420121924951},{"$f":"'Data base original'!P143","v":2.2948558471819775},{"$f":"'Data base original'!Q143","v":3.6161869924987213},{"$f":"('Data base original'!S143/'Data base original'!S131*100-100)*'Data base original'!S131/'Data base original'!$V131","v":1.2578188642744725},{"$f":"('Data base original'!T143/'Data base original'!T131*100-100)*'Data base original'!T131/'Data base original'!$V131","v":1.5494890205916363},{"$f":"('Data base original'!U143/'Data base original'!U131*100-100)*'Data base original'!U131/'Data base original'!$V131","v":-0.39495764121743149},{"$f":"('Data base original'!V143/'Data base original'!V131*100-100)*'Data base original'!V131/'Data base original'!$V131","v":2.4123502436486746},{"$f":"('Data base original'!V143/'Data base original'!V131*100-100)*'Data base original'!V131/('Data base original'!$AC131)","v":0.62129107397666794},{"$f":"('Data base original'!W143/'Data base original'!W131*100-100)*'Data base original'!W131/('Data base original'!$AC131)","v":3.6142056891499394},{"$f":"('Data base original'!X143/'Data base original'!X131*100-100)*'Data base original'!X131/('Data base original'!$AC131)","v":0.27514057242956186},{"$f":"('Data base original'!Y143/'Data base original'!Y131*100-100)*'Data base original'!Y131/('Data base original'!$AC131)","v":0.97736434293785024},{"$f":"('Data base original'!Z143/'Data base original'!Z131*100-100)*'Data base original'!Z131/('Data base original'!$AC131)","v":9.4778168603929569E-2},{"$f":"-('Data base original'!AA143/'Data base original'!AA131*100-100)*'Data base original'!AA131/('Data base original'!$AC131)","v":-0.88797891297935549},{"$f":"-('Data base original'!AB143/'Data base original'!AB131*100-100)*'Data base original'!AB131/('Data base original'!$AC131)","v":-4.0631046692835397E-3},{"$f":"(('Data base original'!Y143-'Data base original'!AA143)/('Data base original'!Y131-'Data base original'!AA131)*100-100)*(('Data base original'!Y131-'Data base original'!AA131)/'Data base original'!AC131)","v":8.9385429958495827E-2},{"$f":"(('Data base original'!Z143-'Data base original'!AB143)/('Data base original'!Z131-'Data base original'!AB131)*100-100)*(('Data base original'!Z131-'Data base original'!AB131)/'Data base original'!AC131)","v":9.0715063934646081E-2},{"$f":"('Data base original'!AC143/'Data base original'!AC131*100-100)*'Data base original'!AC131/('Data base original'!$AC131)","v":4.6907378294493043},{"$f":"('Data base original'!AC143/'Data base original'!AC131*100-100)*'Data base original'!AC131/('Data base original'!$AN131)","v":2.8491940342718833},{"$f":"('Data base original'!AD143/'Data base original'!AD131*100-100)*'Data base original'!AD131/('Data base original'!$AN131)","v":1.2836078354348881},{"$f":"('Data base original'!AE143/'Data base original'!AE131*100-100)*'Data base original'!AE131/('Data base original'!$AN131)","v":-0.50546437074988748},{"$f":"('Data base original'!AF143/'Data base original'!AF131*100-100)*'Data base original'!AF131/('Data base original'!$AN131)","v":3.7882687109523823},{"$f":"('Data base original'!AG143/'Data base original'!AG131*100-100)*'Data base original'!AG131/('Data base original'!$AN131)","v":-0.30181794256557171},{"$f":"('Data base original'!AH143/'Data base original'!AH131*100-100)*'Data base original'!AH131/('Data base original'!$AN131)","v":9.2623474567374173E-2},{"$f":"('Data base original'!AI143/'Data base original'!AI131*100-100)*'Data base original'!AI131/('Data base original'!$AN131)","v":0.91315778808479031},{"$f":"('Data base original'!AJ143/'Data base original'!AJ131*100-100)*'Data base original'!AJ131/('Data base original'!$AN131)","v":1.1096621671116056},{"$f":"('Data base original'!AK143/'Data base original'!AK131*100-100)*'Data base original'!AK131/('Data base original'!$AN131)","v":1.0760627423240956E-2},{"$f":"-('Data base original'!AL143/'Data base original'!AL131*100-100)*'Data base original'!AL131/('Data base original'!$AN131)","v":-0.90902270972174204},{"$f":"-('Data base original'!AM143/'Data base original'!AM131*100-100)*'Data base original'!AM131/('Data base original'!$AN131)","v":-6.1390391241699423E-3},{"$f":"(('Data base original'!AJ143-'Data base original'!AL143)/('Data base original'!AJ131-'Data base original'!AL131)*100-100)*(('Data base original'!AJ131-'Data base original'!AL131)/'Data base original'!AN131)","v":0.20063945738986574},{"$f":"(('Data base original'!AK143-'Data base original'!AM143)/('Data base original'!AK131-'Data base original'!AM131)*100-100)*(('Data base original'!AK131-'Data base original'!AM131)/'Data base original'!AN131)","v":4.6215882990710494E-3},{"$f":"('Data base original'!AN143/'Data base original'!AN131*100-100)*'Data base original'!AN131/('Data base original'!$AN131)","v":8.3248305756847856}]
[{"$f":"'Data base original'!A144","v":"2017-02-01"},{"$f":"'Data base original'!B144/'Data base original'!B132*100-100","v":4.1627048365235026},{"$f":"'Data base original'!C144/'Data base original'!C132*100-100","v":7.902873019190011},{"$f":"'Data base original'!D144/'Data base original'!D132*100-100","v":9.2343427141317278},{"$f":"'Data base original'!E144/'Data base original'!E132*100-100","v":-8.5333596315009146},{"$f":"'Data base original'!F144/'Data base original'!F132*100-100","v":5.0436800117595482},{"$f":"'Data base original'!G144","v":23.34},{"$f":"'Data base original'!H144","v":24.14},{"$f":"'Data base original'!I144","v":15.12},{"$f":"'Data base original'!J144","v":28.68},{"$f":"'Data base original'!K144","v":8.84},{"$f":"'Data base original'!L144","v":5.58},{"$f":"'Data base original'!M144","v":10.93},{"$f":"'Data base original'!N144","v":2.16},{"$f":"'Data base original'!O144","v":1.86},{"$f":"'Data base original'!P144","v":2.6},{"$f":"'Data base original'!Q144","v":3.55},{"$f":"('Data base original'!S144/'Data base original'!S132*100-100)*'Data base original'!S132/'Data base original'!$V132","v":1.1372003740279972},{"$f":"('Data base original'!T144/'Data base original'!T132*100-100)*'Data base original'!T132/'Data base original'!$V132","v":0.13925677482963161},{"$f":"('Data base original'!U144/'Data base original'!U132*100-100)*'Data base original'!U132/'Data base original'!$V132","v":1.3629148805560802},{"$f":"('Data base original'!V144/'Data base original'!V132*100-100)*'Data base original'!V132/'Data base original'!$V132","v":2.6393720294137069},{"$f":"('Data base original'!V144/'Data base original'!V132*100-100)*'Data base original'!V132/('Data base original'!$AC132)","v":0.66845850575486254},{"$f":"('Data base original'!W144/'Data base original'!W132*100-100)*'Data base original'!W132/('Data base original'!$AC132)","v":2.7218188529280591},{"$f":"('Data base original'!X144/'Data base original'!X132*100-100)*'Data base original'!X132/('Data base original'!$AC132)","v":0.26022715147935727},{"$f":"('Data base original'!Y144/'Data base original'!Y132*100-100)*'Data base original'!Y132/('Data base original'!$AC132)","v":0.93756528030995978},{"$f":"('Data base original'!Z144/'Data base original'!Z132*100-100)*'Data base original'!Z132/('Data base original'!$AC132)","v":0.11890939582674463},{"$f":"-('Data base original'!AA144/'Data base original'!AA132*100-100)*'Data base original'!AA132/('Data base original'!$AC132)","v":-0.96561133400121124},{"$f":"-('Data base original'!AB144/'Data base original'!AB132*100-100)*'Data base original'!AB132/('Data base original'!$AC132)","v":-4.9669196732297189E-4},{"$f":"(('Data base original'!Y144-'Data base original'!AA144)/('Data base original'!Y132-'Data base original'!AA132)*100-100)*(('Data base original'!Y132-'Data base original'!AA132)/'Data base original'!AC132)","v":-2.8046053691252692E-2},{"$f":"(('Data base original'!Z144-'Data base original'!AB144)/('Data base original'!Z132-'Data base original'!AB132)*100-100)*(('Data base original'!Z132-'Data base original'!AB132)/'Data base original'!AC132)","v":0.11841270385942167},{"$f":"('Data base original'!AC144/'Data base original'!AC132*100-100)*'Data base original'!AC132/('Data base original'!$AC132)","v":3.7408711603304425},{"$f":"('Data base original'!AC144/'Data base original'!AC132*100-100)*'Data base original'!AC132/('Data base original'!$AN132)","v":2.2592916658557827},{"$f":"('Data base original'!AD144/'Data base original'!AD132*100-100)*'Data base original'!AD132/('Data base original'!$AN132)","v":1.2450412197360461},{"$f":"('Data base original'!AE144/'Data base original'!AE132*100-100)*'Data base original'!AE132/('Data base original'!$AN132)","v":-0.55624238016905003},{"$f":"('Data base original'!AF144/'Data base original'!AF132*100-100)*'Data base original'!AF132/('Data base original'!$AN132)","v":3.8409176457928034},{"$f":"('Data base original'!AG144/'Data base original'!AG132*100-100)*'Data base original'!AG132/('Data base original'!$AN132)","v":-0.40518240293195457},{"$f":"('Data base original'!AH144/'Data base original'!AH132*100-100)*'Data base original'!AH132/('Data base original'!$AN132)","v":9.6508075530187712E-2},{"$f":"('Data base original'!AI144/'Data base original'!AI132*100-100)*'Data base original'!AI132/('Data base original'!$AN132)","v":1.1097459931244309},{"$f":"('Data base original'!AJ144/'Data base original'!AJ132*100-100)*'Data base original'!AJ132/('Data base original'!$AN132)","v":1.6917893791941596},{"$f":"('Data base original'!AK144/'Data base original'!AK132*100-100)*'Data base original'!AK132/('Data base original'!$AN132)","v":3.3781635601459838E-2},{"$f":"-('Data base original'!AL144/'Data base original'!AL132*100-100)*'Data base original'!AL132/('Data base original'!$AN132)","v":-1.0542511104098997},{"$f":"-('Data base original'!AM144/'Data base original'!AM132*100-100)*'Data base original'!AM132/('Data base original'!$AN132)","v":-4.0523089150253299E-3},{"$f":"(('Data base original'!AJ144-'Data base original'!AL144)/('Data base original'!AJ132-'Data base original'!AL132)*100-100)*(('Data base original'!AJ132-'Data base original'!AL132)/'Data base original'!AN132)","v":0.63753826878426012},{"$f":"(('Data base original'!AK144-'Data base original'!AM144)/('Data base original'!AK132-'Data base original'!AM132)*100-100)*(('Data base original'!AK132-'Data base original'!AM132)/'Data base original'!AN132)","v":2.9729326686434455E-2},{"$f":"('Data base original'!AN144/'Data base original'!AN132*100-100)*'Data base original'!AN132/('Data base original'!$AN132)","v":8.2573474124089046}]
[{"$f":"'Data base original'!A145","v":"2017-03-01"},{"$f":"'Data base original'!B145/'Data base original'!B133*100-100","v":5.0410777204568973},{"$f":"'Data base original'!C145/'Data base original'!C133*100-100","v":7.9428669372631617},{"$f":"'Data base original'!D145/'Data base original'!D133*100-100","v":9.395772786014561},{"$f":"'Data base original'!E145/'Data base original'!E133*100-100","v":-4.0225457335502881},{"$f":"'Data base original'!F145/'Data base original'!F133*100-100","v":5.9201182728318997},{"$f":"'Data base original'!G145","v":22.02},{"$f":"'Data base original'!H145","v":23.09},{"$f":"'Data base original'!I145","v":13.59},{"$f":"'Data base original'!J145","v":28.4},{"$f":"'Data base original'!K145","v":8.18},{"$f":"'Data base original'!L145","v":5.32},{"$f":"'Data base original'!M145","v":10.99},{"$f":"'Data base original'!N145","v":2.33},{"$f":"'Data base original'!O145","v":2.0699999999999998},{"$f":"'Data base original'!P145","v":2.77},{"$f":"'Data base original'!Q145","v":3.47},{"$f":"('Data base original'!S145/'Data base original'!S133*100-100)*'Data base original'!S133/'Data base original'!$V133","v":1.2036704715152995},{"$f":"('Data base original'!T145/'Data base original'!T133*100-100)*'Data base original'!T133/'Data base original'!$V133","v":3.8483958982289308},{"$f":"('Data base original'!U145/'Data base original'!U133*100-100)*'Data base original'!U133/'Data base original'!$V133","v":0.52180298094354682},{"$f":"('Data base original'!V145/'Data base original'!V133*100-100)*'Data base original'!V133/'Data base original'!$V133","v":5.5738693506877715},{"$f":"('Data base original'!V145/'Data base original'!V133*100-100)*'Data base original'!V133/('Data base original'!$AC133)","v":1.3683335176128124},{"$f":"('Data base original'!W145/'Data base original'!W133*100-100)*'Data base original'!W133/('Data base original'!$AC133)","v":3.0603889358432816},{"$f":"('Data base original'!X145/'Data base original'!X133*100-100)*'Data base original'!X133/('Data base original'!$AC133)","v":0.25174521943831435},{"$f":"('Data base original'!Y145/'Data base original'!Y133*100-100)*'Data base original'!Y133/('Data base original'!$AC133)","v":2.2799118823043769},{"$f":"('Data base original'!Z145/'Data base original'!Z133*100-100)*'Data base original'!Z133/('Data base original'!$AC133)","v":0.11755231112312517},{"$f":"-('Data base original'!AA145/'Data base original'!AA133*100-100)*'Data base original'!AA133/('Data base original'!$AC133)","v":-2.1036624905513208},{"$f":"-('Data base original'!AB145/'Data base original'!AB133*100-100)*'Data base original'!AB133/('Data base original'!$AC133)","v":3.9930501606231058E-4},{"$f":"(('Data base original'!Y145-'Data base original'!AA145)/('Data base original'!Y133-'Data base original'!AA133)*100-100)*(('Data base original'!Y133-'Data base original'!AA133)/'Data base original'!AC133)","v":0.17624939175305707},{"$f":"(('Data base original'!Z145-'Data base original'!AB145)/('Data base original'!Z133-'Data base original'!AB133)*100-100)*(('Data base original'!Z133-'Data base original'!AB133)/'Data base original'!AC133)","v":0.11795161613918757},{"$f":"('Data base original'!AC145/'Data base original'!AC133*100-100)*'Data base original'!AC133/('Data base original'!$AC133)","v":4.9746686807866638},{"$f":"('Data base original'!AC145/'Data base original'!AC133*100-100)*'Data base original'!AC133/('Data base original'!$AN133)","v":3.0164913786546697},{"$f":"('Data base original'!AD145/'Data base original'!AD133*100-100)*'Data base original'!AD133/('Data base original'!$AN133)","v":1.151297553854109},{"$f":"('Data base original'!AE145/'Data base original'!AE133*100-100)*'Data base original'!AE133/('Data base original'!$AN133)","v":-0.29994210721990999},{"$f":"('Data base original'!AF145/'Data base original'!AF133*100-100)*'Data base original'!AF133/('Data base original'!$AN133)","v":3.81863621825307},{"$f":"('Data base original'!AG145/'Data base original'!AG133*100-100)*'Data base original'!AG133/('Data base original'!$AN133)","v":-0.38812859533507738},{"$f":"('Data base original'!AH145/'Data base original'!AH133*100-100)*'Data base original'!AH133/('Data base original'!$AN133)","v":9.0273937740459803E-2},{"$f":"('Data base original'!AI145/'Data base original'!AI133*100-100)*'Data base original'!AI133/('Data base original'!$AN133)","v":1.0764382094811258},{"$f":"('Data base original'!AJ145/'Data base original'!AJ133*100-100)*'Data base original'!AJ133/('Data base original'!$AN133)","v":1.5315086097195176},{"$f":"('Data base original'!AK145/'Data base original'!AK133*100-100)*'Data base original'!AK133/('Data base original'!$AN133)","v":3.3308597539135093E-2},{"$f":"-('Data base original'!AL145/'Data base original'!AL133*100-100)*'Data base original'!AL133/('Data base original'!$AN133)","v":-0.88578043512229454},{"$f":"-('Data base original'!AM145/'Data base original'!AM133*100-100)*'Data base original'!AM133/('Data base original'!$AN133)","v":-3.547684915764271E-3},{"$f":"(('Data base original'!AJ145-'Data base original'!AL145)/('Data base original'!AJ133-'Data base original'!AL133)*100-100)*(('Data base original'!AJ133-'Data base original'!AL133)/'Data base original'!AN133)","v":0.64572817459722287},{"$f":"(('Data base original'!AK145-'Data base original'!AM145)/('Data base original'!AK133-'Data base original'!AM133)*100-100)*(('Data base original'!AK133-'Data base original'!AM133)/'Data base original'!AN133)","v":2.9760912623370925E-2},{"$f":"('Data base original'!AN145/'Data base original'!AN133*100-100)*'Data base original'!AN133/('Data base original'!$AN133)","v":9.1405556826490368}]
[{"$f":"'Data base original'!A146","v":"2017-04-01"},{"$f":"'Data base original'!B146/'Data base original'!B134*100-100","v":5.7908928305995744},{"$f":"'Data base original'!C146/'Data base original'!C134*100-100","v":7.4634305043416589},{"$f":"'Data base original'!D146/'Data base original'!D134*100-100","v":9.3590182470187244},{"$f":"'Data base original'!E146/'Data base original'!E134*100-100","v":-0.67391102079936616},{"$f":"'Data base original'!F146/'Data base original'!F134*100-100","v":6.5050836527385911},{"$f":"'Data base original'!G146","v":22.83},{"$f":"'Data base original'!H146","v":23.94},{"$f":"'Data base original'!I146","v":13.99},{"$f":"'Data base original'!J146","v":28.56},{"$f":"'Data base original'!K146","v":7.48},{"$f":"'Data base original'!L146","v":4.7699999999999996},{"$f":"'Data base original'!M146","v":9.7899999999999991},{"$f":"'Data base original'!N146","v":2.35},{"$f":"'Data base original'!O146","v":2.17},{"$f":"'Data base original'!P146","v":2.7},{"$f":"'Data base original'!Q146","v":3.42},{"$f":"('Data base original'!S146/'Data base original'!S134*100-100)*'Data base original'!S134/'Data base original'!$V134","v":1.3002927578584675},{"$f":"('Data base original'!T146/'Data base original'!T134*100-100)*'Data base original'!T134/'Data base original'!$V134","v":3.6262465921667579},{"$f":"('Data base original'!U146/'Data base original'!U134*100-100)*'Data base original'!U134/'Data base original'!$V134","v":3.3077342765764906},{"$f":"('Data base original'!V146/'Data base original'!V134*100-100)*'Data base original'!V134/'Data base original'!$V134","v":8.2342736266017198},{"$f":"('Data base original'!V146/'Data base original'!V134*100-100)*'Data base original'!V134/('Data base original'!$AC134)","v":2.0104420852521914},{"$f":"('Data base original'!W146/'Data base original'!W134*100-100)*'Data base original'!W134/('Data base original'!$AC134)","v":1.5583794068062413},{"$f":"('Data base original'!X146/'Data base original'!X134*100-100)*'Data base original'!X134/('Data base original'!$AC134)","v":0.24364603646698771},{"$f":"('Data base original'!Y146/'Data base original'!Y134*100-100)*'Data base original'!Y134/('Data base original'!$AC134)","v":2.4606129519174536},{"$f":"('Data base original'!Z146/'Data base original'!Z134*100-100)*'Data base original'!Z134/('Data base original'!$AC134)","v":0.12703508076349071},{"$f":"-('Data base original'!AA146/'Data base original'!AA134*100-100)*'Data base original'!AA134/('Data base original'!$AC134)","v":-2.1223651230695317},{"$f":"-('Data base original'!AB146/'Data base original'!AB134*100-100)*'Data base original'!AB134/('Data base original'!$AC134)","v":-1.1922159166257908E-2},{"$f":"(('Data base original'!Y146-'Data base original'!AA146)/('Data base original'!Y134-'Data base original'!AA134)*100-100)*(('Data base original'!Y134-'Data base original'!AA134)/'Data base original'!AC134)","v":0.33824782884791965},{"$f":"(('Data base original'!Z146-'Data base original'!AB146)/('Data base original'!Z134-'Data base original'!AB134)*100-100)*(('Data base original'!Z134-'Data base original'!AB134)/'Data base original'!AC134)","v":0.1151129215972327},{"$f":"('Data base original'!AC146/'Data base original'!AC134*100-100)*'Data base original'!AC134/('Data base original'!$AC134)","v":4.2658282789706021},{"$f":"('Data base original'!AC146/'Data base original'!AC134*100-100)*'Data base original'!AC134/('Data base original'!$AN134)","v":2.596943651930268},{"$f":"('Data base original'!AD146/'Data base original'!AD134*100-100)*'Data base original'!AD134/('Data base original'!$AN134)","v":1.1221079145756125},{"$f":"('Data base original'!AE146/'Data base original'!AE134*100-100)*'Data base original'!AE134/('Data base original'!$AN134)","v":0.17198980476877038},{"$f":"('Data base original'!AF146/'Data base original'!AF134*100-100)*'Data base original'!AF134/('Data base original'!$AN134)","v":3.7727956947971637},{"$f":"('Data base original'!AG146/'Data base original'!AG134*100-100)*'Data base original'!AG134/('Data base original'!$AN134)","v":4.8481877673322994E-2},{"$f":"('Data base original'!AH146/'Data base original'!AH134*100-100)*'Data base original'!AH134/('Data base original'!$AN134)","v":7.7212018162178223E-2},{"$f":"('Data base original'!AI146/'Data base original'!AI134*100-100)*'Data base original'!AI134/('Data base original'!$AN134)","v":1.1320134066546594},{"$f":"('Data base original'!AJ146/'Data base original'!AJ134*100-100)*'Data base original'!AJ134/('Data base original'!$AN134)","v":1.6734751343460628},{"$f":"('Data base original'!AK146/'Data base original'!AK134*100-100)*'Data base original'!AK134/('Data base original'!$AN134)","v":3.990385738591274E-2},{"$f":"-('Data base original'!AL146/'Data base original'!AL134*100-100)*'Data base original'!AL134/('Data base original'!$AN134)","v":-0.94370388467792143},{"$f":"-('Data base original'!AM146/'Data base original'!AM134*100-100)*'Data base original'!AM134/('Data base original'!$AN134)","v":-9.9993850290155031E-3},{"$f":"(('Data base original'!AJ146-'Data base original'!AL146)/('Data base original'!AJ134-'Data base original'!AL134)*100-100)*(('Data base original'!AJ134-'Data base original'!AL134)/'Data base original'!AN134)","v":0.72977124966814044},{"$f":"(('Data base original'!AK146-'Data base original'!AM146)/('Data base original'!AK134-'Data base original'!AM134)*100-100)*(('Data base original'!AK134-'Data base original'!AM134)/'Data base original'!AN134)","v":2.9904472356897218E-2},{"$f":"('Data base original'!AN146/'Data base original'!AN134*100-100)*'Data base original'!AN134/('Data base original'!$AN134)","v":9.6812200905870043}]
[{"$f":"'Data base original'!A147","v":"2017-05-01"},{"$f":"'Data base original'!B147/'Data base original'!B135*100-100","v":3.5829515642111147},{"$f":"'Data base original'!C147/'Data base original'!C135*100-100","v":7.1792231092464363},{"$f":"'Data base original'!D147/'Data base original'!D135*100-100","v":9.5526342864884555},{"$f":"'Data base original'!E147/'Data base original'!E135*100-100","v":-7.4424931934107406},{"$f":"'Data base original'!F147/'Data base original'!F135*100-100","v":4.80809519697209},{"$f":"'Data base original'!G147","v":21.88},{"$f":"'Data base original'!H147","v":22.79},{"$f":"'Data base original'!I147","v":13.72},{"$f":"'Data base original'!J147","v":28.18},{"$f":"'Data base original'!K147","v":7.03},{"$f":"'Data base original'!L147","v":4.88},{"$f":"'Data base original'!M147","v":8.49},{"$f":"'Data base original'!N147","v":2.23},{"$f":"'Data base original'!O147","v":1.97},{"$f":"'Data base original'!P147","v":2.69},{"$f":"'Data base original'!Q147","v":3.36},{"$f":"('Data base original'!S147/'Data base original'!S135*100-100)*'Data base original'!S135/'Data base original'!$V135","v":1.1822085353169516},{"$f":"('Data base original'!T147/'Data base original'!T135*100-100)*'Data base original'!T135/'Data base original'!$V135","v":3.7166599078911546},{"$f":"('Data base original'!U147/'Data base original'!U135*100-100)*'Data base original'!U135/'Data base original'!$V135","v":4.3357370095024557},{"$f":"('Data base original'!V147/'Data base original'!V135*100-100)*'Data base original'!V135/'Data base original'!$V135","v":9.2346054527105537},{"$f":"('Data base original'!V147/'Data base original'!V135*100-100)*'Data base original'!V135/('Data base original'!$AC135)","v":2.2500800684604494},{"$f":"('Data base original'!W147/'Data base original'!W135*100-100)*'Data base original'!W135/('Data base original'!$AC135)","v":2.1524025843291206},{"$f":"('Data base original'!X147/'Data base original'!X135*100-100)*'Data base original'!X135/('Data base original'!$AC135)","v":0.24156345517523889},{"$f":"('Data base original'!Y147/'Data base original'!Y135*100-100)*'Data base original'!Y135/('Data base original'!$AC135)","v":1.0782558162631866},{"$f":"('Data base original'!Z147/'Data base original'!Z135*100-100)*'Data base original'!Z135/('Data base original'!$AC135)","v":0.14580807631688231},{"$f":"-('Data base original'!AA147/'Data base original'!AA135*100-100)*'Data base original'!AA135/('Data base original'!$AC135)","v":-0.93316702733861834},{"$f":"-('Data base original'!AB147/'Data base original'!AB135*100-100)*'Data base original'!AB135/('Data base original'!$AC135)","v":-1.9923010788222714E-2},{"$f":"(('Data base original'!Y147-'Data base original'!AA147)/('Data base original'!Y135-'Data base original'!AA135)*100-100)*(('Data base original'!Y135-'Data base original'!AA135)/'Data base original'!AC135)","v":0.14508878892456967},{"$f":"(('Data base original'!Z147-'Data base original'!AB147)/('Data base original'!Z135-'Data base original'!AB135)*100-100)*(('Data base original'!Z135-'Data base original'!AB135)/'Data base original'!AC135)","v":0.1258850655286595},{"$f":"('Data base original'!AC147/'Data base original'!AC135*100-100)*'Data base original'!AC135/('Data base original'!$AC135)","v":4.9150199624180573},{"$f":"('Data base original'!AC147/'Data base original'!AC135*100-100)*'Data base original'!AC135/('Data base original'!$AN135)","v":2.9534024236076166},{"$f":"('Data base original'!AD147/'Data base original'!AD135*100-100)*'Data base original'!AD135/('Data base original'!$AN135)","v":0.43273067799428355},{"$f":"('Data base original'!AE147/'Data base original'!AE135*100-100)*'Data base original'!AE135/('Data base original'!$AN135)","v":-0.47362792741536963},{"$f":"('Data base original'!AF147/'Data base original'!AF135*100-100)*'Data base original'!AF135/('Data base original'!$AN135)","v":2.9790294948649874},{"$f":"('Data base original'!AG147/'Data base original'!AG135*100-100)*'Data base original'!AG135/('Data base original'!$AN135)","v":4.1941819719334784E-2},{"$f":"('Data base original'!AH147/'Data base original'!AH135*100-100)*'Data base original'!AH135/('Data base original'!$AN135)","v":6.3360809434890586E-2},{"$f":"('Data base original'!AI147/'Data base original'!AI135*100-100)*'Data base original'!AI135/('Data base original'!$AN135)","v":1.2051679520402456},{"$f":"('Data base original'!AJ147/'Data base original'!AJ135*100-100)*'Data base original'!AJ135/('Data base original'!$AN135)","v":1.6792607748006454},{"$f":"('Data base original'!AK147/'Data base original'!AK135*100-100)*'Data base original'!AK135/('Data base original'!$AN135)","v":4.4206877795581107E-2},{"$f":"-('Data base original'!AL147/'Data base original'!AL135*100-100)*'Data base original'!AL135/('Data base original'!$AN135)","v":-0.69752763413287122},{"$f":"-('Data base original'!AM147/'Data base original'!AM135*100-100)*'Data base original'!AM135/('Data base original'!$AN135)","v":-1.438204127204286E-2},{"$f":"(('Data base original'!AJ147-'Data base original'!AL147)/('Data base original'!AJ135-'Data base original'!AL135)*100-100)*(('Data base original'!AJ135-'Data base original'!AL135)/'Data base original'!AN135)","v":0.98173314066777551},{"$f":"(('Data base original'!AK147-'Data base original'!AM147)/('Data base original'!AK135-'Data base original'!AM135)*100-100)*(('Data base original'!AK135-'Data base original'!AM135)/'Data base original'!AN135)","v":2.982483652353829E-2},{"$f":"('Data base original'!AN147/'Data base original'!AN135*100-100)*'Data base original'!AN135/('Data base original'!$AN135)","v":8.2135632274373194}]
[{"$f":"'Data base original'!A148","v":"2017-06-01"},{"$f":"'Data base original'!B148/'Data base original'!B136*100-100","v":3.7565482340687453},{"$f":"'Data base original'!C148/'Data base original'!C136*100-100","v":6.9516875220204213},{"$f":"'Data base original'!D148/'Data base original'!D136*100-100","v":9.7276527776044759},{"$f":"'Data base original'!E148/'Data base original'!E136*100-100","v":-6.5988880324402004},{"$f":"'Data base original'!F148/'Data base original'!F136*100-100","v":5.0322742146195196},{"$f":"'Data base original'!G148","v":22.2},{"$f":"'Data base original'!H148","v":23.51},{"$f":"'Data base original'!I148","v":13.53},{"$f":"'Data base original'!J148","v":28.15},{"$f":"'Data base original'!K148","v":7.25},{"$f":"'Data base original'!L148","v":4.8},{"$f":"'Data base original'!M148","v":8.81},{"$f":"'Data base original'!N148","v":2.4900000000000002},{"$f":"'Data base original'!O148","v":2.2400000000000002},{"$f":"'Data base original'!P148","v":2.91},{"$f":"'Data base original'!Q148","v":3.29},{"$f":"('Data base original'!S148/'Data base original'!S136*100-100)*'Data base original'!S136/'Data base original'!$V136","v":1.4543290009605707},{"$f":"('Data base original'!T148/'Data base original'!T136*100-100)*'Data base original'!T136/'Data base original'!$V136","v":5.490220402405245},{"$f":"('Data base original'!U148/'Data base original'!U136*100-100)*'Data base original'!U136/'Data base original'!$V136","v":2.8596107250233311},{"$f":"('Data base original'!V148/'Data base original'!V136*100-100)*'Data base original'!V136/'Data base original'!$V136","v":9.8041601283891424},{"$f":"('Data base original'!V148/'Data base original'!V136*100-100)*'Data base original'!V136/('Data base original'!$AC136)","v":2.38913849217789},{"$f":"('Data base original'!W148/'Data base original'!W136*100-100)*'Data base original'!W136/('Data base original'!$AC136)","v":1.7619556652647521},{"$f":"('Data base original'!X148/'Data base original'!X136*100-100)*'Data base original'!X136/('Data base original'!$AC136)","v":0.23103389143938363},{"$f":"('Data base original'!Y148/'Data base original'!Y136*100-100)*'Data base original'!Y136/('Data base original'!$AC136)","v":2.115003121716196},{"$f":"('Data base original'!Z148/'Data base original'!Z136*100-100)*'Data base original'!Z136/('Data base original'!$AC136)","v":0.13868428827413956},{"$f":"-('Data base original'!AA148/'Data base original'!AA136*100-100)*'Data base original'!AA136/('Data base original'!$AC136)","v":-1.8319306336506072},{"$f":"-('Data base original'!AB148/'Data base original'!AB136*100-100)*'Data base original'!AB136/('Data base original'!$AC136)","v":-1.0783251742873742E-2},{"$f":"(('Data base original'!Y148-'Data base original'!AA148)/('Data base original'!Y136-'Data base original'!AA136)*100-100)*(('Data base original'!Y136-'Data base original'!AA136)/'Data base original'!AC136)","v":0.28307248806558866},{"$f":"(('Data base original'!Z148-'Data base original'!AB148)/('Data base original'!Z136-'Data base original'!AB136)*100-100)*(('Data base original'!Z136-'Data base original'!AB136)/'Data base original'!AC136)","v":0.12790103653126592},{"$f":"('Data base original'!AC148/'Data base original'!AC136*100-100)*'Data base original'!AC136/('Data base original'!$AC136)","v":4.7931015734788929},{"$f":"('Data base original'!AC148/'Data base original'!AC136*100-100)*'Data base original'!AC136/('Data base original'!$AN136)","v":2.8688154089396054},{"$f":"('Data base original'!AD148/'Data base original'!AD136*100-100)*'Data base original'!AD136/('Data base original'!$AN136)","v":0.30730965168295604},{"$f":"('Data base original'!AE148/'Data base original'!AE136*100-100)*'Data base original'!AE136/('Data base original'!$AN136)","v":-0.52741469798071738},{"$f":"('Data base original'!AF148/'Data base original'!AF136*100-100)*'Data base original'!AF136/('Data base original'!$AN136)","v":2.8923435874756667},{"$f":"('Data base original'!AG148/'Data base original'!AG136*100-100)*'Data base original'!AG136/('Data base original'!$AN136)","v":7.9764583216968027E-2},{"$f":"('Data base original'!AH148/'Data base original'!AH136*100-100)*'Data base original'!AH136/('Data base original'!$AN136)","v":5.036526165141246E-2},{"$f":"('Data base original'!AI148/'Data base original'!AI136*100-100)*'Data base original'!AI136/('Data base original'!$AN136)","v":1.2632110559795848},{"$f":"('Data base original'!AJ148/'Data base original'!AJ136*100-100)*'Data base original'!AJ136/('Data base original'!$AN136)","v":1.6239238678648618},{"$f":"('Data base original'!AK148/'Data base original'!AK136*100-100)*'Data base original'!AK136/('Data base original'!$AN136)","v":5.2719702288695165E-2},{"$f":"-('Data base original'!AL148/'Data base original'!AL136*100-100)*'Data base original'!AL136/('Data base original'!$AN136)","v":-0.46089342906646968},{"$f":"-('Data base original'!AM148/'Data base original'!AM136*100-100)*'Data base original'!AM136/('Data base original'!$AN136)","v":-2.0467161330540377E-2},{"$f":"(('Data base original'!AJ148-'Data base original'!AL148)/('Data base original'!AJ136-'Data base original'!AL136)*100-100)*(('Data base original'!AJ136-'Data base original'!AL136)/'Data base original'!AN136)","v":1.1630304387983927},{"$f":"(('Data base original'!AK148-'Data base original'!AM148)/('Data base original'!AK136-'Data base original'!AM136)*100-100)*(('Data base original'!AK136-'Data base original'!AM136)/'Data base original'!AN136)","v":3.2252540958154892E-2},{"$f":"('Data base original'!AN148/'Data base original'!AN136*100-100)*'Data base original'!AN136/('Data base original'!$AN136)","v":8.1296778307220308}]
[{"$f":"'Data base original'!A149","v":"2017-07-01"},{"$f":"'Data base original'!B149/'Data base original'!B137*100-100","v":2.5730259354161973},{"$f":"'Data base original'!C149/'Data base original'!C137*100-100","v":6.3655507140583296},{"$f":"'Data base original'!D149/'Data base original'!D137*100-100","v":9.3927034802604226},{"$f":"'Data base original'!E149/'Data base original'!E137*100-100","v":-8.7737905513542387},{"$f":"'Data base original'!F149/'Data base original'!F137*100-100","v":4.0724575208073759},{"$f":"'Data base original'!G149","v":22.01},{"$f":"'Data base original'!H149","v":23},{"$f":"'Data base original'!I149","v":13.83},{"$f":"'Data base original'!J149","v":27.88},{"$f":"'Data base original'!K149","v":7.08},{"$f":"'Data base original'!L149","v":4.8099999999999996},{"$f":"'Data base original'!M149","v":8.75},{"$f":"'Data base original'!N149","v":2.39},{"$f":"'Data base original'!O149","v":2.0699999999999998},{"$f":"'Data base original'!P149","v":2.87},{"$f":"'Data base original'!Q149","v":3.2},{"$f":"('Data base original'!S149/'Data base original'!S137*100-100)*'Data base original'!S137/'Data base original'!$V137","v":1.1398960380756495},{"$f":"('Data base original'!T149/'Data base original'!T137*100-100)*'Data base original'!T137/'Data base original'!$V137","v":5.4634196793581928},{"$f":"('Data base original'!U149/'Data base original'!U137*100-100)*'Data base original'!U137/'Data base original'!$V137","v":3.5606588982074423},{"$f":"('Data base original'!V149/'Data base original'!V137*100-100)*'Data base original'!V137/'Data base original'!$V137","v":10.163974615641296},{"$f":"('Data base original'!V149/'Data base original'!V137*100-100)*'Data base original'!V137/('Data base original'!$AC137)","v":2.4319329257290905},{"$f":"('Data base original'!W149/'Data base original'!W137*100-100)*'Data base original'!W137/('Data base original'!$AC137)","v":2.3187769498948811},{"$f":"('Data base original'!X149/'Data base original'!X137*100-100)*'Data base original'!X137/('Data base original'!$AC137)","v":0.21933709716900138},{"$f":"('Data base original'!Y149/'Data base original'!Y137*100-100)*'Data base original'!Y137/('Data base original'!$AC137)","v":2.274225276772099},{"$f":"('Data base original'!Z149/'Data base original'!Z137*100-100)*'Data base original'!Z137/('Data base original'!$AC137)","v":0.11690930716572903},{"$f":"-('Data base original'!AA149/'Data base original'!AA137*100-100)*'Data base original'!AA137/('Data base original'!$AC137)","v":-2.068603811058944},{"$f":"-('Data base original'!AB149/'Data base original'!AB137*100-100)*'Data base original'!AB137/('Data base original'!$AC137)","v":-1.5006466954512456E-2},{"$f":"(('Data base original'!Y149-'Data base original'!AA149)/('Data base original'!Y137-'Data base original'!AA137)*100-100)*(('Data base original'!Y137-'Data base original'!AA137)/'Data base original'!AC137)","v":0.20562146571315479},{"$f":"(('Data base original'!Z149-'Data base original'!AB149)/('Data base original'!Z137-'Data base original'!AB137)*100-100)*(('Data base original'!Z137-'Data base original'!AB137)/'Data base original'!AC137)","v":0.10190284021121659},{"$f":"('Data base original'!AC149/'Data base original'!AC137*100-100)*'Data base original'!AC137/('Data base original'!$AC137)","v":5.2775712787173461},{"$f":"('Data base original'!AC149/'Data base original'!AC137*100-100)*'Data base original'!AC137/('Data base original'!$AN137)","v":3.1257231797408673},{"$f":"('Data base original'!AD149/'Data base original'!AD137*100-100)*'Data base original'!AD137/('Data base original'!$AN137)","v":0.12266220359552545},{"$f":"('Data base original'!AE149/'Data base original'!AE137*100-100)*'Data base original'!AE137/('Data base original'!$AN137)","v":-0.80200757178857152},{"$f":"('Data base original'!AF149/'Data base original'!AF137*100-100)*'Data base original'!AF137/('Data base original'!$AN137)","v":2.498432056791684},{"$f":"('Data base original'!AG149/'Data base original'!AG137*100-100)*'Data base original'!AG137/('Data base original'!$AN137)","v":0.12877281831619994},{"$f":"('Data base original'!AH149/'Data base original'!AH137*100-100)*'Data base original'!AH137/('Data base original'!$AN137)","v":2.4492313393089073E-2},{"$f":"('Data base original'!AI149/'Data base original'!AI137*100-100)*'Data base original'!AI137/('Data base original'!$AN137)","v":1.2449882641902354},{"$f":"('Data base original'!AJ149/'Data base original'!AJ137*100-100)*'Data base original'!AJ137/('Data base original'!$AN137)","v":1.4414794236379735},{"$f":"('Data base original'!AK149/'Data base original'!AK137*100-100)*'Data base original'!AK137/('Data base original'!$AN137)","v":5.687284701552215E-2},{"$f":"-('Data base original'!AL149/'Data base original'!AL137*100-100)*'Data base original'!AL137/('Data base original'!$AN137)","v":-0.15093574161751483},{"$f":"-('Data base original'!AM149/'Data base original'!AM137*100-100)*'Data base original'!AM137/('Data base original'!$AN137)","v":-2.1717763545572824E-2},{"$f":"(('Data base original'!AJ149-'Data base original'!AL149)/('Data base original'!AJ137-'Data base original'!AL137)*100-100)*(('Data base original'!AJ137-'Data base original'!AL137)/'Data base original'!AN137)","v":1.2905436820204597},{"$f":"(('Data base original'!AK149-'Data base original'!AM149)/('Data base original'!AK137-'Data base original'!AM137)*100-100)*(('Data base original'!AK137-'Data base original'!AM137)/'Data base original'!AN137)","v":3.515508346994934E-2},{"$f":"('Data base original'!AN149/'Data base original'!AN137*100-100)*'Data base original'!AN137/('Data base original'!$AN137)","v":7.6687620297294643}]
[{"$f":"'Data base original'!A150","v":"2017-08-01"},{"$f":"'Data base original'!B150/'Data base original'!B138*100-100","v":2.0810097835228305},{"$f":"'Data base original'!C150/'Data base original'!C138*100-100","v":6.323338915858173},{"$f":"'Data base original'!D150/'Data base original'!D138*100-100","v":9.3653809765656035},{"$f":"'Data base original'!E150/'Data base original'!E138*100-100","v":-13.828486074997954},{"$f":"'Data base original'!F150/'Data base original'!F138*100-100","v":3.4450051833298403},{"$f":"'Data base original'!G150","v":21.45},{"$f":"'Data base original'!H150","v":22.65},{"$f":"'Data base original'!I150","v":13.39},{"$f":"'Data base original'!J150","v":27.96},{"$f":"'Data base original'!K150","v":6.79},{"$f":"'Data base original'!L150","v":4.54},{"$f":"'Data base original'!M150","v":8.68},{"$f":"'Data base original'!N150","v":2.52},{"$f":"'Data base original'!O150","v":2.17},{"$f":"'Data base original'!P150","v":2.89},{"$f":"'Data base original'!Q150","v":3.19},{"$f":"('Data base original'!S150/'Data base original'!S138*100-100)*'Data base original'!S138/'Data base original'!$V138","v":1.0177173716114005},{"$f":"('Data base original'!T150/'Data base original'!T138*100-100)*'Data base original'!T138/'Data base original'!$V138","v":5.4323994737513184},{"$f":"('Data base original'!U150/'Data base original'!U138*100-100)*'Data base original'!U138/'Data base original'!$V138","v":4.1432158130149785},{"$f":"('Data base original'!V150/'Data base original'!V138*100-100)*'Data base original'!V138/'Data base original'!$V138","v":10.59333265837769},{"$f":"('Data base original'!V150/'Data base original'!V138*100-100)*'Data base original'!V138/('Data base original'!$AC138)","v":2.5014177874822701},{"$f":"('Data base original'!W150/'Data base original'!W138*100-100)*'Data base original'!W138/('Data base original'!$AC138)","v":1.964104552161418},{"$f":"('Data base original'!X150/'Data base original'!X138*100-100)*'Data base original'!X138/('Data base original'!$AC138)","v":0.20277750985628282},{"$f":"('Data base original'!Y150/'Data base original'!Y138*100-100)*'Data base original'!Y138/('Data base original'!$AC138)","v":1.2336520265239763},{"$f":"('Data base original'!Z150/'Data base original'!Z138*100-100)*'Data base original'!Z138/('Data base original'!$AC138)","v":0.11002293292654843},{"$f":"-('Data base original'!AA150/'Data base original'!AA138*100-100)*'Data base original'!AA138/('Data base original'!$AC138)","v":-1.3282393574470466},{"$f":"-('Data base original'!AB150/'Data base original'!AB138*100-100)*'Data base original'!AB138/('Data base original'!$AC138)","v":-2.420803444933119E-2},{"$f":"(('Data base original'!Y150-'Data base original'!AA150)/('Data base original'!Y138-'Data base original'!AA138)*100-100)*(('Data base original'!Y138-'Data base original'!AA138)/'Data base original'!AC138)","v":-9.4587330923071741E-2},{"$f":"(('Data base original'!Z150-'Data base original'!AB150)/('Data base original'!Z138-'Data base original'!AB138)*100-100)*(('Data base original'!Z138-'Data base original'!AB138)/'Data base original'!AC138)","v":8.5814898477217294E-2},{"$f":"('Data base original'!AC150/'Data base original'!AC138*100-100)*'Data base original'!AC138/('Data base original'!$AC138)","v":4.6595274170541368},{"$f":"('Data base original'!AC150/'Data base original'!AC138*100-100)*'Data base original'!AC138/('Data base original'!$AN138)","v":2.7331984007362986},{"$f":"('Data base original'!AD150/'Data base original'!AD138*100-100)*'Data base original'!AD138/('Data base original'!$AN138)","v":-0.35700185934419787},{"$f":"('Data base original'!AE150/'Data base original'!AE138*100-100)*'Data base original'!AE138/('Data base original'!$AN138)","v":-0.92003257116004722},{"$f":"('Data base original'!AF150/'Data base original'!AF138*100-100)*'Data base original'!AF138/('Data base original'!$AN138)","v":1.8679950727831962},{"$f":"('Data base original'!AG150/'Data base original'!AG138*100-100)*'Data base original'!AG138/('Data base original'!$AN138)","v":-4.9673425587828104E-3},{"$f":"('Data base original'!AH150/'Data base original'!AH138*100-100)*'Data base original'!AH138/('Data base original'!$AN138)","v":-6.9278836460596599E-3},{"$f":"('Data base original'!AI150/'Data base original'!AI138*100-100)*'Data base original'!AI138/('Data base original'!$AN138)","v":1.1962142918491181},{"$f":"('Data base original'!AJ150/'Data base original'!AJ138*100-100)*'Data base original'!AJ138/('Data base original'!$AN138)","v":1.2612887761834901},{"$f":"('Data base original'!AK150/'Data base original'!AK138*100-100)*'Data base original'!AK138/('Data base original'!$AN138)","v":5.4180550566189783E-2},{"$f":"-('Data base original'!AL150/'Data base original'!AL138*100-100)*'Data base original'!AL138/('Data base original'!$AN138)","v":0.11371159499479985},{"$f":"-('Data base original'!AM150/'Data base original'!AM138*100-100)*'Data base original'!AM138/('Data base original'!$AN138)","v":-1.5350490065997858E-2},{"$f":"(('Data base original'!AJ150-'Data base original'!AL150)/('Data base original'!AJ138-'Data base original'!AL138)*100-100)*(('Data base original'!AJ138-'Data base original'!AL138)/'Data base original'!AN138)","v":1.3750003711782892},{"$f":"(('Data base original'!AK150-'Data base original'!AM150)/('Data base original'!AK138-'Data base original'!AM138)*100-100)*(('Data base original'!AK138-'Data base original'!AM138)/'Data base original'!AN138)","v":3.8830060500191922E-2},{"$f":"('Data base original'!AN150/'Data base original'!AN138*100-100)*'Data base original'!AN138/('Data base original'!$AN138)","v":5.922308540337994}]
[{"$f":"'Data base original'!A151","v":"2017-09-01"},{"$f":"'Data base original'!B151/'Data base original'!B139*100-100","v":3.4978126810606653},{"$f":"'Data base original'!C151/'Data base original'!C139*100-100","v":6.1150548045610549},{"$f":"'Data base original'!D151/'Data base original'!D139*100-100","v":9.8430199518480492},{"$f":"'Data base original'!E151/'Data base original'!E139*100-100","v":-13.603442693316907},{"$f":"'Data base original'!F151/'Data base original'!F139*100-100","v":4.3748937187162937},{"$f":"'Data base original'!G151","v":22.06},{"$f":"'Data base original'!H151","v":23.26},{"$f":"'Data base original'!I151","v":13.4},{"$f":"'Data base original'!J151","v":27.8},{"$f":"'Data base original'!K151","v":6.9},{"$f":"'Data base original'!L151","v":4.5599999999999996},{"$f":"'Data base original'!M151","v":8.5500000000000007},{"$f":"'Data base original'!N151","v":2.59},{"$f":"'Data base original'!O151","v":2.4},{"$f":"'Data base original'!P151","v":2.87},{"$f":"'Data base original'!Q151","v":3.2},{"$f":"('Data base original'!S151/'Data base original'!S139*100-100)*'Data base original'!S139/'Data base original'!$V139","v":0.95541218820267915},{"$f":"('Data base original'!T151/'Data base original'!T139*100-100)*'Data base original'!T139/'Data base original'!$V139","v":5.7541983712517677},{"$f":"('Data base original'!U151/'Data base original'!U139*100-100)*'Data base original'!U139/'Data base original'!$V139","v":3.9889582244070247},{"$f":"('Data base original'!V151/'Data base original'!V139*100-100)*'Data base original'!V139/'Data base original'!$V139","v":10.698568783861461},{"$f":"('Data base original'!V151/'Data base original'!V139*100-100)*'Data base original'!V139/('Data base original'!$AC139)","v":2.5196233088298632},{"$f":"('Data base original'!W151/'Data base original'!W139*100-100)*'Data base original'!W139/('Data base original'!$AC139)","v":2.5484282001805667},{"$f":"('Data base original'!X151/'Data base original'!X139*100-100)*'Data base original'!X139/('Data base original'!$AC139)","v":0.19446591189662654},{"$f":"('Data base original'!Y151/'Data base original'!Y139*100-100)*'Data base original'!Y139/('Data base original'!$AC139)","v":1.321677201285407},{"$f":"('Data base original'!Z151/'Data base original'!Z139*100-100)*'Data base original'!Z139/('Data base original'!$AC139)","v":0.10854499352124262},{"$f":"-('Data base original'!AA151/'Data base original'!AA139*100-100)*'Data base original'!AA139/('Data base original'!$AC139)","v":-1.3891226789439211},{"$f":"-('Data base original'!AB151/'Data base original'!AB139*100-100)*'Data base original'!AB139/('Data base original'!$AC139)","v":-2.6532461542543656E-2},{"$f":"(('Data base original'!Y151-'Data base original'!AA151)/('Data base original'!Y139-'Data base original'!AA139)*100-100)*(('Data base original'!Y139-'Data base original'!AA139)/'Data base original'!AC139)","v":-6.744547765851315E-2},{"$f":"(('Data base original'!Z151-'Data base original'!AB151)/('Data base original'!Z139-'Data base original'!AB139)*100-100)*(('Data base original'!Z139-'Data base original'!AB139)/'Data base original'!AC139)","v":8.2012531978699066E-2},{"$f":"('Data base original'!AC151/'Data base original'!AC139*100-100)*'Data base original'!AC139/('Data base original'!$AC139)","v":5.277084475227241},{"$f":"('Data base original'!AC151/'Data base original'!AC139*100-100)*'Data base original'!AC139/('Data base original'!$AN139)","v":3.1068037023223787},{"$f":"('Data base original'!AD151/'Data base original'!AD139*100-100)*'Data base original'!AD139/('Data base original'!$AN139)","v":-0.14686242624954945},{"$f":"('Data base original'!AE151/'Data base original'!AE139*100-100)*'Data base original'!AE139/('Data base original'!$AN139)","v":-1.1653380976438104},{"$f":"('Data base original'!AF151/'Data base original'!AF139*100-100)*'Data base original'!AF139/('Data base original'!$AN139)","v":1.5449912350185944},{"$f":"('Data base original'!AG151/'Data base original'!AG139*100-100)*'Data base original'!AG139/('Data base original'!$AN139)","v":6.1582594830024748E-2},{"$f":"('Data base original'!AH151/'Data base original'!AH139*100-100)*'Data base original'!AH139/('Data base original'!$AN139)","v":-2.109817312570594E-2},{"$f":"('Data base original'!AI151/'Data base original'!AI139*100-100)*'Data base original'!AI139/('Data base original'!$AN139)","v":1.1627039920104807},{"$f":"('Data base original'!AJ151/'Data base original'!AJ139*100-100)*'Data base original'!AJ139/('Data base original'!$AN139)","v":1.2968795997054898},{"$f":"('Data base original'!AK151/'Data base original'!AK139*100-100)*'Data base original'!AK139/('Data base original'!$AN139)","v":5.4212867946581512E-2},{"$f":"-('Data base original'!AL151/'Data base original'!AL139*100-100)*'Data base original'!AL139/('Data base original'!$AN139)","v":9.4843887712396199E-2},{"$f":"-('Data base original'!AM151/'Data base original'!AM139*100-100)*'Data base original'!AM139/('Data base original'!$AN139)","v":-1.1781599923828457E-2},{"$f":"(('Data base original'!AJ151-'Data base original'!AL151)/('Data base original'!AJ139-'Data base original'!AL139)*100-100)*(('Data base original'!AJ139-'Data base original'!AL139)/'Data base original'!AN139)","v":1.3917234874178863},{"$f":"(('Data base original'!AK151-'Data base original'!AM151)/('Data base original'!AK139-'Data base original'!AM139)*100-100)*(('Data base original'!AK139-'Data base original'!AM139)/'Data base original'!AN139)","v":4.2431268022753169E-2},{"$f":"('Data base original'!AN151/'Data base original'!AN139*100-100)*'Data base original'!AN139/('Data base original'!$AN139)","v":5.9769375826030426}]
[{"$f":"'Data base original'!A152","v":"2017-10-01"},{"$f":"'Data base original'!B152/'Data base original'!B140*100-100","v":3.230132712948361},{"$f":"'Data base original'!C152/'Data base original'!C140*100-100","v":5.9046568706891094},{"$f":"'Data base original'!D152/'Data base original'!D140*100-100","v":9.9504691249803727},{"$f":"'Data base original'!E152/'Data base original'!E140*100-100","v":-9.1576753867270213},{"$f":"'Data base original'!F152/'Data base original'!F140*100-100","v":4.5787711438196084},{"$f":"'Data base original'!G152","v":21.65},{"$f":"'Data base original'!H152","v":22.66},{"$f":"'Data base original'!I152","v":13.57},{"$f":"'Data base original'!J152","v":27.6},{"$f":"'Data base original'!K152","v":6.67},{"$f":"'Data base original'!L152","v":4.5999999999999996},{"$f":"'Data base original'!M152","v":8.01},{"$f":"'Data base original'!N152","v":2.4},{"$f":"'Data base original'!O152","v":2.0699999999999998},{"$f":"'Data base original'!P152","v":2.93},{"$f":"'Data base original'!Q152","v":3.26},{"$f":"('Data base original'!S152/'Data base original'!S140*100-100)*'Data base original'!S140/'Data base original'!$V140","v":0.91734703382819238},{"$f":"('Data base original'!T152/'Data base original'!T140*100-100)*'Data base original'!T140/'Data base original'!$V140","v":6.7034046944361867},{"$f":"('Data base original'!U152/'Data base original'!U140*100-100)*'Data base original'!U140/'Data base original'!$V140","v":4.3884414997331094},{"$f":"('Data base original'!V152/'Data base original'!V140*100-100)*'Data base original'!V140/'Data base original'!$V140","v":12.009193227997471},{"$f":"('Data base original'!V152/'Data base original'!V140*100-100)*'Data base original'!V140/('Data base original'!$AC140)","v":2.788036241585591},{"$f":"('Data base original'!W152/'Data base original'!W140*100-100)*'Data base original'!W140/('Data base original'!$AC140)","v":1.2611715634048757},{"$f":"('Data base original'!X152/'Data base original'!X140*100-100)*'Data base original'!X140/('Data base original'!$AC140)","v":0.19088971118784209},{"$f":"('Data base original'!Y152/'Data base original'!Y140*100-100)*'Data base original'!Y140/('Data base original'!$AC140)","v":1.4243785921193528},{"$f":"('Data base original'!Z152/'Data base original'!Z140*100-100)*'Data base original'!Z140/('Data base original'!$AC140)","v":0.15954825745910484},{"$f":"-('Data base original'!AA152/'Data base original'!AA140*100-100)*'Data base original'!AA140/('Data base original'!$AC140)","v":-1.4878980642477369},{"$f":"-('Data base original'!AB152/'Data base original'!AB140*100-100)*'Data base original'!AB140/('Data base original'!$AC140)","v":-2.9826524559734158E-2},{"$f":"(('Data base original'!Y152-'Data base original'!AA152)/('Data base original'!Y140-'Data base original'!AA140)*100-100)*(('Data base original'!Y140-'Data base original'!AA140)/'Data base original'!AC140)","v":-6.3519472128384796E-2},{"$f":"(('Data base original'!Z152-'Data base original'!AB152)/('Data base original'!Z140-'Data base original'!AB140)*100-100)*(('Data base original'!Z140-'Data base original'!AB140)/'Data base original'!AC140)","v":0.12972173289937067},{"$f":"('Data base original'!AC152/'Data base original'!AC140*100-100)*'Data base original'!AC140/('Data base original'!$AC140)","v":4.3062997769493023},{"$f":"('Data base original'!AC152/'Data base original'!AC140*100-100)*'Data base original'!AC140/('Data base original'!$AN140)","v":2.5459151300464273},{"$f":"('Data base original'!AD152/'Data base original'!AD140*100-100)*'Data base original'!AD140/('Data base original'!$AN140)","v":-6.789771779091211E-2},{"$f":"('Data base original'!AE152/'Data base original'!AE140*100-100)*'Data base original'!AE140/('Data base original'!$AN140)","v":-0.76213596013969775},{"$f":"('Data base original'!AF152/'Data base original'!AF140*100-100)*'Data base original'!AF140/('Data base original'!$AN140)","v":1.2580050027421643},{"$f":"('Data base original'!AG152/'Data base original'!AG140*100-100)*'Data base original'!AG140/('Data base original'!$AN140)","v":4.4698200887678521E-2},{"$f":"('Data base original'!AH152/'Data base original'!AH140*100-100)*'Data base original'!AH140/('Data base original'!$AN140)","v":-2.1701382099140971E-2},{"$f":"('Data base original'!AI152/'Data base original'!AI140*100-100)*'Data base original'!AI140/('Data base original'!$AN140)","v":1.1660757715884902},{"$f":"('Data base original'!AJ152/'Data base original'!AJ140*100-100)*'Data base original'!AJ140/('Data base original'!$AN140)","v":1.2851697203810217},{"$f":"('Data base original'!AK152/'Data base original'!AK140*100-100)*'Data base original'!AK140/('Data base original'!$AN140)","v":5.3896544087091734E-2},{"$f":"-('Data base original'!AL152/'Data base original'!AL140*100-100)*'Data base original'!AL140/('Data base original'!$AN140)","v":9.3608687684379438E-2},{"$f":"-('Data base original'!AM152/'Data base original'!AM140*100-100)*'Data base original'!AM140/('Data base original'!$AN140)","v":-9.9653480084811001E-3},{"$f":"(('Data base original'!AJ152-'Data base original'!AL152)/('Data base original'!AJ140-'Data base original'!AL140)*100-100)*(('Data base original'!AJ140-'Data base original'!AL140)/'Data base original'!AN140)","v":1.3787784080654011},{"$f":"(('Data base original'!AK152-'Data base original'!AM152)/('Data base original'!AK140-'Data base original'!AM140)*100-100)*(('Data base original'!AK140-'Data base original'!AM140)/'Data base original'!AN140)","v":4.3931196078610631E-2},{"$f":"('Data base original'!AN152/'Data base original'!AN140*100-100)*'Data base original'!AN140/('Data base original'!$AN140)","v":5.5856686493790173}]
[{"$f":"'Data base original'!A153","v":"2017-11-01"},{"$f":"'Data base original'!B153/'Data base original'!B141*100-100","v":3.4020111860313023},{"$f":"'Data base original'!C153/'Data base original'!C141*100-100","v":5.8142155173460424},{"$f":"'Data base original'!D153/'Data base original'!D141*100-100","v":10.215569072959198},{"$f":"'Data base original'!E153/'Data base original'!E141*100-100","v":-10.217272832597288},{"$f":"'Data base original'!F153/'Data base original'!F141*100-100","v":4.6399342373316443},{"$f":"'Data base original'!G153","v":21.15},{"$f":"'Data base original'!H153","v":22.11},{"$f":"'Data base original'!I153","v":13.51},{"$f":"'Data base original'!J153","v":27.63},{"$f":"'Data base original'!K153","v":6.57},{"$f":"'Data base original'!L153","v":4.54},{"$f":"'Data base original'!M153","v":8.43},{"$f":"'Data base original'!N153","v":2.57},{"$f":"'Data base original'!O153","v":2.2999999999999998},{"$f":"'Data base original'!P153","v":2.91},{"$f":"'Data base original'!Q153","v":3.35},{"$f":"('Data base original'!S153/'Data base original'!S141*100-100)*'Data base original'!S141/'Data base original'!$V141","v":1.1127468151408271},{"$f":"('Data base original'!T153/'Data base original'!T141*100-100)*'Data base original'!T141/'Data base original'!$V141","v":4.7345185489856014},{"$f":"('Data base original'!U153/'Data base original'!U141*100-100)*'Data base original'!U141/'Data base original'!$V141","v":4.1409571172254047},{"$f":"('Data base original'!V153/'Data base original'!V141*100-100)*'Data base original'!V141/'Data base original'!$V141","v":9.9882224813518263},{"$f":"('Data base original'!V153/'Data base original'!V141*100-100)*'Data base original'!V141/('Data base original'!$AC141)","v":2.3712070084715746},{"$f":"('Data base original'!W153/'Data base original'!W141*100-100)*'Data base original'!W141/('Data base original'!$AC141)","v":1.4694004555615112},{"$f":"('Data base original'!X153/'Data base original'!X141*100-100)*'Data base original'!X141/('Data base original'!$AC141)","v":0.18567202975427052},{"$f":"('Data base original'!Y153/'Data base original'!Y141*100-100)*'Data base original'!Y141/('Data base original'!$AC141)","v":1.3602853247208024},{"$f":"('Data base original'!Z153/'Data base original'!Z141*100-100)*'Data base original'!Z141/('Data base original'!$AC141)","v":0.15921080638565316},{"$f":"-('Data base original'!AA153/'Data base original'!AA141*100-100)*'Data base original'!AA141/('Data base original'!$AC141)","v":-1.4605162542418519},{"$f":"-('Data base original'!AB153/'Data base original'!AB141*100-100)*'Data base original'!AB141/('Data base original'!$AC141)","v":-2.7635326969203757E-2},{"$f":"(('Data base original'!Y153-'Data base original'!AA153)/('Data base original'!Y141-'Data base original'!AA141)*100-100)*(('Data base original'!Y141-'Data base original'!AA141)/'Data base original'!AC141)","v":-0.10023092952105024},{"$f":"(('Data base original'!Z153-'Data base original'!AB153)/('Data base original'!Z141-'Data base original'!AB141)*100-100)*(('Data base original'!Z141-'Data base original'!AB141)/'Data base original'!AC141)","v":0.1315754794164494},{"$f":"('Data base original'!AC153/'Data base original'!AC141*100-100)*'Data base original'!AC141/('Data base original'!$AC141)","v":4.0576240436827504},{"$f":"('Data base original'!AC153/'Data base original'!AC141*100-100)*'Data base original'!AC141/('Data base original'!$AN141)","v":2.4042964907875706},{"$f":"('Data base original'!AD153/'Data base original'!AD141*100-100)*'Data base original'!AD141/('Data base original'!$AN141)","v":-0.42731277014155117},{"$f":"('Data base original'!AE153/'Data base original'!AE141*100-100)*'Data base original'!AE141/('Data base original'!$AN141)","v":-0.3449836514413489},{"$f":"('Data base original'!AF153/'Data base original'!AF141*100-100)*'Data base original'!AF141/('Data base original'!$AN141)","v":0.94117061325713214},{"$f":"('Data base original'!AG153/'Data base original'!AG141*100-100)*'Data base original'!AG141/('Data base original'!$AN141)","v":4.0822025885981338E-3},{"$f":"('Data base original'!AH153/'Data base original'!AH141*100-100)*'Data base original'!AH141/('Data base original'!$AN141)","v":-2.2400739722172287E-2},{"$f":"('Data base original'!AI153/'Data base original'!AI141*100-100)*'Data base original'!AI141/('Data base original'!$AN141)","v":1.1725813644101069},{"$f":"('Data base original'!AJ153/'Data base original'!AJ141*100-100)*'Data base original'!AJ141/('Data base original'!$AN141)","v":1.1906055662708832},{"$f":"('Data base original'!AK153/'Data base original'!AK141*100-100)*'Data base original'!AK141/('Data base original'!$AN141)","v":5.3086836413407383E-2},{"$f":"-('Data base original'!AL153/'Data base original'!AL141*100-100)*'Data base original'!AL141/('Data base original'!$AN141)","v":6.6972547924464346E-2},{"$f":"-('Data base original'!AM153/'Data base original'!AM141*100-100)*'Data base original'!AM141/('Data base original'!$AN141)","v":-1.6129360489185254E-2},{"$f":"(('Data base original'!AJ153-'Data base original'!AL153)/('Data base original'!AJ141-'Data base original'!AL141)*100-100)*(('Data base original'!AJ141-'Data base original'!AL141)/'Data base original'!AN141)","v":1.2575781141953466},{"$f":"(('Data base original'!AK153-'Data base original'!AM153)/('Data base original'!AK141-'Data base original'!AM141)*100-100)*(('Data base original'!AK141-'Data base original'!AM141)/'Data base original'!AN141)","v":3.6957475924222091E-2},{"$f":"('Data base original'!AN153/'Data base original'!AN141*100-100)*'Data base original'!AN141/('Data base original'!$AN141)","v":5.0219690998579267}]
[{"$f":"'Data base original'!A154","v":"2017-12-01"},{"$f":"'Data base original'!B154/'Data base original'!B142*100-100","v":3.3791568366994511},{"$f":"'Data base original'!C154/'Data base original'!C142*100-100","v":5.6446315220618999},{"$f":"'Data base original'!D154/'Data base original'!D142*100-100","v":10.105638192712689},{"$f":"'Data base original'!E154/'Data base original'!E142*100-100","v":-9.1920882378427535},{"$f":"'Data base original'!F154/'Data base original'!F142*100-100","v":4.7086423358442033},{"$f":"'Data base original'!G154","v":21.34},{"$f":"'Data base original'!H154","v":21.91},{"$f":"'Data base original'!I154","v":13.98},{"$f":"'Data base original'!J154","v":27.59},{"$f":"'Data base original'!K154","v":6.5},{"$f":"'Data base original'!L154","v":4.6100000000000003},{"$f":"'Data base original'!M154","v":7.81},{"$f":"'Data base original'!N154","v":2.73},{"$f":"'Data base original'!O154","v":2.5099999999999998},{"$f":"'Data base original'!P154","v":3.23},{"$f":"'Data base original'!Q154","v":3.48},{"$f":"('Data base original'!S154/'Data base original'!S142*100-100)*'Data base original'!S142/'Data base original'!$V142","v":1.0459807833063526},{"$f":"('Data base original'!T154/'Data base original'!T142*100-100)*'Data base original'!T142/'Data base original'!$V142","v":5.7178930286027878},{"$f":"('Data base original'!U154/'Data base original'!U142*100-100)*'Data base original'!U142/'Data base original'!$V142","v":3.2839941767830068},{"$f":"('Data base original'!V154/'Data base original'!V142*100-100)*'Data base original'!V142/'Data base original'!$V142","v":10.047867988692147},{"$f":"('Data base original'!V154/'Data base original'!V142*100-100)*'Data base original'!V142/('Data base original'!$AC142)","v":2.4830245023281634},{"$f":"('Data base original'!W154/'Data base original'!W142*100-100)*'Data base original'!W142/('Data base original'!$AC142)","v":2.1504767888265315},{"$f":"('Data base original'!X154/'Data base original'!X142*100-100)*'Data base original'!X142/('Data base original'!$AC142)","v":0.1914255310043779},{"$f":"('Data base original'!Y154/'Data base original'!Y142*100-100)*'Data base original'!Y142/('Data base original'!$AC142)","v":0.74591590578594325},{"$f":"('Data base original'!Z154/'Data base original'!Z142*100-100)*'Data base original'!Z142/('Data base original'!$AC142)","v":0.1509302896605218},{"$f":"-('Data base original'!AA154/'Data base original'!AA142*100-100)*'Data base original'!AA142/('Data base original'!$AC142)","v":-0.96015655332889993},{"$f":"-('Data base original'!AB154/'Data base original'!AB142*100-100)*'Data base original'!AB142/('Data base original'!$AC142)","v":-2.4444860330146603E-2},{"$f":"(('Data base original'!Y154-'Data base original'!AA154)/('Data base original'!Y142-'Data base original'!AA142)*100-100)*(('Data base original'!Y142-'Data base original'!AA142)/'Data base original'!AC142)","v":-0.21424064754295624},{"$f":"(('Data base original'!Z154-'Data base original'!AB154)/('Data base original'!Z142-'Data base original'!AB142)*100-100)*(('Data base original'!Z142-'Data base original'!AB142)/'Data base original'!AC142)","v":0.12648542933037527},{"$f":"('Data base original'!AC154/'Data base original'!AC142*100-100)*'Data base original'!AC142/('Data base original'!$AC142)","v":4.737171603946507},{"$f":"('Data base original'!AC154/'Data base original'!AC142*100-100)*'Data base original'!AC142/('Data base original'!$AN142)","v":2.8310529354347156},{"$f":"('Data base original'!AD154/'Data base original'!AD142*100-100)*'Data base original'!AD142/('Data base original'!$AN142)","v":-0.14133511711990682},{"$f":"('Data base original'!AE154/'Data base original'!AE142*100-100)*'Data base original'!AE142/('Data base original'!$AN142)","v":-6.0492950091933617E-2},{"$f":"('Data base original'!AF154/'Data base original'!AF142*100-100)*'Data base original'!AF142/('Data base original'!$AN142)","v":1.2781404707887964},{"$f":"('Data base original'!AG154/'Data base original'!AG142*100-100)*'Data base original'!AG142/('Data base original'!$AN142)","v":-7.0939580404231081E-2},{"$f":"('Data base original'!AH154/'Data base original'!AH142*100-100)*'Data base original'!AH142/('Data base original'!$AN142)","v":-2.5379681630296219E-2},{"$f":"('Data base original'!AI154/'Data base original'!AI142*100-100)*'Data base original'!AI142/('Data base original'!$AN142)","v":1.0643577221664646},{"$f":"('Data base original'!AJ154/'Data base original'!AJ142*100-100)*'Data base original'!AJ142/('Data base original'!$AN142)","v":0.89737867815318428},{"$f":"('Data base original'!AK154/'Data base original'!AK142*100-100)*'Data base original'!AK142/('Data base original'!$AN142)","v":5.218502052802295E-2},{"$f":"-('Data base original'!AL154/'Data base original'!AL142*100-100)*'Data base original'!AL142/('Data base original'!$AN142)","v":0.20832236329372897},{"$f":"-('Data base original'!AM154/'Data base original'!AM142*100-100)*'Data base original'!AM142/('Data base original'!$AN142)","v":-1.3660760502678625E-2},{"$f":"(('Data base original'!AJ154-'Data base original'!AL154)/('Data base original'!AJ142-'Data base original'!AL142)*100-100)*(('Data base original'!AJ142-'Data base original'!AL142)/'Data base original'!AN142)","v":1.1057010414469124},{"$f":"(('Data base original'!AK154-'Data base original'!AM154)/('Data base original'!AK142-'Data base original'!AM142)*100-100)*(('Data base original'!AK142-'Data base original'!AM142)/'Data base original'!AN142)","v":3.8524260025344328E-2},{"$f":"('Data base original'!AN154/'Data base original'!AN142*100-100)*'Data base original'!AN142/('Data base original'!$AN142)","v":6.0196291006158873}]
["2018-01-31",{"$f":"'Data base original'!B155/'Data base original'!B143*100-100","v":3.3830421146527385},{"$f":"'Data base original'!C155/'Data base original'!C143*100-100","v":5.9195619199233391},{"$f":"'Data base original'!D155/'Data base original'!D143*100-100","v":10.326118486048856},{"$f":"'Data base original'!E155/'Data base original'!E143*100-100","v":-9.4353381469690163},{"$f":"'Data base original'!F155/'Data base original'!F143*100-100","v":4.8073148497868488},{"$f":"'Data base original'!G155","v":21.67},{"$f":"'Data base original'!H155","v":22.55},{"$f":"'Data base original'!I155","v":13.99},{"$f":"'Data base original'!J155","v":27.77},{"$f":"'Data base original'!K155","v":6.37},{"$f":"'Data base original'!L155","v":4.54},{"$f":"'Data base original'!M155","v":8.01},{"$f":"'Data base original'!N155","v":2.87},{"$f":"'Data base original'!O155","v":2.66},{"$f":"'Data base original'!P155","v":3.15},{"$f":"'Data base original'!Q155","v":3.52},{"$f":"('Data base original'!S155/'Data base original'!S143*100-100)*'Data base original'!S143/'Data base original'!$V143","v":1.1208777431817474},{"$f":"('Data base original'!T155/'Data base original'!T143*100-100)*'Data base original'!T143/'Data base original'!$V143","v":5.5861924187286638},{"$f":"('Data base original'!U155/'Data base original'!U143*100-100)*'Data base original'!U143/'Data base original'!$V143","v":3.5822788073868277},{"$f":"('Data base original'!V155/'Data base original'!V143*100-100)*'Data base original'!V143/'Data base original'!$V143","v":10.289348969297251},{"$f":"('Data base original'!V155/'Data base original'!V143*100-100)*'Data base original'!V143/('Data base original'!$AC143)","v":2.5923087213011575},{"$f":"('Data base original'!W155/'Data base original'!W143*100-100)*'Data base original'!W143/('Data base original'!$AC143)","v":3.8465367531329289},{"$f":"('Data base original'!X155/'Data base original'!X143*100-100)*'Data base original'!X143/('Data base original'!$AC143)","v":0.21416552066520766},{"$f":"('Data base original'!Y155/'Data base original'!Y143*100-100)*'Data base original'!Y143/('Data base original'!$AC143)","v":1.3395441815546016},{"$f":"('Data base original'!Z155/'Data base original'!Z143*100-100)*'Data base original'!Z143/('Data base original'!$AC143)","v":0.1720158904152829},{"$f":"-('Data base original'!AA155/'Data base original'!AA143*100-100)*'Data base original'!AA143/('Data base original'!$AC143)","v":-1.4388793512716069},{"$f":"-('Data base original'!AB155/'Data base original'!AB143*100-100)*'Data base original'!AB143/('Data base original'!$AC143)","v":-3.3921804865109546E-2},{"$f":"(('Data base original'!Y155-'Data base original'!AA155)/('Data base original'!Y143-'Data base original'!AA143)*100-100)*(('Data base original'!Y143-'Data base original'!AA143)/'Data base original'!AC143)","v":-9.9335169717006885E-2},{"$f":"(('Data base original'!Z155-'Data base original'!AB155)/('Data base original'!Z143-'Data base original'!AB143)*100-100)*(('Data base original'!Z143-'Data base original'!AB143)/'Data base original'!AC143)","v":0.13809408555017338},{"$f":"('Data base original'!AC155/'Data base original'!AC143*100-100)*'Data base original'!AC143/('Data base original'!$AC143)","v":6.6917699109324502},{"$f":"('Data base original'!AC155/'Data base original'!AC143*100-100)*'Data base original'!AC143/('Data base original'!$AN143)","v":3.928277033172332},{"$f":"('Data base original'!AD155/'Data base original'!AD143*100-100)*'Data base original'!AD143/('Data base original'!$AN143)","v":-1.1213568451538418},{"$f":"('Data base original'!AE155/'Data base original'!AE143*100-100)*'Data base original'!AE143/('Data base original'!$AN143)","v":0.36958183414849199},{"$f":"('Data base original'!AF155/'Data base original'!AF143*100-100)*'Data base original'!AF143/('Data base original'!$AN143)","v":0.44917392190214905},{"$f":"('Data base original'!AG155/'Data base original'!AG143*100-100)*'Data base original'!AG143/('Data base original'!$AN143)","v":9.4289867948500361E-2},{"$f":"('Data base original'!AH155/'Data base original'!AH143*100-100)*'Data base original'!AH143/('Data base original'!$AN143)","v":-2.3727776321258668E-2},{"$f":"('Data base original'!AI155/'Data base original'!AI143*100-100)*'Data base original'!AI143/('Data base original'!$AN143)","v":1.212123517822238},{"$f":"('Data base original'!AJ155/'Data base original'!AJ143*100-100)*'Data base original'!AJ143/('Data base original'!$AN143)","v":1.2146411281215475},{"$f":"('Data base original'!AK155/'Data base original'!AK143*100-100)*'Data base original'!AK143/('Data base original'!$AN143)","v":5.2324761866879704E-2},{"$f":"-('Data base original'!AL155/'Data base original'!AL143*100-100)*'Data base original'!AL143/('Data base original'!$AN143)","v":-2.0922719340723581E-2},{"$f":"-('Data base original'!AM155/'Data base original'!AM143*100-100)*'Data base original'!AM143/('Data base original'!$AN143)","v":-1.3429824674617463E-2},{"$f":"(('Data base original'!AJ155-'Data base original'!AL155)/('Data base original'!AJ143-'Data base original'!AL143)*100-100)*(('Data base original'!AJ143-'Data base original'!AL143)/'Data base original'!AN143)","v":1.1937184087808232},{"$f":"(('Data base original'!AK155-'Data base original'!AM155)/('Data base original'!AK143-'Data base original'!AM143)*100-100)*(('Data base original'!AK143-'Data base original'!AM143)/'Data base original'!AN143)","v":3.8894937192262252E-2},{"$f":"('Data base original'!AN155/'Data base original'!AN143*100-100)*'Data base original'!AN143/('Data base original'!$AN143)","v":6.1409748994917095}]

{"sheet":"Data base graphs 2","index":2,"n_rows":151,"n_cols":6,"rows_kept":151,"cut":false,"hidden":false,"merged":[[4,1,4,5],[3,1,3,5],[0,1,0,5],[1,1,1,5]]}
[null,"LOANS"]
[null,"loans individual balance sheets"]
[null,"commercial","consumer","mortgage","foreign trade","total"]
[null,"monthly variation, percentage"]
[null,"Source: Central Bank of Chile and  Superintendency of Banks and Financial Institutions"]
[]
["2006-01-01"]
["2006-02-01"]
["2006-03-01"]
["2006-04-01"]
["2006-05-01"]
["2006-06-01"]
["2006-07-01"]
["2006-08-01"]
["2006-09-01"]
["2006-10-01"]
["2006-11-01"]
["2006-12-01"]
["2007-01-01",{"$f":"('Data base original'!B23/'Data base original'!B22*100-100)","v":0.64692885236952691},{"$f":"('Data base original'!C23/'Data base original'!C22*100-100)","v":1.1501099065297353},{"$f":"('Data base original'!D23/'Data base original'!D22*100-100)","v":1.1975595460214947},{"$f":"('Data base original'!E23/'Data base original'!E22*100-100)","v":3.0122496390157352},{"$f":"('Data base original'!F23/'Data base original'!F22*100-100)","v":1.0432435212535154}]
["2007-02-01",{"$f":"('Data base original'!B24/'Data base original'!B23*100-100)","v":1.1614522075634},{"$f":"('Data base original'!C24/'Data base original'!C23*100-100)","v":0.88831004607918373},{"$f":"('Data base original'!D24/'Data base original'!D23*100-100)","v":1.2926662202686714},{"$f":"('Data base original'!E24/'Data base original'!E23*100-100)","v":0.63375086458216856},{"$f":"('Data base original'!F24/'Data base original'!F23*100-100)","v":1.1036786785238348}]
["2007-03-01",{"$f":"('Data base original'!B25/'Data base original'!B24*100-100)","v":1.1299062138438813},{"$f":"('Data base original'!C25/'Data base original'!C24*100-100)","v":1.9031670499502837},{"$f":"('Data base original'!D25/'Data base original'!D24*100-100)","v":1.5085584888562096},{"$f":"('Data base original'!E25/'Data base original'!E24*100-100)","v":-0.13655868500590884},{"$f":"('Data base original'!F25/'Data base original'!F24*100-100)","v":1.1905000084314139}]
["2007-04-01",{"$f":"('Data base original'!B26/'Data base original'!B25*100-100)","v":1.5898360784019587},{"$f":"('Data base original'!C26/'Data base original'!C25*100-100)","v":1.2542926961639012},{"$f":"('Data base original'!D26/'Data base original'!D25*100-100)","v":1.3759430920658531},{"$f":"('Data base original'!E26/'Data base original'!E25*100-100)","v":3.3801627276561135},{"$f":"('Data base original'!F26/'Data base original'!F25*100-100)","v":1.6663196908971258}]
["2007-05-01",{"$f":"('Data base original'!B27/'Data base original'!B26*100-100)","v":1.2736486719719551},{"$f":"('Data base original'!C27/'Data base original'!C26*100-100)","v":0.58416686947322205},{"$f":"('Data base original'!D27/'Data base original'!D26*100-100)","v":1.9763241389287174},{"$f":"('Data base original'!E27/'Data base original'!E26*100-100)","v":3.4256194562850055},{"$f":"('Data base original'!F27/'Data base original'!F26*100-100)","v":1.5309950271528407}]
["2007-06-01",{"$f":"('Data base original'!B28/'Data base original'!B27*100-100)","v":1.5924592264251203},{"$f":"('Data base original'!C28/'Data base original'!C27*100-100)","v":0.73361315085784895},{"$f":"('Data base original'!D28/'Data base original'!D27*100-100)","v":2.3430497867090736},{"$f":"('Data base original'!E28/'Data base original'!E27*100-100)","v":-0.607093212956201},{"$f":"('Data base original'!F28/'Data base original'!F27*100-100)","v":1.4284514544765159}]
["2007-07-01",{"$f":"('Data base original'!B29/'Data base original'!B28*100-100)","v":1.5436334138266403},{"$f":"('Data base original'!C29/'Data base original'!C28*100-100)","v":1.2323705840997974},{"$f":"('Data base original'!D29/'Data base original'!D28*100-100)","v":1.9659542771129708},{"$f":"('Data base original'!E29/'Data base original'!E28*100-100)","v":-0.45076696773908509},{"$f":"('Data base original'!F29/'Data base original'!F28*100-100)","v":1.4062495335152079}]
["2007-08-01",{"$f":"('Data base original'!B30/'Data base original'!B29*100-100)","v":2.0088057910680419},{"$f":"('Data base original'!C30/'Data base original'!C29*100-100)","v":1.7312812463587761},{"$f":"('Data base original'!D30/'Data base original'!D29*100-100)","v":2.3630355184937031},{"$f":"('Data base original'!E30/'Data base original'!E29*100-100)","v":1.8390293126349775},{"$f":"('Data base original'!F30/'Data base original'!F29*100-100)","v":2.0326145457944023}]
["2007-09-01",{"$f":"('Data base original'!B31/'Data base original'!B30*100-100)","v":2.1597062878382758},{"$f":"('Data base original'!C31/'Data base original'!C30*100-100)","v":0.98474492981894457},{"$f":"('Data base original'!D31/'Data base original'!D30*100-100)","v":2.5112831868569145},{"$f":"('Data base original'!E31/'Data base original'!E30*100-100)","v":-0.91665068392455851},{"$f":"('Data base original'!F31/'Data base original'!F30*100-100)","v":1.8030894646113467}]
["2007-10-01",{"$f":"('Data base original'!B32/'Data base original'!B31*100-100)","v":1.8925271046586971},{"$f":"('Data base original'!C32/'Data base original'!C31*100-100)","v":1.3075916174739319},{"$f":"('Data base original'!D32/'Data base original'!D31*100-100)","v":2.0583320781936862},{"$f":"('Data base original'!E32/'Data base original'!E31*100-100)","v":-1.3752500557352931},{"$f":"('Data base original'!F32/'Data base original'!F31*100-100)","v":1.5629771689782643}]
["2007-11-01",{"$f":"('Data base original'!B33/'Data base original'!B32*100-100)","v":3.0409987904010336},{"$f":"('Data base original'!C33/'Data base original'!C32*100-100)","v":1.4769093542442988},{"$f":"('Data base original'!D33/'Data base original'!D32*100-100)","v":1.5381037889236922},{"$f":"('Data base original'!E33/'Data base original'!E32*100-100)","v":5.8404716961139229},{"$f":"('Data base original'!F33/'Data base original'!F32*100-100)","v":2.7639112954363441}]
["2007-12-01",{"$f":"('Data base original'!B34/'Data base original'!B33*100-100)","v":2.529157034799141},{"$f":"('Data base original'!C34/'Data base original'!C33*100-100)","v":1.11659282520678},{"$f":"('Data base original'!D34/'Data base original'!D33*100-100)","v":1.8895420835969787},{"$f":"('Data base original'!E34/'Data base original'!E33*100-100)","v":-2.5346114230774077},{"$f":"('Data base original'!F34/'Data base original'!F33*100-100)","v":1.7668747656028643}]
["2008-01-01",{"$f":"('Data base original'!B35/'Data base original'!B34*100-100)","v":-0.37123522589857316},{"$f":"('Data base original'!C35/'Data base original'!C34*100-100)","v":1.1404064206922016},{"$f":"('Data base original'!D35/'Data base original'!D34*100-100)","v":2.0837619416647897},{"$f":"('Data base original'!E35/'Data base original'!E34*100-100)","v":-5.6887016513796738},{"$f":"('Data base original'!F35/'Data base original'!F34*100-100)","v":-0.11740648266896869}]
["2008-02-01",{"$f":"('Data base original'!B36/'Data base original'!B35*100-100)","v":1.0118368387398675},{"$f":"('Data base original'!C36/'Data base original'!C35*100-100)","v":0.75180092839231349},{"$f":"('Data base original'!D36/'Data base original'!D35*100-100)","v":1.0433009516698917},{"$f":"('Data base original'!E36/'Data base original'!E35*100-100)","v":1.976586455426002},{"$f":"('Data base original'!F36/'Data base original'!F35*100-100)","v":1.0638322853313298}]
["2008-03-01",{"$f":"('Data base original'!B37/'Data base original'!B36*100-100)","v":0.4427012698967161},{"$f":"('Data base original'!C37/'Data base original'!C36*100-100)","v":1.0480058554569922},{"$f":"('Data base original'!D37/'Data base original'!D36*100-100)","v":1.4442825821055152},{"$f":"('Data base original'!E37/'Data base original'!E36*100-100)","v":-0.8733343105069622},{"$f":"('Data base original'!F37/'Data base original'!F36*100-100)","v":0.62830414526058576}]
["2008-04-01",{"$f":"('Data base original'!B38/'Data base original'!B37*100-100)","v":2.3290922516081736},{"$f":"('Data base original'!C38/'Data base original'!C37*100-100)","v":1.2191996366391464},{"$f":"('Data base original'!D38/'Data base original'!D37*100-100)","v":1.9845457932549095},{"$f":"('Data base original'!E38/'Data base original'!E37*100-100)","v":12.964812308278397},{"$f":"('Data base original'!F38/'Data base original'!F37*100-100)","v":2.966395414723408}]
["2008-05-01",{"$f":"('Data base original'!B39/'Data base original'!B38*100-100)","v":1.4544651069814165},{"$f":"('Data base original'!C39/'Data base original'!C38*100-100)","v":-2.5354411370855701E-2},{"$f":"('Data base original'!D39/'Data base original'!D38*100-100)","v":1.3661324857876025},{"$f":"('Data base original'!E39/'Data base original'!E38*100-100)","v":8.8745541883111372},{"$f":"('Data base original'!F39/'Data base original'!F38*100-100)","v":1.9049400801773828}]
["2008-06-01",{"$f":"('Data base original'!B40/'Data base original'!B39*100-100)","v":2.0780517455981027},{"$f":"('Data base original'!C40/'Data base original'!C39*100-100)","v":0.42553889825978786},{"$f":"('Data base original'!D40/'Data base original'!D39*100-100)","v":2.1862453690691126},{"$f":"('Data base original'!E40/'Data base original'!E39*100-100)","v":10.790129445247217},{"$f":"('Data base original'!F40/'Data base original'!F39*100-100)","v":2.7193580354841913}]
["2008-07-01",{"$f":"('Data base original'!B41/'Data base original'!B40*100-100)","v":1.1748388509719092},{"$f":"('Data base original'!C41/'Data base original'!C40*100-100)","v":0.48828911262326358},{"$f":"('Data base original'!D41/'Data base original'!D40*100-100)","v":2.2329845365015331},{"$f":"('Data base original'!E41/'Data base original'!E40*100-100)","v":-4.6229316022729279},{"$f":"('Data base original'!F41/'Data base original'!F40*100-100)","v":0.73341179666029177}]
["2008-08-01",{"$f":"('Data base original'!B42/'Data base original'!B41*100-100)","v":1.297917187258534},{"$f":"('Data base original'!C42/'Data base original'!C41*100-100)","v":0.71003856844180291},{"$f":"('Data base original'!D42/'Data base original'!D41*100-100)","v":1.9993748015224071},{"$f":"('Data base original'!E42/'Data base original'!E41*100-100)","v":0.18338904211276486},{"$f":"('Data base original'!F42/'Data base original'!F41*100-100)","v":1.2742574468637144}]
["2008-09-01",{"$f":"('Data base original'!B43/'Data base original'!B42*100-100)","v":1.7387871687221121},{"$f":"('Data base original'!C43/'Data base original'!C42*100-100)","v":0.32389584961617857},{"$f":"('Data base original'!D43/'Data base original'!D42*100-100)","v":1.6775170598836127},{"$f":"('Data base original'!E43/'Data base original'!E42*100-100)","v":8.3808506439507795},{"$f":"('Data base original'!F43/'Data base original'!F42*100-100)","v":2.1893461038959146}]
["2008-10-01",{"$f":"('Data base original'!B44/'Data base original'!B43*100-100)","v":3.5310895478893372},{"$f":"('Data base original'!C44/'Data base original'!C43*100-100)","v":0.12262883401945146},{"$f":"('Data base original'!D44/'Data base original'!D43*100-100)","v":1.5546871970395983},{"$f":"('Data base original'!E44/'Data base original'!E43*100-100)","v":16.443040405320758},{"$f":"('Data base original'!F44/'Data base original'!F43*100-100)","v":4.0069831454909064}]
["2008-11-01",{"$f":"('Data base original'!B45/'Data base original'!B44*100-100)","v":0.82015176028666303},{"$f":"('Data base original'!C45/'Data base original'!C44*100-100)","v":0.48111559368115309},{"$f":"('Data base original'!D45/'Data base original'!D44*100-100)","v":1.197683895557617},{"$f":"('Data base original'!E45/'Data base original'!E44*100-100)","v":-0.8365400227124411},{"$f":"('Data base original'!F45/'Data base original'!F44*100-100)","v":0.67636829018962885}]
["2008-12-01",{"$f":"('Data base original'!B46/'Data base original'!B45*100-100)","v":-1.1450054224792012},{"$f":"('Data base original'!C46/'Data base original'!C45*100-100)","v":-0.11148192582548688},{"$f":"('Data base original'!D46/'Data base original'!D45*100-100)","v":0.60002672740868945},{"$f":"('Data base original'!E46/'Data base original'!E45*100-100)","v":-6.734408667426834},{"$f":"('Data base original'!F46/'Data base original'!F45*100-100)","v":-1.277600156855101}]
["2009-01-01",{"$f":"('Data base original'!B47/'Data base original'!B46*100-100)","v":-1.5187869957304656},{"$f":"('Data base original'!C47/'Data base original'!C46*100-100)","v":-0.17074864770299314},{"$f":"('Data base original'!D47/'Data base original'!D46*100-100)","v":-5.2171813294492608E-2},{"$f":"('Data base original'!E47/'Data base original'!E46*100-100)","v":-4.3349290047919595},{"$f":"('Data base original'!F47/'Data base original'!F46*100-100)","v":-1.3436131421808852}]
["2009-02-01",{"$f":"('Data base original'!B48/'Data base original'!B47*100-100)","v":-1.2040866973137554},{"$f":"('Data base original'!C48/'Data base original'!C47*100-100)","v":-0.71120746430531767},{"$f":"('Data base original'!D48/'Data base original'!D47*100-100)","v":-0.69206056486612511},{"$f":"('Data base original'!E48/'Data base original'!E47*100-100)","v":-5.6127184751608894},{"$f":"('Data base original'!F48/'Data base original'!F47*100-100)","v":-1.4831807545140947}]
["2009-03-01",{"$f":"('Data base original'!B49/'Data base original'!B48*100-100)","v":-1.6398672795344567},{"$f":"('Data base original'!C49/'Data base original'!C48*100-100)","v":4.5574179678936844E-2},{"$f":"('Data base original'!D49/'Data base original'!D48*100-100)","v":0.14749133989894858},{"$f":"('Data base original'!E49/'Data base original'!E48*100-100)","v":-4.7318511599974613},{"$f":"('Data base original'!F49/'Data base original'!F48*100-100)","v":-1.3510107179751856}]
["2009-04-01",{"$f":"('Data base original'!B50/'Data base original'!B49*100-100)","v":1.0283327338270141},{"$f":"('Data base original'!C50/'Data base original'!C49*100-100)","v":0.43412936866677398},{"$f":"('Data base original'!D50/'Data base original'!D49*100-100)","v":0.24229965060776237},{"$f":"('Data base original'!E50/'Data base original'!E49*100-100)","v":-4.9752944797151315},{"$f":"('Data base original'!F50/'Data base original'!F49*100-100)","v":0.21781650721931101}]
["2009-05-01",{"$f":"('Data base original'!B51/'Data base original'!B50*100-100)","v":-0.35458877024477431},{"$f":"('Data base original'!C51/'Data base original'!C50*100-100)","v":-0.69777678920094388},{"$f":"('Data base original'!D51/'Data base original'!D50*100-100)","v":0.49741165131398191},{"$f":"('Data base original'!E51/'Data base original'!E50*100-100)","v":-3.3680001824803583},{"$f":"('Data base original'!F51/'Data base original'!F50*100-100)","v":-0.47049238825735529}]
["2009-06-01",{"$f":"('Data base original'!B52/'Data base original'!B51*100-100)","v":-0.77784618516363935},{"$f":"('Data base original'!C52/'Data base original'!C51*100-100)","v":-0.73801430204625262},{"$f":"('Data base original'!D52/'Data base original'!D51*100-100)","v":0.88146453014658732},{"$f":"('Data base original'!E52/'Data base original'!E51*100-100)","v":-12.608114342021707},{"$f":"('Data base original'!F52/'Data base original'!F51*100-100)","v":-1.4184519331190302}]
["2009-07-01",{"$f":"('Data base original'!B53/'Data base original'!B52*100-100)","v":0.11259210655232721},{"$f":"('Data base original'!C53/'Data base original'!C52*100-100)","v":0.12484098492609519},{"$f":"('Data base original'!D53/'Data base original'!D52*100-100)","v":0.84210440357961147},{"$f":"('Data base original'!E53/'Data base original'!E52*100-100)","v":-0.75530721664864586},{"$f":"('Data base original'!F53/'Data base original'!F52*100-100)","v":0.21770095404025369}]
["2009-08-01",{"$f":"('Data base original'!B54/'Data base original'!B53*100-100)","v":1.0083302098128399},{"$f":"('Data base original'!C54/'Data base original'!C53*100-100)","v":8.0822498321992953E-2},{"$f":"('Data base original'!D54/'Data base original'!D53*100-100)","v":0.67707654445288767},{"$f":"('Data base original'!E54/'Data base original'!E53*100-100)","v":0.49556185786090623},{"$f":"('Data base original'!F54/'Data base original'!F53*100-100)","v":0.78368163633790289}]
["2009-09-01",{"$f":"('Data base original'!B55/'Data base original'!B54*100-100)","v":0.44836897377318508},{"$f":"('Data base original'!C55/'Data base original'!C54*100-100)","v":0.26201969224604227},{"$f":"('Data base original'!D55/'Data base original'!D54*100-100)","v":0.71065535691097637},{"$f":"('Data base original'!E55/'Data base original'!E54*100-100)","v":-2.65191682410385},{"$f":"('Data base original'!F55/'Data base original'!F54*100-100)","v":0.2535420837023139}]
["2009-10-01",{"$f":"('Data base original'!B56/'Data base original'!B55*100-100)","v":0.10528905451919002},{"$f":"('Data base original'!C56/'Data base original'!C55*100-100)","v":0.7122552448733046},{"$f":"('Data base original'!D56/'Data base original'!D55*100-100)","v":1.4361372789642957},{"$f":"('Data base original'!E56/'Data base original'!E55*100-100)","v":-0.41221365530226706},{"$f":"('Data base original'!F56/'Data base original'!F55*100-100)","v":0.45098084147959128}]
["2009-11-01",{"$f":"('Data base original'!B57/'Data base original'!B56*100-100)","v":-0.25603898236785483},{"$f":"('Data base original'!C57/'Data base original'!C56*100-100)","v":0.54588637896306125},{"$f":"('Data base original'!D57/'Data base original'!D56*100-100)","v":1.4073708256923538},{"$f":"('Data base original'!E57/'Data base original'!E56*100-100)","v":-7.7677641931656751},{"$f":"('Data base original'!F57/'Data base original'!F56*100-100)","v":-0.31503300702139825}]
["2009-12-01",{"$f":"('Data base original'!B58/'Data base original'!B57*100-100)","v":3.7012120985090036},{"$f":"('Data base original'!C58/'Data base original'!C57*100-100)","v":0.93438966698384718},{"$f":"('Data base original'!D58/'Data base original'!D57*100-100)","v":0.83097819571760567},{"$f":"('Data base original'!E58/'Data base original'!E57*100-100)","v":-4.0480142060104924},{"$f":"('Data base original'!F58/'Data base original'!F57*100-100)","v":2.160303682741187}]
["2010-01-01",{"$f":"('Data base original'!B59/'Data base original'!B58*100-100)","v":-0.37992209829211276},{"$f":"('Data base original'!C59/'Data base original'!C58*100-100)","v":0.42212957586768596},{"$f":"('Data base original'!D59/'Data base original'!D58*100-100)","v":0.27435665587898939},{"$f":"('Data base original'!E59/'Data base original'!E58*100-100)","v":13.441743411951038},{"$f":"('Data base original'!F59/'Data base original'!F58*100-100)","v":0.74480598721360991}]
["2010-02-01",{"$f":"('Data base original'!B60/'Data base original'!B59*100-100)","v":0.55927935391353856},{"$f":"('Data base original'!C60/'Data base original'!C59*100-100)","v":0.17521390941750781},{"$f":"('Data base original'!D60/'Data base original'!D59*100-100)","v":0.6529080145352566},{"$f":"('Data base original'!E60/'Data base original'!E59*100-100)","v":-2.428819986093572},{"$f":"('Data base original'!F60/'Data base original'!F59*100-100)","v":0.3241470555491901}]
["2010-03-01",{"$f":"('Data base original'!B61/'Data base original'!B60*100-100)","v":-0.36286105826728488},{"$f":"('Data base original'!C61/'Data base original'!C60*100-100)","v":0.67217536752409046},{"$f":"('Data base original'!D61/'Data base original'!D60*100-100)","v":0.64854077270611299},{"$f":"('Data base original'!E61/'Data base original'!E60*100-100)","v":0.45754611460606043},{"$f":"('Data base original'!F61/'Data base original'!F60*100-100)","v":5.4308216180174895E-2}]
["2010-04-01",{"$f":"('Data base original'!B62/'Data base original'!B61*100-100)","v":0.73162938986686754},{"$f":"('Data base original'!C62/'Data base original'!C61*100-100)","v":1.3911672279303104},{"$f":"('Data base original'!D62/'Data base original'!D61*100-100)","v":0.61846343174121898},{"$f":"('Data base original'!E62/'Data base original'!E61*100-100)","v":3.9829360258877102},{"$f":"('Data base original'!F62/'Data base original'!F61*100-100)","v":1.0072441889615646}]
["2010-05-01",{"$f":"('Data base original'!B63/'Data base original'!B62*100-100)","v":0.69097424605732272},{"$f":"('Data base original'!C63/'Data base original'!C62*100-100)","v":0.16412482768114955},{"$f":"('Data base original'!D63/'Data base original'!D62*100-100)","v":1.2334273137213785},{"$f":"('Data base original'!E63/'Data base original'!E62*100-100)","v":5.391812217300469},{"$f":"('Data base original'!F63/'Data base original'!F62*100-100)","v":1.0966982925998252}]
["2010-06-01",{"$f":"('Data base original'!B64/'Data base original'!B63*100-100)","v":0.65280175660755901},{"$f":"('Data base original'!C64/'Data base original'!C63*100-100)","v":0.6191824529575598},{"$f":"('Data base original'!D64/'Data base original'!D63*100-100)","v":1.4144097584171078},{"$f":"('Data base original'!E64/'Data base original'!E63*100-100)","v":3.8652358934981237},{"$f":"('Data base original'!F64/'Data base original'!F63*100-100)","v":1.071475951893035}]
["2010-07-01",{"$f":"('Data base original'!B65/'Data base original'!B64*100-100)","v":-0.77576549871342593},{"$f":"('Data base original'!C65/'Data base original'!C64*100-100)","v":0.93307818232915452},{"$f":"('Data base original'!D65/'Data base original'!D64*100-100)","v":0.76082706117612986},{"$f":"('Data base original'!E65/'Data base original'!E64*100-100)","v":-4.7500492651361412},{"$f":"('Data base original'!F65/'Data base original'!F64*100-100)","v":-0.51642472937525952}]
["2010-08-01",{"$f":"('Data base original'!B66/'Data base original'!B65*100-100)","v":0.47545992531996717},{"$f":"('Data base original'!C66/'Data base original'!C65*100-100)","v":1.4588695440505859},{"$f":"('Data base original'!D66/'Data base original'!D65*100-100)","v":1.3408200298492829},{"$f":"('Data base original'!E66/'Data base original'!E65*100-100)","v":-1.2209438594606468},{"$f":"('Data base original'!F66/'Data base original'!F65*100-100)","v":0.67540794588880715}]
["2010-09-01",{"$f":"('Data base original'!B67/'Data base original'!B66*100-100)","v":0.73447622699842441},{"$f":"('Data base original'!C67/'Data base original'!C66*100-100)","v":0.86129918541828943},{"$f":"('Data base original'!D67/'Data base original'!D66*100-100)","v":0.89936766639570465},{"$f":"('Data base original'!E67/'Data base original'!E66*100-100)","v":-3.3715352110430956},{"$f":"('Data base original'!F67/'Data base original'!F66*100-100)","v":0.49331559332816255}]
["2010-10-01",{"$f":"('Data base original'!B68/'Data base original'!B67*100-100)","v":1.1634432348785424},{"$f":"('Data base original'!C68/'Data base original'!C67*100-100)","v":1.2432898424101779},{"$f":"('Data base original'!D68/'Data base original'!D67*100-100)","v":1.1534926418076594},{"$f":"('Data base original'!E68/'Data base original'!E67*100-100)","v":7.2706410448771095},{"$f":"('Data base original'!F68/'Data base original'!F67*100-100)","v":1.5942620467221928}]
["2010-11-01",{"$f":"('Data base original'!B69/'Data base original'!B68*100-100)","v":0.52025122029660054},{"$f":"('Data base original'!C69/'Data base original'!C68*100-100)","v":1.6047501735329917},{"$f":"('Data base original'!D69/'Data base original'!D68*100-100)","v":0.92243552714367638},{"$f":"('Data base original'!E69/'Data base original'!E68*100-100)","v":2.0436397484765649},{"$f":"('Data base original'!F69/'Data base original'!F68*100-100)","v":0.85731170276990554}]
["2010-12-01",{"$f":"('Data base original'!B70/'Data base original'!B69*100-100)","v":1.3761090722961455},{"$f":"('Data base original'!C70/'Data base original'!C69*100-100)","v":1.381062446171228},{"$f":"('Data base original'!D70/'Data base original'!D69*100-100)","v":1.232534665365975},{"$f":"('Data base original'!E70/'Data base original'!E69*100-100)","v":-9.2790684123541638},{"$f":"('Data base original'!F70/'Data base original'!F69*100-100)","v":0.55146039389416046}]
["2011-01-01",{"$f":"('Data base original'!B71/'Data base original'!B70*100-100)","v":0.70046699536770518},{"$f":"('Data base original'!C71/'Data base original'!C70*100-100)","v":1.3238618615033033},{"$f":"('Data base original'!D71/'Data base original'!D70*100-100)","v":0.60822002078867854},{"$f":"('Data base original'!E71/'Data base original'!E70*100-100)","v":13.753265366779004},{"$f":"('Data base original'!F71/'Data base original'!F70*100-100)","v":1.6250478981573337}]
["2011-02-01",{"$f":"('Data base original'!B72/'Data base original'!B71*100-100)","v":0.38588506372995823},{"$f":"('Data base original'!C72/'Data base original'!C71*100-100)","v":1.0986444468683345},{"$f":"('Data base original'!D72/'Data base original'!D71*100-100)","v":0.77787972187061882},{"$f":"('Data base original'!E72/'Data base original'!E71*100-100)","v":2.859537257017692},{"$f":"('Data base original'!F72/'Data base original'!F71*100-100)","v":0.75133239367674776}]
["2011-03-01",{"$f":"('Data base original'!B73/'Data base original'!B72*100-100)","v":1.2712837676928359},{"$f":"('Data base original'!C73/'Data base original'!C72*100-100)","v":2.2107126431664739},{"$f":"('Data base original'!D73/'Data base original'!D72*100-100)","v":1.0040945607542966},{"$f":"('Data base original'!E73/'Data base original'!E72*100-100)","v":4.6970983753661386},{"$f":"('Data base original'!F73/'Data base original'!F72*100-100)","v":1.5796719992033843}]
["2011-04-01",{"$f":"('Data base original'!B74/'Data base original'!B73*100-100)","v":1.3374786931966725},{"$f":"('Data base original'!C74/'Data base original'!C73*100-100)","v":1.6853883423178786},{"$f":"('Data base original'!D74/'Data base original'!D73*100-100)","v":1.091731265745139},{"$f":"('Data base original'!E74/'Data base original'!E73*100-100)","v":1.0037058904905081},{"$f":"('Data base original'!F74/'Data base original'!F73*100-100)","v":1.2931368007079698}]
["2011-05-01",{"$f":"('Data base original'!B75/'Data base original'!B74*100-100)","v":1.7434148901253081},{"$f":"('Data base original'!C75/'Data base original'!C74*100-100)","v":0.63354723053110718},{"$f":"('Data base original'!D75/'Data base original'!D74*100-100)","v":1.0275910231642911},{"$f":"('Data base original'!E75/'Data base original'!E74*100-100)","v":6.605306873480373},{"$f":"('Data base original'!F75/'Data base original'!F74*100-100)","v":1.8185538860648052}]
["2011-06-01",{"$f":"('Data base original'!B76/'Data base original'!B75*100-100)","v":0.67888736294416674},{"$f":"('Data base original'!C76/'Data base original'!C75*100-100)","v":1.1528335620149477},{"$f":"('Data base original'!D76/'Data base original'!D75*100-100)","v":1.1779795693548181},{"$f":"('Data base original'!E76/'Data base original'!E75*100-100)","v":-2.3552839952673708},{"$f":"('Data base original'!F76/'Data base original'!F75*100-100)","v":0.60560086145730452}]
["2011-07-01",{"$f":"('Data base original'!B77/'Data base original'!B76*100-100)","v":0.33147207071972673},{"$f":"('Data base original'!C77/'Data base original'!C76*100-100)","v":1.1755675984413045},{"$f":"('Data base original'!D77/'Data base original'!D76*100-100)","v":0.89475000365241897},{"$f":"('Data base original'!E77/'Data base original'!E76*100-100)","v":2.3340814059989157},{"$f":"('Data base original'!F77/'Data base original'!F76*100-100)","v":0.72839482452724269}]
["2011-08-01",{"$f":"('Data base original'!B78/'Data base original'!B77*100-100)","v":0.91709179566838372},{"$f":"('Data base original'!C78/'Data base original'!C77*100-100)","v":1.6798624057108924},{"$f":"('Data base original'!D78/'Data base original'!D77*100-100)","v":0.82949428361922628},{"$f":"('Data base original'!E78/'Data base original'!E77*100-100)","v":3.6642499476256631},{"$f":"('Data base original'!F78/'Data base original'!F77*100-100)","v":1.2101895288525242}]
["2011-09-01",{"$f":"('Data base original'!B79/'Data base original'!B78*100-100)","v":2.5531225572538148},{"$f":"('Data base original'!C79/'Data base original'!C78*100-100)","v":0.92772577769571285},{"$f":"('Data base original'!D79/'Data base original'!D78*100-100)","v":0.78829448922301992},{"$f":"('Data base original'!E79/'Data base original'!E78*100-100)","v":13.30657223236733},{"$f":"('Data base original'!F79/'Data base original'!F78*100-100)","v":2.8247483133032603}]
["2011-10-01",{"$f":"('Data base original'!B80/'Data base original'!B79*100-100)","v":1.3951262961743822},{"$f":"('Data base original'!C80/'Data base original'!C79*100-100)","v":1.1417704773906792},{"$f":"('Data base original'!D80/'Data base original'!D79*100-100)","v":0.92880202407971524},{"$f":"('Data base original'!E80/'Data base original'!E79*100-100)","v":-5.3620527882431901},{"$f":"('Data base original'!F80/'Data base original'!F79*100-100)","v":0.63620646074630827}]
["2011-11-01",{"$f":"('Data base original'!B81/'Data base original'!B80*100-100)","v":1.6421172479566053},{"$f":"('Data base original'!C81/'Data base original'!C80*100-100)","v":2.3564158497456162},{"$f":"('Data base original'!D81/'Data base original'!D80*100-100)","v":1.2499805320385491},{"$f":"('Data base original'!E81/'Data base original'!E80*100-100)","v":4.0979586271443935},{"$f":"('Data base original'!F81/'Data base original'!F80*100-100)","v":1.8454151990912493}]
["2011-12-01",{"$f":"('Data base original'!B82/'Data base original'!B81*100-100)","v":1.6243357841958499},{"$f":"('Data base original'!C82/'Data base original'!C81*100-100)","v":1.0496195368699546},{"$f":"('Data base original'!D82/'Data base original'!D81*100-100)","v":1.3639110093210007},{"$f":"('Data base original'!E82/'Data base original'!E81*100-100)","v":-5.6367758450836476},{"$f":"('Data base original'!F82/'Data base original'!F81*100-100)","v":0.8552787967558686}]
["2012-01-01",{"$f":"('Data base original'!B83/'Data base original'!B82*100-100)","v":0.99844671006788133},{"$f":"('Data base original'!C83/'Data base original'!C82*100-100)","v":0.91755598787324288},{"$f":"('Data base original'!D83/'Data base original'!D82*100-100)","v":0.94197575548309942},{"$f":"('Data base original'!E83/'Data base original'!E82*100-100)","v":-7.2341764668666713},{"$f":"('Data base original'!F83/'Data base original'!F82*100-100)","v":0.29754495735996045}]
["2012-02-01",{"$f":"('Data base original'!B84/'Data base original'!B83*100-100)","v":0.67032978659973708},{"$f":"('Data base original'!C84/'Data base original'!C83*100-100)","v":0.86352000138845142},{"$f":"('Data base original'!D84/'Data base original'!D83*100-100)","v":0.82767973599135303},{"$f":"('Data base original'!E84/'Data base original'!E83*100-100)","v":1.4241266826102219},{"$f":"('Data base original'!F84/'Data base original'!F83*100-100)","v":0.78854087369435888}]
["2012-03-01",{"$f":"('Data base original'!B85/'Data base original'!B84*100-100)","v":1.8688010249662881},{"$f":"('Data base original'!C85/'Data base original'!C84*100-100)","v":1.3238140316823177},{"$f":"('Data base original'!D85/'Data base original'!D84*100-100)","v":1.0418646966024596},{"$f":"('Data base original'!E85/'Data base original'!E84*100-100)","v":4.5184749696174151},{"$f":"('Data base original'!F85/'Data base original'!F84*100-100)","v":1.8087944794331463}]
["2012-04-01",{"$f":"('Data base original'!B86/'Data base original'!B85*100-100)","v":1.0580524139895289},{"$f":"('Data base original'!C86/'Data base original'!C85*100-100)","v":0.89378268637246094},{"$f":"('Data base original'!D86/'Data base original'!D85*100-100)","v":0.85836776083117172},{"$f":"('Data base original'!E86/'Data base original'!E85*100-100)","v":3.0085275709746782},{"$f":"('Data base original'!F86/'Data base original'!F85*100-100)","v":1.1444944345281129}]
["2012-05-01",{"$f":"('Data base original'!B87/'Data base original'!B86*100-100)","v":2.1777520037259848},{"$f":"('Data base original'!C87/'Data base original'!C86*100-100)","v":0.56102180724819561},{"$f":"('Data base original'!D87/'Data base original'!D86*100-100)","v":0.77130208473126061},{"$f":"('Data base original'!E87/'Data base original'!E86*100-100)","v":11.316102829313365},{"$f":"('Data base original'!F87/'Data base original'!F86*100-100)","v":2.3842716546896128}]
["2012-06-01",{"$f":"('Data base original'!B88/'Data base original'!B87*100-100)","v":1.2608535393495259},{"$f":"('Data base original'!C88/'Data base original'!C87*100-100)","v":0.67536771652230243},{"$f":"('Data base original'!D88/'Data base original'!D87*100-100)","v":0.86690279923166713},{"$f":"('Data base original'!E88/'Data base original'!E87*100-100)","v":-3.0233351994990727},{"$f":"('Data base original'!F88/'Data base original'!F87*100-100)","v":0.72725636733706267}]
["2012-07-01",{"$f":"('Data base original'!B89/'Data base original'!B88*100-100)","v":-2.7465342237348978E-2},{"$f":"('Data base original'!C89/'Data base original'!C88*100-100)","v":0.78876147197652813},{"$f":"('Data base original'!D89/'Data base original'!D88*100-100)","v":0.38474297305461391},{"$f":"('Data base original'!E89/'Data base original'!E88*100-100)","v":-2.3404905628513006},{"$f":"('Data base original'!F89/'Data base original'!F88*100-100)","v":-2.9615011695739213E-2}]
["2012-08-01",{"$f":"('Data base original'!B90/'Data base original'!B89*100-100)","v":5.4205891824338437E-2},{"$f":"('Data base original'!C90/'Data base original'!C89*100-100)","v":1.3833132779887336},{"$f":"('Data base original'!D90/'Data base original'!D89*100-100)","v":0.70011184501659329},{"$f":"('Data base original'!E90/'Data base original'!E89*100-100)","v":3.1947785259950621},{"$f":"('Data base original'!F90/'Data base original'!F89*100-100)","v":0.61989979979317411}]
["2012-09-01",{"$f":"('Data base original'!B91/'Data base original'!B90*100-100)","v":0.96095053891313853},{"$f":"('Data base original'!C91/'Data base original'!C90*100-100)","v":0.62728410988526662},{"$f":"('Data base original'!D91/'Data base original'!D90*100-100)","v":0.71919928753530371},{"$f":"('Data base original'!E91/'Data base original'!E90*100-100)","v":-2.0728038188582332},{"$f":"('Data base original'!F91/'Data base original'!F90*100-100)","v":0.60966334701200253}]
["2012-10-01",{"$f":"('Data base original'!B92/'Data base original'!B91*100-100)","v":1.1949567331155606},{"$f":"('Data base original'!C92/'Data base original'!C91*100-100)","v":1.0764332835554455},{"$f":"('Data base original'!D92/'Data base original'!D91*100-100)","v":1.2276714395207762},{"$f":"('Data base original'!E92/'Data base original'!E91*100-100)","v":-0.66581483275255948},{"$f":"('Data base original'!F92/'Data base original'!F91*100-100)","v":1.0362910745133576}]
["2012-11-01",{"$f":"('Data base original'!B93/'Data base original'!B92*100-100)","v":1.7356856279920407},{"$f":"('Data base original'!C93/'Data base original'!C92*100-100)","v":1.1697034982073689},{"$f":"('Data base original'!D93/'Data base original'!D92*100-100)","v":1.3530457859776419},{"$f":"('Data base original'!E93/'Data base original'!E92*100-100)","v":0.22536845684439299},{"$f":"('Data base original'!F93/'Data base original'!F92*100-100)","v":1.4568829123109879}]
["2012-12-01",{"$f":"('Data base original'!B94/'Data base original'!B93*100-100)","v":1.3584611424676751},{"$f":"('Data base original'!C94/'Data base original'!C93*100-100)","v":0.71728127331043368},{"$f":"('Data base original'!D94/'Data base original'!D93*100-100)","v":0.74828157494384584},{"$f":"('Data base original'!E94/'Data base original'!E93*100-100)","v":-1.4485387610276206},{"$f":"('Data base original'!F94/'Data base original'!F93*100-100)","v":0.91612461063188277}]
["2013-01-01",{"$f":"('Data base original'!B95/'Data base original'!B94*100-100)","v":-0.1110266153456223},{"$f":"('Data base original'!C95/'Data base original'!C94*100-100)","v":0.78875140579862091},{"$f":"('Data base original'!D95/'Data base original'!D94*100-100)","v":0.60807235751849475},{"$f":"('Data base original'!E95/'Data base original'!E94*100-100)","v":-1.3677429329142683},{"$f":"('Data base original'!F95/'Data base original'!F94*100-100)","v":6.6688101047390091E-2}]
["2013-02-01",{"$f":"('Data base original'!B96/'Data base original'!B95*100-100)","v":0.6834231748306081},{"$f":"('Data base original'!C96/'Data base original'!C95*100-100)","v":0.48224161766779616},{"$f":"('Data base original'!D96/'Data base original'!D95*100-100)","v":0.8399688447735798},{"$f":"('Data base original'!E96/'Data base original'!E95*100-100)","v":1.1343651756528175},{"$f":"('Data base original'!F96/'Data base original'!F95*100-100)","v":0.73066228277207301}]
["2013-03-01",{"$f":"('Data base original'!B97/'Data base original'!B96*100-100)","v":0.82685376954849232},{"$f":"('Data base original'!C97/'Data base original'!C96*100-100)","v":1.2284393168521319},{"$f":"('Data base original'!D97/'Data base original'!D96*100-100)","v":0.9654077510830632},{"$f":"('Data base original'!E97/'Data base original'!E96*100-100)","v":2.2787177537529857},{"$f":"('Data base original'!F97/'Data base original'!F96*100-100)","v":1.0188819000087648}]
["2013-04-01",{"$f":"('Data base original'!B98/'Data base original'!B97*100-100)","v":0.18843533560084325},{"$f":"('Data base original'!C98/'Data base original'!C97*100-100)","v":0.98743031054029018},{"$f":"('Data base original'!D98/'Data base original'!D97*100-100)","v":0.97189147812308363},{"$f":"('Data base original'!E98/'Data base original'!E97*100-100)","v":2.8345796637268847},{"$f":"('Data base original'!F98/'Data base original'!F97*100-100)","v":0.67412780119198601}]
["2013-05-01",{"$f":"('Data base original'!B99/'Data base original'!B98*100-100)","v":1.295038897669599},{"$f":"('Data base original'!C99/'Data base original'!C98*100-100)","v":0.36075357067953462},{"$f":"('Data base original'!D99/'Data base original'!D98*100-100)","v":0.44949011255783944},{"$f":"('Data base original'!E99/'Data base original'!E98*100-100)","v":8.3010971634487731},{"$f":"('Data base original'!F99/'Data base original'!F98*100-100)","v":1.5394844235106859}]
["2013-06-01",{"$f":"('Data base original'!B100/'Data base original'!B99*100-100)","v":0.87962741977332826},{"$f":"('Data base original'!C100/'Data base original'!C99*100-100)","v":0.55615024192643148},{"$f":"('Data base original'!D100/'Data base original'!D99*100-100)","v":0.6779656974519952},{"$f":"('Data base original'!E100/'Data base original'!E99*100-100)","v":1.4569722768801086},{"$f":"('Data base original'!F100/'Data base original'!F99*100-100)","v":0.84304367074136621}]
["2013-07-01",{"$f":"('Data base original'!B101/'Data base original'!B100*100-100)","v":0.42164659561802864},{"$f":"('Data base original'!C101/'Data base original'!C100*100-100)","v":0.64113113453936421},{"$f":"('Data base original'!D101/'Data base original'!D100*100-100)","v":1.0486656290191547},{"$f":"('Data base original'!E101/'Data base original'!E100*100-100)","v":2.939812254252459},{"$f":"('Data base original'!F101/'Data base original'!F100*100-100)","v":0.80836083281185722}]
["2013-08-01",{"$f":"('Data base original'!B102/'Data base original'!B101*100-100)","v":1.1123096318362116},{"$f":"('Data base original'!C102/'Data base original'!C101*100-100)","v":1.1797476809011727},{"$f":"('Data base original'!D102/'Data base original'!D101*100-100)","v":0.99299583391456281},{"$f":"('Data base original'!E102/'Data base original'!E101*100-100)","v":-0.96120295685567214},{"$f":"('Data base original'!F102/'Data base original'!F101*100-100)","v":0.91199747664146003}]
["2013-09-01",{"$f":"('Data base original'!B103/'Data base original'!B102*100-100)","v":0.56583717865170513},{"$f":"('Data base original'!C103/'Data base original'!C102*100-100)","v":0.48110395461702637},{"$f":"('Data base original'!D103/'Data base original'!D102*100-100)","v":0.95624632397861831},{"$f":"('Data base original'!E103/'Data base original'!E102*100-100)","v":-4.9624854161821474},{"$f":"('Data base original'!F103/'Data base original'!F102*100-100)","v":0.17514368606028086}]
["2013-10-01",{"$f":"('Data base original'!B104/'Data base original'!B103*100-100)","v":0.63480059160548308},{"$f":"('Data base original'!C104/'Data base original'!C103*100-100)","v":1.2049591006054925},{"$f":"('Data base original'!D104/'Data base original'!D103*100-100)","v":1.1626753857230767},{"$f":"('Data base original'!E104/'Data base original'!E103*100-100)","v":-1.0275595028403472},{"$f":"('Data base original'!F104/'Data base original'!F103*100-100)","v":0.69231319384630297}]
["2013-11-01",{"$f":"('Data base original'!B105/'Data base original'!B104*100-100)","v":2.1655938032323974},{"$f":"('Data base original'!C105/'Data base original'!C104*100-100)","v":1.320746743949968},{"$f":"('Data base original'!D105/'Data base original'!D104*100-100)","v":0.8642296637685547},{"$f":"('Data base original'!E105/'Data base original'!E104*100-100)","v":3.0219432179598726},{"$f":"('Data base original'!F105/'Data base original'!F104*100-100)","v":1.8246747755422206}]
["2013-12-01",{"$f":"('Data base original'!B106/'Data base original'!B105*100-100)","v":0.77334982406999586},{"$f":"('Data base original'!C106/'Data base original'!C105*100-100)","v":0.70767628560022899},{"$f":"('Data base original'!D106/'Data base original'!D105*100-100)","v":1.2572832680643415},{"$f":"('Data base original'!E106/'Data base original'!E105*100-100)","v":-5.4842302522578734},{"$f":"('Data base original'!F106/'Data base original'!F105*100-100)","v":0.37504002104964229}]
["2014-01-01",{"$f":"('Data base original'!B107/'Data base original'!B106*100-100)","v":0.96404378559897452},{"$f":"('Data base original'!C107/'Data base original'!C106*100-100)","v":1.1643301495205378},{"$f":"('Data base original'!D107/'Data base original'!D106*100-100)","v":1.4017454344015476},{"$f":"('Data base original'!E107/'Data base original'!E106*100-100)","v":3.5479506079010719},{"$f":"('Data base original'!F107/'Data base original'!F106*100-100)","v":1.2875066570918534}]
["2014-02-01",{"$f":"('Data base original'!B108/'Data base original'!B107*100-100)","v":0.19784232784363098},{"$f":"('Data base original'!C108/'Data base original'!C107*100-100)","v":0.5095153441235567},{"$f":"('Data base original'!D108/'Data base original'!D107*100-100)","v":1.0901762703763325},{"$f":"('Data base original'!E108/'Data base original'!E107*100-100)","v":0.50641760672421299},{"$f":"('Data base original'!F108/'Data base original'!F107*100-100)","v":0.47032326157057014}]
["2014-03-01",{"$f":"('Data base original'!B109/'Data base original'!B108*100-100)","v":-0.66289784521038086},{"$f":"('Data base original'!C109/'Data base original'!C108*100-100)","v":0.8732546790614748},{"$f":"('Data base original'!D109/'Data base original'!D108*100-100)","v":1.3082656624674911},{"$f":"('Data base original'!E109/'Data base original'!E108*100-100)","v":-2.7905438549064172},{"$f":"('Data base original'!F109/'Data base original'!F108*100-100)","v":-0.17506025537922199}]
["2014-04-01",{"$f":"('Data base original'!B110/'Data base original'!B109*100-100)","v":0.19730285818528159},{"$f":"('Data base original'!C110/'Data base original'!C109*100-100)","v":0.89237894271667528},{"$f":"('Data base original'!D110/'Data base original'!D109*100-100)","v":1.5018844993547305},{"$f":"('Data base original'!E110/'Data base original'!E109*100-100)","v":4.0049408406291462},{"$f":"('Data base original'!F110/'Data base original'!F109*100-100)","v":0.88423024022112884}]
["2014-05-01",{"$f":"('Data base original'!B111/'Data base original'!B110*100-100)","v":0.57872991256984108},{"$f":"('Data base original'!C111/'Data base original'!C110*100-100)","v":0.20309875586357862},{"$f":"('Data base original'!D111/'Data base original'!D110*100-100)","v":1.3231269489978814},{"$f":"('Data base original'!E111/'Data base original'!E110*100-100)","v":-0.90711287316844391},{"$f":"('Data base original'!F111/'Data base original'!F110*100-100)","v":0.59906105061824633}]
["2014-06-01",{"$f":"('Data base original'!B112/'Data base original'!B111*100-100)","v":0.61160177471502664},{"$f":"('Data base original'!C112/'Data base original'!C111*100-100)","v":0.21258534412696406},{"$f":"('Data base original'!D112/'Data base original'!D111*100-100)","v":1.1584531628795958},{"$f":"('Data base original'!E112/'Data base original'!E111*100-100)","v":-3.3477179777216151},{"$f":"('Data base original'!F112/'Data base original'!F111*100-100)","v":0.39416485365282483}]
["2014-07-01",{"$f":"('Data base original'!B113/'Data base original'!B112*100-100)","v":0.43723622187449962},{"$f":"('Data base original'!C113/'Data base original'!C112*100-100)","v":0.6576370239487801},{"$f":"('Data base original'!D113/'Data base original'!D112*100-100)","v":0.86557734200147252},{"$f":"('Data base original'!E113/'Data base original'!E112*100-100)","v":3.5070616567376192},{"$f":"('Data base original'!F113/'Data base original'!F112*100-100)","v":0.79614383741007089}]
["2014-08-01",{"$f":"('Data base original'!B114/'Data base original'!B113*100-100)","v":1.3087549368913471},{"$f":"('Data base original'!C114/'Data base original'!C113*100-100)","v":0.79368972856363484},{"$f":"('Data base original'!D114/'Data base original'!D113*100-100)","v":1.0968165137032742},{"$f":"('Data base original'!E114/'Data base original'!E113*100-100)","v":-9.4178606486664762E-2},{"$f":"('Data base original'!F114/'Data base original'!F113*100-100)","v":1.0884317441916807}]
["2014-09-01",{"$f":"('Data base original'!B115/'Data base original'!B114*100-100)","v":0.59803774168231882},{"$f":"('Data base original'!C115/'Data base original'!C114*100-100)","v":0.50401349503216863},{"$f":"('Data base original'!D115/'Data base original'!D114*100-100)","v":1.2507071685303117},{"$f":"('Data base original'!E115/'Data base original'!E114*100-100)","v":0.1379396525987886},{"$f":"('Data base original'!F115/'Data base original'!F114*100-100)","v":0.71374277033335431}]
["2014-10-01",{"$f":"('Data base original'!B116/'Data base original'!B115*100-100)","v":0.44805081178375872},{"$f":"('Data base original'!C116/'Data base original'!C115*100-100)","v":0.80256685400823358},{"$f":"('Data base original'!D116/'Data base original'!D115*100-100)","v":1.5876132974494368},{"$f":"('Data base original'!E116/'Data base original'!E115*100-100)","v":-3.8980058973871792},{"$f":"('Data base original'!F116/'Data base original'!F115*100-100)","v":0.44960256896935391}]
["2014-11-01",{"$f":"('Data base original'!B117/'Data base original'!B116*100-100)","v":2.6324454279262},{"$f":"('Data base original'!C117/'Data base original'!C116*100-100)","v":1.0232999186497551},{"$f":"('Data base original'!D117/'Data base original'!D116*100-100)","v":1.7690919231586832},{"$f":"('Data base original'!E117/'Data base original'!E116*100-100)","v":4.1005516196616014},{"$f":"('Data base original'!F117/'Data base original'!F116*100-100)","v":2.3281273895486123}]
["2014-12-01",{"$f":"('Data base original'!B118/'Data base original'!B117*100-100)","v":0.61669968494904026},{"$f":"('Data base original'!C118/'Data base original'!C117*100-100)","v":0.47457178426361679},{"$f":"('Data base original'!D118/'Data base original'!D117*100-100)","v":1.2340520165391951},{"$f":"('Data base original'!E118/'Data base original'!E117*100-100)","v":-2.5286438665114304},{"$f":"('Data base original'!F118/'Data base original'!F117*100-100)","v":0.52619008082952234}]
["2015-01-01",{"$f":"('Data base original'!B119/'Data base original'!B118*100-100)","v":0.30187157740242299},{"$f":"('Data base original'!C119/'Data base original'!C118*100-100)","v":0.4609920917530701},{"$f":"('Data base original'!D119/'Data base original'!D118*100-100)","v":0.50076670703356285},{"$f":"('Data base original'!E119/'Data base original'!E118*100-100)","v":7.9778553873230749},{"$f":"('Data base original'!F119/'Data base original'!F118*100-100)","v":0.91050358368805462}]
["2015-02-01",{"$f":"('Data base original'!B120/'Data base original'!B119*100-100)","v":-0.48266476851199513},{"$f":"('Data base original'!C120/'Data base original'!C119*100-100)","v":0.36856757429110587},{"$f":"('Data base original'!D120/'Data base original'!D119*100-100)","v":0.63608680330918332},{"$f":"('Data base original'!E120/'Data base original'!E119*100-100)","v":-4.1749880125044427},{"$f":"('Data base original'!F120/'Data base original'!F119*100-100)","v":-0.38022580923573912}]
["2015-03-01",{"$f":"('Data base original'!B121/'Data base original'!B120*100-100)","v":-4.7538102472060473E-2},{"$f":"('Data base original'!C121/'Data base original'!C120*100-100)","v":0.68165290415240065},{"$f":"('Data base original'!D121/'Data base original'!D120*100-100)","v":1.2164113599804978},{"$f":"('Data base original'!E121/'Data base original'!E120*100-100)","v":0.2909866499462197},{"$f":"('Data base original'!F121/'Data base original'!F120*100-100)","v":0.38324633475880887}]
["2015-04-01",{"$f":"('Data base original'!B122/'Data base original'!B121*100-100)","v":0.12319531634945236},{"$f":"('Data base original'!C122/'Data base original'!C121*100-100)","v":0.67461598302801917},{"$f":"('Data base original'!D122/'Data base original'!D121*100-100)","v":1.5113888114721732},{"$f":"('Data base original'!E122/'Data base original'!E121*100-100)","v":-0.11977463904483443},{"$f":"('Data base original'!F122/'Data base original'!F121*100-100)","v":0.52550559177713296}]
["2015-05-01",{"$f":"('Data base original'!B123/'Data base original'!B122*100-100)","v":1.6270201925044745},{"$f":"('Data base original'!C123/'Data base original'!C122*100-100)","v":-1.0266016987223878},{"$f":"('Data base original'!D123/'Data base original'!D122*100-100)","v":1.4034430062886543},{"$f":"('Data base original'!E123/'Data base original'!E122*100-100)","v":3.3049469720519227},{"$f":"('Data base original'!F123/'Data base original'!F122*100-100)","v":1.3752562339253842}]
["2015-06-01",{"$f":"('Data base original'!B124/'Data base original'!B123*100-100)","v":0.33704219437447591},{"$f":"('Data base original'!C124/'Data base original'!C123*100-100)","v":0.25872562140889954},{"$f":"('Data base original'!D124/'Data base original'!D123*100-100)","v":1.1510439810562048},{"$f":"('Data base original'!E124/'Data base original'!E123*100-100)","v":0.17151865593159243},{"$f":"('Data base original'!F124/'Data base original'!F123*100-100)","v":0.52587702887842624}]
["2015-07-01",{"$f":"('Data base original'!B125/'Data base original'!B124*100-100)","v":1.1782304317020618},{"$f":"('Data base original'!C125/'Data base original'!C124*100-100)","v":1.002104143451362},{"$f":"('Data base original'!D125/'Data base original'!D124*100-100)","v":1.1808423306034115},{"$f":"('Data base original'!E125/'Data base original'!E124*100-100)","v":4.3314027110205018},{"$f":"('Data base original'!F125/'Data base original'!F124*100-100)","v":1.3886409693802335}]
["2015-08-01",{"$f":"('Data base original'!B126/'Data base original'!B125*100-100)","v":0.75983722551100641},{"$f":"('Data base original'!C126/'Data base original'!C125*100-100)","v":0.61577603098399436},{"$f":"('Data base original'!D126/'Data base original'!D125*100-100)","v":1.1547285635403028},{"$f":"('Data base original'!E126/'Data base original'!E125*100-100)","v":2.7406244129991535},{"$f":"('Data base original'!F126/'Data base original'!F125*100-100)","v":0.99429804566482005}]
["2015-09-01",{"$f":"('Data base original'!B127/'Data base original'!B126*100-100)","v":1.9448634375053331},{"$f":"('Data base original'!C127/'Data base original'!C126*100-100)","v":0.69736524492188323},{"$f":"('Data base original'!D127/'Data base original'!D126*100-100)","v":1.5054804102363732},{"$f":"('Data base original'!E127/'Data base original'!E126*100-100)","v":-1.867819926923957},{"$f":"('Data base original'!F127/'Data base original'!F126*100-100)","v":1.3966825578719266}]
["2015-10-01",{"$f":"('Data base original'!B128/'Data base original'!B127*100-100)","v":0.64824390942513332},{"$f":"('Data base original'!C128/'Data base original'!C127*100-100)","v":0.88521269563787541},{"$f":"('Data base original'!D128/'Data base original'!D127*100-100)","v":1.3858249059448582},{"$f":"('Data base original'!E128/'Data base original'!E127*100-100)","v":-2.2828150769697686},{"$f":"('Data base original'!F128/'Data base original'!F127*100-100)","v":0.65014807227765914}]
["2015-11-01",{"$f":"('Data base original'!B129/'Data base original'!B128*100-100)","v":1.3689977783194678},{"$f":"('Data base original'!C129/'Data base original'!C128*100-100)","v":1.0708284644167065},{"$f":"('Data base original'!D129/'Data base original'!D128*100-100)","v":1.3440596581234985},{"$f":"('Data base original'!E129/'Data base original'!E128*100-100)","v":1.1832517414000989},{"$f":"('Data base original'!F129/'Data base original'!F128*100-100)","v":1.3151310594026455}]
["2015-12-01",{"$f":"('Data base original'!B130/'Data base original'!B129*100-100)","v":0.98452439069288289},{"$f":"('Data base original'!C130/'Data base original'!C129*100-100)","v":1.1028960675333508},{"$f":"('Data base original'!D130/'Data base original'!D129*100-100)","v":1.1336643316832209},{"$f":"('Data base original'!E130/'Data base original'!E129*100-100)","v":-2.1608201751970597},{"$f":"('Data base original'!F130/'Data base original'!F129*100-100)","v":0.81159307016724824}]
["2016-01-01",{"$f":"('Data base original'!B131/'Data base original'!B130*100-100)","v":0.36579289519396241},{"$f":"('Data base original'!C131/'Data base original'!C130*100-100)","v":0.62471462328812777},{"$f":"('Data base original'!D131/'Data base original'!D130*100-100)","v":0.67779081384560413},{"$f":"('Data base original'!E131/'Data base original'!E130*100-100)","v":1.0125192151277105},{"$f":"('Data base original'!F131/'Data base original'!F130*100-100)","v":0.52225253000321459}]
["2016-02-01",{"$f":"('Data base original'!B132/'Data base original'!B131*100-100)","v":6.3766694047700412E-2},{"$f":"('Data base original'!C132/'Data base original'!C131*100-100)","v":0.54458389618569925},{"$f":"('Data base original'!D132/'Data base original'!D131*100-100)","v":0.85606932665211843},{"$f":"('Data base original'!E132/'Data base original'!E131*100-100)","v":0.37149472868536293},{"$f":"('Data base original'!F132/'Data base original'!F131*100-100)","v":0.34857015050360474}]
["2016-03-01",{"$f":"('Data base original'!B133/'Data base original'!B132*100-100)","v":-0.59637678041114839},{"$f":"('Data base original'!C133/'Data base original'!C132*100-100)","v":0.92334310086276616},{"$f":"('Data base original'!D133/'Data base original'!D132*100-100)","v":0.95483014847090431},{"$f":"('Data base original'!E133/'Data base original'!E132*100-100)","v":-2.2676315611195719},{"$f":"('Data base original'!F133/'Data base original'!F132*100-100)","v":-0.12926456701585209}]
["2016-04-01",{"$f":"('Data base original'!B134/'Data base original'!B133*100-100)","v":0.53235770128110005},{"$f":"('Data base original'!C134/'Data base original'!C133*100-100)","v":0.76848775121646895},{"$f":"('Data base original'!D134/'Data base original'!D133*100-100)","v":0.80833858419686067},{"$f":"('Data base original'!E134/'Data base original'!E133*100-100)","v":-0.968502022915672},{"$f":"('Data base original'!F134/'Data base original'!F133*100-100)","v":0.53072208486622685}]
["2016-05-01",{"$f":"('Data base original'!B135/'Data base original'!B134*100-100)","v":1.164779288307912},{"$f":"('Data base original'!C135/'Data base original'!C134*100-100)","v":0.22067937421532235},{"$f":"('Data base original'!D135/'Data base original'!D134*100-100)","v":0.80146382723840759},{"$f":"('Data base original'!E135/'Data base original'!E134*100-100)","v":6.1898910272687431},{"$f":"('Data base original'!F135/'Data base original'!F134*100-100)","v":1.2966632255457142}]
["2016-06-01",{"$f":"('Data base original'!B136/'Data base original'!B135*100-100)","v":0.20435985973543325},{"$f":"('Data base original'!C136/'Data base original'!C135*100-100)","v":0.435958724369641},{"$f":"('Data base original'!D136/'Data base original'!D135*100-100)","v":0.71785041731169486},{"$f":"('Data base original'!E136/'Data base original'!E135*100-100)","v":-4.9111925434004888},{"$f":"('Data base original'!F136/'Data base original'!F135*100-100)","v":6.3976009298158942E-3}]
["2016-07-01",{"$f":"('Data base original'!B137/'Data base original'!B136*100-100)","v":0.97310011461848944},{"$f":"('Data base original'!C137/'Data base original'!C136*100-100)","v":0.64670480494817184},{"$f":"('Data base original'!D137/'Data base original'!D136*100-100)","v":0.69700481404888137},{"$f":"('Data base original'!E137/'Data base original'!E136*100-100)","v":1.1609461929436691},{"$f":"('Data base original'!F137/'Data base original'!F136*100-100)","v":0.8739837039190661}]
["2016-08-01",{"$f":"('Data base original'!B138/'Data base original'!B137*100-100)","v":0.67815611542086174},{"$f":"('Data base original'!C138/'Data base original'!C137*100-100)","v":0.84479153669840912},{"$f":"('Data base original'!D138/'Data base original'!D137*100-100)","v":0.7282099540271787},{"$f":"('Data base original'!E138/'Data base original'!E137*100-100)","v":1.1660793151540929},{"$f":"('Data base original'!F138/'Data base original'!F137*100-100)","v":0.74359743139089574}]
["2016-09-01",{"$f":"('Data base original'!B139/'Data base original'!B138*100-100)","v":-0.42780730971173853},{"$f":"('Data base original'!C139/'Data base original'!C138*100-100)","v":0.55890154065629361},{"$f":"('Data base original'!D139/'Data base original'!D138*100-100)","v":0.54014749954841079},{"$f":"('Data base original'!E139/'Data base original'!E138*100-100)","v":-1.7502648804045009},{"$f":"('Data base original'!F139/'Data base original'!F138*100-100)","v":-0.14433652657224627}]
["2016-10-01",{"$f":"('Data base original'!B140/'Data base original'!B139*100-100)","v":0.30375505961839622},{"$f":"('Data base original'!C140/'Data base original'!C139*100-100)","v":0.65619050096439935},{"$f":"('Data base original'!D140/'Data base original'!D139*100-100)","v":0.48485562552622241},{"$f":"('Data base original'!E140/'Data base original'!E139*100-100)","v":-4.8287267030886909},{"$f":"('Data base original'!F140/'Data base original'!F139*100-100)","v":5.1813463755152611E-2}]
["2016-11-01",{"$f":"('Data base original'!B141/'Data base original'!B140*100-100)","v":1.1628539300690051},{"$f":"('Data base original'!C141/'Data base original'!C140*100-100)","v":1.1530078782035105},{"$f":"('Data base original'!D141/'Data base original'!D140*100-100)","v":0.84937265655568694},{"$f":"('Data base original'!E141/'Data base original'!E140*100-100)","v":3.6072804683507229},{"$f":"('Data base original'!F141/'Data base original'!F140*100-100)","v":1.2315273084574869}]
["2016-12-01",{"$f":"('Data base original'!B142/'Data base original'!B141*100-100)","v":0.38477338265725791},{"$f":"('Data base original'!C142/'Data base original'!C141*100-100)","v":0.51356649877914151},{"$f":"('Data base original'!D142/'Data base original'!D141*100-100)","v":1.0686199538744603},{"$f":"('Data base original'!E142/'Data base original'!E141*100-100)","v":-5.6527211543022133},{"$f":"('Data base original'!F142/'Data base original'!F141*100-100)","v":0.19314726433843532}]
["2017-01-31",{"$f":"('Data base original'!B143/'Data base original'!B142*100-100)","v":-0.53315916892994153},{"$f":"('Data base original'!C143/'Data base original'!C142*100-100)","v":0.53250730399018664},{"$f":"('Data base original'!D143/'Data base original'!D142*100-100)","v":0.40826954979800689},{"$f":"('Data base original'!E143/'Data base original'!E142*100-100)","v":-0.94415815018426485},{"$f":"('Data base original'!F143/'Data base original'!F142*100-100)","v":-0.1773281318911728}]
[{"$f":"'Data base graphs 1'!A140","v":"2017-02-01"},{"$f":"('Data base original'!B144/'Data base original'!B143*100-100)","v":0.25932208601244611},{"$f":"('Data base original'!C144/'Data base original'!C143*100-100)","v":0.37973038059237751},{"$f":"('Data base original'!D144/'Data base original'!D143*100-100)","v":0.80812428265844005},{"$f":"('Data base original'!E144/'Data base original'!E143*100-100)","v":1.0074862850089943},{"$f":"('Data base original'!F144/'Data base original'!F143*100-100)","v":0.46913500314957446}]
[{"$f":"'Data base graphs 1'!A141","v":"2017-03-01"},{"$f":"('Data base original'!B145/'Data base original'!B144*100-100)","v":0.24186419401297599},{"$f":"('Data base original'!C145/'Data base original'!C144*100-100)","v":0.96075007440023796},{"$f":"('Data base original'!D145/'Data base original'!D144*100-100)","v":1.1040244868342484},{"$f":"('Data base original'!E145/'Data base original'!E144*100-100)","v":2.5521860691949882},{"$f":"('Data base original'!F145/'Data base original'!F144*100-100)","v":0.70401291988390824}]
[{"$f":"'Data base graphs 1'!A142","v":"2017-04-01"},{"$f":"('Data base original'!B146/'Data base original'!B145*100-100)","v":1.2499881987831856},{"$f":"('Data base original'!C146/'Data base original'!C145*100-100)","v":0.32091686775628148},{"$f":"('Data base original'!D146/'Data base original'!D145*100-100)","v":0.77446923150399982},{"$f":"('Data base original'!E146/'Data base original'!E145*100-100)","v":2.4866876809199141},{"$f":"('Data base original'!F146/'Data base original'!F145*100-100)","v":1.0859234290073516}]
[{"$f":"'Data base graphs 1'!A143","v":"2017-05-01"},{"$f":"('Data base original'!B147/'Data base original'!B146*100-100)","v":-0.94661125693879455},{"$f":"('Data base original'!C147/'Data base original'!C146*100-100)","v":-4.4373193769359887E-2},{"$f":"('Data base original'!D147/'Data base original'!D146*100-100)","v":0.97992903762364847},{"$f":"('Data base original'!E147/'Data base original'!E146*100-100)","v":-1.0464253394133891},{"$f":"('Data base original'!F147/'Data base original'!F146*100-100)","v":-0.31733736678185664}]
[{"$f":"'Data base graphs 1'!A144","v":"2017-06-01"},{"$f":"('Data base original'!B148/'Data base original'!B147*100-100)","v":0.37229428247759699},{"$f":"('Data base original'!C148/'Data base original'!C147*100-100)","v":0.22273871601350947},{"$f":"('Data base original'!D148/'Data base original'!D147*100-100)","v":0.87875468331401407},{"$f":"('Data base original'!E148/'Data base original'!E147*100-100)","v":-4.0445161225614186},{"$f":"('Data base original'!F148/'Data base original'!F147*100-100)","v":0.22030603930474513}]
[{"$f":"'Data base graphs 1'!A145","v":"2017-07-01"},{"$f":"('Data base original'!B149/'Data base original'!B148*100-100)","v":-0.1786721598420371},{"$f":"('Data base original'!C149/'Data base original'!C148*100-100)","v":9.5121752327969489E-2},{"$f":"('Data base original'!D149/'Data base original'!D148*100-100)","v":0.38962203356165048},{"$f":"('Data base original'!E149/'Data base original'!E148*100-100)","v":-1.1946488535818673},{"$f":"('Data base original'!F149/'Data base original'!F148*100-100)","v":-4.7833273332287263E-2}]
[{"$f":"'Data base graphs 1'!A146","v":"2017-08-01"},{"$f":"('Data base original'!B150/'Data base original'!B149*100-100)","v":0.19522916167360904},{"$f":"('Data base original'!C150/'Data base original'!C149*100-100)","v":0.80477068444591282},{"$f":"('Data base original'!D150/'Data base original'!D149*100-100)","v":0.70305154033884776},{"$f":"('Data base original'!E150/'Data base original'!E149*100-100)","v":-4.4393681910996463},{"$f":"('Data base original'!F150/'Data base original'!F149*100-100)","v":0.13621477511429703}]
[{"$f":"'Data base graphs 1'!A147","v":"2017-09-01"},{"$f":"('Data base original'!B151/'Data base original'!B150*100-100)","v":0.95417521002394778},{"$f":"('Data base original'!C151/'Data base original'!C150*100-100)","v":0.36190978274146346},{"$f":"('Data base original'!D151/'Data base original'!D150*100-100)","v":0.97924342366646044},{"$f":"('Data base original'!E151/'Data base original'!E150*100-100)","v":-1.4936783167771779},{"$f":"('Data base original'!F151/'Data base original'!F150*100-100)","v":0.75328667420760098}]
[{"$f":"'Data base graphs 1'!A148","v":"2017-10-01"},{"$f":"('Data base original'!B152/'Data base original'!B151*100-100)","v":4.4335993066326296E-2},{"$f":"('Data base original'!C152/'Data base original'!C151*100-100)","v":0.45661604329836791},{"$f":"('Data base original'!D152/'Data base original'!D151*100-100)","v":0.58315058003510956},{"$f":"('Data base original'!E152/'Data base original'!E151*100-100)","v":6.8567223196168925E-2},{"$f":"('Data base original'!F152/'Data base original'!F151*100-100)","v":0.24724653562857668}]
[{"$f":"'Data base graphs 1'!A149","v":"2017-11-01"},{"$f":"('Data base original'!B153/'Data base original'!B152*100-100)","v":1.3312903779282692},{"$f":"('Data base original'!C153/'Data base original'!C152*100-100)","v":1.0666243781993927},{"$f":"('Data base original'!D153/'Data base original'!D152*100-100)","v":1.0925290856070689},{"$f":"('Data base original'!E153/'Data base original'!E152*100-100)","v":2.398790810856994},{"$f":"('Data base original'!F153/'Data base original'!F152*100-100)","v":1.2907327600363345}]
[{"$f":"'Data base graphs 1'!A150","v":"2017-12-01"},{"$f":"('Data base original'!B154/'Data base original'!B153*100-100)","v":0.36258591597095347},{"$f":"('Data base original'!C154/'Data base original'!C153*100-100)","v":0.35247763086300665},{"$f":"('Data base original'!D154/'Data base original'!D153*100-100)","v":0.96781239601051539},{"$f":"('Data base original'!E154/'Data base original'!E153*100-100)","v":-4.5754161995387506},{"$f":"('Data base original'!F154/'Data base original'!F153*100-100)","v":0.25893553802856673}]
["2018-01-31",{"$f":"('Data base original'!B155/'Data base original'!B154*100-100)","v":-0.52942092675819197},{"$f":"('Data base original'!C155/'Data base original'!C154*100-100)","v":0.79413387064938945},{"$f":"('Data base original'!D155/'Data base original'!D154*100-100)","v":0.60933141263348034},{"$f":"('Data base original'!E155/'Data base original'!E154*100-100)","v":-1.2095020399491005},{"$f":"('Data base original'!F155/'Data base original'!F154*100-100)","v":-8.3259927376516885E-2}]

{"sheet":"FAME Persistence2","index":3,"n_rows":48,"n_cols":5,"rows_kept":48,"cut":false,"hidden":true,"merged":[]}
[47,"Graphs"]
["Data base original","$L$11","A1:A156",null,"2018-02-23T12:12:50"]
["Data base original","$AU$11","A1:A156",17.64,"2018-02-23T12:12:51"]
["Data base original","$AG$11","A1:A156",4253.96,"2018-02-23T12:12:51"]
["Data base original","$T$11","A1:A156",4523.3099999999995,"2018-02-23T12:12:51"]
["Data base original","$AK$11","A1:A156",408.65,"2018-02-23T12:12:51"]
["Data base original","$G$11","A1:A156",26.840105511345499,"2018-02-23T12:12:50"]
["Data base original","$M$11","A1:A156",null,"2018-02-23T12:12:50"]
["Data base original","$AV$11","A1:A156",6.36,"2018-02-23T12:12:51"]
["Data base original","$AH$11","A1:A156",352.74,"2018-02-23T12:12:51"]
["Data base original","$X$11","A1:A156",2244.9699999999998,"2018-02-23T12:12:51"]
["Data base original","$AP$11","A1:A156",4.92,"2018-02-23T12:12:51"]
["Data base original","$K$11","A1:A156",10.2731725726366,"2018-02-23T12:12:50"]
["Data base original","$AC$11","A1:A156",33274.667500000003,"2018-02-23T12:12:51"]
["Data base original","$C$11","A1:A156",5571.0029999999997,"2018-02-23T12:12:50"]
["Data base original","$E$11","A1:A156",3905.4259999999999,"2018-02-23T12:12:50"]
["Data base original","$AM$11","A1:A156",161.41,"2018-02-23T12:12:51"]
["Data base original","$Q$11","A1:A156",5.31,"2018-02-23T12:12:50"]
["Data base original","$Z$11","A1:A156",110.16,"2018-02-23T12:12:51"]
["Data base original","$AS$11","A1:A156",14.76,"2018-02-23T12:12:51"]
["Data base original","$AE$11","A1:A156",6603.07,"2018-02-23T12:12:51"]
["Data base original","$R$11","A1:A156",2757.7020000000002,"2018-02-23T12:12:50"]
["Data base original","$AJ$11","A1:A156",3443.76,"2018-02-23T12:12:51"]
["Data base original","$B$11","A1:A156",25877.188999999998,"2018-02-23T12:12:50"]
["Data base original","$W$11","A1:A156",23131.487499999999,"2018-02-23T12:12:51"]
["Data base original","$AT$11","A1:A156",6.24,"2018-02-23T12:12:51"]
["Data base original","$AF$11","A1:A156",1040.99,"2018-02-23T12:12:51"]
["Data base original","$S$11","A1:A156",1694,"2018-02-23T12:12:50"]
["Data base original","$AN$11","A1:A156",58411.4375,"2018-02-23T12:12:51"]
["Data base original","$J$11","A1:A156",null,"2018-02-23T12:12:50"]
["Data base original","$AA$11","A1:A156",3111.66,"2018-02-23T12:12:51"]
["Data base original","$P$11","A1:A156",null,"2018-02-23T12:12:50"]
["Data base original","$V$11","A1:A156",7577.61,"2018-02-23T12:12:51"]
["Data base original","$AD$11","A1:A156",3263.92,"2018-02-23T12:12:51"]
["Data base original","$AI$11","A1:A156",8243.9500000000007,"2018-02-23T12:12:51"]
["Data base original","$AR$11","A1:A156",5.52,"2018-02-23T12:12:51"]
["Data base original","$N$11","A1:A156",5.28923438819597,"2018-02-23T12:12:50"]
["Data base original","$AW$11","A1:A156",19.920000000000002,"2018-02-23T12:12:51"]
["Data base original","$D$11","A1:A156",9317.4879999999994,"2018-02-23T12:12:50"]
["Data base original","$U$11","A1:A156",1360.3000000000002,"2018-02-23T12:12:51"]
["Data base original","$AL$11","A1:A156",2312.86,"2018-02-23T12:12:51"]
["Data base original","$AB$11","A1:A156",8.4700000000000006,"2018-02-23T12:12:51"]
["Data base original","$O$11","A1:A156",null,"2018-02-23T12:12:50"]
["Data base original","$F$11","A1:A156",44671.106,"2018-02-23T12:12:50"]
["Data base original","$H$11","A1:A156",null,"2018-02-23T12:12:50"]
["Data base original","$Y$11","A1:A156",3330.57,"2018-02-23T12:12:51"]
["Data base original","$AQ$11","A1:A156",7.56,"2018-02-23T12:12:51"]
["Data base original","$I$11","A1:A156",null,"2018-02-23T12:12:50"]

{"sheet":"Graphs","index":4,"n_rows":93,"n_cols":17,"rows_kept":93,"cut":false,"hidden":false,"merged":[[75,1,75,4],[75,7,75,10],[75,13,75,16],[39,1,39,4],[39,6,39,9],[39,11,39,14],[39,16,39,19],[56,1,56,4],[56,6,56,9],[56,11,56,14],[56,16,56,19],[22,1,22,4],[22,6,22,9],[22,11,22,14],[22,16,22,19],[19,0,19,19],[3,16,6,20],[7,16,9,20],[10,16,10,20],[2,16,2,20],[16,6,17,9]]}
["2016-01-31"]
["2018-01-31","Graph 1: Interest rates by type of debtor (1)",null,null,null,null,"Graph 2: Nominal loans by type of debtor (2)",null,null,null,null,"Graph 3: Monetary aggregates (3)"]
[null,"(rates on an annual basis 360 days, percentage)",null,null,null,null,"(annual basis, percentage)  ",null,null,null,null,"(annual basis, percentage) "]
[]
[]
[]
[]
[]
[]
[]
[]
[]
[]
[]
[]
[]
[null,"Source: Central Bank of Chile.  ",null,null,null,null,"Source: Central Bank of Chile based on individual balance sheets reported by the Superintendency of Banks and Financial Institutions (SBIF).",null,null,null,null,"Source: Central Bank of Chile.  "]
[]
[]
["Annex"]
[null,"1.- Interest rates (1) (rates on an annual basis 360 days, percentage)"]
[null,"By type of debtor"]
[null,"Consumer (CLP)",null,null,null,null,"Commercial (CLP)",null,null,null,null,"Foreign trade (US$)",null,null,null,null,"Mortgage (UF)"]
[]
[]
[]
[]
[]
[]
[]
[]
[]
[]
[]
[]
[]
[null,"Source: Central Bank of Chile.  "]
[]
[null,"By maturity, nominal"]
[null,"30 to 89 days",null,null,null,null,"90 days to 1 year",null,null,null,null,"1 to 3 years",null,null,null,null,"More than 3 years"]
[]
[]
[]
[]
[]
[]
[]
[]
[]
[]
[]
[]
[]
[null,"Source: Central Bank of Chile.  "]
[]
[null,"2.- Nominal loans by type of debtor (2) (annual and monthly variation, percentage)"]
[null,"Consumer",null,null,null,null,"Commercial",null,null,null,null,"Foreign trade",null,null,null,null,"Mortgage"]
[]
[]
[]
[]
[]
[]
[]
[]
[]
[]
[]
[]
[]
[]
[null,"Source: Central Bank of Chile based on individual balance sheets reported by the Superintendency of Banks and Financial Institutions (SBIF)."]
[]
[]
[null,"3.- Monetary aggregates and its components (3) (contribution to annual variation, percentage)"]
[null,"M1",null,null,null,null,null,"M2",null,null,null,null,null,"M3"]
[]
[]
[]
[]
[]
[]
[]
[]
[]
[]
[]
[]
[]
[null,"Source: Central Bank of Chile.  "]
[]
[]
[null,"Notes:"]