{"text_format":"1","workbook":"xlsx","n_sheets":6,"sheets":["Hoja4","Base original","Base gráficos 1","Base gráficos 2","FAME Persistence2","Gráficos"],"not_rendered":{"charts":22,"images":7,"macros":1,"external_links":0,"defined_names":1,"comments":0,"pivot_tables":0},"unopened":[],"bounds":{"document_bytes":16777216,"sheet_cells":100000,"rows_first":2000,"rows_last":500,"rows_between":2000,"halvings":0,"cell_chars":16384,"cell_head_chars":4096},"cells_cut":0,"cells_raw":0,"read":"whole","date_system":"1900"}

{"sheet":"Hoja4","index":0,"n_rows":0,"n_cols":0,"rows_kept":0,"cut":false,"hidden":true,"merged":[]}

{"sheet":"Base original","index":1,"n_rows":165,"n_cols":64,"rows_kept":165,"cut":false,"hidden":false,"merged":[[2,6,2,7],[2,16,2,17],[2,24,2,25],[1,30,1,31],[2,8,2,9],[2,10,2,11],[2,12,2,13],[2,14,2,15],[2,18,2,19],[2,20,2,21],[2,22,2,23],[2,26,2,27],[2,28,2,29],[4,56,4,63],[5,56,5,63],[4,1,4,5],[4,6,4,31],[4,32,4,54],[5,1,5,5],[5,6,5,31],[5,32,5,54],[0,56,0,63],[1,56,1,57],[1,58,1,59],[1,60,1,61],[1,62,1,63],[0,32,0,54],[1,32,1,36],[1,37,1,43],[1,44,1,54],[0,1,0,5],[0,6,0,31],[1,1,1,5],[1,6,1,15],[1,16,1,23],[1,24,1,29]]}
[null,"COLOCACIONES (*)",null,null,null,null,"TASAS DE INTERÉS POR TIPO  (*)",null,null,null,null,null,null,null,null,null,null,null,null,null,null,null,null,null,null,null,null,null,null,null,null,null,"AGREGADOS MONETARIOS  (*)",null,null,null,null,null,null,null,null,null,null,null,null,null,null,null,null,null,null,null,null,null,null,null,"TASAS DE INTERÉS DE CAPTACIÓN POR PLAZO  (*)"]
[null,"Colocaciones balances individuales",null,null,null,null,"Consumo ($)",null,null,null,null,null,null,null,null,null,"Comerciales ($)",null,null,null,null,null,null,null,"Comercio exterior (USS$)",null,null,null,null,null,"Vivienda (UF)",null,"M1",null,null,null,null,"M2",null,null,null,null,null,null,"M3",null,null,null,null,null,null,null,null,null,null,null,"30 a 89 días nominal",null,"90 días a 1 año nominal",null,"1 a 3 años nominal",null,"más de 3 años nominal"]
[null,"Comerciales","Consumo ","Vivienda","Comercio exterior","Total","Consumo",null,"Tarjeta crédito rotativo",null,"Tarjeta crédito cuota",null,"Crédito en cuotas",null,"Sobregiros",null,"Comercio",null,"Tarjeta y otros",null,"Crédito en cuotas",null,"Sobregiros",null,"Comex",null,"Exportación",null,"Importación",null,null,null,"Base monetaria","C","D1","Dvb + Ahv","M1","Dp","Ahp","Cuotas de FM en instr. de hasta un año","Captaciones de CAC","Inversiones de FM en M2","Inversiones de CAC en M2","M2","Depósito en moneda extranjera","Documentos del Banco Central","Bonos de Tesorería","Letras de crédito","Efectos de comercio","Bono de Empresa","Cuotas del resto de FM","Cuotas de ahorro voluntario AFP","Inversión de FM en M3","Inversión de AFP en M3","M3",null,"30 a 89 días nominal",null,"90 días a 1 año nominal",null,"1 a 3 años nominal",null,"más de 3 años nominal"]
[null,null,null,null,null,null,"Tasa","Flujo","Tasa","Flujo","Tasa","Flujo","Tasa","Flujo","Tasa","Flujo","Tasa","Flujo","Tasa","Flujo","Tasa","Flujo","Tasa","Flujo","Tasa","Flujo","Tasa","Flujo","Tasa","Flujo","Tasa","Flujo",null,null,null,null,null,null,null,null,null,null,null,null,null,null,null,null,null,null,null,null,null,null,null,null,"Tasa","Flujo","Tasa","Flujo","Tasa","Flujo","Tasa","Flujo"]
[null,"miles de millones de pesos",null,null,null,null,"tasas base anual 360 días; flujo en miles de millones de pesos",null,null,null,null,null,null,null,null,null,null,null,null,null,null,null,null,null,null,null,null,null,null,null,null,null,"miles de millones de pesos",null,null,null,null,null,null,null,null,null,null,null,null,null,null,null,null,null,null,null,null,null,null,null,"tasas base anual 360 días, porcentaje"]
[null,"Fuente: Banco Central de Chile y Superintendencia de Bancos e Instituciones Financieras.",null,null,null,null,"Fuente: Banco Central de Chile",null,null,null,null,null,null,null,null,null,null,null,null,null,null,null,null,null,null,null,null,null,null,null,null,null,"Fuente: Banco Central de Chile",null,null,null,null,null,null,null,null,null,null,null,null,null,null,null,null,null,null,null,null,null,null,null,"Fuente: Banco Central de Chile"]
[null,"F022.COMBI.STO.Z.Z.CLP.M","F022.CONBI.STO.Z.Z.CLP.M","F022.VIVBI.STO.Z.Z.CLP.M","F022.CMXBI.STO.Z.Z.CLP.M","F022.CTOBI.STO.Z.Z.CLP.M","F022.CON.TIP.Z.NO.Z.M","F022.CON.FLU.Z.NO.Z.M","F022.CONTARJR.TIP.Z.NO.Z.M","F022.CONTARJR.FLU.Z.NO.Z.M","F022.CONTARJC.TIP.Z.NO.Z.M","F022.CONTARJC.FLU.Z.NO.Z.M","F022.CONCUOT.TIP.Z.NO.Z.M","F022.CONCUOT.FLU.Z.NO.Z.M","F022.CONSOBR.TIP.Z.NO.Z.M","F022.CONSOBR.FLU.Z.NO.Z.M","F022.COM.TIP.Z.NO.Z.M","F022.COM.FLU.Z.NO.Z.M","F022.COMTARJ.TIP.Z.NO.Z.M","F022.CONTARJ.FLU.Z.NO.Z.M","F022.COMCUOT.TIP.Z.NO.Z.M","F022.COMCUOT.FLU.Z.NO.Z.M","F022.COMSOBR.TIP.Z.NO.Z.M","F022.COMSOBR.FLU.Z.NO.Z.M","F022.CMX.TIP.Z.US.Z.M","F022.CMX.FLU.Z.US.Z.M","F022.CMXEXPT.TIP.Z.US.Z.M","F022.CMXEXPT.FLU.Z.US.Z.M","F022.CMXIMPT.TIP.Z.US.Z.M","F022.CMXIMPT.FLU.Z.US.Z.M","F022.VIV.TIP.MA03.UF.Z.M","F022.VIV.FLU.MA03.UF.Z.M","F021.BMO.STO.N.CLP.0.M","F021.CIR.STO.N.CLP.0.M","F021.DCC.STO.N.CLP.0.M","F021.DA.STO.N.CLP.0.M","F021.M1.STO.N.CLP.0.M","F021.DP.STO.N.CLP.0.M","F021.AHP.STO.N.CLP.0.M","F021.FM.STO.N.CLP.0.M","F021.CAC.STO.N.CLP.0.M","F021.FM2.STO.N.CLP.0.M","F021.CA2.STO.N.CLP.0.M","F021.M2.STO.N.CLP.0.M","F021.DME.STO.N.CLP.0.M","F021.DBC.STO.N.CLP.0.M","F021.BOT.STO.N.CLP.0.M","F021.LCR.STO.N.CLP.0.M","F021.ECO.STO.N.CLP.0.M","F021.BOE.STO.N.CLP.0.M","F021.FMR.STO.N.CLP.0.M","F021.CAV.STO.N.CLP.0.M","F021.FM3.STO.N.CLP.0.M","F021.AF3.STO.N.CLP.0.M","F021.M3.STO.N.CLP.0.M",null,"F022.CAP.TIN.D089.NO.Z.M","F022.CAP.FLU.D089.NO.Z.M","F022.CAP.TIN.AN01.NO.Z.M","F022.CAP.FLU.AN01.NO.Z.M","F022.CAP.TIN.AN03.NO.Z.M","F022.CAP.FLU.AN03.NO.Z.M","F022.CAP.TIN.MA03.NO.Z.M","F022.CAP.FLU.MA03.NO.Z.M"]
["2006-01-01",25877.188999999998,5571.0029999999997,9317.4879999999994,3905.4259999999999,44671.106,26.840105511345499,"","","","","","","","","",10.2731725726366,"","","","","","","",5.28923438819597,"","","","","",5.31,"",2757.7020000000002,1694,4523.3099999999995,1360.3000000000002,7577.61,23131.487499999999,2244.9699999999998,3330.57,110.16,3111.66,8.4700000000000006,33274.667500000003,3263.92,6603.07,1040.99,4253.96,352.74,8243.9500000000007,3443.76,408.65,2312.86,161.41,58411.4375,null,4.92,"",5.52,"",6.24,"",6.36,""]
["2006-02-01",25995.919000000002,5649.9009999999998,9409.7510000000002,3971.4110000000001,45026.982000000004,28.080010671663999,null,null,null,null,null,null,null,null,null,10.6917516556947,null,null,null,null,null,null,null,5.4882926812584802,null,null,null,null,null,5.33,null,2800.7710000000002,1718.6,4534.7425000000003,1295.0274999999988,7548.369999999999,23439.305499999999,2237.5500000000002,3233.72,123.01,3034.93,5.84,33541.1855,3379.45,6469.58,1053.0899999999999,4269.9799999999996,358.48,8174.45,3670.98,420.38,2365.2199999999998,163.97,58808.385500000004,null,4.5599999999999996,null,5.16,null,6.36,null,7.2]
["2006-03-01",26532.268,5831.4129999999996,9540.0669999999991,4086.0120000000002,45989.760000000002,25.220629902156901,null,null,null,null,null,null,null,null,null,10.242012151611499,null,null,null,null,null,null,null,5.8475082006758301,null,null,null,null,null,5.22,null,2897.087,1708.3,4530.39725,1300.88275,7539.58,23947.409,2238.86,3752.51,127.13,3546.99,6.15,34052.349000000009,3311.26,6343.46,1063.27,4348.74,354.14,8242.23,3777.33,430.6,2420.59,166.01,59336.779000000002,null,4.68,null,5.28,null,6,null,7.2]
["2006-04-01",27144.353999999999,5934.6040000000003,9634.7270000000008,4126.3919999999998,46840.076999999997,26.812381250088201,null,null,null,null,null,null,null,null,null,10.6963342219099,null,null,null,null,null,null,null,5.6534729872904501,null,null,null,null,null,5.04,null,3019.9389999999999,1710.9,4668.0776999999998,1257.6623000000004,7636.64,24350.179,2239.71,4222.62,123.45,4032.18,11.32,34529.099000000002,3342.52,6252.99,1067.8399999999999,4250.3,330.64,8372.4,3828.1,445.85,2485.1,168.26,59766.378999999994,null,4.8,null,5.52,null,6.12,null,6.96]
["2006-05-01",27224.794999999998,6010.1760000000004,9795.9539999999997,4360.8059999999996,47391.731,27.4996852524513,null,null,null,null,null,null,null,null,null,10.699763036027299,null,null,null,null,null,null,null,6.0693249259096804,null,null,null,null,null,5.03,null,2891.7040000000002,1719,4778.1961499999998,1198.3438500000002,7695.54,24721.836499999998,2258.06,3957.82,124.65,3797.24,11.71,34948.9565,3514.52,6039.46,1065.26,4309.05,313.95999999999998,8445.32,3866.9,455.5,2471.92,179.66,60307.3465,null,4.92,null,5.52,null,6.12]
["2006-06-01",27538.088,6095.0370000000003,9949.0169999999998,4700.0010000000002,48282.142999999996,27.540614539592301,null,null,null,null,null,null,null,null,null,10.0914888005923,null,null,null,null,null,null,null,6.0986268480947396,null,null,null,null,null,5,null,2910.86,1755.2,4677.9574000000002,1388.642599999999,7821.7999999999993,24974.548999999999,2289.71,4054.03,128.52000000000001,3856.88,7.17,35404.559000000001,3629.06,5881.13,1057.3800000000001,4419.18,316.05,8469.06,3777.34,452.49,2419.6799999999998,184.36,60802.208999999995,null,5.04,null,5.4,null,6.12,null,7.56]
["2006-07-01",27878.936000000002,6188.0330000000004,10134.075000000001,4504.95,48705.993999999999,27.283235773047799,null,null,null,null,null,null,null,null,null,9.9566969940811703,null,null,null,null,null,null,null,6.2949303717057496,null,null,null,null,null,5.0999999999999996,null,2889.248,1744.3,4593.7705500000002,1352.1194500000004,7690.1900000000005,25128.756999999998,2298.52,4091.77,128.53,3878.73,8.41,35450.627,3630.31,5722.86,1063.0999999999999,4334.5600000000004,337.86,8430.67,3818.66,455.8,2486.5700000000002,185.74,60572.136999999988,null,5.04,null,5.52,null,6.12,null,7.68]
["2006-08-01",28247.624,6337.7860000000001,10348.575000000001,4524.201,49458.186000000002,26.639610178285299,null,null,null,null,null,null,null,null,null,10.308394808512,null,null,null,null,null,null,null,6.2227574390990599,null,null,null,null,null,5.05,null,2764.59,1724.9,4577.3334999999997,1355.3565000000003,7657.59,25565.782500000001,2303.31,3801.64,127.65,3148.09,9.9,36297.982499999998,3597.79,6004.8,1071.25,4281.3599999999997,363.45,8510.2199999999993,4004.45,469,2893.12,189.31,61517.872500000005,null,5.16,null,5.52,null,6.12,null,7.8]
["2006-09-01",28286.671999999999,6452.1310000000003,10481.288,4639.0709999999999,49859.161999999997,26.537279800045599,null,null,null,null,null,null,null,null,null,10.345094933528101,null,null,null,null,null,null,null,6.2888466043057596,null,null,null,null,null,5.01,null,3018.4589999999998,1805.7,4605.4864999999991,1513.8235000000002,7925.0099999999993,26010.968000000001,2309.4499999999998,4298.29,151.94999999999999,3592.98,9.93,37092.757999999994,3605.23,6394.11,1079.8,4379.0600000000004,371.07,8652.0300000000007,4126.88,482.11,2999.78,191.47,62991.797999999995,null,5.16,null,5.52,null,6,null,6.12]
["2006-10-01",28525.245999999999,6567.0209999999997,10583.666999999999,4580.3370000000004,50256.271000000001,26.874266437626801,null,null,null,null,null,null,null,null,null,10.3284256051627,null,null,null,null,null,null,null,6.1776341040460299,null,null,null,null,null,4.95,null,3003.0526370000002,1781.4,4572.5084999999999,1385.6614999999997,7739.57,26344.010999999999,2313.98,4781.8100000000004,176.88,4504.55,11.2,36840.501000000004,3638.46,6187.42,1089.92,4337.05,371.05,8713.07,4168.04,498.26,2737.7,193.7,62912.370999999999,null,5.16,null,5.52,null,5.88,null,6.48]
["2006-11-01",29148.368999999999,6690.5990000000002,10695.628000000001,4696.9269999999997,51231.523000000001,26.970837734170999,null,null,null,null,null,null,null,null,null,10.169422469712799,null,null,null,null,null,null,null,6.1078112166577503,null,null,null,null,null,4.82,null,3011.76559,1804.2,4581.5053000000007,1481.534699999999,7867.24,26760.862999999998,2304.87,4571.5,177.92,4354.2,12.42,37315.773000000001,3679.09,6044.24,1082.9000000000001,4440.1000000000004,368.02,8780.32,4245.68,516.44000000000005,2714.6,197.76,63560.202999999994,null,5.16,null,5.52,null,5.76,null,7.08]
["2006-12-01",29910.707999999999,6786.2209999999995,10799.63,4805.6109999999999,52302.17,27.0849800029482,null,null,null,null,null,null,null,null,null,10.2462156294828,null,null,null,null,null,null,null,6.0777325619925202,null,null,null,null,null,4.7699999999999996,null,3504.0686519999999,1958.1,4912.8567000000003,1709.1432999999984,8580.0999999999985,27389.040000000001,2282.73,4613.79,174.56,4388.79,12.87,38638.560000000005,3630.32,5879.37,1058.49,4467.42,364.22,8999.0300000000007,4359.5200000000004,538.89,2696.8,202.16,65036.860000000008,null,5.28,null,5.64,null,5.88,null,6.12]
["2007-01-01",30104.208999999999,6864.27,10928.962,4950.3680000000004,52847.809000000001,27.904564651345101,null,null,null,null,null,null,null,null,null,10.0813509695242,null,null,null,null,null,null,null,6.10488173655519,null,null,null,null,null,4.68,null,3035.860502,1944.3,5174.8192999999992,1672.7307000000012,8791.85,28083.585500000001,2275.6999999999998,4558.09,170.67,4356.9399999999996,12.05,39510.905500000001,3630.65,5344.41,1039.43,4352.59,361.04,9272.74,4565.59,558.19000000000005,2684.67,208.05,65742.825500000006,null,5.04,null,5.4,null,5.64,null,6.12]
["2007-02-01",30453.855,6925.2460000000001,11070.236999999999,4981.741,53431.078999999998,28.682036168198401,null,null,null,null,null,null,null,null,null,9.9487011377282997,null,null,null,null,null,null,null,6.0921878167335102,null,null,null,null,null,4.58,null,3250.881288,1974,5245.0043499999992,1520.4356500000013,8739.44,28586.565999999999,2273.9499999999998,4242.7,172.72,4138.21,12.09,39865.075999999994,3755.68,5159.6000000000004,1049.47,4365.8999999999996,363.87,9393.7000000000007,4755.82,566.44000000000005,2714.44,205.13,66355.986000000004,null,5.04,null,5.4,null,5.64,null,6.6]
["2007-03-01",30797.955000000002,7057.0450000000001,11237.237999999999,4974.9380000000001,54067.175999999999,26.988437835351601,null,null,null,null,null,null,null,null,null,9.8189661910433408,null,null,null,null,null,null,null,5.9929048908901699,null,null,null,null,null,4.5599999999999996,null,3466.2068429999999,1967.6,5356.8644999999997,1457.0655000000011,8781.5300000000007,29060.515500000001,2277.19,4764.3500000000004,176.15,4639.47,11.9,40408.3655,3758.09,5135.92,1035.8399999999999,4402.84,369.8,9433.6200000000008,4940.53,574.64,2836.48,210.66,67012.505499999985,null,5.04,null,5.28,null,5.52,null,6.6]
["2007-04-01",31287.592000000001,7145.5609999999997,11391.856,5143.0990000000002,54968.108,27.737390581552599,null,null,null,null,null,null,null,null,null,9.9490411209631109,null,null,null,null,null,null,null,6.0265213090979604,null,null,null,null,null,4.54,null,3604.7379999999998,1972.8,5462.2137499999999,1561.0062500000006,8996.02,29482.415000000001,2277.08,5255.88,177.89,5054.87,14.28,41120.135000000002,3808.68,5050.13,1012.14,4048.81,372.27,9423.35,5234.03,598.29999999999995,2952.32,213.44,67502.084999999992,null,5.04,null,5.4,null,5.64,null,6]
["2007-05-01",31686.085999999999,7187.3029999999999,11616.995999999999,5319.2820000000002,55809.667000000001,27.886722153152501,null,null,null,null,null,null,null,null,null,10.029254363779399,null,null,null,null,null,null,null,6.0731379801827003,null,null,null,null,null,4.3899999999999997,null,3718.4435149999999,1985.9,5487.3403500000004,1575.6496499999989,9048.89,29997.855499999998,2292.6799999999998,5086.24,189.13,4850.32,16.920000000000002,41747.555499999995,3961.75,4914.41,1067.46,4189.04,372.17,9500.48,5422.62,625.74,2894.61,220.86,68685.755499999985,null,5.04,null,5.64,null,5.76,null,6.72]
["2007-06-01",32190.673999999999,7240.03,11889.188,5286.9889999999996,56606.881000000001,27.9430478561565,null,null,null,null,null,null,null,null,null,9.8249166514255304,null,null,null,null,null,null,null,6.1352687019551402,null,null,null,null,null,4.42,null,3666.4787850000002,2006.5,5406.4358000000002,1679.8541999999989,9092.7899999999991,30655.150500000003,2317.0500000000002,5315.17,203.23,5089.07,16.45,42477.870500000005,3932.11,4718.7299999999996,1133.57,4213.57,381.92,9597.02,5560.25,650.12,2805.23,228.88,69631.050500000012,null,5.4,null,5.52,null,6.36,null,7.56]
["2007-07-01",32687.58,7329.2539999999999,12122.924000000001,5263.1570000000002,57402.915000000001,28.854555981382799,null,null,null,null,null,null,null,null,null,9.98563879156446,null,null,null,null,null,null,null,6.06253095516304,null,null,null,null,null,4.51,null,3650.5884460000002,1991.3,5397.0863499999996,1752.803650000001,9141.19,31072.552500000002,2321.37,5253.62,211.65,4889.29,17.420000000000002,43093.672500000008,3926.29,4653.62,1160.6300000000001,4096.74,389.69,9609.6200000000008,5782.33,671.26,2805.97,234.6,70343.282500000016,null,5.4,null,5.76,null,6.36,null,7.08]
["2007-08-01",33344.21,7456.1440000000002,12409.393,5359.9480000000003,58569.695,27.592636850561401,null,null,null,null,null,null,null,null,null,9.9113971326751198,null,null,null,null,null,null,null,6.1999090900244802,null,null,null,null,null,4.6900000000000004,null,3502.9674054217703,1969.9,5408.1836000000003,1743.3664000000003,9121.4500000000007,31127.8495,2327.08,5407.28,220.73,4995.6099999999997,19.91,43188.869500000001,3958.81,4744.24,1160.28,4146.57,397.83,9734.06,5885.32,672.26,2898.11,233.27,70756.859500000006,null,5.52,null,6.12,null,6.6,null,7.8]
["2007-09-01",34064.347000000002,7529.5680000000002,12721.028,5310.8159999999998,59625.758999999998,28.888644870074799,null,null,null,null,null,null,null,null,null,10.126112936643199,null,null,null,null,null,null,null,6.1441163891756796,null,null,null,null,null,4.79,null,4118.5018824799999,2059.3000000000002,5397.7653499999997,1952.1646499999997,9409.23,31394.433499999999,2340.96,5425.09,229.26,5262.59,19.989999999999998,43516.393499999991,3967.61,4687.45,1185.22,4227.91,397.53,9905.39,5964.2,681.5,2984.07,225.16,71323.973499999993,null,5.88,null,6.36,null,6.72,null,7.68]
["2007-10-01",34709.023999999998,7628.0240000000003,12982.869000000001,5237.7790000000005,60557.696000000004,29.010985038932098,null,null,null,null,null,null,null,null,null,10.150835175765,null,null,null,null,null,null,null,5.8533606967078802,null,null,null,null,null,4.83,null,3533.5825240000004,2018.9,5351.5121999999992,1820.4178000000006,9190.83,32192.0455,2357.69,5528.08,234.83,5508.11,17.059999999999999,43978.305500000002,4089.22,4596.54,1184.1400000000001,4137.2700000000004,393.47,10064.370000000001,6212.2,716.88,3014.92,230.2,72127.275499999989,null,5.88,null,6.36,null,6.84,null,7.44]
["2007-11-01",35764.525000000001,7740.683,13182.558999999999,5543.69,62231.457000000002,28.918278266454799,null,null,null,null,null,null,null,null,null,10.1663921671149,null,null,null,null,null,null,null,5.6824301269678097,null,null,null,null,null,4.8099999999999996,null,3515.0658659999999,2041.2,5462.3508999999995,2066.9790999999996,9570.5299999999988,33221.212500000001,2363.5700000000002,6338.14,229.9,6247.86,15.74,45459.752500000002,4144.9799999999996,4450.9799999999996,1231.92,4167.13,405.73,10272.129999999999,6296.57,723.79,3081.23,242.1,73829.652499999997,null,5.88,null,6.36,null,6.84,null,10.199999999999999]
["2007-12-01",36669.065999999999,7827.1149109999997,13431.648999999999,5403.1790000000001,63331.008909999997,29.956424397723399,null,null,null,null,null,null,null,null,null,10.207594462623099,null,null,null,null,null,null,null,5.8907807742312901,null,null,null,null,null,4.83,null,3660.5775624892599,2210.3000000000002,5873.0164999999997,2046.5435000000007,10129.86,34305.202999999994,2356.44,6176.76,221.39,6053.72,16.559999999999999,47119.373,4142.8900000000003,4082.7,1327.55,4138.16,389.53,10443.17,6094.77,706.55,3017.96,248.08,75178.652999999991,null,6.48,null,6.96,null,7.08,null,7.32]
["2008-01-01",36532.937510000003,7916.3758319999997,13711.532590000001,5095.8082670000003,63256.654199999997,32.062977085834703,null,null,null,null,null,null,null,null,null,10.546072555411,null,null,null,null,null,null,null,4.9099747135160499,null,null,null,null,null,4.8,null,3746.54839480891,2190.6,6114.3454999999994,1899.1544999999992,10204.099999999999,35106.784999999996,2362.9,5566.9,229.4,5520,18.5,47931.584999999999,4208.8,4142.8,1397.2,4131.3,368.7,10541.2,5674.1,666,2953.2,253.8,75854.684999999998,null,6.36,null,6.6,null,7.32,null,7.92]
["2008-02-01",36902.591229999998,7975.8912190000001,13854.585139999999,5196.5313230000002,63929.598910000001,31.960689431939102,null,null,null,null,null,null,null,null,null,10.5242958634587,null,null,null,null,null,null,null,4.1944529702062496,null,null,null,null,null,4.9000000000000004,null,3755.4123613319998,2228.8000000000002,6031.2590999999993,1896.7408999999998,10156.799999999999,35534.998999999996,2374.6999999999998,5860.6,240.4,5697.6,16.600000000000001,48453.298999999999,4258.8999999999996,4376.3,1301.8,4084,369.8,10558.6,5491.9,638.79999999999995,3171,249,76113.399000000005,null,6.24,null,6.6,null,7.08,null,7.68]
["2008-03-01",37065.959470000002,8059.479026,14054.684499999999,5151.1482319999996,64331.271229999998,29.8751708037857,null,null,null,null,null,null,null,null,null,10.6081632164383,null,null,null,null,null,null,null,3.9099521988548198,null,null,null,null,null,4.82,null,3909.4759407573997,2229.3000000000002,6007.5789000000004,1864.8211000000001,10101.700000000001,36025.548000000003,2380.3000000000002,5949.5,250.8,5714.1,14.8,48978.948000000011,4172.8999999999996,4370.3999999999996,1336.5,4081.2,365.9,10620.1,5702.6,638.29999999999995,3450,258.2,76558.64800000003,null,6.48,null,6.96,null,7.32,null,7.44]
["2008-04-01",37929.259859999998,8157.7401650000002,14333.60615,5818.9849320000003,66239.591109999994,30.126329719934201,null,null,null,null,null,null,null,null,null,10.592877402859299,null,null,null,null,null,null,null,4.01635492774912,null,null,null,null,null,4.76,null,3768.9299700000001,2213.8000000000002,6050.2836499999994,1837.2163499999997,10101.299999999999,36664.948499999999,2392.4,6075.6,261.39999999999998,5909.6,16.100000000000001,49569.948500000006,4431.3,4342.6000000000004,1426.3,4082.3,375.2,10823.6,5906.2,636.6,3513.8,252.7,77827.548500000004,null,6.48,null,6.96,null,7.32,null,7.44]
["2008-05-01",38480.927710000004,8155.6718179999998,14529.422200000001,6335.3939030000001,67501.415630000003,30.9324869049988,null,null,null,null,null,null,null,null,null,10.6795696146953,null,null,null,null,null,null,null,4.1160037726979901,null,null,null,null,null,4.63,null,3922.1344470286499,2257.1999999999998,6158.4199499999995,2000.7800500000003,10416.4,36940.379000000001,2427.4,6895.9,274.5,6684,18.8,50251.779000000002,4876.2,4531.7,1556.6,3987.2,396,11137.4,6041,655.20000000000005,3503.9,251,79678.178999999989,null,6.6,null,6.96,null,7.32,null,7.8]
["2008-06-01",39280.581299999998,8190.3773739999997,14847.071019999999,7018.9911060000004,69337.020799999998,30.744248148501701,null,null,null,null,null,null,null,null,null,10.8763012727232,null,null,null,null,null,null,null,4.2386793668557603,null,null,null,null,null,4.72,null,3942.2369978939996,2274.1999999999998,6353.5361000000003,1863.9639000000006,10491.7,36953.186500000003,2468.3000000000002,6562.2,293.5,6357.7,22,50389.186500000011,5370,4879.8,1630.8,4083.1,413.2,11329.1,6013.4,657.3,3453.4,250.4,81062.086500000019,null,6.72,null,7.32,null,7.68,null,8.52]
["2008-07-01",39742.064830000003,8230.3700950000002,15178.60382,6694.5079480000004,69845.546690000003,31.240313742673901,null,null,null,null,null,null,null,null,null,11.428753715123401,null,null,null,null,null,null,null,4.4044248683942699,null,null,null,null,null,4.87,null,3885.24557257891,2254.4,6175.0858000000007,1520.7141999999999,9950.2000000000007,37144.072,2498.6999999999998,6257,307.89999999999998,6006.6,23.7,50127.571999999993,5832.1,5436.9,1685.6,4002.9,420.3,11377.4,5891.9,638.9,3507.2,263.5,81642.871999999974,null,6.84,null,7.56,null,8.64,null,8.76]
["2008-08-01",40257.88392,8288.8088970000008,15482.081,6706.7849420000002,70735.558770000003,32.014571090938801,null,null,null,null,null,null,null,null,null,11.872771857100901,null,null,null,null,null,null,null,4.6828430653168001,null,null,null,null,null,4.82,null,3888.73578073305,2232,5954.4933000000001,1876.3066999999992,10062.799999999999,37322.297000000006,2523.5,6316.2,321.3,5907.8,24.4,50613.897000000012,6044.2,6257.8,1827.6,4007.5,436.4,11696.9,5802.1,619.6,3699.5,266.2,83340.296999999991,null,7.44,null,8.0399999999999991,null,8.64,null,9.24]
["2008-09-01",40957.882839999998,8315.6560050000007,15741.795550000001,7268.8705710000004,72284.204970000006,34.024364909569798,null,null,null,null,null,null,null,null,null,12.804720313383299,null,null,null,null,null,null,null,5.1263856274647104,null,null,null,null,null,4.8,null,3946.4730052424998,2315,6148.6309000000001,1729.6690999999992,10193.299999999999,37743.865000000005,2546.6,5893.7,328.1,5393,22.8,51289.765000000007,6220.8,6968.1,1974.3,3983.4,457.6,12067.3,5505.3,582.1,3542.9,271.10000000000002,85234.665000000008,null,8.4,null,9.48,null,9.6,null,9.36]
["2008-10-01",42404.142359999998,8325.8533970000008,15986.531230000001,8464.0938960000003,75180.620880000002,35.760897802525299,null,null,null,null,null,null,null,null,null,15.1485057621497,null,null,null,null,null,null,null,8.0271257425205302,null,null,null,null,null,5.34,null,3936.5988181818202,2305.9,6214.3885000000009,1896.211499999999,10416.5,39143.106,2563.5,6055.2,326.39999999999998,5559.3,18.100000000000001,52927.306000000004,6550.1,6842,2137.4,3925.9,465.1,12231.4,4853.3999999999996,510.9,3183,268.3,86992.205999999991,null,9,null,9.9600000000000009,null,9.84]
["2008-11-01",42751.920680000003,8365.9103759999998,16177.99934,8393.2883629999997,75689.118759999998,36.071842036112699,null,null,null,null,null,null,null,null,null,15.128786233759699,null,null,null,null,null,null,null,5.9275972440875204,null,null,null,null,null,5.69,null,4137.1909678218499,2331.1,6159.8162000000002,1791.8837999999992,10282.799999999999,40446.747499999998,2571.9,6236.7,330.4,5757.5,18.399999999999999,54092.647499999999,6857.2,6481.1,2293.6,3944.6,487,12405,4328.1000000000004,465.9,3078.7,255,88021.447499999995,null,8.0399999999999991,null,8.8800000000000008,null,9.24,null,8.8800000000000008]
["2008-12-01",42262.408869999999,8356.5838980000008,16275.07166,7828.0500240000001,74722.114459999997,36.851581681413002,null,null,null,null,null,null,null,null,null,14.910910610780199,null,null,null,null,null,null,null,5.8315002485440504,null,null,null,null,null,5.77,null,4287.5804880410496,2484.8000000000002,6340.7397000000001,1982.3602999999994,10807.9,40974.224999999999,2563.5,6512,342.6,6021.2,22.2,55156.825000000004,6666.5,6330.6,2335.6999999999998,3816.7,503.4,12650.5,4091.8,459.9,2953.5,248.3,88810.125,null,8.2799999999999994,null,8.76,null,8.52,null,7.2]
["2009-01-01",41620.532899999998,8342.3151440000001,16266.58066,7488.709613,73718.138309999995,36.334171451960003,null,null,null,null,null,null,null,null,null,13.5112458646691,null,null,null,null,null,null,null,5.3235662820483602,null,null,null,null,null,5.92,null,4305.7889999999998,2445.4,6472.3665500000006,1835.0334500000004,10752.800000000001,41131.804999999993,2555,7657.4,348.9,7157.4,24.9,55263.604999999996,6548.5,6051.9,2350.1999999999998,3670.3,500.4,13010.6,4144.3999999999996,453.1,3108.8,239,88645.205000000002,null,7.08,null,6.72,null,6.6]
["2009-02-01",41119.385600000001,8282.9839759999995,16154.006069999999,7068.3894250000003,72624.765069999994,36.189776794957403,null,null,null,null,null,null,null,null,null,12.2157947060754,null,null,null,null,null,null,null,5.1172565620763102,null,null,null,null,null,5.53,null,4164.7997999999998,2446,6485.56095,1603.6390500000007,10535.2,40750.096999999994,2541.1999999999998,8278.7999999999993,355.9,7709,25.7,54726.496999999988,6554.7,6124.9,2445.3000000000002,3715.3,529,13196.2,4551,446.6,3610.3,239,88440.196999999986,null,5.16,null,4.92,null,4.68,null,5.76]
["2009-03-01",40445.082249999999,8286.7588780000005,16177.831829999999,6733.9237579999999,71643.596709999998,32.2310900560189,null,null,null,null,null,null,null,null,null,10.0588162851225,null,null,null,null,null,null,null,4.6835907984627498,null,null,null,null,null,4.9000000000000004,null,4218.5468339999998,2459.9,6613.8780499999993,1568.7219500000006,10642.5,39918.084999999999,2533.6999999999998,8098.2,363.2,7551.7,25.9,53978.084999999999,6489.1,6655.6,2500.6999999999998,3599.9,559.5,13297.4,4865.2,445,4017.7,241.5,88131.284999999989,null,2.88,null,3.12,null,3.24]
["2009-04-01",40860.992270000002,8322.7341319999996,16217.03066,6398.8912209999999,71799.648289999997,29.9749702923983,null,null,null,null,null,null,null,null,null,8.7663514466743102,null,null,null,null,null,null,null,3.94729968911175,null,null,null,null,null,4.42,null,4234.4101459922904,2462.6,6770.0208999999995,1657.1790999999998,10889.8,39593.753499999999,2549.4,8882.9,367.1,8634.1,22.1,53626.753499999992,6254.1,6811.1,2540.1999999999998,3479.9,581.5,13804.3,5011.3999999999996,457.7,4069.3,234.3,88263.353499999983,null,2.2799999999999998,null,2.52,null,2.88]
["2009-05-01",40716.103779999998,8264.6600249999992,16297.69606,6183.3765530000001,71461.836410000004,29.566587019095401,null,null,null,null,null,null,null,null,null,8.0713683339428606,null,null,null,null,null,null,null,3.7768421556343399,null,null,null,null,null,4.4556453691489804,null,4344.8591806308405,2493.5,6965.0845499999996,1875.7154500000015,11334.300000000001,39362.999499999998,2589.9,9185.2999999999993,373.4,8999.2000000000007,23,53823.699500000002,5840.2,6723.3,2596.1999999999998,3469,600.20000000000005,14288.6,5157.5,484.1,3958.6,222.5,88801.699500000002,null,1.56,null,1.8,null,2.52]
["2009-06-01",40399.395120000001,8203.6656519999997,16441.354469999998,5403.7693669999999,70448.184609999997,28.9061914956599,null,null,null,null,null,null,null,null,null,7.9845183487956701,null,null,null,null,null,null,null,3.49696459618111,null,null,null,null,null,4.6100000000000003,null,4430.5774285714297,2504.8000000000002,7202.7767999999996,1907.3232000000016,11614.900000000001,38951.326499999996,2627.5,8599.7000000000007,371.3,8163.3,26.3,53975.126499999998,5373.4,6917.2,2653.5,3435.3,598,14355.7,5191.6000000000004,506.4,3819.8,208.4,88978.026500000007,null,1.32,null,1.68,null,2.76]
["2009-07-01",40444.881650000003,8213.9071889999996,16579.807840000001,5362.954307,70601.55098,27.909352390439899,null,null,null,null,null,null,null,null,null,7.2408472343698298,null,null,null,null,null,null,null,2.7133157939572001,null,null,null,null,null,4.62,null,4308.1720454545493,2487,7152.0185999999994,1963.0814000000009,11602.1,39030.711499999998,2640.4,9977.7000000000007,367.8,9280,24.2,54314.511500000001,5141.7,6460,2778.2,3339.5,609.4,14256.1,5355,527.9,3911.6,206.6,88664.111499999999,null,0.84,null,1.44,null,1.8]
["2009-08-01",40852.699610000003,8220.5458739999995,16692.06583,5389.5310630000004,71154.842369999998,24.5737435113694,null,null,null,null,null,null,null,null,null,5.9873966986875997,null,null,null,null,null,null,null,3.3949739058076802,null,null,null,null,null,4.5599999999999996,null,4487.9009999999998,2505.8000000000002,7240.8867499999997,2001.5132500000009,11748.2,38922.2065,2652.7,10236.6,365.5,9492.9,21.6,54410.706499999993,5360.1,6128.7,2906.9,3309.1,614.29999999999995,14330.7,5723.9,552.70000000000005,4174.6000000000004,200.9,88961.606499999994,null,0.48,null,0.72,null,1.44,null,4.68]
["2009-09-01",41035.870439999999,8242.0853229999993,16810.688890000001,5246.6051820000002,71335.249840000004,26.523264242632901,null,null,null,null,null,null,null,null,null,5.7749809206789102,null,null,null,null,null,null,null,2.5450470118040398,null,null,null,null,null,4.49,null,4558.8267142857103,2612.6,7467.1873500000002,2217.6126499999996,12297.4,38276.271000000001,2663.4,9042,363.8,8393.2000000000007,21.5,54228.171000000002,5369,6576.2,3040.4,3282.4,607,13900.9,6234.5,580.9,4371.3,200.3,89247.870999999985,null,0.6,null,1.08,null,2.16,null,4.4400000000000004]
["2009-10-01",41079.076719999997,8300.7900079999999,17052.11346,5224.9779589999998,71656.958150000006,26.667814255904599,null,null,null,null,null,null,null,null,null,5.6134654537822497,null,null,null,null,null,null,null,2.6609289121842599,null,null,null,null,null,4.3499999999999996,null,4379.12076190476,2571.1999999999998,7491.8482999999997,2281.1516999999994,12344.199999999999,37715.618499999997,2670.1,9653.9,358.3,8873.2999999999993,24.8,53844.018499999991,5266,6458.5,3201.8,3182,591.6,13440.4,6669.4,607.5,4552.1000000000004,192.7,88516.4185,null,0.6,null,1.2,null,2.52,null,5.04]
["2009-11-01",40973.898269999998,8346.1028900000001,17292.09993,4819.1139919999996,71431.215079999994,27.258339937912599,null,null,null,null,null,null,null,null,null,5.2475719388473099,null,null,null,null,null,null,null,2.5465993614059901,null,null,null,null,null,4.28,null,4558.8900000000003,2585.4,7611.9997437954999,2125.0002562045015,12322.400000000001,37243.563500000004,2643.8,9434.2999999999993,347.8,8629,23.9,53338.963500000005,5365.9,6421.3,3396.7,2992.3,533.70000000000005,13640.6,6644.4,615.5,4382.8,183.4,88383.163500000024,null,0.6,null,1.44,null,2.88,null,4.8]
["2009-12-01",42490.429150000004,8424.0880130000005,17435.79351,4624.0355730000001,72974.346250000002,26.556523975162101,null,null,null,null,null,null,null,null,null,4.7397666361242097,null,null,null,null,null,null,null,2.2207973644244801,null,null,null,null,null,4.5414325420879997,null,4735.2129999999997,2754.5,8056.1872937954995,2468.4127062045009,13279.1,37323.645499999999,2628,9448.2000000000007,346.3,8712.9,24,54288.345500000003,5387.9,6214.4,3451.2,2965.1,496.9,13853.4,6548.9,624.20000000000005,4071.8,180,89578.545499999993,null,0.72,null,1.44,null,2.52,null,4.68]
["2010-01-01",42328.998619999998,8459.6485799999991,17483.62977,5245.5865700000004,73517.863549999995,30.353914964528101,null,null,null,null,null,null,null,null,null,7.0406248867057499,null,null,null,null,null,null,null,1.83706570409307,null,null,null,null,null,4.5838309984722203,null,4802.9356500000004,2744.3,8516.1767499999987,2520.1232499999996,13780.599999999999,37860.046999999999,2656.8,9729.9,351.9,8973,25,55381.247000000003,5513.4,5823.5,3528.4,2818.5,495.1,13930.3,6640.9,635.4,4138.8999999999996,218.4,90409.447,null,0.6,null,1.2,null,2.2799999999999998,null,5.04]
["2010-02-01",42565.735970000002,8474.4710610000002,17597.781790000001,5118.1807150000004,73756.169540000003,29.5461259997262,null,null,null,null,null,null,null,null,null,5.6279494904808596,null,null,null,null,null,null,null,1.9782439184533001,null,null,null,null,null,4.6029839655247002,null,4952.2497999999996,2801.8,8673.2252000000008,2401.0748000000012,13876.100000000002,38257.214500000002,2634.1,8937.2000000000007,358.3,8217.1,25.2,55820.614500000003,5581.3,6024.2,3639.8,2773.5,477.8,13893.7,6848.9,639.29999999999995,4291.7,219.3,91188.114500000011,null,0.6,null,1.56,null,2.88,null,4.8]
["2010-03-01",42411.281490000001,8531.4343680000002,17711.91058,5141.5987519999999,73796.225200000001,27.982459031962598,null,null,null,null,null,null,null,null,null,5.4203586919209599,null,null,null,null,null,null,null,2.2012315029075702,null,null,null,null,null,4.2755855149842201,null,5065.9566086956511,2869.8,8709.5172000000002,2625.3828000000003,14204.7,38357.781499999997,2654.9,9111.7000000000007,363.7,8195.2000000000007,22.5,56475.081499999993,5580.5,6253.2,3908.2,2940,465.5,13899.1,7295,656.9,4671.3,222.4,92579.781499999997,null,0.6,null,1.32,null,2.52,null,5.64]
["2010-04-01",42721.574890000004,8650.1208869999991,17821.452270000002,5346.3853410000002,74539.533389999997,27.308355461376799,null,null,null,null,null,null,null,null,null,5.4443365264185601,null,null,null,null,null,null,null,1.82082148908182,null,null,null,null,null,4.1275277843385396,null,4965.60619047619,2918.6,9012.4270500000021,2402.7729499999973,14333.8,38372.536500000002,2726.8,10228.299999999999,378.7,9122,21,56897.136500000008,5716.3,6582.8,4137.5,2734,468.9,13936,7771.4,680.1,5179.6000000000004,225,93519.536500000017,null,0.6,null,1.2,null,2.88,null,6.24]
["2010-05-01",43016.769970000001,8664.3178829999997,18041.266930000002,5634.6523989999996,75357.007180000001,27.3045490031868,null,null,null,null,null,null,null,null,null,5.1043360239322801,null,null,null,null,null,null,null,2.3431927319747898,null,null,null,null,null,4.18098759676288,null,5140.4649499999996,2982.1,9661.5828500000007,2383.0171500000001,15026.7,38750.056500000006,2738.3,10010.700000000001,397.4,9143,22.6,57757.556500000006,5942,5973.6,4394,2760.5,465.6,14023.2,7915.7,678.3,5058.8,230.5,94621.156500000012,null,0.72,null,1.8,null,3.84,null,6]
["2010-06-01",43297.584199999998,8717.9658189999991,18296.444370000001,5852.4450059999999,76164.43939,27.305817463765901,null,null,null,null,null,null,null,null,null,5.2645016387231296,null,null,null,null,null,null,null,2.1711366096890399,null,null,null,null,null,4.0648042155850499,null,5258.331761904763,3009.4,9852.5456000000013,2460.4544000000001,15322.400000000001,38568.084000000003,2798.4,8713.5,407,8152.6,22.9,57633.884000000005,6170,5144.3,4613.5,2870.4,457,14141.4,7964.7,677.6,4616.6000000000004,233.2,94822.983999999997,null,0.96,null,2.16,null,3.96,null,5.28]
["2010-07-01",42961.696479999999,8799.3112560000009,18435.648669999999,5574.4509850000004,75771.107390000005,28.120906910575101,null,null,null,null,null,null,null,null,null,5.8647111374861103,null,null,null,null,null,null,null,2.04966951250272,null,null,null,null,null,4.0258767077034898,null,5172.5708095238097,3005.2,9514.0820500000009,2626.0179500000004,15145.300000000001,38190.2745,2838.2,9277.2000000000007,405.8,8628.5,23.8,57204.474499999997,6019.6,4632.7,4800.5,2778.6,411,14197.3,8126.9,701.6,4952.2,229.6,93690.874500000005,null,1.68,null,2.64,null,4.5599999999999996,null,5.4]
["2010-08-01",43165.96213,8927.6817279999996,18682.83754,5506.3900679999997,76282.871469999998,27.5146327566252,null,null,null,null,null,null,null,null,null,6.9137059213616698,null,null,null,null,null,null,null,2.1077787977831299,null,null,null,null,null,4.0647273420175303,null,5211.8292272727267,2950.8,9348.52045,2826.279550000002,15125.600000000002,38130.356999999996,2831.9,8683,403.4,7991.7,22.9,57159.656999999999,5958.8,4398.3999999999996,4880.3999999999996,2781.2,356.8,14245.6,8407.2000000000007,714.9,5060.1000000000004,228.1,93614.757000000012,null,2.64,null,3.72,null,5.4,null,6.24]
["2010-09-01",43483.005859999997,9004.5757780000004,18850.864939999999,5320.7401879999998,76659.18677,28.002971261041601,null,null,null,null,null,null,null,null,null,6.8686859812019003,null,null,null,null,null,null,null,1.95942499863764,null,null,null,null,null,4.0002791868918797,null,5230.0012499999993,3056.3,9287.37565,3305.1243499999991,15648.8,38170.465499999991,2869.5,7354.6,404.1,6787.8,21.9,57637.765499999994,6293.5,4471.1000000000004,5042,2817,342.7,14343.3,8619.4,728.6,4535.8999999999996,227.1,95532.3655,null,3,null,4.08,null,5.52,null,6.36]
["2010-10-01",43988.90595,9116.5287540000008,19068.308280000001,5707.5921079999998,77881.335089999993,27.252425282524701,null,null,null,null,null,null,null,null,null,7.1399747697498004,null,null,null,null,null,null,null,1.7650550466581301,null,null,null,null,null,4.1404423827680903,null,5293.3977499999992,3025.5,9274.7973999999995,3148.7026000000005,15449,38748.204499999993,2849.5,8166.7,400.9,7487.8,21.8,58104.704499999993,6754.4,4500.3999999999996,5267.3,2697.6,335,14370,8659.2999999999993,753.2,4343.3,223.8,96874.804499999998,null,3.24,null,4.32,null,5.4,null,4.68]
["2010-11-01",44217.75877,9262.8262649999997,19244.201130000001,5824.2347289999998,78549.02089,27.341910117002001,null,null,null,null,null,null,null,null,null,7.1872391337535504,null,null,null,null,null,null,null,1.8657389296077,null,null,null,null,null,4.3502802608229301,null,5330.543333333334,3035.3,9401.2369499999986,2911.6630500000019,15348.2,39528.4395,2861.7,8195.6,400,7605.3,22.9,58705.739500000003,6943.4,4609.8,5680.4,2668.5,338.9,14413.2,8700.5,766.5,4126.1000000000004,229.9,98470.939499999993,null,3.36,null,4.2,null,5.28,null,6.48]
["2010-12-01",44826.24336,9390.7516799999994,19481.39258,5283.8000039999997,78982.18763,26.441702931038801,null,null,null,null,null,null,null,null,null,7.3797969271821202,null,null,null,null,null,null,null,1.93437911813958,null,null,null,null,null,4.37113062194567,null,5595.0114285714271,3209.2,9745.1939000000002,3151.0060999999996,16105.4,40025.064500000008,2840.7,8249.4,405,7601.9,23.3,60000.364500000003,6927.6,4369,6063.7,2574.1,325.39999999999998,14487.8,8651.9,773.1,3735.7,239,100198.2645,null,3.72,null,4.5599999999999996,null,5.52,null,6.6]
["2011-01-01",45140.236400000002,9515.0722600000008,19599.882310000001,6010.4950399999998,80265.686010000005,27.0938928234382,null,null,null,null,null,null,null,null,null,7.5991038176093504,null,null,null,null,null,null,null,1.7777270464467601,null,null,null,null,null,4.3373107206554904,null,5707.29,3195.2,10156.911,3133.689000000003,16485.800000000003,40608.252999999997,2861.7,8329.6,417.4,7828.5,22.2,60852.052999999993,7037.6,4404.8999999999996,6945.2,2333.5,307.3,14665.5,8534.2000000000007,776.7,3339.2,241.3,102276.45299999998,null,3.72,null,4.4400000000000004,null,5.64,null,4.5599999999999996]
["2011-02-01",45314.42583,9619.6090729999996,19752.345819999999,6182.3673849999996,80868.74811,26.447192406930501,null,null,null,null,null,null,null,null,null,7.9065708323920303,null,null,null,null,null,null,null,1.74237777338487,null,null,null,null,null,4.3533094044596599,null,5661.549,3217.8,10284.7682,2595.3317999999972,16097.899999999998,41002.036500000002,2841.1,7469.7,427,7173.2,23.4,60641.136499999993,6993.2,5082,7171.5,2329,306.7,14864.9,8344.2000000000007,774.5,3128.1,243.7,103135.33649999999,null,3.84,null,4.8,null,5.4,null,4.5599999999999996]
["2011-03-01",45890.500769999999,9832.2709869999999,19950.678049999999,6472.7592629999999,82146.209080000001,25.8812617644417,null,null,null,null,null,null,null,null,null,8.2523413456186905,null,null,null,null,null,null,null,1.89461768162144,null,null,null,null,null,4.3926488605217502,null,5614.7347826086971,3174.1,10253.695199999998,2598.7048000000018,16026.5,41572.324000000001,2827.7,7470.1,441.8,7029,23.3,61286.123999999996,6759.6,5282.3,7513.8,2501.8000000000002,306.5,14920.9,8378.6,521.9,3397.7,250.4,103823.424,null,4.2,null,5.16,null,6.72,null,4.68]
["2011-04-01",46504.276440000001,9997.9829360000003,20168.485840000001,6537.726729,83208.471940000003,27.117885715615099,null,null,null,null,null,null,null,null,null,8.4234255582339106,null,null,null,null,null,null,null,1.6399518332446801,null,null,null,null,null,4.3059766507292601,null,5685.5439500000002,3199.8,10332.5,2769.199999999998,16301.499999999998,42519.936000000002,2869,8298.4,473.1,7876.4,20.3,62565.236000000004,6689.8,5349.9,7688.1,2367.1,287.5,14987.4,8608.7999999999993,801.3,3825.1,258.7,105261.33600000001,null,4.68,null,5.52,null,6.36,null,5.4]
["2011-05-01",47315.038919999999,10061.32488,20375.735390000002,6969.5636420000001,84721.662840000005,27.319752293923599,null,null,null,null,null,null,null,null,null,8.6587811839057807,null,null,null,null,null,null,null,1.6287831033851501,null,null,null,null,null,4.16,null,5966.27,3250.6,10529.42525,2799.5747499999984,16579.599999999999,43652.352500000008,2878.3,8297.7000000000007,490.6,7890.4,22.6,63985.552500000013,6778.7,5639.5,7823.7,2166.5,268.10000000000002,15081.7,8691.2999999999993,811.3,3977.4,263.5,107005.45250000001,null,5.4,null,6,null,6.48,null,4.8]
["2011-06-01",47636.254739999997,10177.315210000001,20615.757389999999,6805.4106250000004,85234.737959999999,26.940850667834901,null,null,null,null,null,null,null,null,null,9.0991380381480607,null,null,null,null,null,null,null,1.7759442266732399,null,null,null,null,null,4.13,null,5832.1452380952387,3289.4,10554.3632,2863.2368000000001,16707,44557.904000000002,2918.6,7394.5,495.5,6916.6,24.5,65132.404000000002,6771.4,5987.1,7918.3,2094.6999999999998,291.5,15310.3,8611.6,809.6,3903.5,266.5,108756.90400000002,null,5.64,null,6,null,5.76,null,4.08]
["2011-07-01",47794.155619999998,10296.95643,20800.21688,6964.254449,85855.583379999996,27.438141379244001,null,null,null,null,null,null,null,null,null,9.4809083494664108,null,null,null,null,null,null,null,1.7864255577894801,null,null,null,null,null,4.13,null,5952.6782380952382,3288.1,10332.286199999999,2678.3138000000022,16298.7,45479.787499999999,2933.6,7167.1,495.3,6714.7,24.5,65635.287500000006,6721.3,6584.2,8194.4,2143.8000000000002,309.3,15470,8258.5,797.9,3848.4,277.8,109988.48750000002,null,5.76,null,6.12,null,6.6]
["2011-08-01",48232.471899999997,10469.931130000001,20972.753489999999,7219.4421389999998,86894.598660000003,27.68,null,null,null,null,null,null,null,null,null,9.61,null,null,null,null,null,null,null,1.75,null,null,null,null,null,4.17,null,5765.8615454545452,3274.4,10202.7961,3054.8039000000003,16532,47082.287499999999,2935.5,7212,492.2,7003.4,25.8,67224.787500000006,6753.7,6997.6,8654.4,2182.8000000000002,301.60000000000002,15484.9,7832,772.6,3849.3,297.5,112057.58750000001,null,5.64,null,5.88,null,6.24,null,5.16]
["2011-09-01",49463.906020000002,10567.06338,21138.080549999999,8180.1024219999999,89349.152369999996,28.74,null,null,null,null,null,null,null,null,null,9.3000000000000007,null,null,null,null,null,null,null,1.81,null,null,null,null,null,4.17,null,5932.959238095239,3394,10317.933300000001,3100.0666999999994,16812,48399.377999999997,2964,8283,497,8111,28,68816.377999999997,7003,7895,9054,2287,310,15541,7565,744,4006,313,114896.378,null,5.52,null,5.64,null,5.76,null,7.2]
["2011-10-01",50153.989979999998,10687.71499,21334.411469999999,7741.4810120000002,89917.597450000001,27.73,null,null,null,null,null,null,null,null,null,9.59,null,null,null,null,null,null,null,2.02,null,null,null,null,null,4.1100000000000003,null,6166.0672631578955,3402.2,10414.15855,3101.7414499999986,16918.099999999999,49404.421499999997,2979.3,9587.2000000000007,498.9,9319.2999999999993,28.9,70039.721500000014,7200.1,8930.2000000000007,9495.6,2069.4,305.8,15692,7494.7,738.2,4041,313.7,117611.02150000002,null,5.52,null,5.76,null,5.76,null,7.2]
["2011-11-01",50977.577299999997,10939.562,21601.087459999999,8058.7237009999999,91576.950459999993,26.96,null,null,null,null,null,null,null,null,null,9.5,null,null,null,null,null,null,null,2.2200000000000002,null,null,null,null,null,4.1500000000000004,null,6145.2381904761905,3458.7,10500.232500000002,2847.4674999999997,16806.400000000001,50432.493499999997,2990.1,9160.2999999999993,497.2,8943.5,26.9,70916.093500000017,7154.2,9203.2999999999993,9532.5,2115.1999999999998,288.5,15880.1,7413.4,734.9,3852.4,308.3,119077.49350000003,null,5.76,null,5.88,null,6]
["2011-12-01",51805.624329999999,11054.385780000001,21895.70707,7604.4715100000003,92360.188699999999,27.48,null,null,null,null,null,null,null,null,null,9.2799999999999994,null,null,null,null,null,null,null,2.75,null,null,null,null,null,4.26,null,6719.61,3646.9,10872.137849999999,3490.0621499999993,18009.099999999999,51368.130499999999,2984.7,9215.7000000000007,500.5,8903.9,32.5,73141.730500000005,7085.4,8929.2999999999993,9719.2000000000007,2093.8000000000002,275.89999999999998,16073.8,7228.7,724.2,3769,307.10000000000002,121195.9305,null,6.24,null,6.12,null,6.36,null,7.2]
["2012-01-01",52322.875881753003,11155.815958646999,22101.959322090999,7054.3506215939997,92635.001784085005,28.04,null,null,null,null,null,null,null,null,null,9.39,null,null,null,null,null,null,null,2.7,null,null,null,null,null,4.33,null,6524.3762727272724,3635.9290000000001,11086.1265,3466.2574999999979,18188.312999999998,51741.172999999995,2999.076,9465.5681661452709,504.885653123,9013.6872658876891,31.252666415499998,73854.075886965074,7411.18,9154.34,9900.3140000000003,2343.864,274.5804445,16247.262397451999,7250.2456898356404,726.99683949999996,3788.6331705463599,306.53930015643402,123067.68678754992,null,5.52,null,5.52,null,6,null,7.2]
["2012-02-01",52673.611703994,11252.148660768,22284.892760657,7154.8135110809999,93365.466636500001,29.81,null,null,null,null,null,null,null,null,null,9.4600000000000009,null,null,null,null,null,null,null,2.5,null,null,null,null,null,4.32,null,6450.6474761904783,3661.1179999999999,11005.475750000001,3069.497249999999,17736.091,51951.418000000005,3013.2620000000002,8673.4887470531103,508.55597749399999,8474.0640809899505,25.026422347499999,73383.725221209665,7310.31,9648.5010000000002,9776.4719999999998,2434.1770000000001,292.44369949999998,16327.445810452,7455.65388791036,737.82027149999999,3820.7386863022698,307.74480682942902,123238.06539744032,null,5.28,null,5.52,null,6]
["2012-03-01",53657.976699405001,11401.106183604999,22517.071191006002,7478.1019687019998,95054.256042718,27.97,null,null,null,null,null,null,null,null,null,9.33,null,null,null,null,null,null,null,2.34,null,null,null,null,null,4.29,null,6446.2190454545453,3643.5210000000002,11256.132299999999,2963.7307000000023,17863.384000000002,52688.383499999996,3033.127,8949.5939726874803,512.63237012000002,8924.8213787204895,27.112216451999998,74095.187247634982,7483.0155000000004,9818.9,9856.8510000000006,2226.5700000000002,284.5983425,16388.6115735575,7646.1732017132399,744.42435950000004,3827.3117985485501,304.37091992098402,124412.64850643618,null,5.64,null,6,null,6.36,null,5.4]
["2012-04-01",54225.706217170999,11503.007296729,22710.350470793001,7703.0827282159999,96142.146712909002,28.97,null,null,null,null,null,null,null,null,null,9.84,null,null,null,null,null,null,null,2.4500000000000002,null,null,null,null,null,4.37,null,6517.7190500000015,3684.8290000000002,11473.032999999999,3111.9509999999987,18269.812999999998,53970.497499999998,3062.04,9762.3532860445703,487.36843262449997,9732.6228628084791,27.698261096500001,75791.751094764084,7598.71,9889.01,9909.42,2090.9870000000001,265.14160800000002,16544.291283057501,7667.6744359532904,742.74965799999995,3734.1880486488699,303.26818565910901,126462.27884546691,null,5.76,null,6.12,null,6.6,null,10.08]
["2012-05-01",55406.607620850002,11567.541676153,22885.515877424001,8574.7714907680001,98434.436665194997,27.931544579865701,null,null,null,null,null,null,null,null,null,9.9690185256623103,null,null,null,null,null,null,null,2.2949663942874898,null,null,null,null,null,4.3499999999999996,null,6701.8677619047621,3749.7829999999999,11474.85145,3514.1815499999989,18738.815999999999,55536.853499999997,3097.4270000000001,9235.7783668458906,504.27328783949997,9363.7801613047304,26.886657765500001,77722.481335615157,7710.3419999999996,9929.83,9936.4699999999993,2022.7149999999999,262.15271100000001,16678.414507505498,7515.8174972689803,733.53759849999994,3705.1019619407298,309.90815521288999,128496.75053273603,null,5.76,null,6,null,6.6,null,6.6]
["2012-06-01",56105.203794071,11645.665118229001,23083.911055183999,8315.5274060110005,99150.307373495001,28.013292606401102,null,null,null,null,null,null,null,null,null,9.4490771800013693,null,null,null,null,null,null,null,2.3694759377230001,null,null,null,null,null,4.3,null,6716.8100952380964,3788.317,11530.507949999999,3111.5710500000014,18430.396000000001,56885.2255,3194.3960000000002,9427.9565815790393,556.35298850649997,9386.6516155454101,28.497669074000001,79079.177785466134,7623.7359999999999,9811.4310000000005,9962.1299999999992,1941.626,257.99858999999998,16623.3484110055,7352.5034332396699,726.61497850000001,3749.4667061727901,313.60959913130699,129315.48989290722,null,5.76,null,6.12,null,6.6,null,6.24]
["2012-07-01",56089.794307835997,11737.521637837001,23172.724780875,8120.9032718219996,99120.943998369985,28.0070344328368,null,null,null,null,null,null,null,null,null,9.4289346983885807,null,null,null,null,null,null,null,2.17729347799188,null,null,null,null,null,4.3499999999999996,null,6829.8286000000007,3821.8780000000002,11420.041450000001,3097.8985499999985,18339.817999999999,57658.697,3162.57,9877.4998868755902,553.90717861799999,9748.9314838783594,31.042317805500002,79812.518263809732,7475.79,9741.7119999999995,10014.9,1825.82,220.04479749999999,16529.928829879998,7132.4216920361996,724.73113599999999,3630.0288032623298,313.61934105312002,129534.21857491047,null,5.52,null,5.76,null,6.36,null,6]
["2012-08-01",56120.198281063,11899.888333159999,23334.959771878999,8380.3481456669997,99735.394531768994,27.7289703324582,null,null,null,null,null,null,null,null,null,9.6431246179204493,null,null,null,null,null,null,null,1.77855340825422,null,null,null,null,null,4.2699999999999996,null,6675.8243181818189,3815.6089999999999,11218.270549999999,2774.2304500000014,17808.11,57998.028000000006,3214.3910000000001,10180.120286924201,553.18055731200002,10304.645652523201,32.954183589000003,79416.23000812401,7291.74,10120.030293059999,10066.56,1844.4,178.745237,16537.19859838,7014.6040479809899,721.01168700000005,3644.4454608266001,313.90351304968198,129232.17089766871,null,5.52,null,5.52,null,6.36,null,6.24]
["2012-09-01",56659.485628884002,11974.534441768001,23502.784636305001,8206.6399692699997,100343.44467622701,28.481981974524398,null,null,null,null,null,null,null,null,null,9.5346932300959608,null,null,null,null,null,null,null,1.79598059436146,null,null,null,null,null,4.3099999999999996,null,7014.2273529411759,4002.335,11133.54005,3502.8619500000013,18638.737000000001,58377.897499999999,3165.8609999999999,10011.324347682599,552.17239396100001,10183.068967192899,30.063564340999999,80532.859710109711,7141.35,10073.174000000001,10202.66,1796.84,176.096407,16526.576958306501,7102.9912026811498,725.19064749999995,3668.7408280597501,315.866936170722,130293.13116136689,null,5.64,null,5.88,null,6.48,null,6.24]
["2012-10-01",57336.541967354999,12103.432316050001,23791.321610776999,8151.9989430839996,101383.294837266,27.4284071406062,null,null,null,null,null,null,null,null,null,9.4280744323333803,null,null,null,null,null,null,null,1.8064579251033399,null,null,null,null,null,4.34,null,6918.4290000000001,3917.4520000000002,11044.362300000001,3350.9826999999977,18312.796999999999,58732.563000000002,3183.35,10090.478747307199,535.04464374199995,10133.042902851101,27.224178278999901,80693.966309919095,7301.2,10228.42,10347.36,1551.78,181.2706465,16438.675029806502,7231.5050015414299,732.33823949999999,3768.8919087033901,315.74860864198598,130621.87470992164,null,5.76,null,6.12,null,6.6,null,6.72]
["2012-11-01",58331.724085870002,12245.006587254,24113.229085260002,8170.370977304,102860.330735688,25.904770674609601,null,null,null,null,null,null,null,null,null,9.1915253581540899,null,null,null,null,null,null,null,1.99207197945793,null,null,null,null,null,4.34,null,7052,3957.4079999999999,11176.925599999999,3137.7004000000011,18272.034,58880.646000000001,3196.913,11169.681157950599,527.53824238950006,11179.923043077601,28.9242247164999,80837.965132545985,7697.52,10694.7,10373.4,1419.86,196.57450600000001,16453.5346245,7291.99969224492,733.36134000000004,3955.9570984432999,310.80837381648701,131432.14982303113,null,5.64,null,6.12,null,6.6,null,5.88]
["2012-12-01",59124.137891307997,12332.837726420001,24293.663935629,8052.0199867780002,103802.65954013499,25.6580552670092,null,null,null,null,null,null,null,null,null,8.9380054820874104,null,null,null,null,null,null,null,1.93347585976437,null,null,null,null,null,4.38,null,7659.5420000000004,4199.0810000000001,12108.53925,3290.7957499999975,19598.415999999997,58532.285499999998,3189.6790000000001,10935.480893899399,523.71411613949999,10835.855057319701,26.463384279,81917.257068440202,8068.6,9420.48,10453.84,1490.72,209.4110235,16610.991207821,7217.6124056516001,736.34220549999998,3745.4505700262298,306.982377260492,132072.82096362609,null,5.88,null,6.12,null,6.72,null,6]
["2013-01-01",59058.494362154997,12430.113157362,24441.38699065,7941.8890524520002,103871.88356261901,25.89170232802476,null,null,null,null,null,17.879241495422065,null,35.487278086287489,null,9.3112663279834216,null,null,null,7.9345490200935469,null,13.885975581647898,null,1.8710290952025586,null,1.5992605766579482,null,2.1423179466952456,null,4.43,null,7586.6084090909108,4180.4549999999999,12451.327300000001,3481.7706999999991,20113.553,58628.198499999999,3186.9140000000002,9935.8962768740603,524.65397428899996,9749.6850553865097,26.634598763,82612.896097013552,8082.71,9113.26,11068.03,1478.92,222.83386849999999,16821.846780321001,7191.8786356758801,745.35621200000003,3654.9715061481502,301.08591872205,133381.67416864025,null,5.52,null,5.52,null,6.6,null,6.84]
["2013-02-01",59462.113799332001,12490.056336129999,24646.687026602001,8031.9790761519998,104630.836238216,26.686751233779432,null,null,null,null,null,18.011629898911512,null,36.97620386546766,null,9.676705483834187,null,null,null,8.7479265635799894,null,12.841079076939385,null,1.8413967970039411,null,1.5201833489137551,null,2.0953665672094592,null,4.5199999999999996,null,7432.5703999999996,4212.2952080445002,12069.05285,3354.4936999999982,19635.841758044498,59185.429000000004,3193.5790000000002,9192.1391897291705,530.65212148399996,9063.6267350748403,30.351860088999999,82643.662474093813,8002.7539999999999,9729.9599999999991,11053.27,1450.55,231.037621,16932.295286500001,7304.9737817516097,754.29323399999998,3768.2533933126501,299.30397844139202,134035.23902559138,null,5.28,null,5.4,null,5.64,null,5.76]
["2013-03-01",59953.778528734998,12643.48909886,24884.628053542001,8215.005209338,105696.90089047499,26.561767147938347,null,null,null,null,null,15.956792963243938,null,35.536686807848625,null,9.2852544936548362,null,null,null,6.8424892073433661,null,10.993208854277523,null,1.7211954079737886,null,1.4536419258085347,null,2.0507794838662039,null,4.53,null,7537.5744000000004,4204.3719233996999,12123.876100000001,3598.0753499999992,19926.3233733997,59984.014999999999,3214.194,9313.4923548986499,540.24465861650003,9174.9244679067906,30.671665119499998,83772.67325388857,8012.34,9597.14,11168.83,1527.664,218.2914475,16967.063505499998,7442.9632248779599,760.26499249999995,3687.8496852876701,302.64389656721897,135476.73684241166,null,5.28,null,5.4,null,6,null,5.52]
["2013-04-01",60066.752632511001,12768.334742532001,25126.479632957002,8447.8660763759999,106409.43308437601,25.74,null,null,null,null,null,16.218474186202549,null,35.47639021779635,null,9.2200000000000006,null,null,null,7.1537193513329651,null,11.11862965641018,null,1.52,null,1.2766490627366318,null,1.8876556355107634,null,4.53,null,7364.7486206270441,4208.2879999999996,12221.612150000001,3562.0618499999991,19991.962,60604.859499999999,3241.1439999999998,10557.8664431539,545.51205477600001,10287.6045672526,30.5164185985,84623.223012078786,8184.93,10276.59,11433.98,1333.83,212.92004399999999,17134.263898000001,7462.8434772221699,764.05670850000001,3893.43359120593,312.81016459774702,137220.39338399729,null,4.92,null,5.04,null,5.76,null,5.28]
["2013-05-01",60844.640443668999,12814.396966032,25239.420674541001,9149.131647614,108047.589731856,26.62,null,null,null,null,null,16.350231273634741,null,35.79288413008841,null,9.1300000000000008,null,null,null,7.0924092152010729,null,10.892780111542804,null,1.44,null,1.1652457123381132,null,1.9833324124911127,null,4.51,null,7436.3356190476197,4336.6379999999999,12518.7413,3515.1547,20370.534,61312.448000000004,3267.82,12144.496142647,548.24303933199997,11585.0931033215,31.776936093500002,86026.67114256401,8517.5300000000007,10687.8,11865.38,1390.55,216.25049050000001,17265.981302,7487.3947211608702,770.99131750000004,4156.6385202871897,325.02709457500998,139746.88335886266,null,4.8,null,5.04,null,5.52,null,5.4]
["2013-06-01",61379.846584473999,12885.66426576,25410.535288949999,9282.4319592949996,108958.47809847901,26.36,null,null,null,null,null,15.956952948129221,null,36.183460757486131,null,9.0359999999999996,null,null,null,7.004507965268493,null,11.069089415975037,null,1.43,null,1.1594420622293382,null,1.8839872119990264,null,4.45,null,7677.1088999999993,4335.1360000000004,12745.0643,3693.7857000000004,20773.986000000001,62329.648000000001,3297.049,11437.071521321101,559.51957145699998,10854.7134498961,37.987573570999999,87504.573069311009,8809.85,10366.280000000001,12198.08,1288.8699999999999,212.1981955,17235.910854500002,7489.2069834199701,769.06223150000005,3962.0338764654698,327.93084687656301,141584.06661088893,null,5.04,null,5.16,null,5.4,null,5.64]
["2013-07-01",61638.652617993001,12968.27827126,25677.006838674999,9555.3180315270001,109839.255759455,26.99,null,null,null,null,null,16.277407031945078,null,36.195445698235588,null,9.2200000000000006,null,null,null,7.2360119466197137,null,11.11571503580709,null,1.48,null,1.282517036762912,null,1.7922752793318626,null,4.46,null,7727.2669999999989,4346.9279999999999,12640.7035,3861.1110499999995,20848.742549999999,62829.702000000005,3317.72,10500.764471057,559.27391510150005,9960.0111412177794,41.150848197167001,88055.040946743553,9258.0876905000005,10551.92,12470.28,1115.0129999999999,180.99684500000001,17073.432420500001,7512.8966345378103,766.45123349999994,3859.3954535979701,326.97267657258402,142797.75064061082,null,5.16,null,5.28,null,5.52,null,5.76]
["2013-08-01",62324.265287996997,13121.271233418,25931.978446857,9463.4720320710003,110840.987000343,27.410764499772498,null,null,null,null,null,15.591562672046479,null,35.902965937685209,null,8.8965493557184914,null,null,null,7.125036704190963,null,10.6665350824013,null,1.6821505055583721,null,1.5204008062693743,null,1.8796683960316261,null,4.49,null,7587.3778571428575,4303.2259999999997,12462.707899999999,3678.9731000000002,20444.906999999999,63499.520499999999,3334.85,11598.586705461301,546.07476028450003,10964.774220176199,41.312020088154298,88417.85272548144,9605.48,10931,12812.89,1136.6300000000001,150.16604100000001,17682.202528000002,7572.5965652654704,764.61644650000005,4068.4210899367799,330.70368720135798,144674.30952910878,null,5.16,null,5.28,null,5.4,null,5.52]
["2013-09-01",62676.919152317998,13184.398188218,26179.952037489998,8993.8486126150001,111035.117990641,27.456714660823657,null,null,null,null,null,14.20804883190101,null,35.704905589331588,null,9.2435012481818664,null,null,null,6.8945340367623675,null,11.022305956128957,null,1.4553408483150525,null,1.3135641342240492,null,1.7691063868823258,null,4.37,null,7836.3873943783901,4567.3610587642797,12514.8717,4021.6121500000008,21103.84490876428,63824.335999999996,3349.0219999999999,11510.7391860801,535.17595421450005,10994.725551510301,42.3274843826539,89286.06501316592,9548.1068361425005,11082.259616011001,13067.575789312799,1143.596,149.32443549999999,18101.054451,7573.9759426619003,766.22891300000003,4111.7442036093698,335.85089040337999,146270.59190278139,null,5.16,null,5.4,null,5.52,null,5.76]
["2013-10-01",63074.792605896997,13343.264794047,26484.339895824,8901.4314665250004,111803.82876229301,26.863969371184837,null,null,null,null,null,15.766727938179059,null,35.537349645069781,null,8.8171856697406028,null,null,null,7.1883724453017619,null,10.174885845762081,null,1.6687795377367145,null,1.5634216322485095,null,1.7905766682535385,null,4.3899999999999997,null,7635.9054545454555,4493.9050318703803,12508.895350000001,3397.8575999999985,20400.657981870379,64032.960500000001,3357.605,11653.905722822299,529.99138439800004,11357.648651892199,41.323367561241099,88576.148569637226,9431.4192887749996,11107.279546481999,13407.939865431001,1069.69,156.88345100000001,17907.501324500001,7753.7108089537996,782.2287705,4182.9438588134399,336.89513176431001,145672.96263470128,null,5.04,null,5.28,null,5.4,null,5.88]
["2013-11-01",64440.736405971998,13519.495529350999,26713.225417457001,9170.4276710289996,113843.88502380899,26.783234874877937,null,null,null,null,null,15.579875176664661,null,35.355460238795061,null,8.8913731545848123,null,null,null,6.6389807958743869,null,11.091098509406459,null,1.5710335556046542,null,1.3861692296394117,null,1.8152955775910864,null,4.3600000000000003,null,7723.1807714954502,4490.2324316683998,12536.067350000001,3776.9123499999978,20803.212131668399,64414.525500000003,3356.1350000000002,12862.8901362657,529.31235435200006,12542.6411085661,42.821590877373097,89380.61242284262,9543.2933327749997,11320.062708744001,13232.230390045001,1080.914,167.3743365,17938.027262,8086.6716218500296,793.356855,4540.55607987438,334.26365814146902,146667.72319174081,null,4.68,null,4.8,null,4.92,null,5.88]
["2013-12-01",64939.088727597002,13615.169793145,27049.086330990998,8667.5003024329999,114270.84515416602,26.061785231993277,null,null,null,null,null,15.98790360800349,null,34.378369600617553,null,8.3457161833633986,null,null,null,6.4396360524949783,null,10.437750909014721,null,1.6486526813059557,null,1.5128739369708393,null,1.8519406511584169,null,4.3600000000000003,null,8296.815849999999,4693.2209999999995,13455.195299999999,3963.4767000000011,22111.893,64506.849000000002,3345.5680000000002,12513.9210008645,533.95150133725997,11940.188061300199,41.971099067753002,91030.023341833803,9628.8050000000003,10362.365,13167.666999999999,993.77200000000005,176.29989850000001,17974.284245999999,8280.1243622934398,796.01428850000002,4638.7501457854296,329.455956486307,147441.14903485551,null,4.5599999999999996,null,4.8,null,5.16,null,5.88]
["2014-01-01",65565.129976900003,13773.695319955001,27428.245663682999,8975.0189321029993,115742.08989264102,26.41,1021.52,36.44,258.44,11.76,133.53,16.78,295.27999999999997,33.020000000000003,334.27,8.57,4195.6099999999997,27.89,14.57,6.42,2200.9499999999998,10.82,1980.09,1.98,774.17,2.0299999999999998,343.21,1.94,430.96,4.32,294.96716668400001,8057.8897272727281,4742.973,13837.76035,3773.0193500000005,22353.752700000001,65180.911,3353.6260000000002,12347.781389333901,547.08967683751996,11691.0238114109,39.2157802729335,92052.921174487594,9790.4730231730391,9793.5459992923606,12909.165613864499,900.92899999999997,186.35172750000001,18178.545945499998,8505.9354400214997,795.096631,4766.2168102612004,335.50887176672398,148011.23887281108,null,4.4400000000000004,9300.39,4.5599999999999996,3429.64,4.8,993.41]
["2014-02-01",65694.845556300002,13843.874411063,27727.261889288999,9020.4700081819992,116286.45186483402,26.87,871.88,35.619999999999997,237.14,12.06,106.98,16.79,239.78,33.56,287.98,8.5299999999999994,3487.6900000000005,29.52,12.76,6.35,1621.42,10.29,1853.51,1.57,782.78,1.47,431.43,1.7,351.35,4.3,251.65021771100001,8099.7340000000022,4725.875,13371.680850000001,4010.8421500000004,22108.398000000001,65782.934999999998,3372.81,12632.765367702301,560.38664849407996,11963.842543008799,40.674832719910498,92452.77764046767,10309.054,10897.807000000001,13093.852999999999,918.096,185.551322,18294.093463000001,9002.9084575039797,807.37833049999995,5185.0236207770704,345.490712376668,150431.00488031792,null,4.2,7720.18,4.4400000000000004,2401.89,4.68,536.78,3.84,0.01]
["2014-03-01",65259.355840693002,13964.766692121,28090.008135729,8768.7498366849995,116082.88050522801,24.53,1073.3,35.32,247.18,10.23,165.8,15.11,343.98,33.85,316.33999999999997,8.4700000000000006,3713.81,26.78,16.68,6.26,2160.2800000000002,11.38,1536.85,1.57,1043.6299999999999,1.4,655.04999999999995,1.85,388.58,4.3,281.61983838499998,8025.0497619047628,4689.0720000000001,13477.248149999999,4007.3308023810023,22173.650952381002,65792.729500000016,3402.75,11578.969282198001,566.44828511429,10994.5030017179,41.761807378498197,92478.283210596914,10474.8540624334,11101.5701415535,13085.5192111867,899.89700000000005,176.063963,18296.767180999999,9691.9700980371508,823.80522199999996,5466.5025693444204,351.39728863163901,151210.83023183158,null,4.08,9448.66,4.08,3099.97,4.32,808.07,3.72,0.01]
["2014-04-01",65388.114414999996,14089.385329481,28511.887613786999,9119.9330801069991,117109.32043837498,26.13,1183.6300000000001,33.64,391.18,12.45,148.37,15.25,323.66000000000003,34.28,320.42,8.7200000000000006,3526.75,30.96,29.42,5.97,1739.73,11.07,1757.6,1.59,881.93000000000006,1.47,516.07000000000005,1.77,365.86,4.25,296.764480435,7978.4620000000004,4728.2,13686.089599999999,4185.1451500000012,22599.43475,65189.604000000007,3434.453,11800.6315233307,570.738394323075,11068.4047286814,41.369013704050502,92485.087925268323,10962.5113115,11030.3386955275,13065.093216446699,877.83500000000004,181.6311015,18190.367314499999,10463.299053668899,839.36859600000003,5942.6437582102499,358.34232268699799,151794.54613351417,null,3.96,8907.43,3.96,3031.67,4.4400000000000004,923.71,3.48,0.01]
["2014-05-01",65766.534992385001,14118.000695794,28889.136082473,9037.2049931130005,117810.876763765,27.43,1203.28,34,431.57,20.010000000000002,145.09,15.47,318.39,34.06,308.23,8.5500000000000007,3379.36,32.909999999999997,31.81,5.8,1745.64,11.07,1601.91,1.24,941.88,1.02,603.1,1.63,338.78,4.1399999999999997,264.634040465,8098.402,4767.1379999999999,13853.728500000001,4294.5091547618968,22915.375654761898,64416.857499999998,3477.1849999999999,13061.713606981501,576.27328310256996,11996.698264963999,41.774759136952802,92408.932020745022,11531.504837805,11528.681084994299,13402.515347715,1226.1489999999999,187.93015800000001,18192.795905999999,11306.6236713744,859.18684949999999,6551.4383865954997,364.90347089946698,153727.97701863875,null,3.96,8423.9,4.08,2657.56,4.32,632.86,3.96,0.01]
["2014-06-01",66168.764287566999,14148.013496157,29223.803193149,8734.6648568750006,118275.24583374799,26.58,1219.6399999999999,33.32,456.09,14.91,144.30000000000001,15.23,314.79000000000002,33.75,304.45999999999998,8.2200000000000006,4164.3200000000006,31.5,30.27,6.2,1801.48,9.48,2332.5700000000002,1.37,903.65,1.19,581.29999999999995,1.69,322.35000000000002,3.94,306.40156802299998,8142.1109999999999,4789.1390000000001,13997.237550000002,4346.7733999999973,23133.149949999999,64522.267,3525.183,11618.2261980313,579.24090378999495,10680.2541400216,43.951848460188202,92653.861063339515,11357.527,11247.934999999999,13809.134,1460.0530000000001,182.6638925,18311.7802405,12122.1629747729,877.42279699999995,6737.7428226418197,368.14841856365399,154916.64872690698,null,3.96,8168.76,4.2,2687.11,4.4400000000000004,812.44,4.68,0.06]
["2014-07-01",66458.078092598997,14241.056071061001,29476.757812060001,9040.9949389150006,119216.88691463499,24.96,1274.8799999999999,32.18,435.69,10.64,174.29,15.2,343.26,33.340000000000003,321.64,8.0500000000000007,4186.5599999999995,27.47,29.61,5.65,2042.07,10.1,2114.88,1.24,1190.1100000000001,1.1100000000000001,730.84,1.44,459.27,3.86,311.32380096499998,7977.7780000000002,4768.5929999999998,13890.897349999999,4270.7932204545514,22930.28357045455,65535.362000000008,3583.2460000000001,10195.743891837001,578.57724146329997,9364.2513979899504,47.3518632761688,93411.609442488741,11362.423076845,10767.750514732201,14046.022379945,1050.223,173.86779799999999,18397.320626000001,12841.6417103029,902.99983450000002,6913.0553691096402,371.89973105037598,155668.90328265383,null,3.96,8824.2999999999993,3.96,3262.48,4.32,963.04,3.12,0.12]
["2014-08-01",67327.851470598995,14354.085870336001,29800.063759446999,9032.4802558690008,120514.481356251,24.74,1285.7900000000002,32.270000000000003,457.91,9.8800000000000008,156.22,14.59,361.72,32.94,309.94,7.67,3819.06,27.75,33.46,5.5,1700.85,9.11,2084.75,1.34,976.91,1.29,543.05999999999995,1.41,433.85,3.67,293.86595915999999,8142.2067999999999,4708.0050000000001,13914.768550000001,3996.7362174999989,22619.5097675,66249.885500000004,3557.9009999999998,10125.504438403001,580.98044524049999,9296.5690458825593,47.312533043531801,93789.899572217415,11740.023810344999,10785.4973470241,14195.3027038665,1037.117,158.60780349999999,18474.578635499998,13840.9201321525,939.1599185,7451.8913631327996,379.30087172404598,157129.91468824865,null,3.6,7757.09,3.6,3134.47,3.72,779.25,4.08,10.01]
["2014-09-01",67730.497433056997,14426.432400211001,30172.775293113002,9044.9396277550004,121374.64475413598,24.96,1255.3699999999999,32.619999999999997,461.46,9.5,146.07,14.39,333.04,32.1,314.8,7.35,4319.62,28.8,32.31,5.26,1969.09,8.83,2318.2199999999998,1.28,882.22,1.05,522.47,1.62,359.75,3.58,342.04907677599999,8182.4049999999997,4883.9579999999996,13997.462449999999,4368.3925499999996,23249.812999999998,66266.082999999999,3571.933,10315.978404314201,585.78126963269995,9567.0776713781106,46.6326859140026,94375.87831665478,12239.687,10599.540999999999,14604.148999999999,1108.2570000000001,141.70561499999999,18568.049824500002,14025.238188035701,959.47857850000003,7661.0784545267998,381.39194440169803,158579.51412376197,null,3.48,9017.58,3.36,2822.52,3.6,821.76,4.8,0.14000000000000001]
["2014-10-01",68033.964476630994,14542.214164871,30651.802285876001,8692.3673476500007,121920.34827502799,24.14,1300.5999999999999,31.3,472.02,9.69,150.46,14.48,361.82,31.38,316.3,7.31,4469.8599999999997,28.63,32.69,5.32,2143.92,8.8699999999999992,2293.25,1.42,860.82,1.22,530.72,1.73,330.1,3.57,412.47673280999999,8046.06,4801.4290000000001,13795.696,4223.4939999999988,22820.618999999999,66838.03899999999,3599.4720000000002,11948.004880783201,592.42963044159501,11080.325806491001,47.581217146020897,94670.65748758777,12176.286,10892.788,14768.473,962.39599999999996,139.3263925,18576.105361499998,13029.7133484519,954.71518200000003,7294.5744955711398,380.26108528444598,158495.62519118408,null,3.6,9399.98,3.48,3280.31,3.84,581.77,5.16,0.09]
["2014-11-01",69824.921463933002,14691.02463059,31194.060844418,9048.8023577109998,124758.80929665199,23.93,1307.4000000000001,30.91,473.45,9.7799999999999994,162.75,14.76,356.66,31.16,314.54000000000002,6.9,4997.38,28.26,32.450000000000003,5.22,2399.86,8.1999999999999993,2565.0700000000002,1.51,691.16000000000008,1.4,402.48,1.67,288.68,3.65,394.16711210300002,8346.9789999999994,4879.1970000000001,14020.181199999999,5062.4195499999987,23961.797749999998,68224.428499999995,3627.8760000000002,12672.883791087101,596.61915881940502,11731.4362506694,47.9557239493369,97304.213225287764,12254.1620595,10275.042789728301,14985.445815646999,879.59,143.96886850000001,18583.103633999999,12798.3413903126,968.29707980201795,7057.4914770034002,381.02492016715303,160753.64846560711,null,3.48,9032.11,3.6,3814.51,3.84,643.58000000000004,4.68,0.66]
["2014-12-01",70255.531534616995,14760.744088306001,31579.011781309,8819.9903718999994,125415.277776132,23.7,1485.97,30.32,494.01,9.01,210.01,15.01,350.82,30.35,431.13,6.88,6192.72,25.77,37.85,5.27,2760.47,7.97,3394.4,1.39,1000.5,1.23,660.22,1.71,340.28,3.73,384.85091147499998,8715.1952500000007,5160.6040000000003,15039.294699999999,5290.9196000000002,25490.818299999999,69242.271999999997,3636.7249999999999,12662.707433810299,599.56342408854005,11862.829294818701,47.872794203369502,99721.384068876767,12683.856487372501,9484.9765905942004,15401.515945718,1136.3009999999999,196.92497233,18594.186380537001,12995.3666057013,989.55239900000004,6954.3878565168097,389.72986529098603,163859.94672832199,null,3.48,9397.91,3.6,3072.63,3.84,561.80999999999995,3.12,0.01]
["2015-01-01",70467.613015872994,14828.789951237,31737.148958720001,9523.6364489459993,126557.188374776,24.09,1320.72,29.65,485.44,10.07,161.16,15.33,312.73,30.47,361.39,7.07,4236.09,25.26,39.549999999999997,5.28,1967.05,8.32,2229.4899999999998,1.6,786.02,1.52,439.27,1.7,346.75,3.75,369.75340703299997,8826.1173337519049,5142.750500997,15547.218699999999,4724.8111999999992,25414.780400996999,69418.642500000002,3650.973,13476.617841077599,614.00856720293496,12577.7266165694,46.773605212071402,99950.522087496065,13130.561948500001,9589.8665609855707,15374.2045710086,1083.8879999999999,227.24428533,18486.3092566675,13028.379420965501,1004.8061494999999,6893.0843811426603,403.41056618296102,164579.28733312764,null,3.36,9179.32,3.24,3838.85,3.48,464.93,5.4,0.18]
["2015-02-01",70127.490674633998,14883.444062656999,31939.024774992999,9126.0257688479996,126075.985281132,25.23,1250.3100000000002,30.42,512.09,10.8,137.16,15.4,268.61,31.15,332.45,7.13,3559.2299999999996,23.74,38.74,5.52,1322.56,7.8,2197.9299999999998,1.68,866.26,1.66,571.12,1.74,295.14,3.73,314.7116059,9072.6020000000008,5188.5173789404998,15391.782599999999,4756.134850000004,25336.434828940502,69137.103499999997,3669.6210000000001,13464.0676940181,632.73463008226497,12542.3508806881,47.376621599392102,99650.234150753371,13338.521599,10184.925999999999,15739.519,940.64700000000005,205.20878350000001,18399.1589096305,13647.401666836,1031.045629,7096.8060267225401,408.11149485549998,165631.74521714184,null,3.24,6110.93,3.24,2277.5500000000002,3.6,311.89999999999998,5.16,10.62]
["2015-03-01",70094.153396256006,14984.897491348,32327.534700623,9152.5812855059994,126559.166873733,23.3,1476.29,30.64,493.72,9.8000000000000007,195.81,13.73,402.87,30.79,383.89,7.15,4380.5300000000007,23.41,40.51,5.45,1877.68,8.17,2462.34,1.46,817.86,1.22,489,1.81,328.86,3.67,388.71791872799997,8878.8998082446396,5184.0789063579996,15487.551100000001,4414.2667999999921,25085.896806357992,69548.427500000005,3705.5129999999999,11904.060621304699,641.62364998090504,11373.882327675199,59.777590697513602,99451.8616592709,13055.860279,9967.3738718431996,15803.281858594501,912.9,205.72166050000001,18278.322478499998,14539.252116773299,1053.3296700000001,7311.2219430954501,409.84759040033401,165546.83406098609,null,3.36,9471.19,3.48,3913.4,3.72,890.31,5.16,2.04]
["2015-04-01",70180.506110275004,15085.988004864999,32816.129443113001,9141.6188143079999,127224.24237256101,23.62,1379,30.34,480.61,9.92,172.53,14.2,360.85,30.56,365.01,7.04,4470.03,24.35,34.380000000000003,5.57,1886.75,7.89,2548.9,1.59,697.73,1.55,413.72,1.66,284.01,3.6,371.86208657399999,8864.913115695761,5203.5529140037597,15606.2384,4667.7036000000007,25477.494914003761,70453.225999999995,3747.8679999999999,11921.309093418,640.16570504571496,11498.9514329744,73.2845247995959,100667.82775469347,12963.291432,9746.0585185657601,15891.180919594301,714.96400000000006,201.090092,18329.9333195,14774.933784999999,1072.4199739999999,7229.9844421608605,412.38811296329101,166719.32724022935,null,3.36,10739.23,3.6,4475.59,3.84,751.95,4.68,2.14]
["2015-05-01",71322.357115891005,14931.114995738,33276.685116717003,9443.7444685080009,128973.90169685401,23.78,1347.58,29.94,513.14,9.7899999999999991,147.69,14.09,344.9,30.35,341.85,6.88,5169.83,27.28,34.49,5.28,2459.5300000000002,8.08,2675.81,1.38,1050.76,1.24,772.8,1.77,277.95999999999998,3.61,338.69929470199997,9360.2416174558894,5334.6192415104197,15875.382999999998,4746.8241500000004,25956.826391510418,70801.217000000004,3807.3530000000001,12193.9973499552,634.88592048129999,11803.4790792187,65.602267329998597,101525.19831539823,13209.366979,10273.837670286801,16652.289609850501,670.12400000000002,191.9154015,18536.231045,14600.032634060701,1087.14833,6884.7159446065598,416.97226065814903,169444.45577983154,null,3.48,8807.17,3.72,2848.75,3.96,1310.9,3.48,0.02]
["2015-06-01",71562.743553394001,14969.745615794,33659.714397848002,9459.9422520900007,129652.145819126,23.48,1505.92,28.84,621.72,9.4,152.72,13.97,374.08,30.11,357.4,7.06,4394.9799999999996,26.98,34.42,5.71,2164.85,8.08,2195.71,1.68,786.85,1.6,457.37,1.79,329.48,3.66,354.25698971499997,9207.0265374331902,5380.3431603669496,16190.165949999999,4894.1824000000006,26464.691510366949,71297.129499999995,3874.8209999999999,10893.681500000001,630.30213379999998,10657.81403,53.741631810000001,102449.06998235693,13138.2933885,9618.9835970805707,17489.8362370457,625.74800000000005,188.24907250000001,18517.851630000001,14818.10757,1093.4313239999999,6679.9096890000001,418.46320429999997,170841.19790818318,null,3.48,10244.49,3.72,3624.96,3.96,1191.78]
["2015-07-01",72405.917575700994,15119.758056874,34057.182553817998,9869.6904472580009,131452.54863365099,22.91,1552.3400000000001,28.34,585.44000000000005,9.4600000000000009,159.16999999999999,14.25,414.2,29.4,393.53,6.83,4807.920000000001,25.73,37.06,5.53,2055.35,7.56,2715.51,1.55,998.26,1.46,599.79999999999995,1.69,398.46,3.67,379.66101987799999,9221.0362347103182,5331.02529720859,16112.98905,4858.9408500000036,26302.955197208594,72876.937999999995,3911.5630000000001,12324.47537,629.10834950000003,11871.820239999999,50.52274912,104122.69692758858,13486.677455999999,9710.0810056134505,18422.960396034501,836.30499999999995,187.60143550000001,18594.807649999999,15397.272139999999,1125.3050499999999,6884.7525990000004,423.85530779999999,174575.09915393652,null,3.48,12744.23,3.72,4976.34,3.84,1197.78,2.88,0.01]
["2015-08-01",72956.084690913995,15212.861902930999,34450.450568704,10140.181593142999,132759.578755692,23.52,1648.0900000000001,29.77,668.82,9.4700000000000006,165.73,13.96,422.18,29.11,391.36,7.07,4083.66,25.15,40.68,5.7,1780.88,7.82,2262.1,1.59,1114.07,1.52,691.26,1.7,422.81,3.63,341.12581729300001,9281.8729712290005,5309.7745912358596,15969.947749999999,4927.2990350000027,26207.021376235862,74528.410499999998,3952.2431428571399,12435.4750215201,638.55633827830002,11974.5268763268,48.082236221422797,105739.09726634317,14081.3954814803,10151.419065075899,18792.2207509978,614.63028571428595,192.2264735,18803.084757500001,16062.8373354617,1120.089806,7206.2084277740396,439.68982677362601,177911.10296752551,null,3.6,10210.57,3.72,5084.7,3.96,1704.95,2.88,0.01]
["2015-09-01",74374.980907503006,15318.9511146,34969.095353254001,9950.7812607199994,134613.80863607701,23.23,1562.47,29.4,618.66999999999996,9.4499999999999993,154.74,13.93,415.75,29.06,373.31,6.34,5721.95,25.5,32.369999999999997,5.52,2475.63,6.78,3213.95,1.58,889.41000000000008,1.2,511.11,2.09,378.3,3.65,359.82779175899998,9308.6159815664269,5432.6380919829999,15997.23605,5049.2496000000001,26479.123741982999,75273.118000000002,3994.6990000000001,11276.48309,650.37826419999999,11006.06256,47.091451569999997,106620.648084613,14046.934522,9950.4879843152794,19439.8444918276,690.81799999999998,188.53326000000001,18817.077789999999,15995.92409,1108.8219509999999,7179.6626859999997,448.16719380000001,179231.26029395589,null,3.72,10811.49,3.96,4502.2,4.32,1276.9000000000001,3.84,0.01]
["2015-10-01",74857.112191371998,15454.556414705001,35453.705786043,9723.6233258240009,135488.997717944,23.14,1628.9500000000003,28.62,671.7,10.11,166.65,14.3,407.8,28.61,382.8,6.24,5998.76,26.01,38.909999999999997,5.76,1992.6,6.28,3967.25,1.52,942.28,1.27,625.58000000000004,2.02,316.7,3.64,358.19803531500003,9313.4171572537107,5406.51888037138,16036.970450000001,4783.2271500000088,26226.716480371389,76298.981499999994,4046.2950000000001,12895.182269999999,655.22221969999998,12577.90143,46.618236410000002,107497.87780366139,14183.543304999999,10205.3066698434,19827.0712330438,1012.457,172.358159,18858.934679999998,15625.41678,1114.9153710000001,6856.0909739999997,451.03275209999998,181190.75727544862,null,3.72,10504.67,4.08,3843.29,4.68,842.11,3.6,0.01]
["2015-11-01",75881.904394186,15620.048203843,35930.224742822997,9838.6782681540008,137270.85560900602,22.71,1729.5600000000002,28.42,684.6,10.01,219.18,14.68,429.66,28.6,396.12,6.93,4608.09,25.69,40.799999999999997,5.61,1936.25,7.61,2631.04,1.57,1064.5999999999999,1.38,748.59,2.0099999999999998,316.01,3.72,381.450171453,9403.9315302183295,5444.2311942447204,16236.311450000001,4992.0007000000032,26672.543344244725,77029.819499999998,4203.1390000000001,13128.0043381096,659.58118838300004,12711.1798843125,44.967979635385497,108936.93950678944,14497.633648000001,9999.3128359995299,20349.413801034301,920.13,159.84912199999999,18856.419591175501,15205.181861897699,1132.9193754999999,6329.8885189150296,455.22948807036698,183272.68173541111,null,3.84,10157.049999999999,4.32,3187.35,4.92,829.86,2.4,0.13]
["2015-12-01",76628.980251069006,15792.32110123,36337.552885026002,9626.0821231629998,138384.93636048801,22.83,1785.5100000000002,28.56,722.65,9.6199999999999992,243.69,14.97,407.43,28.35,411.74,6.86,5872.3400000000011,25.65,42.22,5.91,2590.86,7.37,3239.26,1.83,1045.9000000000001,1.59,703.42,2.33,342.48,3.77,387.329152948,9701.9385797911491,5679.2734800485996,17150.633150000001,5380.1329000000114,28210.039530048613,77307.429499999998,4071.2460000000001,13029.311027252699,663.40726959000006,12517.898718587099,42.453480653606,110721.08112765061,14524.2373025,9013.1763102638506,20421.028998736001,834.29,146.91918749999999,18754.935600500001,14386.5252486383,1128.3100425,5631.8419635813898,455.03077007744798,183843.63108462992,null,3.96,9501.43,4.4400000000000004,3035.07,5.04,781.77,3.89,0.02]
["2016-01-01",76909.283616486995,15890.978040505999,36583.845480456999,9723.5480543239992,139107.65519177399,23.39,1664.67,28.27,722.53,10.25,194.38,15.45,360.4,28.29,387.36,7.28,4804.6400000000003,26.13,44.05,6.13,1878.88,7.74,2881.71,1.89,877.18000000000006,1.56,546.83000000000004,2.44,330.35,3.8323364446336301,326.45343753600002,9837.7955766190498,5657.7604470057004,17805.491399999999,5355.3672000000088,28818.619047005708,77857.243000000002,4081.34,13050.2783,665.97359900000004,12535.38222,41.079170349999998,111896.99255565571,14341.7446925,8950.2675922051494,20136.197778000002,765.06399999999996,114.7664075,18788.68376,13892.68772,1103.7884260000001,5315.3595109999997,454.50666569999999,184220.32675516087,null,3.96,10663.38,4.4400000000000004,4040.11,4.92,684.33,6.28,11.99]
["2016-02-01",76958.326124065003,15977.517747861,36897.028560125,9759.6705227870007,139592.54295483799,23.87,1682.73,28.66,762.53,10.63,185.4,15.35,356.74,28.75,378.06,7.75,3787.1000000000004,26.94,45.38,6.36,1285.6500000000001,8.1300000000000008,2456.0700000000002,1.67,949.07,1.43,653.97,2.19,295.10000000000002,3.8285425470190502,279.56239048100002,9881.9275404313303,5701.4727835682397,17604.643400000001,5029.7100499999897,28335.82623356823,78229.577499999999,4105.1940000000004,12149.95685,670.17873359999999,11566.70931,41.556288770000002,111882.46771839824,14397.719599,9670.4754860305693,20329.0288199229,1009.9829999999999,97.2685295,18862.7709,13972.887419999999,1081.4973660000001,5593.2689300000002,459.00821639999998,185251.82169245175,null,3.84,8127.54,4.32,4325.28,4.68,658.72,4.74,0.03]
["2016-03-01",76499.364536467998,16125.045055675,37249.332512706998,9538.3571537509997,139412.099258601,22.69,1871.4099999999999,28.74,759.06,9.4700000000000006,227.54,14.01,476.48,28.93,408.33,7.71,4258.34,25.41,48.79,6.1,1742.07,8.5,2467.48,1.85,872.64,1.6,594.62,2.37,278.02,3.80562225618633,364.03354854600002,9965.1087224409093,5684.2514632484599,17211.32185,4636.5458999999901,27532.11921324845,79208.841,4144.058,12247.222949999999,686.49450969999998,11625.984399999999,41.412825920000003,112151.33844702844,14441.962627499999,9194.7848527650403,20381.632668120899,746.73500000000001,109.08516,18927.66718,14274.35333,1095.9497280000001,5907.991387,460.32269730000002,184955.19490911436,null,3.84,9483.32,4.2,4143.38,4.5599999999999996,755.11,5.0999999999999996,0.09]
["2016-04-01",76906.614795008994,16248.964051806,37550.433239762999,9445.9779717639994,140151.99005834199,23.31,1752.0500000000002,29.26,752.51,9.51,202.11,14.24,417.4,28.81,380.03,7.47,4334.17,26.92,46.84,5.92,1971.86,8.39,2315.4699999999998,1.92,767.16000000000008,1.75,484.1,2.21,283.06,3.7853394200906099,332.63050138400001,9801.4026055606191,5656.8742472426202,17270.322800000002,4664.528199999997,27591.725247242619,79718.096000000005,4186.9430000000002,13605.31746,704.67807349999998,12757.35482,40.52140103,113008.88355971262,14473.503138,9374.6653267649508,20394.835619649501,342.71899999999999,133.0507935,18951.63335,14497.180770000001,1108.7892649999999,6195.5822420000004,457.4293381,185632.24924252709,null,3.72,9700.89,3.96,2603.42,4.32,821.61,4.33,0.06]
["2016-05-01",77802.407115480004,16284.822163991999,37851.386379151001,10030.673714676001,141969.28937329899,22.87,1784.19,28.62,743.35,9.7200000000000006,205.75,14.25,438.41,28.44,396.68,7.45,4193.1000000000004,26.12,49.04,5.77,2049.0300000000002,8.66,2095.0300000000002,1.63,1023.67,1.38,744.52,2.2999999999999998,279.14999999999998,3.7880666525968398,342.95375438600001,9947.1752769589493,5714.1363962784098,17509.4827,4364.4738999999963,27588.092996278407,79905.5435,4241.5360000000001,13940.3292102985,707.94291039858501,13117.705812668701,40.810685355903999,113224.92811895086,14918.0996325,10118.8386822866,21591.540456035,342.09399999999999,162.50879850000001,18977.749526,14864.778251714801,1121.1673025,6434.2363983444402,459.78323666270398,188427.68513348012,null,3.72,10016.82,3.96,3741.32,4.32,699.12,3.06,0.06]
["2016-06-01",77961.404005531993,16355.817266964001,38123.102714232002,9538.0480151480006,141978.37200187601,23.12,1708.6100000000001,28.56,738.11,10.68,184.67,14.22,417.59,28.57,368.24,7.16,4471.74,26.43,47.84,5.78,2020.83,7.93,2403.0700000000002,1.7,1097.93,1.46,805.08,2.37,292.85000000000002,3.7565380192537399,303.99873777699997,9880.8755566910495,5756.1795162430999,17257.402300000002,4774.1586499999985,27787.7404662431,80733.001499999984,4300.3339999999998,12817.67851,718.90764809999996,12283.719880000001,43.107267999999998,114030.83497634307,15262.8713795,9876.9883765788109,22661.2930654343,213.357,184.41607999999999,18953.416089999999,15215.961719999999,1118.944068,6544.965811,454.97735069999999,190518.13959415618,null,3.72,9297.15,3.96,3757.02,4.2,736.51,3,0.01]
["2016-07-01",78720.046517267998,16461.591123118,38388.822575414997,9648.7796204610004,143219.23983626199,23.19,1733.04,28.34,750.04,10.8,181.35,14.58,423.51,28.57,378.14,6.81,5509.4,26.08,49.73,5.68,1973.32,7.17,3486.35,1.7,826.14,1.42,525.49,2.2000000000000002,300.64999999999998,3.7261514037301402,309.58498542900003,9808.7217348792401,5755.0909127799096,16907.030850000003,4622.6599500000011,27284.781712779914,81044.462499999994,4329.2160000000003,12863.658020000001,755.74022260000004,12199.03362,45.322600170000001,114033.50223520992,15158.081257,10806.005350952601,23846.577402094299,212.46600000000001,209.31874400000001,18888.662260000001,15535.06827,1116.716308,6816.8005309999999,451.77433459999997,192537.82296165681,null,3.72,10322.459999999999,3.96,3162.21,4.2,1616.13,4.1900000000000004,0.09]
["2016-08-01",79253.891326786994,16600.657251731998,38668.373802643,9761.2920437800003,144284.21442494201,22.78,1859.21,28.22,760.42,10.67,208.62,14.38,475.16,28.51,415.01,6.75,5185.119999999999,24.82,52.48,5.79,1724.27,6.96,3408.37,1.66,1018.43,1.28,698.05,2.48,320.38,3.7205523920438099,336.83429510600001,9868.4722277245,5710.0370863707303,16768.1348,4489.7027999999973,26967.874686370727,81457.95199999999,4355.6580000000004,12799.4337485824,779.53350062107495,12111.3437303105,42.009706251777601,114207.0984990119,15190.6653585,10694.3358299311,25208.8234848789,457.54091376500003,236.53795299999999,19059.288337999998,16146.1484360594,1135.1431869999999,7174.88105182651,461.66024385006102,194699.04070446975,null,3.72,11363.06,3.84,3136.39,4.08,1181.8699999999999]
["2016-09-01",78914.83738646,16693.438580870999,38877.240056854003,9590.4435772640009,144075.95960144899,23.16,1757.7800000000002,28.28,766.47,10.67,182.21,14.35,416.1,28.28,393,6.88,4527.66,26.43,49.93,5.86,1638.01,7.12,2839.72,1.79,928.03,1.42,609.74,2.5,318.29000000000002,3.6637135539514301,321.32033868899998,9852.8470752499106,5858.2271978437102,16724.228900000002,4662.8067000000001,27245.262797843712,82580.369577953999,4383.0230000000001,13719.8684472614,779.45221536756003,12980.452659640699,41.453538258400698,115686.06984052758,14986.542566,10307.508470361199,25832.688168343098,224.08799999999999,249.881426,19335.485588,16755.274847041499,1146.323257,7553.8007145470901,470.62934776791298,196499.43210095839,null,3.72,10733.99,3.96,3404.27,4.08,1360.51,3.97,0.16]
["2016-10-01",79154.545197811007,16802.979339123001,39065.738542318999,9127.3472673039996,144150.61034655699,23.2,1725.02,28.13,753.02,10.77,179.27,14.61,398.58,28.11,394.15,7.68,3656.2599999999998,26.28,50.45,5.62,1831.96,9.27,1773.85,1.96,836.86999999999989,1.66,542.04,2.52,294.83,3.55804410875675,268.87443181999998,9983.2131515082092,5845.6422270353696,16680.6456,4593.7765499999941,27120.064377035364,83881.743577953996,4408.9930000000004,14932.281829394,714.061697280261,14195.5553594051,44.566229355069297,116817.02289290346,14724.72900179,10134.486311193201,26046.346131699502,269.024,258.45306649999998,19499.248017499998,16696.196750022998,1145.9635685000001,7527.9049525280097,472.87777264591301,197590.68701493525,null,3.72,9451.81,3.96,4068.95,4.08,897.13,4.7,0.05]
["2016-11-01",80074.996937471995,16996.719014676,39397.552243578997,9456.596282556,145925.86447828298,22.64,1899.59,28.18,768.07,9.82,235.93,14.73,462.46,28.25,433.13,7.57,4332.05,25.97,52.72,5.61,2044.92,8.92,2234.41,1.84,1005.78,1.59,666.8,2.34,338.98,3.5103017051701402,367.31783575100002,10033.1009913423,5857.3670630084298,17129.491299999998,4884.0195000000031,27870.877863008431,83894.161500000002,4411.9790000000003,14338.4840612637,716.10955120630001,13789.623230110299,41.640377745260601,117400.34836762288,14913.627077790001,9458.1826302978607,26563.2745059236,396.18,267.51205199999998,19661.686916999999,15509.995611123601,1131.835822,6710.6003165607099,460.70649527811003,198131.3361719191,null,3.6,9779.82,3.96,3577.35,4.08,1007.4,3.96,0.01]
["2016-12-01",80383.104211850994,17084.008469427001,39818.562348191997,8922.0412640150007,146207.71629348499,22.38,1942.87,28.01,804.31,7.86,247.37,14.58,444.28,28.03,446.91,7.64,4902.9199999999992,25.73,56.44,5.53,2614.7399999999998,9.66,2231.7399999999998,2.35,993.63,2.2000000000000002,655.98,2.63,337.65,3.58876586633213,422.20430343999999,10171.736232523857,6057.6641408510504,18025.413349999999,5286.8967999999959,29369.974290851045,83646.736499999999,4396.4669999999996,15085.2653404801,744.08903853425204,14344.530908865099,48.741324558633401,118849.25993644165,14588.906704499999,8249.4013074400991,26652.133957009799,541.28099999999995,279.31360100000001,20247.366212000001,15690.655199193799,1120.3563569999999,6883.4293189172904,466.00719819142,198869.23775747663,null,3.72,9144.57,3.96,3540.71,4.2,691.29,4.99,129.59]
["2017-01-01",79954.534321475003,17174.982062341001,39981.129413426999,8837.8030842579992,145948.44888150101,23.04,1830.16,27.9,817.04,8.51,221.41,15.27,377.75,28.3,413.96,7.88,3901.33,25.18,56.88,5.51,1931.07,9.76,1913.38,2.21,845.22,2.14,442.16,2.29,403.06,3.61618699249872,312.71770049200001,10241.672251489334,6020.2464738023336,18252.032738019483,5241.5458619805177,29513.825073802334,81901.430470934196,4389.2140258490954,14143.9196060588,772.02751926712597,13529.003918152301,45.6256622793167,117145.78711547994,16706.411241193,8019.0994767787897,27114.958775679999,209.054,285.39767499999999,20470.906020999999,15936.9109901314,1123.6116890000001,6989.96411712801,465.81602363417301,199556.35684350092,null,3.48,9577.7199999999993,3.6,3225.79,3.72,823.24,2.64,191.94]
["2017-02-01",80161.874087738994,17240.200687093002,40304.226628698001,8926.8427382280006,146633.14414175801,23.34,1719.31,27.94,810.54,8.51,196.75,15.12,340.75,28.68,371.27,8.84,2482.12,25.56,56.09,5.58,1122.56,10.93,1303.47,2.16,655.83,1.86,388.17,2.6,267.66000000000003,3.55,309.29669000199999,10225.16109376195,6023.7079054803007,17644.102957734198,5415.9032422658047,29083.714105480303,81274.815599480513,4396.3425587483998,13198.9280220817,803.21749999999997,12647.0590990491,42.112000000000002,116067.84668674182,16704.181139382948,8640.0263437419508,27444.398728460899,259.37521739130398,276.05149749999998,20918.595568421999,17106.958064156599,1144.0784613492101,7546.2883172472402,466.51519248569002,200548.70819741377,null,3.36,9033.85,3.36,2820.07,3.6,922.05,4.08,0.04]
["2017-03-01",80355.756958407001,17405.835928020999,40749.195159907998,9154.672375012,147665.46042134799,22.02,2094.5300000000002,28.34,826.76,7.03,270.13,13.59,509.15,28.4,488.49,8.18,3405.2000000000003,24.33,62.01,5.32,1833.2,10.99,1509.99,2.33,822.32999999999993,2.0699999999999998,519.39,2.77,302.94,3.47,405.02723324599998,10170.886336887826,6015.6474524007217,17770.866796498201,5280,29066.514248898922,82641.108153233014,4426.3936330764782,14804.174641417199,818.33100000000002,13985.270039561399,40.965000000000003,117730.28663706422,16571.347262214731,8640.0263437419508,27444.398728460867,28.870999999999999,276.05149749999998,20918.595568421999,17106.958064156599,1157.5557094999999,7546.2883172472402,466.88432485071303,201860.91816896241,null,3.24,9909.43,3.24,5173.1099999999997,3.48,1052.49,3.84,0.05]
["2017-04-01",81360.194437429993,17461.694191488001,41064.785138507003,9382.3204851900009,149268.994252615,22.83,1750.45,28.26,808.92,7.32,210.51,13.99,364.42,28.56,366.6,7.48,3406.5800000000004,25.81,59.11,4.7699999999999996,1752.82,9.7899999999999991,1594.65,2.35,931.6400000000001,2.17,613.97,2.7,317.67,3.42,317.25710228899999,10173.497885388555,6015.6474524007217,18270.866796498151,5577.1891535018503,29863.703402400723,81479.203169256216,4462.2846656488337,16386.028685687601,848.23900000000003,15155.8159506416,53.994500000000002,117829.64847235178,16556.497298755123,9693.9338698250504,27398.361127226701,432.71699999999998,276.38119949999998,21053.015298499999,17603.690302400999,1182.863693,7947.4009893167304,475.99142143978202,203603.71585080316,null,3,7818.87,3,2756.91,3.24,1272.01,3.6,0.01]
["2017-05-01",80590.029678217994,17453.945880088999,41467.190892316998,9284.1415062079996,148795.307956832,21.88,1942,27.51,820.12,7.84,259.04000000000002,13.72,444.34,28.18,418.5,7.03,4113.43,24.63,62.59,4.88,1946.77,8.49,2104.0700000000002,2.23,973.94,1.97,624.25,2.69,349.69,3.36,426.745396126,10250.941917621181,6040.285186411591,18534.838291744407,5560.6210582555941,30135.744536411592,82342.599778937089,4515.0460484838177,15161.1835832009,873.03399999999999,14174.283508602601,63.368499999999997,118789.95593843079,15733.484031907044,9226.3925425121397,27204.8567726527,421.12400000000002,281.89810499999999,21248.619600000002,18028.9704570262,1204.465299,7748.5715725073396,486.88298410655602,203904.31218991501,null,2.88,9702.39,2.88,4313.68,3.24,1018.69,2.64,0.03]
["2017-06-01",80890.061750957,17492.822575036,41831.585774321997,8908.6429061479994,149123.11300646298,22.2,1826.07,27.42,813.01,8.2100000000000009,207.72,13.53,419.33,28.15,386.01,7.25,3501.97,24.69,61.07,4.8,1603.54,8.81,1837.36,2.4900000000000002,861.57999999999993,2.2400000000000002,540.15,2.91,321.43,3.29,421.370626098,10178.990492290097,6160.3046845553299,18783.010496445098,5568.7798566143338,30512.095037614763,82742.174257014369,4563.7838754866671,15229.434229468699,877.05050000000006,14372.6856777392,55.403500000000001,119496.4487218453,15848.35201067965,8872.1677060398106,28171.732258963817,365.32299999999998,280.37103949999999,21360.062292999999,18309.831261481599,1219.3846639999999,7423.0513975691501,493.97100569468,206006.65055224634,null,2.76,8780.31,2.88,3577.87,3.12,1492.05,4.2,50]
["2017-07-01",80745.533730529001,17509.462054400999,41994.570849486998,8802.2159057999997,149051.78254021698,22.01,1838.6899999999998,27.01,810.68,8.35,221.59,13.83,410.4,27.88,396.02,7.08,3713.63,24.17,61.98,4.8099999999999996,1813.45,8.75,1838.2,2.39,866.38000000000011,2.0699999999999998,524.08000000000004,2.87,342.3,3.2,443.36220580700001,10546.310417225401,6066.109058521477,18397.712983565947,5594.1779579125759,30058,83688.645064987912,4579.3337736028579,15457.036751821623,889.05600000000004,14557.93499312154,62.435000000000002,120051.70159729086,15394.25239339962,9261.8374322432392,28657.004092417152,460.40238095238101,256.47571099999999,21285.735560000001,18310.461370712794,1226.2180495,7107.4089219813941,493.58924372660624,207303.09042180807,null,2.76,9125.0499999999993,2.88,4571.93,3.36,1124.1300000000001,4.2,141.59]
["2017-08-01",80903.172559119994,17650.373072019,42289.814326703003,8411.4531327660006,149254.81309060799,21.45,1965.22,26.81,822.02,7.8,230.18,13.39,494.89,27.96,418.13,6.79,4079.1699999999996,23.09,65.599999999999994,4.54,2089.79,8.68,1923.78,2.52,707.59999999999991,2.17,363.82,2.89,343.78,3.19,490.88402646600002,10169.828748278,5984.4938318083186,18233.13748254432,5607.0400484397724,29824.671362792411,83701.098820510568,4587.244310415409,14208.351933649694,905.1875,13628.287361572693,69.657000000000011,119528.60956579538,14495.586163059726,8903.0412397138207,28845.791971994542,447.869545454545,223.04943,21388.306088999998,18601.865583801802,1240.6321992007715,6953.4856672018832,491.54750075199377,206229.71862006671,null,2.64,9911.7000000000007,2.88,4336.3,3.12,674.08,4.4400000000000004,100.16]
["2017-09-01",81675.130575802003,17714.251498857,42703.934552377999,8285.813081196,150379.129708233,22.06,1788.68,27.13,804.03,7.47,197.19,13.4,396.58,27.8,390.88,6.9,3493.5,24.64,62.27,4.5599999999999996,1693.27,8.5500000000000007,1737.96,2.59,721.93000000000006,2.4,425.68,2.87,296.25,3.2,482.66932094600003,10427.175989801301,6118.5317593221589,18291.975368156789,5749.6088511358939,30160.115978614842,85528.546005450582,4607.99297065275,15248.864857406768,905.02365238094092,14587.474092174372,72.147900248918873,121790.9214720826,14697.958732449946,8017.6257264349997,28868.587171164218,345.09744911403283,208.4236356243108,21620.192329315767,19303.635895495969,1252.8512346406753,7367.4330138097612,493.78012471064289,208244.08050780214,null,2.64,9260.57,2.76,3480.84,3.24,1077.22,4.32,30.95]
["2017-10-01",81711.342056031004,17795.137613151001,42952.962794418003,8291.4944331450006,150750.936896745,21.65,1918.25,26.74,830.89,7.8,228.38,13.57,440.65,27.6,418.33,6.67,3926.6800000000003,24.17,64.87,4.5999999999999996,1850.65,8.01,2011.16,2.4,775.44,2.0699999999999998,477.43,2.93,298.01,3.26,517.93399128099998,10561.91090762925,6094.4273331703998,18498.613268584304,5783.9247098761498,30376.965311630851,85355.00665189547,4631.9846776184995,16596.198495431679,900.44122172149207,15933.673581740446,79.408687378171422,121847.51408917939,14590.569434739475,8628.5766315653,28532.046859300001,357.34348221727981,215.57315651857118,21803.305145696402,19235.57242983178,1252.458120238992,7342.9429034267787,492.56837223929995,208627.44807362111,null,2.64,10543.55,2.88,5023.96,3.24,694.1,4.68,102.15]
["2017-11-01",82799.157290499003,17984.944889066999,43422.236406076998,8490.3900396900008,152696.72862533299,21.15,2027.0099999999998,26.87,833.51,7.18,265.89,13.51,500.04,27.63,427.57,6.57,4244.2699999999995,24.02,66.319999999999993,4.54,2300.52,8.43,1877.43,2.57,797.48,2.2999999999999998,450.08,2.91,347.4,3.35,533.19315330799998,10535.5496624768,6112.3451887103802,18489.770080241622,6060.7979225268573,30662.91319147886,85619.242753744649,4629.9586097527499,15997.570749439357,813.73149999999998,15026.486558608043,55.497500000000002,122641.43274580757,14066.986576675303,8774.6619121224394,29193.9621687373,404.26812253403415,237.78748100000001,21534.249024000001,18024.651469148426,1242.287362,6813.5000710703043,471.32601443872363,208835.46077651603,null,2.64,9817.93,2.88,4240.04,3.24,641.89]
["2017-12-01",83099.375373376999,18048.337796724001,43842.482192640004,8101.9193584100003,153092.11472115101,21.34,1952.1399999999999,26.86,847,6.29,268.52,13.98,430.14,27.59,406.48,6.5,4538.87,24.23,66.78,4.6100000000000003,2201.4299999999998,7.81,2270.66,2.73,1097.73,2.5099999999999998,758,3.23,339.73,3.48,481.953720304,11232.887897875053,6364.8684279953695,19704.757062479002,6251.4050454342096,32321.030535908583,86202.562248625283,4623.9748269281063,14946.23343322752,806.34950000000003,14510.379894206426,46.558999999999997,124343.21165048306,14307.834634400004,7412.8973919759474,28147.1553206305,400.20399718175332,237.12423000000001,21575.060441499998,17941.727488830082,1235.5898379999999,6778.5220208287119,471.66688041220584,208350.61609176043,null,2.76,9293.2900000000009,3.12,3659.31,3.36,540]
["2018-01-01",82671.635035579005,18196.149362353,44112.078390779003,8019.0134157579996,152998.87620446901,21.67,1952.6699999999998,26.77,841.66,7.86,241.68,13.99,453.44,27.77,415.89,6.38,4581.45,23.68,67.2,4.54,2461.4699999999998,8.01,2052.7800000000002,2.87,821.39,2.66,472.46,3.15,348.93,3.52,430.706806384,11222.680813803181,6310.1969504817271,19899.808802631989,6298.9738753240817,32508.979628437799,86407.212846585258,4640.0995036349095,15026.080625540755,836.23900000000003,14192.906609257003,68.422499999999999,125157.28249494171,14472.741677860678,6356.8153208955418,28011.313890118956,397.21542535057517,251.5465615,21541.116775623501,18299.088066760491,1248.535061,6914.2251359559668,473.10747582687992,208348.32266226862,null,2.76,10364.74,2.76,4277.32,3.24,985.92,4.32,0.01]
["2018-02-01",82835.911682891005,18244.446048022,44446.207450474001,7875.980336648,153402.54551803501,22.45,1809.0700000000002,27.27,846.58,8.4499999999999993,198.31,13.9,395.42,28.06,368.76,6.94,3482.29,24.73,65.3,4.6399999999999997,1357.55,7.9,2059.44,2.93,636.76,2.69,367.23,3.26,269.52999999999997,3.54,372.79057530400001,10914.083348904949,6306.0266828631011,19655.274763148402,6325.0779690428026,32286.379415054304,86308.452166350442,4665.7352222087502,14328.565376662282,858.06050000000005,13840.952721108119,72.989000000000004,124533.25095916768,14557.276668992747,6638.8363849654506,28016.111210767547,401.771486114943,281.13438200000002,21559.689051362999,18584.793039473348,1274.4686623326375,6962.7755587343117,470.80793842152019,208413.74834802153,null,2.64,8046.16,2.76,3436.95,3.12,1189.2,2.2799999999999998,143.03]
["2018-03-01",84394.759676766,18402.942069371999,44720.657611335999,7974.0487682000003,155492.408125674,20.91,2057.81,27.4,844.83,6.95,268.41000000000003,12.75,556.41,28.13,388.16,6.19,4712.47,23.09,71.28,4.25,2577.3000000000002,8.02,2063.89,3.02,747.38,2.73,477.32,3.53,270.06,3.5,393.27070189599999,10979.830670120904,6311.7070142201919,19951.492803945097,6291.1242063323807,32554.32402449767,87254.056430221841,4687.6172503342868,16017.668952287971,859.78500000000008,14847.083566452367,77.480500000000006,126448.88759088938,14546.539159554999,5594.9805379029085,28021.015510940895,393.395643995309,306.79623400000003,21631.578220739499,18513.156389701624,1245.4258505,6357.9913184956094,480.84428548933204,209862.9395342397,null,2.64,10392.68,2.76,4731.3,3.24,909.28,2.64,0.01]
["2018-04-01",84929.461438882005,18504.617022806,44979.317373883998,8237.5531281860003,156650.94896375801,21.2,2003.16,27.27,830.46,7.81,265.68,13.08,503.99,27.68,403.03,6.27,4286.47,23.99,69.84,4.43,2309.7199999999998,7.86,1906.91,3.15,906.35,2.93,542.34,3.48,364.01,3.45,400.67730032399999,10818.248810724284,6263.390296001191,20232.150481674162,6340.2334665263052,32835.774244201661,89232.962671783753,4724.8467899960006,17798.927568863932,855.40550000000007,16226.86984914063,93.919499999999999,129127.12742570472,14645.001098740904,6551.5812639039032,28188.955476221134,385.61365807256101,346.52836200000002,21991.694049666497,18609.868331576465,1252.9505245,5728.970362325701,483.56162865272614,214886.78819940781,null,2.64,10100.299999999999,2.88,3322.29,3.24,1351.8,4.2,225.53]
["2018-05-01",86289.316971200999,18590.374255819999,45299.764455671997,8985.3066742970004,159164.76235698999,20.98,1939.7200000000003,26.5,830.85,7.91,245.36,12.97,475.77,27.25,387.74,6.14,5912.26,23.51,68.349999999999994,4.62,2417.77,6.86,3426.14,3.22,973.48,2.89,640.39,3.86,333.09,3.41,363.57390800000002,11136.641583667191,6290.6840913544765,20707.764297544989,6414.8294089869405,33413.277797886403,90316.21483769131,4769.1708388216184,16292.566911277168,864.74549999999999,15107.528348034091,77.881,130470.56653764241,14544.363975848997,5897.0615966767045,28354.129293942951,391.40168792377932,349.30496549999998,22289.901734893996,18834.562616276482,1258.0224975000001,5474.706523452337,486.53534226721524,216428.07304048576,null,2.52,10726.25,2.76,5661.47,3.24,1318.48,3.24,0.01]
["2018-06-01",87137.358383300001,18666.342906389,45673.640412107001,9315.8975243059995,160793.23922610198,21.29,1893.29,26.64,840.2,8.2799999999999994,208.07,12.7,473.42,27.41,371.6,6.05,4829.7699999999995,23.6,69.11,4.71,2159.41,6.7,2601.25,3.38,930.43000000000006,3.21,531.20000000000005,3.61,399.23,3.34,386.001651907,11247.001498961761,6293.6340064458564,20985.96019429942,6547.1067185025122,33826.700919247785,91382.736147763382,4822.0065548002385,16513.12075620237,879.125,15234.376149209413,64.192499999999995,132125.12072880435,14650.733086802527,6218.5218822249053,28839.553586412483,396.26714588185069,356.32547750000003,22332.033146727503,19142.977092779511,1256.2229830000001,5481.3030974038811,487.56013909929919,219348.89189362997,null,2.52,9018.6,2.76,4704.83,3.36,1030.82,4.4400000000000004,50]
["2018-07-01",87318.713103764996,18766.560960620998,45936.223102748998,9199.7877206550002,161221.28488779001,20.98,1875.9299999999998,26.27,789.69,8.01,230.1,13.19,463.25,27.14,392.89,6.23,4386.76,23.09,73.319999999999993,4.33,2135.8000000000002,7.53,2177.64,3.62,984.43000000000006,3.59,600.33000000000004,3.67,384.1,3.33,350.81,11372.238489442301,6298.2969865568002,20826.631079373903,6506.7631650428002,33631.691230973505,91182.926547918207,4849.3820529595487,16611.669937976112,873.26250000000005,15028.411801384411,63.329499999999996,132057.19096844297,14765.482957859702,7092.2727079632523,29789.204541630905,395.12414921725309,383.591476,22646.819422499997,19453.179930383681,1262.6548440000001,5709.9127193848262,486.2215583061859,221649.38672030673,null,2.64,9862.5499999999993,2.88,4331.1099999999997,3.36,867.57,2.52,111.51]
["2018-08-01",88775.140863936002,18972.618991502,46342.329798842999,9599.64946126,163689.73911554099,20.46,2093.12,26.08,851.53,7.6,240.36,12.89,582.82000000000005,27.1,418.41,6.32,4562.1600000000008,21.81,74.27,4.57,1927.91,7.19,2559.98,3.45,923.38000000000011,3.33,401.67,3.55,521.71,3.23,415.2,11077.134637181727,6263.7081218472267,20480.394634573433,6448.7096725032261,33192.812428923891,91652.241941754924,4870.5512208734999,16533.908048013363,874.65949999999998,14787.059461013159,59.390999999999998,132277.72267855253,14481.338059317139,7329.7624521070011,30745.075659578215,350.10336727418184,389.27750100000003,23090.296404381501,19835.201612534605,1281.0553570000002,6011.8611727087646,488.49311106182978,223279.47880797461,null,2.64,10265.24,2.88,5062.28,3.3600000000000003,1216.82,4.32,75]
["2018-09-01",89204.980325288998,19052.451560258,46676.205775212999,9122.8474363610003,164056.48509712098,21.32,1831.22,26.36,848.26,7.96,199.77,12.78,430.04,27.17,353.15,5.98,4370.8599999999997,22.81,69.03,4.4400000000000004,1851.98,6.65,2449.85,3.57,803.73,3.58,333.88,3.56,469.85,3.22,331.73,11312.611852313825,6461.6399651471766,20905.646506290181,6732.4913143414124,34099.777785778773,92419.020602217948,4896.4063280307064,16362.92468027189,882.22199999999998,14743.015643633382,61.465000000000003,133855.87075266594,15185.08970622306,6902.4246272934115,31517.33992680236,348.32001433323529,398.793631,23401.0620043815,20111.760241040258,1285.3726230000002,5866.2665452433994,491.24396812499947,226648.52301337136,null,2.64,9504.23,3,2998.92,3.4799999999999995,688.93]
["2018-10-01",89863.317777870994,19289.991502703,47074.835853370001,9667.0482993770001,165895.19343332099,20.13,2163.15,25.73,863.52,7.47,296.52999999999997,13.07,568.19000000000005,26.89,434.91,6.01,5342.93,22.5,73.97,4.6900000000000004,2197.6,6.55,3071.36,3.72,886.55,3.46,491.36,4.05,395.19,3.17,424.25,11256.564718685773,6375.7031620614553,20655.786914776269,6660.6579547349866,33692.148031572709,91533.814860408456,4927.3365200560465,16490.341528042813,882.2639999999999,14577.327610866796,77.849500000000006,132870.72782921325,14868.21709562359,7604.6834010661814,32178.404211652189,337.55406675995454,393.62511649999999,23702.360236812499,19850.6010318525,1261.602245,5360.6783611805931,490.24313137305114,227216.85374192652,null,2.7600000000000002,12141.62,3.24,3993.07,3.96,908.71,4.32,0.01]
["2018-11-01",90742.530342915998,19532.641386359999,47545.128217541998,9345.9850680510008,167166.285014869,20.71,2190.7600000000002,26.02,880.59,7.22,265.67,13.29,537.61,26.42,506.89,6.05,5219.46,22.78,74.709999999999994,4.74,2403.0700000000002,6.74,2741.68,4,723.48,3.81,322.74,4.1500000000000004,400.74,3.23,434.63,11207.2100913985,6358.9347319183007,20913.921592965304,6649.9565436694993,33922.812868553105,93197.333447243436,4936.6703400209508,18348.160591183998,880.21799999999996,15648.848196526271,79.665999999999997,135556.68105047519,15534.51408865765,7917.3433744744989,32454.227264628298,337.88615255495,385.93189100000001,24096.336430812502,19446.144874495454,1245.4338275,5158.1569576418487,493.79568407536414,231322.54631288131,null,2.7600000000000002,10103.89,3.4799999999999995,4570.8500000000004,3.96,1375.6,3.3600000000000003,77]
["2018-12-01",91402.661270019002,19630.781323176001,47976.332550259001,9538.6109966170006,168548.38614007103,20.58,2054.94,25.95,889.63,6.55,282.35000000000002,13.46,474.31,26.86,408.65,6.18,4865.71,22.73,73.95,4.9000000000000004,2132.19,6.74,2659.57,3.92,1241.68,3.75,853.22,4.28,388.46,3.28,458.65,11720.633378369001,6590.8923141997893,21814.715750940424,7047.3971607969997,35453.00522593721,94277.298742564497,4936.910468772262,17781.522698547731,882.46799999999996,15595.980366923246,70.698499999999996,137664.52626889845,15657.669669168266,7195.4440651196319,33029.688535550158,341.93669403152632,419.62369150000001,24320.149882500002,19251.815313931766,1242.4296655052353,4317.950873892144,493.32754516454929,234312.00536714832,null,2.88,9802.7000000000007,3.4799999999999995,4974.71,3.96,357.77]
["2019-01-01",90887.778176068998,19783.876074825999,48286.273456103001,9213.4645025520003,168171.39220954999,21.55,2148.52,26.27,896.73,9.64,262.93,14.04,501.58,27,487.28,6.28,5222.2499999999991,23.38,73.86,4.9000000000000004,2220.6,6.9,2927.79,3.91,1154.07,3.69,704.67,4.26,449.4,3.24,433.28,11691.120692328137,6532.7048397706376,21795.684740265468,7184.5822320985644,35512.971812134667,93709.269625872999,4950.4044080317726,17021.42124733932,881.12954166666668,15063.440513391213,75.275166666666664,136936.48095498755,15436.635486109821,7168.0028930099979,33487.338503296458,337.7844800821818,495.95530509617709,24315.460988276871,19658.117167373042,1255.4465490916318,3663.810299540597,490.55416635099664,234936.85786143213,null,2.7600000000000002,10624.66,3.24,4212.75,3.7199999999999998,1128.18,2.16,159.15]
["2019-02-01",91035.007811648,19816.822146721999,48511.199250627003,9219.5406274840007,168582.56983648101,22.14,1890.33,26.33,903.3,10.039999999999999,211.09,13.78,399.78,27.74,376.16,6.78,3918.5600000000004,23.69,73.17,5.08,1416.64,7.27,2428.75,4.0199999999999996,792.84999999999991,3.85,470.82,4.28,322.02999999999997,3.23,330.47,11874.10377262335,6544.1857588334997,21221.841152968795,7193.1286162283996,34959.155528030693,93025.236252050745,4960.1993883633013,17089.713132233188,872.77875347222232,15069.278632059009,72.844763888888878,135764.95965820228,15807.353178341849,7564.2091580980023,34131.75939106445,336.50402313000001,554.2913700207157,24336.425242401263,19692.273373537933,1261.5360258975306,3640.9529070789085,491.27626769179841,235317.08224592329,null,2.88,8776.01,3.24,3026.97,3.5999999999999996,647.80999999999995,4.1999999999999993,135.78]

{"sheet":"Base gráficos 1","index":2,"n_rows":164,"n_cols":47,"rows_kept":164,"cut":false,"hidden":false,"merged":[[3,6,3,18],[3,19,3,21],[3,23,3,31],[3,33,3,45],[0,1,0,5],[4,1,4,5],[1,1,1,5],[0,7,0,18],[0,19,0,46],[1,6,1,10],[1,11,1,14],[1,15,1,17],[1,19,1,22],[1,23,1,32],[1,33,1,46],[4,6,4,18],[4,19,4,46],[3,1,3,5]]}
[null,"COLOCACIONES",null,null,null,null,null,"TASAS DE INTERÉS",null,null,null,null,null,null,null,null,null,null,null,"AGREGADOS MONETARIOS "]
[null,"Colocaciones balances individuales",null,null,null,null,"consumo ($)",null,null,null,null,"comerciales ($)",null,null,null," comercio exterior (US$)",null,null,"vivienda  (UF)","M1",null,null,null,"M2",null,null,null,null,null,null,null,null,null,"M3"]
[null,"comerciales","consumo","vivienda","comercio exterior","Total","Consumo promedio","Tarjetas de crédito rotativo","Tarjetas de crédito cuota","crédito en cuotas","sobregiros","Comercio promedio","Tarjeta crédito y otros","Crédito en cuotas","Sobregiros","Comex promedio","Exportación","Importación",null,"Circulante","Cuentas corrientes netas de canje","Depósitos y ahorros a la vista","M1","M1","Depósitos plazo","Ahorro plazo","Cuotas de fondos mutuos en instrumentos < 1 año","Captaciones de Cooperativas","Inversiones de fondos mutuos en instrumentos < 1 año","Inversiones de Cooperativas","Fondos mutuos neto en M2","Cooperativas neto en M2","M2","M2","Dep en moneda extranjera","Doc del BCCH","Bonos de Tesoreria","Letras de crédito","Efectos de comercio","Bono de Empresa","Cuotas del resto de FM","Cuotas de APV AFP","Inversión del resto FM ","Inversión de AFP ","Fondos mutuos neto en M3","AFP neto en M3","M3"]
[null,"Variación anual, porcentaje",null,null,null,null,"Incidencia en la tasa mensual ",null,null,null,null,null,null,null,null,null,null,null,null,"Incidencia en la variación  anual, porcentaje",null,null,"Variación anual, porcentaje","Incidencia en la variación  anual, porcentaje",null,null,null,null,null,null,null,null,"Variación anual, porcentaje","Incidencia en la variación anual, porcentaje",null,null,null,null,null,null,null,null,null,null,null,null,"Variación anual, porcentaje"]
[null,"Fuente: Banco Central de Chile y Superintendencia de Bancos e Instituciones Financieras.",null,null,null,null,"Fuente: Banco Central de Chile",null,null,null,null,null,null,null,null,null,null,null,null,"Fuente: Banco Central de Chile"]
[]
["2006-01-01",null,null,null,null,null,{"$f":"+'Base original'!G8","v":26.840105511345499},null,null,null,null,{"$f":"+'Base original'!Q8","v":10.2731725726366},null,null,null,{"$f":"+'Base original'!Y8","v":5.28923438819597},null,null,{"$f":"+'Base original'!AE8","v":5.31}]
["2006-02-01",null,null,null,null,null,{"$f":"+'Base original'!G9","v":28.080010671663999},null,null,null,null,{"$f":"+'Base original'!Q9","v":10.6917516556947},null,null,null,{"$f":"+'Base original'!Y9","v":5.4882926812584802},null,null,{"$f":"+'Base original'!AE9","v":5.33}]
["2006-03-01",null,null,null,null,null,{"$f":"+'Base original'!G10","v":25.220629902156901},null,null,null,null,{"$f":"+'Base original'!Q10","v":10.242012151611499},null,null,null,{"$f":"+'Base original'!Y10","v":5.8475082006758301},null,null,{"$f":"+'Base original'!AE10","v":5.22}]
["2006-04-01",null,null,null,null,null,{"$f":"+'Base original'!G11","v":26.812381250088201},null,null,null,null,{"$f":"+'Base original'!Q11","v":10.6963342219099},null,null,null,{"$f":"+'Base original'!Y11","v":5.6534729872904501},null,null,{"$f":"+'Base original'!AE11","v":5.04}]
["2006-05-01",null,null,null,null,null,{"$f":"+'Base original'!G12","v":27.4996852524513},null,null,null,null,{"$f":"+'Base original'!Q12","v":10.699763036027299},null,null,null,{"$f":"+'Base original'!Y12","v":6.0693249259096804},null,null,{"$f":"+'Base original'!AE12","v":5.03}]
["2006-06-01",null,null,null,null,null,{"$f":"+'Base original'!G13","v":27.540614539592301},null,null,null,null,{"$f":"+'Base original'!Q13","v":10.0914888005923},null,null,null,{"$f":"+'Base original'!Y13","v":6.0986268480947396},null,null,{"$f":"+'Base original'!AE13","v":5}]
["2006-07-01",null,null,null,null,null,{"$f":"+'Base original'!G14","v":27.283235773047799},null,null,null,null,{"$f":"+'Base original'!Q14","v":9.9566969940811703},null,null,null,{"$f":"+'Base original'!Y14","v":6.2949303717057496},null,null,{"$f":"+'Base original'!AE14","v":5.0999999999999996}]
["2006-08-01",null,null,null,null,null,{"$f":"+'Base original'!G15","v":26.639610178285299},null,null,null,null,{"$f":"+'Base original'!Q15","v":10.308394808512},null,null,null,{"$f":"+'Base original'!Y15","v":6.2227574390990599},null,null,{"$f":"+'Base original'!AE15","v":5.05}]
["2006-09-01",null,null,null,null,null,{"$f":"+'Base original'!G16","v":26.537279800045599},null,null,null,null,{"$f":"+'Base original'!Q16","v":10.345094933528101},null,null,null,{"$f":"+'Base original'!Y16","v":6.2888466043057596},null,null,{"$f":"+'Base original'!AE16","v":5.01}]
["2006-10-01",null,null,null,null,null,{"$f":"+'Base original'!G17","v":26.874266437626801},null,null,null,null,{"$f":"+'Base original'!Q17","v":10.3284256051627},null,null,null,{"$f":"+'Base original'!Y17","v":6.1776341040460299},null,null,{"$f":"+'Base original'!AE17","v":4.95}]
["2006-11-01",null,null,null,null,null,{"$f":"+'Base original'!G18","v":26.970837734170999},null,null,null,null,{"$f":"+'Base original'!Q18","v":10.169422469712799},null,null,null,{"$f":"+'Base original'!Y18","v":6.1078112166577503},null,null,{"$f":"+'Base original'!AE18","v":4.82}]
["2006-12-01",null,null,null,null,null,{"$f":"+'Base original'!G19","v":27.0849800029482},null,null,null,null,{"$f":"+'Base original'!Q19","v":10.2462156294828},null,null,null,{"$f":"+'Base original'!Y19","v":6.0777325619925202},null,null,{"$f":"+'Base original'!AE19","v":4.7699999999999996}]
["2007-01-01",{"$f":"+'Base original'!B20/'Base original'!B8*100-100","v":16.334927259680327},{"$f":"+'Base original'!C20/'Base original'!C8*100-100","v":23.214257827540223},{"$f":"+'Base original'!D20/'Base original'!D8*100-100","v":17.295155089011118},{"$f":"+'Base original'!E20/'Base original'!E8*100-100","v":26.756159251257117},{"$f":"+'Base original'!F20/'Base original'!F8*100-100","v":18.304232270407624},{"$f":"+'Base original'!G20","v":27.904564651345101},null,null,null,null,{"$f":"+'Base original'!Q20","v":10.0813509695242},null,null,null,{"$f":"+'Base original'!Y20","v":6.10488173655519},null,null,{"$f":"+'Base original'!AE20","v":4.68},{"$f":"+('Base original'!AH20/'Base original'!AH8*100-100)*'Base original'!AH8/'Base original'!$AK8","v":3.3031523131963763},{"$f":"+('Base original'!AI20/'Base original'!AI8*100-100)*'Base original'!AI8/'Base original'!$AK8","v":8.5978204209506632},{"$f":"+('Base original'!AJ20/'Base original'!AJ8*100-100)*'Base original'!AJ8/'Base original'!$AK8","v":4.1230770651960311},{"$f":"+('Base original'!AK20/'Base original'!AK8*100-100)*'Base original'!AK8/'Base original'!$AK8","v":16.024049799343061},{"$f":"+('Base original'!AK20/'Base original'!AK8*100-100)*'Base original'!AK8/'Base original'!$AR8","v":3.649142399394373},{"$f":"+('Base original'!AL20/'Base original'!AL8*100-100)*'Base original'!AL8/'Base original'!$AR8","v":14.882486804714127},{"$f":"+('Base original'!AM20/'Base original'!AM8*100-100)*'Base original'!AM8/'Base original'!$AR8","v":9.2352538158345085E-2},{"$f":"+('Base original'!AN20/'Base original'!AN8*100-100)*'Base original'!AN8/'Base original'!$AR8","v":3.6890526404208255},{"$f":"+('Base original'!AO20/'Base original'!AO8*100-100)*'Base original'!AO8/'Base original'!$AR8","v":0.1818500515444669},{"$f":"+('Base original'!AP20/'Base original'!AP8*100-100)*'Base original'!AP8/'Base original'!$AR8","v":3.742426577215233},{"$f":"+('Base original'!AQ20/'Base original'!AQ8*100-100)*'Base original'!AQ8/'Base original'!$AR8","v":1.0758935457431694E-2},{"$f":"+(('Base original'!AN20-'Base original'!AP20)/('Base original'!AN8-'Base original'!AP8)*100-100)*(('Base original'!AN8-'Base original'!AP8)/'Base original'!AR8)","v":-5.3373936794409091E-2},{"$f":"+(('Base original'!AO20-'Base original'!AQ20)/('Base original'!AO8-'Base original'!AQ8)*100-100)*(('Base original'!AO8-'Base original'!AQ8)/'Base original'!AR8)","v":0.17109111608703523},{"$f":"+('Base original'!AR20/'Base original'!AR8*100-100)*'Base original'!AR8/'Base original'!$AR8","v":18.741698921559461},{"$f":"+('Base original'!AR20/'Base original'!AR8*100-100)*'Base original'!AR8/'Base original'!$BC8","v":10.676398778920648},{"$f":"+('Base original'!AS20/'Base original'!AS8*100-100)*'Base original'!AS8/'Base original'!$BC8","v":0.62783936793200823},{"$f":"+('Base original'!AT20/'Base original'!AT8*100-100)*'Base original'!AT8/'Base original'!$BC8","v":-2.1548177101445241},{"$f":"+('Base original'!AU20/'Base original'!AU8*100-100)*'Base original'!AU8/'Base original'!$BC8","v":-2.670709824595551E-3},{"$f":"+('Base original'!AV20/'Base original'!AV8*100-100)*'Base original'!AV8/'Base original'!$BC8","v":0.16885391666657737},{"$f":"+('Base original'!AW20/'Base original'!AW8*100-100)*'Base original'!AW8/'Base original'!$BC8","v":1.4209545861630287E-2},{"$f":"+('Base original'!AX20/'Base original'!AX8*100-100)*'Base original'!AX8/'Base original'!$BC8","v":1.7612817695164553},{"$f":"+('Base original'!AY20/'Base original'!AY8*100-100)*'Base original'!AY8/'Base original'!$BC8","v":1.9205656426449003},{"$f":"+('Base original'!AZ20/'Base original'!AZ8*100-100)*'Base original'!AZ8/'Base original'!$BC8","v":0.25601150459616756},{"$f":"+('Base original'!BA20/'Base original'!BA8*100-100)*'Base original'!BA8/'Base original'!$BC8","v":0.63653629479671658},{"$f":"+('Base original'!BB20/'Base original'!BB8*100-100)*'Base original'!BB8/'Base original'!$BC8","v":7.984737578149835E-2},{"$f":"+(('Base original'!AY20-'Base original'!BA20)/('Base original'!AY8-'Base original'!BA8)*100-100)*('Base original'!AY8-'Base original'!BA8)/'Base original'!$BC8","v":1.2840293478481848},{"$f":"+(('Base original'!AZ20-'Base original'!BB20)/('Base original'!AZ8-'Base original'!BB8)*100-100)*('Base original'!AZ8-'Base original'!BB8)/'Base original'!$BC8","v":0.17616412881466934},{"$f":"+('Base original'!BC20/'Base original'!BC8*100-100)*'Base original'!BC8/'Base original'!$BC8","v":12.551288435591076}]
["2007-02-01",{"$f":"+'Base original'!B21/'Base original'!B9*100-100","v":17.148599362846142},{"$f":"+'Base original'!C21/'Base original'!C9*100-100","v":22.57287340079057},{"$f":"+'Base original'!D21/'Base original'!D9*100-100","v":17.646439315981894},{"$f":"+'Base original'!E21/'Base original'!E9*100-100","v":25.4400765873892},{"$f":"+'Base original'!F21/'Base original'!F9*100-100","v":18.664579829045593},{"$f":"+'Base original'!G21","v":28.682036168198401},null,null,null,null,{"$f":"+'Base original'!Q21","v":9.9487011377282997},null,null,null,{"$f":"+'Base original'!Y21","v":6.0921878167335102},null,null,{"$f":"+'Base original'!AE21","v":4.58},{"$f":"+('Base original'!AH21/'Base original'!AH9*100-100)*'Base original'!AH9/'Base original'!$AK9","v":3.3835119370142199},{"$f":"+('Base original'!AI21/'Base original'!AI9*100-100)*'Base original'!AI9/'Base original'!$AK9","v":9.4094731710289601},{"$f":"+('Base original'!AJ21/'Base original'!AJ9*100-100)*'Base original'!AJ9/'Base original'!$AK9","v":2.9861831097310101},{"$f":"+('Base original'!AK21/'Base original'!AK9*100-100)*'Base original'!AK9/'Base original'!$AK9","v":15.779168217774185},{"$f":"+('Base original'!AK21/'Base original'!AK9*100-100)*'Base original'!AK9/'Base original'!$AR9","v":3.5510670903388344},{"$f":"+('Base original'!AL21/'Base original'!AL9*100-100)*'Base original'!AL9/'Base original'!$AR9","v":15.346089958567511},{"$f":"+('Base original'!AM21/'Base original'!AM9*100-100)*'Base original'!AM9/'Base original'!$AR9","v":0.1085232959341863},{"$f":"+('Base original'!AN21/'Base original'!AN9*100-100)*'Base original'!AN9/'Base original'!$AR9","v":3.0081822838372849},{"$f":"+('Base original'!AO21/'Base original'!AO9*100-100)*'Base original'!AO9/'Base original'!$AR9","v":0.14820585277166179},{"$f":"+('Base original'!AP21/'Base original'!AP9*100-100)*'Base original'!AP9/'Base original'!$AR9","v":3.2893291741283264},{"$f":"+('Base original'!AQ21/'Base original'!AQ9*100-100)*'Base original'!AQ9/'Base original'!$AR9","v":1.8633807681007582E-2},{"$f":"+(('Base original'!AN21-'Base original'!AP21)/('Base original'!AN9-'Base original'!AP9)*100-100)*(('Base original'!AN9-'Base original'!AP9)/'Base original'!AR9)","v":-0.28114689029104284},{"$f":"+(('Base original'!AO21-'Base original'!AQ21)/('Base original'!AO9-'Base original'!AQ9)*100-100)*(('Base original'!AO9-'Base original'!AQ9)/'Base original'!AR9)","v":0.12957204509065426},{"$f":"+('Base original'!AR21/'Base original'!AR9*100-100)*'Base original'!AR9/'Base original'!$AR9","v":18.854105499640127},{"$f":"+('Base original'!AR21/'Base original'!AR9*100-100)*'Base original'!AR9/'Base original'!$BC9","v":10.75338227062873},{"$f":"+('Base original'!AS21/'Base original'!AS9*100-100)*'Base original'!AS9/'Base original'!$BC9","v":0.6397557028665577},{"$f":"+('Base original'!AT21/'Base original'!AT9*100-100)*'Base original'!AT9/'Base original'!$BC9","v":-2.2275394722407396},{"$f":"+('Base original'!AU21/'Base original'!AU9*100-100)*'Base original'!AU9/'Base original'!$BC9","v":-6.1555847337449064E-3},{"$f":"+('Base original'!AV21/'Base original'!AV9*100-100)*'Base original'!AV9/'Base original'!$BC9","v":0.16310599106653012},{"$f":"+('Base original'!AW21/'Base original'!AW9*100-100)*'Base original'!AW9/'Base original'!$BC9","v":9.1653595897476566E-3},{"$f":"+('Base original'!AX21/'Base original'!AX9*100-100)*'Base original'!AX9/'Base original'!$BC9","v":2.073258753209609},{"$f":"+('Base original'!AY21/'Base original'!AY9*100-100)*'Base original'!AY9/'Base original'!$BC9","v":1.8447029123083121},{"$f":"+('Base original'!AZ21/'Base original'!AZ9*100-100)*'Base original'!AZ9/'Base original'!$BC9","v":0.24836594094221481},{"$f":"+('Base original'!BA21/'Base original'!BA9*100-100)*'Base original'!BA9/'Base original'!$BC9","v":0.59382687865151573},{"$f":"+('Base original'!BB21/'Base original'!BB9*100-100)*'Base original'!BB9/'Base original'!$BC9","v":6.9990018685345476E-2},{"$f":"+(('Base original'!AY21-'Base original'!BA21)/('Base original'!AY9-'Base original'!BA9)*100-100)*('Base original'!AY9-'Base original'!BA9)/'Base original'!$BC9","v":1.2508760336567979},{"$f":"+(('Base original'!AZ21-'Base original'!BB21)/('Base original'!AZ9-'Base original'!BB9)*100-100)*('Base original'!AZ9-'Base original'!BB9)/'Base original'!$BC9","v":0.17837592225686941},{"$f":"+('Base original'!BC21/'Base original'!BC9*100-100)*'Base original'!BC9/'Base original'!$BC9","v":12.834224976300362}]
["2007-03-01",{"$f":"+'Base original'!B22/'Base original'!B10*100-100","v":16.07735531692957},{"$f":"+'Base original'!C22/'Base original'!C10*100-100","v":21.01775333011058},{"$f":"+'Base original'!D22/'Base original'!D10*100-100","v":17.789927471159288},{"$f":"+'Base original'!E22/'Base original'!E10*100-100","v":21.755344820328474},{"$f":"+'Base original'!F22/'Base original'!F10*100-100","v":17.563509790005426},{"$f":"+'Base original'!G22","v":26.988437835351601},null,null,null,null,{"$f":"+'Base original'!Q22","v":9.8189661910433408},null,null,null,{"$f":"+'Base original'!Y22","v":5.9929048908901699},null,null,{"$f":"+'Base original'!AE22","v":4.5599999999999996},{"$f":"+('Base original'!AH22/'Base original'!AH10*100-100)*'Base original'!AH10/'Base original'!$AK10","v":3.4391836150024262},{"$f":"+('Base original'!AI22/'Base original'!AI10*100-100)*'Base original'!AI10/'Base original'!$AK10","v":10.961714710899006},{"$f":"+('Base original'!AJ22/'Base original'!AJ10*100-100)*'Base original'!AJ10/'Base original'!$AK10","v":2.0715046461474107},{"$f":"+('Base original'!AK22/'Base original'!AK10*100-100)*'Base original'!AK10/'Base original'!$AK10","v":16.472402972048855},{"$f":"+('Base original'!AK22/'Base original'!AK10*100-100)*'Base original'!AK10/'Base original'!$AR10","v":3.6471786425071606},{"$f":"+('Base original'!AL22/'Base original'!AL10*100-100)*'Base original'!AL10/'Base original'!$AR10","v":15.015429625721277},{"$f":"+('Base original'!AM22/'Base original'!AM10*100-100)*'Base original'!AM10/'Base original'!$AR10","v":0.11256198507773897},{"$f":"+('Base original'!AN22/'Base original'!AN10*100-100)*'Base original'!AN10/'Base original'!$AR10","v":2.9714249668943542},{"$f":"+('Base original'!AO22/'Base original'!AO10*100-100)*'Base original'!AO10/'Base original'!$AR10","v":0.14395482672869353},{"$f":"+('Base original'!AP22/'Base original'!AP10*100-100)*'Base original'!AP10/'Base original'!$AR10","v":3.2082368238384968},{"$f":"+('Base original'!AQ22/'Base original'!AQ10*100-100)*'Base original'!AQ10/'Base original'!$AR10","v":1.688576608914703E-2},{"$f":"+(('Base original'!AN22-'Base original'!AP22)/('Base original'!AN10-'Base original'!AP10)*100-100)*(('Base original'!AN10-'Base original'!AP10)/'Base original'!AR10)","v":-0.236811856944143},{"$f":"+(('Base original'!AO22-'Base original'!AQ22)/('Base original'!AO10-'Base original'!AQ10)*100-100)*(('Base original'!AO10-'Base original'!AQ10)/'Base original'!AR10)","v":0.12706906063954648},{"$f":"+('Base original'!AR22/'Base original'!AR10*100-100)*'Base original'!AR10/'Base original'!$AR10","v":18.665427457001556},{"$f":"+('Base original'!AR22/'Base original'!AR10*100-100)*'Base original'!AR10/'Base original'!$BC10","v":10.711765294843518},{"$f":"+('Base original'!AS22/'Base original'!AS10*100-100)*'Base original'!AS10/'Base original'!$BC10","v":0.75304053831435636},{"$f":"+('Base original'!AT22/'Base original'!AT10*100-100)*'Base original'!AT10/'Base original'!$BC10","v":-2.0350615930804064},{"$f":"+('Base original'!AU22/'Base original'!AU10*100-100)*'Base original'!AU10/'Base original'!$BC10","v":-4.6227652498629972E-2},{"$f":"+('Base original'!AV22/'Base original'!AV10*100-100)*'Base original'!AV10/'Base original'!$BC10","v":9.1174480502220726E-2},{"$f":"+('Base original'!AW22/'Base original'!AW10*100-100)*'Base original'!AW10/'Base original'!$BC10","v":2.639172577938553E-2},{"$f":"+('Base original'!AX22/'Base original'!AX10*100-100)*'Base original'!AX10/'Base original'!$BC10","v":2.0078440725607996},{"$f":"+('Base original'!AY22/'Base original'!AY10*100-100)*'Base original'!AY10/'Base original'!$BC10","v":1.960335595567128},{"$f":"+('Base original'!AZ22/'Base original'!AZ10*100-100)*'Base original'!AZ10/'Base original'!$BC10","v":0.2427499477179238},{"$f":"+('Base original'!BA22/'Base original'!BA10*100-100)*'Base original'!BA10/'Base original'!$BC10","v":0.70089749900310516},{"$f":"+('Base original'!BB22/'Base original'!BB10*100-100)*'Base original'!BB10/'Base original'!$BC10","v":7.5248439083624691E-2},{"$f":"+(('Base original'!AY22-'Base original'!BA22)/('Base original'!AY10-'Base original'!BA10)*100-100)*('Base original'!AY10-'Base original'!BA10)/'Base original'!$BC10","v":1.2594380965640208},{"$f":"+(('Base original'!AZ22-'Base original'!BB22)/('Base original'!AZ10-'Base original'!BB10)*100-100)*('Base original'!AZ10-'Base original'!BB10)/'Base original'!$BC10","v":0.16750150863429905},{"$f":"+('Base original'!BC22/'Base original'!BC10*100-100)*'Base original'!BC10/'Base original'!$BC10","v":12.935866471619534}]
["2007-04-01",{"$f":"+'Base original'!B23/'Base original'!B11*100-100","v":15.263719298679931},{"$f":"+'Base original'!C23/'Base original'!C11*100-100","v":20.405017756871374},{"$f":"+'Base original'!D23/'Base original'!D11*100-100","v":18.237454989643169},{"$f":"+'Base original'!E23/'Base original'!E11*100-100","v":24.639127838557286},{"$f":"+'Base original'!F23/'Base original'!F11*100-100","v":17.352727665242739},{"$f":"+'Base original'!G23","v":27.737390581552599},null,null,null,null,{"$f":"+'Base original'!Q23","v":9.9490411209631109},null,null,null,{"$f":"+'Base original'!Y23","v":6.0265213090979604},null,null,{"$f":"+'Base original'!AE23","v":4.54},{"$f":"+('Base original'!AH23/'Base original'!AH11*100-100)*'Base original'!AH11/'Base original'!$AK11","v":3.4295187412265093},{"$f":"+('Base original'!AI23/'Base original'!AI11*100-100)*'Base original'!AI11/'Base original'!$AK11","v":10.39902430912025},{"$f":"+('Base original'!AJ23/'Base original'!AJ11*100-100)*'Base original'!AJ11/'Base original'!$AK11","v":3.9722174935573782},{"$f":"+('Base original'!AK23/'Base original'!AK11*100-100)*'Base original'!AK11/'Base original'!$AK11","v":17.800760543904119},{"$f":"+('Base original'!AK23/'Base original'!AK11*100-100)*'Base original'!AK11/'Base original'!$AR11","v":3.9369112990755979},{"$f":"+('Base original'!AL23/'Base original'!AL11*100-100)*'Base original'!AL11/'Base original'!$AR11","v":14.863509760274951},{"$f":"+('Base original'!AM23/'Base original'!AM11*100-100)*'Base original'!AM11/'Base original'!$AR11","v":0.10822755612592118},{"$f":"+('Base original'!AN23/'Base original'!AN11*100-100)*'Base original'!AN11/'Base original'!$AR11","v":2.99243255666764},{"$f":"+('Base original'!AO23/'Base original'!AO11*100-100)*'Base original'!AO11/'Base original'!$AR11","v":0.15766411976171169},{"$f":"+('Base original'!AP23/'Base original'!AP11*100-100)*'Base original'!AP11/'Base original'!$AR11","v":2.9618206950607098},{"$f":"+('Base original'!AQ23/'Base original'!AQ11*100-100)*'Base original'!AQ11/'Base original'!$AR11","v":8.5724796931422927E-3},{"$f":"+(('Base original'!AN23-'Base original'!AP23)/('Base original'!AN11-'Base original'!AP11)*100-100)*(('Base original'!AN11-'Base original'!AP11)/'Base original'!AR11)","v":3.0611861606930857E-2},{"$f":"+(('Base original'!AO23-'Base original'!AQ23)/('Base original'!AO11-'Base original'!AQ11)*100-100)*(('Base original'!AO11-'Base original'!AQ11)/'Base original'!AR11)","v":0.14909164006856943},{"$f":"+('Base original'!AR23/'Base original'!AR11*100-100)*'Base original'!AR11/'Base original'!$AR11","v":19.08835211715197},{"$f":"+('Base original'!AR23/'Base original'!AR11*100-100)*'Base original'!AR11/'Base original'!$BC11","v":11.027999538001124},{"$f":"+('Base original'!AS23/'Base original'!AS11*100-100)*'Base original'!AS11/'Base original'!$BC11","v":0.77997029065454981},{"$f":"+('Base original'!AT23/'Base original'!AT11*100-100)*'Base original'!AT11/'Base original'!$BC11","v":-2.0126031058364777},{"$f":"+('Base original'!AU23/'Base original'!AU11*100-100)*'Base original'!AU11/'Base original'!$BC11","v":-9.3196209862404247E-2},{"$f":"+('Base original'!AV23/'Base original'!AV11*100-100)*'Base original'!AV11/'Base original'!$BC11","v":-0.33712934156509716},{"$f":"+('Base original'!AW23/'Base original'!AW11*100-100)*'Base original'!AW11/'Base original'!$BC11","v":6.9654546078490101E-2},{"$f":"+('Base original'!AX23/'Base original'!AX11*100-100)*'Base original'!AX11/'Base original'!$BC11","v":1.7584301033194609},{"$f":"+('Base original'!AY23/'Base original'!AY11*100-100)*'Base original'!AY11/'Base original'!$BC11","v":2.352376074180436},{"$f":"+('Base original'!AZ23/'Base original'!AZ11*100-100)*'Base original'!AZ11/'Base original'!$BC11","v":0.25507652053004581},{"$f":"+('Base original'!BA23/'Base original'!BA11*100-100)*'Base original'!BA11/'Base original'!$BC11","v":0.78174386305049604},{"$f":"+('Base original'!BB23/'Base original'!BB11*100-100)*'Base original'!BB11/'Base original'!$BC11","v":7.5594340423400949E-2},{"$f":"+(('Base original'!AY23-'Base original'!BA23)/('Base original'!AY11-'Base original'!BA11)*100-100)*('Base original'!AY11-'Base original'!BA11)/'Base original'!$BC11","v":1.5706322111299398},{"$f":"+(('Base original'!AZ23-'Base original'!BB23)/('Base original'!AZ11-'Base original'!BB11)*100-100)*('Base original'!AZ11-'Base original'!BB11)/'Base original'!$BC11","v":0.17948218010664477},{"$f":"+('Base original'!BC23/'Base original'!BC11*100-100)*'Base original'!BC11/'Base original'!$BC11","v":12.943240212026225}]
["2007-05-01",{"$f":"+'Base original'!B24/'Base original'!B12*100-100","v":16.386867192204761},{"$f":"+'Base original'!C24/'Base original'!C12*100-100","v":19.585566213036017},{"$f":"+'Base original'!D24/'Base original'!D12*100-100","v":18.589736129834833},{"$f":"+'Base original'!E24/'Base original'!E12*100-100","v":21.979331343792879},{"$f":"+'Base original'!F24/'Base original'!F12*100-100","v":17.762457336702894},{"$f":"+'Base original'!G24","v":27.886722153152501},null,null,null,null,{"$f":"+'Base original'!Q24","v":10.029254363779399},null,null,null,{"$f":"+'Base original'!Y24","v":6.0731379801827003},null,null,{"$f":"+'Base original'!AE24","v":4.3899999999999997},{"$f":"+('Base original'!AH24/'Base original'!AH12*100-100)*'Base original'!AH12/'Base original'!$AK12","v":3.4682426444408061},{"$f":"+('Base original'!AI24/'Base original'!AI12*100-100)*'Base original'!AI12/'Base original'!$AK12","v":9.2150024559680173},{"$f":"+('Base original'!AJ24/'Base original'!AJ12*100-100)*'Base original'!AJ12/'Base original'!$AK12","v":4.9029151950350292},{"$f":"+('Base original'!AK24/'Base original'!AK12*100-100)*'Base original'!AK12/'Base original'!$AK12","v":17.586160295443847},{"$f":"+('Base original'!AK24/'Base original'!AK12*100-100)*'Base original'!AK12/'Base original'!$AR12","v":3.8723616826728415},{"$f":"+('Base original'!AL24/'Base original'!AL12*100-100)*'Base original'!AL12/'Base original'!$AR12","v":15.09635631038083},{"$f":"+('Base original'!AM24/'Base original'!AM12*100-100)*'Base original'!AM12/'Base original'!$AR12","v":9.9058751582467519E-2},{"$f":"+('Base original'!AN24/'Base original'!AN12*100-100)*'Base original'!AN12/'Base original'!$AR12","v":3.228765928962714},{"$f":"+('Base original'!AO24/'Base original'!AO12*100-100)*'Base original'!AO12/'Base original'!$AR12","v":0.18449764015128747},{"$f":"+('Base original'!AP24/'Base original'!AP12*100-100)*'Base original'!AP12/'Base original'!$AR12","v":3.0131943996668404},{"$f":"+('Base original'!AQ24/'Base original'!AQ12*100-100)*'Base original'!AQ12/'Base original'!$AR12","v":1.490745510527618E-2},{"$f":"+(('Base original'!AN24-'Base original'!AP24)/('Base original'!AN12-'Base original'!AP12)*100-100)*(('Base original'!AN12-'Base original'!AP12)/'Base original'!AR12)","v":0.21557152929587384},{"$f":"+(('Base original'!AO24-'Base original'!AQ24)/('Base original'!AO12-'Base original'!AQ12)*100-100)*(('Base original'!AO12-'Base original'!AQ12)/'Base original'!AR12)","v":0.16959018504601125},{"$f":"+('Base original'!AR24/'Base original'!AR12*100-100)*'Base original'!AR12/'Base original'!$AR12","v":19.452938458978025},{"$f":"+('Base original'!AR24/'Base original'!AR12*100-100)*'Base original'!AR12/'Base original'!$BC12","v":11.273251758805207},{"$f":"+('Base original'!AS24/'Base original'!AS12*100-100)*'Base original'!AS12/'Base original'!$BC12","v":0.7415846094306271},{"$f":"+('Base original'!AT24/'Base original'!AT12*100-100)*'Base original'!AT12/'Base original'!$BC12","v":-1.8655272786707666},{"$f":"+('Base original'!AU24/'Base original'!AU12*100-100)*'Base original'!AU12/'Base original'!$BC12","v":3.6479801013963109E-3},{"$f":"+('Base original'!AV24/'Base original'!AV12*100-100)*'Base original'!AV12/'Base original'!$BC12","v":-0.19899731453115779},{"$f":"+('Base original'!AW24/'Base original'!AW12*100-100)*'Base original'!AW12/'Base original'!$BC12","v":9.6522237137394246E-2},{"$f":"+('Base original'!AX24/'Base original'!AX12*100-100)*'Base original'!AX12/'Base original'!$BC12","v":1.7496375835405058},{"$f":"+('Base original'!AY24/'Base original'!AY12*100-100)*'Base original'!AY12/'Base original'!$BC12","v":2.5796525469745206},{"$f":"+('Base original'!AZ24/'Base original'!AZ12*100-100)*'Base original'!AZ12/'Base original'!$BC12","v":0.28228733293712399},{"$f":"+('Base original'!BA24/'Base original'!BA12*100-100)*'Base original'!BA12/'Base original'!$BC12","v":0.70089304957232645},{"$f":"+('Base original'!BB24/'Base original'!BB12*100-100)*'Base original'!BB12/'Base original'!$BC12","v":6.8316718262508846E-2},{"$f":"+(('Base original'!AY24-'Base original'!BA24)/('Base original'!AY12-'Base original'!BA12)*100-100)*('Base original'!AY12-'Base original'!BA12)/'Base original'!$BC12","v":1.8787594974021944},{"$f":"+(('Base original'!AZ24-'Base original'!BB24)/('Base original'!AZ12-'Base original'!BB12)*100-100)*('Base original'!AZ12-'Base original'!BB12)/'Base original'!$BC12","v":0.21397061467461514},{"$f":"+('Base original'!BC24/'Base original'!BC12*100-100)*'Base original'!BC12/'Base original'!$BC12","v":13.892849687889992}]
["2007-06-01",{"$f":"+'Base original'!B25/'Base original'!B13*100-100","v":16.895094532343705},{"$f":"+'Base original'!C25/'Base original'!C13*100-100","v":18.785661186306157},{"$f":"+'Base original'!D25/'Base original'!D13*100-100","v":19.501132624459288},{"$f":"+'Base original'!E25/'Base original'!E13*100-100","v":12.4891037257226},{"$f":"+'Base original'!F25/'Base original'!F13*100-100","v":17.241856891066348},{"$f":"+'Base original'!G25","v":27.9430478561565},null,null,null,null,{"$f":"+'Base original'!Q25","v":9.8249166514255304},null,null,null,{"$f":"+'Base original'!Y25","v":6.1352687019551402},null,null,{"$f":"+'Base original'!AE25","v":4.42},{"$f":"+('Base original'!AH25/'Base original'!AH13*100-100)*'Base original'!AH13/'Base original'!$AK13","v":3.2128154644710905},{"$f":"+('Base original'!AI25/'Base original'!AI13*100-100)*'Base original'!AI13/'Base original'!$AK13","v":9.3134368048275302},{"$f":"+('Base original'!AJ25/'Base original'!AJ13*100-100)*'Base original'!AJ13/'Base original'!$AK13","v":3.7230765296990453},{"$f":"+('Base original'!AK25/'Base original'!AK13*100-100)*'Base original'!AK13/'Base original'!$AK13","v":16.249328798997681},{"$f":"+('Base original'!AK25/'Base original'!AK13*100-100)*'Base original'!AK13/'Base original'!$AR13","v":3.5899049046197704},{"$f":"+('Base original'!AL25/'Base original'!AL13*100-100)*'Base original'!AL13/'Base original'!$AR13","v":16.044830554166776},{"$f":"+('Base original'!AM25/'Base original'!AM13*100-100)*'Base original'!AM13/'Base original'!$AR13","v":7.7221693398299388E-2},{"$f":"+('Base original'!AN25/'Base original'!AN13*100-100)*'Base original'!AN13/'Base original'!$AR13","v":3.5620836288343538},{"$f":"+('Base original'!AO25/'Base original'!AO13*100-100)*'Base original'!AO13/'Base original'!$AR13","v":0.21101802171861533},{"$f":"+('Base original'!AP25/'Base original'!AP13*100-100)*'Base original'!AP13/'Base original'!$AR13","v":3.4803144984802663},{"$f":"+('Base original'!AQ25/'Base original'!AQ13*100-100)*'Base original'!AQ13/'Base original'!$AR13","v":2.6211313633365683E-2},{"$f":"+(('Base original'!AN25-'Base original'!AP25)/('Base original'!AN13-'Base original'!AP13)*100-100)*(('Base original'!AN13-'Base original'!AP13)/'Base original'!AR13)","v":8.1769130354088795E-2},{"$f":"+(('Base original'!AO25-'Base original'!AQ25)/('Base original'!AO13-'Base original'!AQ13)*100-100)*(('Base original'!AO13-'Base original'!AQ13)/'Base original'!AR13)","v":0.18480670808524968},{"$f":"+('Base original'!AR25/'Base original'!AR13*100-100)*'Base original'!AR13/'Base original'!$AR13","v":19.978532990624174},{"$f":"+('Base original'!AR25/'Base original'!AR13*100-100)*'Base original'!AR13/'Base original'!$BC13","v":11.633313355440755},{"$f":"+('Base original'!AS25/'Base original'!AS13*100-100)*'Base original'!AS13/'Base original'!$BC13","v":0.49841939130862911},{"$f":"+('Base original'!AT25/'Base original'!AT13*100-100)*'Base original'!AT13/'Base original'!$BC13","v":-1.9117726462865858},{"$f":"+('Base original'!AU25/'Base original'!AU13*100-100)*'Base original'!AU13/'Base original'!$BC13","v":0.12530794728198086},{"$f":"+('Base original'!AV25/'Base original'!AV13*100-100)*'Base original'!AV13/'Base original'!$BC13","v":-0.33816205592135751},{"$f":"+('Base original'!AW25/'Base original'!AW13*100-100)*'Base original'!AW13/'Base original'!$BC13","v":0.10833487974096466},{"$f":"+('Base original'!AX25/'Base original'!AX13*100-100)*'Base original'!AX13/'Base original'!$BC13","v":1.8551299673997055},{"$f":"+('Base original'!AY25/'Base original'!AY13*100-100)*'Base original'!AY13/'Base original'!$BC13","v":2.9323112257319468},{"$f":"+('Base original'!AZ25/'Base original'!AZ13*100-100)*'Base original'!AZ13/'Base original'!$BC13","v":0.3250375327646402},{"$f":"+('Base original'!BA25/'Base original'!BA13*100-100)*'Base original'!BA13/'Base original'!$BC13","v":0.63410525101152193},{"$f":"+('Base original'!BB25/'Base original'!BB13*100-100)*'Base original'!BB13/'Base original'!$BC13","v":7.3221023926943157E-2},{"$f":"+(('Base original'!AY25-'Base original'!BA25)/('Base original'!AY13-'Base original'!BA13)*100-100)*('Base original'!AY13-'Base original'!BA13)/'Base original'!$BC13","v":2.2982059747204242},{"$f":"+(('Base original'!AZ25-'Base original'!BB25)/('Base original'!AZ13-'Base original'!BB13)*100-100)*('Base original'!AZ13-'Base original'!BB13)/'Base original'!$BC13","v":0.25181650883769696},{"$f":"+('Base original'!BC25/'Base original'!BC13*100-100)*'Base original'!BC13/'Base original'!$BC13","v":14.520593322522245}]
["2007-07-01",{"$f":"+'Base original'!B26/'Base original'!B14*100-100","v":17.248305315525684},{"$f":"+'Base original'!C26/'Base original'!C14*100-100","v":18.442387104270438},{"$f":"+'Base original'!D26/'Base original'!D14*100-100","v":19.625362946297514},{"$f":"+'Base original'!E26/'Base original'!E14*100-100","v":16.830530860497902},{"$f":"+'Base original'!F26/'Base original'!F14*100-100","v":17.855956291539826},{"$f":"+'Base original'!G26","v":28.854555981382799},null,null,null,null,{"$f":"+'Base original'!Q26","v":9.98563879156446},null,null,null,{"$f":"+'Base original'!Y26","v":6.06253095516304},null,null,{"$f":"+'Base original'!AE26","v":4.51},{"$f":"+('Base original'!AH26/'Base original'!AH14*100-100)*'Base original'!AH14/'Base original'!$AK14","v":3.2118842317289942},{"$f":"+('Base original'!AI26/'Base original'!AI14*100-100)*'Base original'!AI14/'Base original'!$AK14","v":10.44598117861846},{"$f":"+('Base original'!AJ26/'Base original'!AJ14*100-100)*'Base original'!AJ14/'Base original'!$AK14","v":5.2103290035746923},{"$f":"+('Base original'!AK26/'Base original'!AK14*100-100)*'Base original'!AK14/'Base original'!$AK14","v":18.868194413922154},{"$f":"+('Base original'!AK26/'Base original'!AK14*100-100)*'Base original'!AK14/'Base original'!$AR14","v":4.0930164648427807},{"$f":"+('Base original'!AL26/'Base original'!AL14*100-100)*'Base original'!AL14/'Base original'!$AR14","v":16.766404441873497},{"$f":"+('Base original'!AM26/'Base original'!AM14*100-100)*'Base original'!AM14/'Base original'!$AR14","v":6.4455841641389511E-2},{"$f":"+('Base original'!AN26/'Base original'!AN14*100-100)*'Base original'!AN14/'Base original'!$AR14","v":3.2773750376826918},{"$f":"+('Base original'!AO26/'Base original'!AO14*100-100)*'Base original'!AO14/'Base original'!$AR14","v":0.23446693904736865},{"$f":"+('Base original'!AP26/'Base original'!AP14*100-100)*'Base original'!AP14/'Base original'!$AR14","v":2.8506124870513574},{"$f":"+('Base original'!AQ26/'Base original'!AQ14*100-100)*'Base original'!AQ14/'Base original'!$AR14","v":2.5415629461222229E-2},{"$f":"+(('Base original'!AN26-'Base original'!AP26)/('Base original'!AN14-'Base original'!AP14)*100-100)*(('Base original'!AN14-'Base original'!AP14)/'Base original'!AR14)","v":0.42676255063133289},{"$f":"+(('Base original'!AO26-'Base original'!AQ26)/('Base original'!AO14-'Base original'!AQ14)*100-100)*(('Base original'!AO14-'Base original'!AQ14)/'Base original'!AR14)","v":0.20905130958614637},{"$f":"+('Base original'!AR26/'Base original'!AR14*100-100)*'Base original'!AR14/'Base original'!$AR14","v":21.559690608575139},{"$f":"+('Base original'!AR26/'Base original'!AR14*100-100)*'Base original'!AR14/'Base original'!$BC14","v":12.618087917221748},{"$f":"+('Base original'!AS26/'Base original'!AS14*100-100)*'Base original'!AS14/'Base original'!$BC14","v":0.48864051139552805},{"$f":"+('Base original'!AT26/'Base original'!AT14*100-100)*'Base original'!AT14/'Base original'!$BC14","v":-1.7652340712364163},{"$f":"+('Base original'!AU26/'Base original'!AU14*100-100)*'Base original'!AU14/'Base original'!$BC14","v":0.16101462624638815},{"$f":"+('Base original'!AV26/'Base original'!AV14*100-100)*'Base original'!AV14/'Base original'!$BC14","v":-0.39262276647099381},{"$f":"+('Base original'!AW26/'Base original'!AW14*100-100)*'Base original'!AW14/'Base original'!$BC14","v":8.5567395451146153E-2},{"$f":"+('Base original'!AX26/'Base original'!AX14*100-100)*'Base original'!AX14/'Base original'!$BC14","v":1.9463569528676194},{"$f":"+('Base original'!AY26/'Base original'!AY14*100-100)*'Base original'!AY14/'Base original'!$BC14","v":3.241870102750378},{"$f":"+('Base original'!AZ26/'Base original'!AZ14*100-100)*'Base original'!AZ14/'Base original'!$BC14","v":0.3557081038762096},{"$f":"+('Base original'!BA26/'Base original'!BA14*100-100)*'Base original'!BA14/'Base original'!$BC14","v":0.52730515352298013},{"$f":"+('Base original'!BB26/'Base original'!BB14*100-100)*'Base original'!BB14/'Base original'!$BC14","v":8.066415091149913E-2},{"$f":"+(('Base original'!AY26-'Base original'!BA26)/('Base original'!AY14-'Base original'!BA14)*100-100)*('Base original'!AY14-'Base original'!BA14)/'Base original'!$BC14","v":2.7145649492273987},{"$f":"+(('Base original'!AZ26-'Base original'!BB26)/('Base original'!AZ14-'Base original'!BB14)*100-100)*('Base original'!AZ14-'Base original'!BB14)/'Base original'!$BC14","v":0.27504395296471057},{"$f":"+('Base original'!BC26/'Base original'!BC14*100-100)*'Base original'!BC14/'Base original'!$BC14","v":16.131419467667158}]
["2007-08-01",{"$f":"+'Base original'!B27/'Base original'!B15*100-100","v":18.04252987791115},{"$f":"+'Base original'!C27/'Base original'!C15*100-100","v":17.645878229400623},{"$f":"+'Base original'!D27/'Base original'!D15*100-100","v":19.914026810454573},{"$f":"+'Base original'!E27/'Base original'!E15*100-100","v":18.472808789883572},{"$f":"+'Base original'!F27/'Base original'!F15*100-100","v":18.422651004628435},{"$f":"+'Base original'!G27","v":27.592636850561401},null,null,null,null,{"$f":"+'Base original'!Q27","v":9.9113971326751198},null,null,null,{"$f":"+'Base original'!Y27","v":6.1999090900244802},null,null,{"$f":"+'Base original'!AE27","v":4.6900000000000004},{"$f":"+('Base original'!AH27/'Base original'!AH15*100-100)*'Base original'!AH15/'Base original'!$AK15","v":3.199440032699584},{"$f":"+('Base original'!AI27/'Base original'!AI15*100-100)*'Base original'!AI15/'Base original'!$AK15","v":10.850020698418174},{"$f":"+('Base original'!AJ27/'Base original'!AJ15*100-100)*'Base original'!AJ15/'Base original'!$AK15","v":5.0669975801786187},{"$f":"+('Base original'!AK27/'Base original'!AK15*100-100)*'Base original'!AK15/'Base original'!$AK15","v":19.116458311296384},{"$f":"+('Base original'!AK27/'Base original'!AK15*100-100)*'Base original'!AK15/'Base original'!$AR15","v":4.0328963186865856},{"$f":"+('Base original'!AL27/'Base original'!AL15*100-100)*'Base original'!AL15/'Base original'!$AR15","v":15.323350271602564},{"$f":"+('Base original'!AM27/'Base original'!AM15*100-100)*'Base original'!AM15/'Base original'!$AR15","v":6.548573326355081E-2},{"$f":"+('Base original'!AN27/'Base original'!AN15*100-100)*'Base original'!AN15/'Base original'!$AR15","v":4.4234965400625246},{"$f":"+('Base original'!AO27/'Base original'!AO15*100-100)*'Base original'!AO15/'Base original'!$AR15","v":0.25643298494620193},{"$f":"+('Base original'!AP27/'Base original'!AP15*100-100)*'Base original'!AP15/'Base original'!$AR15","v":5.0898696642437358},{"$f":"+('Base original'!AQ27/'Base original'!AQ15*100-100)*'Base original'!AQ15/'Base original'!$AR15","v":2.7577290280527304E-2},{"$f":"+(('Base original'!AN27-'Base original'!AP27)/('Base original'!AN15-'Base original'!AP15)*100-100)*(('Base original'!AN15-'Base original'!AP15)/'Base original'!AR15)","v":-0.66637312418121231},{"$f":"+(('Base original'!AO27-'Base original'!AQ27)/('Base original'!AO15-'Base original'!AQ15)*100-100)*(('Base original'!AO15-'Base original'!AQ15)/'Base original'!AR15)","v":0.22885569466567457},{"$f":"+('Base original'!AR27/'Base original'!AR15*100-100)*'Base original'!AR15/'Base original'!$AR15","v":18.984214894037166},{"$f":"+('Base original'!AR27/'Base original'!AR15*100-100)*'Base original'!AR15/'Base original'!$BC15","v":11.2014390614695},{"$f":"+('Base original'!AS27/'Base original'!AS15*100-100)*'Base original'!AS15/'Base original'!$BC15","v":0.58685384479120239},{"$f":"+('Base original'!AT27/'Base original'!AT15*100-100)*'Base original'!AT15/'Base original'!$BC15","v":-2.0490955697468247},{"$f":"+('Base original'!AU27/'Base original'!AU15*100-100)*'Base original'!AU15/'Base original'!$BC15","v":0.1447221699677603},{"$f":"+('Base original'!AV27/'Base original'!AV15*100-100)*'Base original'!AV15/'Base original'!$BC15","v":-0.21910705705890579},{"$f":"+('Base original'!AW27/'Base original'!AW15*100-100)*'Base original'!AW15/'Base original'!$BC15","v":5.5886197950034723E-2},{"$f":"+('Base original'!AX27/'Base original'!AX15*100-100)*'Base original'!AX15/'Base original'!$BC15","v":1.9894055991614459},{"$f":"+('Base original'!AY27/'Base original'!AY15*100-100)*'Base original'!AY15/'Base original'!$BC15","v":3.0574366823234991},{"$f":"+('Base original'!AZ27/'Base original'!AZ15*100-100)*'Base original'!AZ15/'Base original'!$BC15","v":0.33040804523921069},{"$f":"+('Base original'!BA27/'Base original'!BA15*100-100)*'Base original'!BA15/'Base original'!$BC15","v":8.1114638676760692E-3},{"$f":"+('Base original'!BB27/'Base original'!BB15*100-100)*'Base original'!BB15/'Base original'!$BC15","v":7.1458908140882141E-2},{"$f":"+(('Base original'!AY27-'Base original'!BA27)/('Base original'!AY15-'Base original'!BA15)*100-100)*('Base original'!AY15-'Base original'!BA15)/'Base original'!$BC15","v":3.0493252184558219},{"$f":"+(('Base original'!AZ27-'Base original'!BB27)/('Base original'!AZ15-'Base original'!BB15)*100-100)*('Base original'!AZ15-'Base original'!BB15)/'Base original'!$BC15","v":0.25894913709832862},{"$f":"+('Base original'!BC27/'Base original'!BC15*100-100)*'Base original'!BC15/'Base original'!$BC15","v":15.018378602088362}]
["2007-09-01",{"$f":"+'Base original'!B28/'Base original'!B16*100-100","v":20.425432161125229},{"$f":"+'Base original'!C28/'Base original'!C16*100-100","v":16.698932492226206},{"$f":"+'Base original'!D28/'Base original'!D16*100-100","v":21.368938626626814},{"$f":"+'Base original'!E28/'Base original'!E16*100-100","v":14.480162084175902},{"$f":"+'Base original'!F28/'Base original'!F16*100-100","v":19.588369736338535},{"$f":"+'Base original'!G28","v":28.888644870074799},null,null,null,null,{"$f":"+'Base original'!Q28","v":10.126112936643199},null,null,null,{"$f":"+'Base original'!Y28","v":6.1441163891756796},null,null,{"$f":"+'Base original'!AE28","v":4.79},{"$f":"+('Base original'!AH28/'Base original'!AH16*100-100)*'Base original'!AH16/'Base original'!$AK16","v":3.199995962150207},{"$f":"+('Base original'!AI28/'Base original'!AI16*100-100)*'Base original'!AI16/'Base original'!$AK16","v":9.9971968489629734},{"$f":"+('Base original'!AJ28/'Base original'!AJ16*100-100)*'Base original'!AJ16/'Base original'!$AK16","v":5.5311116326667014},{"$f":"+('Base original'!AK28/'Base original'!AK16*100-100)*'Base original'!AK16/'Base original'!$AK16","v":18.728304443779891},{"$f":"+('Base original'!AK28/'Base original'!AK16*100-100)*'Base original'!AK16/'Base original'!$AR16","v":4.0013740687602706},{"$f":"+('Base original'!AL28/'Base original'!AL16*100-100)*'Base original'!AL16/'Base original'!$AR16","v":14.513521749986875},{"$f":"+('Base original'!AM28/'Base original'!AM16*100-100)*'Base original'!AM16/'Base original'!$AR16","v":8.4949196821655359E-2},{"$f":"+('Base original'!AN28/'Base original'!AN16*100-100)*'Base original'!AN16/'Base original'!$AR16","v":3.037789748608072},{"$f":"+('Base original'!AO28/'Base original'!AO16*100-100)*'Base original'!AO16/'Base original'!$AR16","v":0.20842343402989882},{"$f":"+('Base original'!AP28/'Base original'!AP16*100-100)*'Base original'!AP16/'Base original'!$AR16","v":4.501175135049273},{"$f":"+('Base original'!AQ28/'Base original'!AQ16*100-100)*'Base original'!AQ16/'Base original'!$AR16","v":2.7121197081112165E-2},{"$f":"+(('Base original'!AN28-'Base original'!AP28)/('Base original'!AN16-'Base original'!AP16)*100-100)*(('Base original'!AN16-'Base original'!AP16)/'Base original'!AR16)","v":-1.4633853864412025},{"$f":"+(('Base original'!AO28-'Base original'!AQ28)/('Base original'!AO16-'Base original'!AQ16)*100-100)*(('Base original'!AO16-'Base original'!AQ16)/'Base original'!AR16)","v":0.18130223694878664},{"$f":"+('Base original'!AR28/'Base original'!AR16*100-100)*'Base original'!AR16/'Base original'!$AR16","v":17.317761866076381},{"$f":"+('Base original'!AR28/'Base original'!AR16*100-100)*'Base original'!AR16/'Base original'!$BC16","v":10.197574452470773},{"$f":"+('Base original'!AS28/'Base original'!AS16*100-100)*'Base original'!AS16/'Base original'!$BC16","v":0.57528124534562419},{"$f":"+('Base original'!AT28/'Base original'!AT16*100-100)*'Base original'!AT16/'Base original'!$BC16","v":-2.7093368568396792},{"$f":"+('Base original'!AU28/'Base original'!AU16*100-100)*'Base original'!AU16/'Base original'!$BC16","v":0.16735512137627834},{"$f":"+('Base original'!AV28/'Base original'!AV16*100-100)*'Base original'!AV16/'Base original'!$BC16","v":-0.23995187436942286},{"$f":"+('Base original'!AW28/'Base original'!AW16*100-100)*'Base original'!AW16/'Base original'!$BC16","v":4.2005468711974255E-2},{"$f":"+('Base original'!AX28/'Base original'!AX16*100-100)*'Base original'!AX16/'Base original'!$BC16","v":1.9897193599712775},{"$f":"+('Base original'!AY28/'Base original'!AY16*100-100)*'Base original'!AY16/'Base original'!$BC16","v":2.9167606868437059},{"$f":"+('Base original'!AZ28/'Base original'!AZ16*100-100)*'Base original'!AZ16/'Base original'!$BC16","v":0.31653327310961976},{"$f":"+('Base original'!BA28/'Base original'!BA16*100-100)*'Base original'!BA16/'Base original'!$BC16","v":-2.493975485506893E-2},{"$f":"+('Base original'!BB28/'Base original'!BB16*100-100)*'Base original'!BB16/'Base original'!$BC16","v":5.3483153473409317E-2},{"$f":"+(('Base original'!AY28-'Base original'!BA28)/('Base original'!AY16-'Base original'!BA16)*100-100)*('Base original'!AY16-'Base original'!BA16)/'Base original'!$BC16","v":2.9417004416987749},{"$f":"+(('Base original'!AZ28-'Base original'!BB28)/('Base original'!AZ16-'Base original'!BB16)*100-100)*('Base original'!AZ16-'Base original'!BB16)/'Base original'!$BC16","v":0.26305011963621061},{"$f":"+('Base original'!BC28/'Base original'!BC16*100-100)*'Base original'!BC16/'Base original'!$BC16","v":13.227397478001819}]
["2007-10-01",{"$f":"+'Base original'!B29/'Base original'!B17*100-100","v":21.678263528384647},{"$f":"+'Base original'!C29/'Base original'!C17*100-100","v":16.156534294621579},{"$f":"+'Base original'!D29/'Base original'!D17*100-100","v":22.668910501435846},{"$f":"+'Base original'!E29/'Base original'!E17*100-100","v":14.353572673801082},{"$f":"+'Base original'!F29/'Base original'!F17*100-100","v":20.49779021607074},{"$f":"+'Base original'!G29","v":29.010985038932098},null,null,null,null,{"$f":"+'Base original'!Q29","v":10.150835175765},null,null,null,{"$f":"+'Base original'!Y29","v":5.8533606967078802},null,null,{"$f":"+'Base original'!AE29","v":4.83},{"$f":"+('Base original'!AH29/'Base original'!AH17*100-100)*'Base original'!AH17/'Base original'!$AK17","v":3.0686459325259707},{"$f":"+('Base original'!AI29/'Base original'!AI17*100-100)*'Base original'!AI17/'Base original'!$AK17","v":10.065206464958631},{"$f":"+('Base original'!AJ29/'Base original'!AJ17*100-100)*'Base original'!AJ17/'Base original'!$AK17","v":5.6173185332001783},{"$f":"+('Base original'!AK29/'Base original'!AK17*100-100)*'Base original'!AK17/'Base original'!$AK17","v":18.751170930684793},{"$f":"+('Base original'!AK29/'Base original'!AK17*100-100)*'Base original'!AK17/'Base original'!$AR17","v":3.9393058199724287},{"$f":"+('Base original'!AL29/'Base original'!AL17*100-100)*'Base original'!AL17/'Base original'!$AR17","v":15.873927718843994},{"$f":"+('Base original'!AM29/'Base original'!AM17*100-100)*'Base original'!AM17/'Base original'!$AR17","v":0.11864659495265761},{"$f":"+('Base original'!AN29/'Base original'!AN17*100-100)*'Base original'!AN17/'Base original'!$AR17","v":2.0256782067105958},{"$f":"+('Base original'!AO29/'Base original'!AO17*100-100)*'Base original'!AO17/'Base original'!$AR17","v":0.1572997066462262},{"$f":"+('Base original'!AP29/'Base original'!AP17*100-100)*'Base original'!AP17/'Base original'!$AR17","v":2.7240671889885526},{"$f":"+('Base original'!AQ29/'Base original'!AQ17*100-100)*'Base original'!AQ17/'Base original'!$AR17","v":1.5906406918841841E-2},{"$f":"+(('Base original'!AN29-'Base original'!AP29)/('Base original'!AN17-'Base original'!AP17)*100-100)*(('Base original'!AN17-'Base original'!AP17)/'Base original'!AR17)","v":-0.69838898227795521},{"$f":"+(('Base original'!AO29-'Base original'!AQ29)/('Base original'!AO17-'Base original'!AQ17)*100-100)*(('Base original'!AO17-'Base original'!AQ17)/'Base original'!AR17)","v":0.14139329972738435},{"$f":"+('Base original'!AR29/'Base original'!AR17*100-100)*'Base original'!AR17/'Base original'!$AR17","v":19.374884451218506},{"$f":"+('Base original'!AR29/'Base original'!AR17*100-100)*'Base original'!AR17/'Base original'!$BC17","v":11.345629462923911},{"$f":"+('Base original'!AS29/'Base original'!AS17*100-100)*'Base original'!AS17/'Base original'!$BC17","v":0.71648865371804249},{"$f":"+('Base original'!AT29/'Base original'!AT17*100-100)*'Base original'!AT17/'Base original'!$BC17","v":-2.5287236432402138},{"$f":"+('Base original'!AU29/'Base original'!AU17*100-100)*'Base original'!AU17/'Base original'!$BC17","v":0.14976386758655172},{"$f":"+('Base original'!AV29/'Base original'!AV17*100-100)*'Base original'!AV17/'Base original'!$BC17","v":-0.31755280690342991},{"$f":"+('Base original'!AW29/'Base original'!AW17*100-100)*'Base original'!AW17/'Base original'!$BC17","v":3.5636870211106779E-2},{"$f":"+('Base original'!AX29/'Base original'!AX17*100-100)*'Base original'!AX17/'Base original'!$BC17","v":2.1479082389058286},{"$f":"+('Base original'!AY29/'Base original'!AY17*100-100)*'Base original'!AY17/'Base original'!$BC17","v":3.249217868453885},{"$f":"+('Base original'!AZ29/'Base original'!AZ17*100-100)*'Base original'!AZ17/'Base original'!$BC17","v":0.34749922237074798},{"$f":"+('Base original'!BA29/'Base original'!BA17*100-100)*'Base original'!BA17/'Base original'!$BC17","v":0.4406446547690917},{"$f":"+('Base original'!BB29/'Base original'!BB17*100-100)*'Base original'!BB17/'Base original'!$BC17","v":5.8017206186681443E-2},{"$f":"+(('Base original'!AY29-'Base original'!BA29)/('Base original'!AY17-'Base original'!BA17)*100-100)*('Base original'!AY17-'Base original'!BA17)/'Base original'!$BC17","v":2.808573213684793},{"$f":"+(('Base original'!AZ29-'Base original'!BB29)/('Base original'!AZ17-'Base original'!BB17)*100-100)*('Base original'!AZ17-'Base original'!BB17)/'Base original'!$BC17","v":0.28948201618406666},{"$f":"+('Base original'!BC29/'Base original'!BC17*100-100)*'Base original'!BC17/'Base original'!$BC17","v":14.647205873070646}]
["2007-11-01",{"$f":"+'Base original'!B30/'Base original'!B18*100-100","v":22.698203113868914},{"$f":"+'Base original'!C30/'Base original'!C18*100-100","v":15.694917600053444},{"$f":"+'Base original'!D30/'Base original'!D18*100-100","v":23.25184645539278},{"$f":"+'Base original'!E30/'Base original'!E18*100-100","v":18.028021299883946},{"$f":"+'Base original'!F30/'Base original'!F18*100-100","v":21.471026734848394},{"$f":"+'Base original'!G30","v":28.918278266454799},null,null,null,null,{"$f":"+'Base original'!Q30","v":10.1663921671149},null,null,null,{"$f":"+'Base original'!Y30","v":5.6824301269678097},null,null,{"$f":"+'Base original'!AE30","v":4.8099999999999996},{"$f":"+('Base original'!AH30/'Base original'!AH18*100-100)*'Base original'!AH18/'Base original'!$AK18","v":3.0124923098825001},{"$f":"+('Base original'!AI30/'Base original'!AI18*100-100)*'Base original'!AI18/'Base original'!$AK18","v":11.196373823602666},{"$f":"+('Base original'!AJ30/'Base original'!AJ18*100-100)*'Base original'!AJ18/'Base original'!$AK18","v":7.4415474804378734},{"$f":"+('Base original'!AK30/'Base original'!AK18*100-100)*'Base original'!AK18/'Base original'!$AK18","v":21.650413613923035},{"$f":"+('Base original'!AK30/'Base original'!AK18*100-100)*'Base original'!AK18/'Base original'!$AR18","v":4.5645309290524372},{"$f":"+('Base original'!AL30/'Base original'!AL18*100-100)*'Base original'!AL18/'Base original'!$AR18","v":17.312650872862811},{"$f":"+('Base original'!AM30/'Base original'!AM18*100-100)*'Base original'!AM18/'Base original'!$AR18","v":0.15730613432555848},{"$f":"+('Base original'!AN30/'Base original'!AN18*100-100)*'Base original'!AN18/'Base original'!$AR18","v":4.734298281855235},{"$f":"+('Base original'!AO30/'Base original'!AO18*100-100)*'Base original'!AO18/'Base original'!$AR18","v":0.13929766375200114},{"$f":"+('Base original'!AP30/'Base original'!AP18*100-100)*'Base original'!AP18/'Base original'!$AR18","v":5.0746905336786128},{"$f":"+('Base original'!AQ30/'Base original'!AQ18*100-100)*'Base original'!AQ18/'Base original'!$AR18","v":8.897042009554516E-3},{"$f":"+(('Base original'!AN30-'Base original'!AP30)/('Base original'!AN18-'Base original'!AP18)*100-100)*(('Base original'!AN18-'Base original'!AP18)/'Base original'!AR18)","v":-0.34039225182337646},{"$f":"+(('Base original'!AO30-'Base original'!AQ30)/('Base original'!AO18-'Base original'!AQ18)*100-100)*(('Base original'!AO18-'Base original'!AQ18)/'Base original'!AR18)","v":0.1304006217424466},{"$f":"+('Base original'!AR30/'Base original'!AR18*100-100)*'Base original'!AR18/'Base original'!$AR18","v":21.824496306159858},{"$f":"+('Base original'!AR30/'Base original'!AR18*100-100)*'Base original'!AR18/'Base original'!$BC18","v":12.813016818086624},{"$f":"+('Base original'!AS30/'Base original'!AS18*100-100)*'Base original'!AS18/'Base original'!$BC18","v":0.7329901070328545},{"$f":"+('Base original'!AT30/'Base original'!AT18*100-100)*'Base original'!AT18/'Base original'!$BC18","v":-2.5066943225464531},{"$f":"+('Base original'!AU30/'Base original'!AU18*100-100)*'Base original'!AU18/'Base original'!$BC18","v":0.23445488366360295},{"$f":"+('Base original'!AV30/'Base original'!AV18*100-100)*'Base original'!AV18/'Base original'!$BC18","v":-0.42946684736044666},{"$f":"+('Base original'!AW30/'Base original'!AW18*100-100)*'Base original'!AW18/'Base original'!$BC18","v":5.9329577660411234E-2},{"$f":"+('Base original'!AX30/'Base original'!AX18*100-100)*'Base original'!AX18/'Base original'!$BC18","v":2.3470818681935284},{"$f":"+('Base original'!AY30/'Base original'!AY18*100-100)*'Base original'!AY18/'Base original'!$BC18","v":3.2266888763712727},{"$f":"+('Base original'!AZ30/'Base original'!AZ18*100-100)*'Base original'!AZ18/'Base original'!$BC18","v":0.32622614499830965},{"$f":"+('Base original'!BA30/'Base original'!BA18*100-100)*'Base original'!BA18/'Base original'!$BC18","v":0.57682320492274108},{"$f":"+('Base original'!BB30/'Base original'!BB18*100-100)*'Base original'!BB18/'Base original'!$BC18","v":6.976063308041984E-2},{"$f":"+(('Base original'!AY30-'Base original'!BA30)/('Base original'!AY18-'Base original'!BA18)*100-100)*('Base original'!AY18-'Base original'!BA18)/'Base original'!$BC18","v":2.6498656714485302},{"$f":"+(('Base original'!AZ30-'Base original'!BB30)/('Base original'!AZ18-'Base original'!BB18)*100-100)*('Base original'!AZ18-'Base original'!BB18)/'Base original'!$BC18","v":0.25646551191788969},{"$f":"+('Base original'!BC30/'Base original'!BC18*100-100)*'Base original'!BC18/'Base original'!$BC18","v":16.157043268096544}]
["2007-12-01",{"$f":"+'Base original'!B31/'Base original'!B19*100-100","v":22.595112091629517},{"$f":"+'Base original'!C31/'Base original'!C19*100-100","v":15.338343844092321},{"$f":"+'Base original'!D31/'Base original'!D19*100-100","v":24.371381241764766},{"$f":"+'Base original'!E31/'Base original'!E19*100-100","v":12.434797573086968},{"$f":"+'Base original'!F31/'Base original'!F19*100-100","v":21.086771179857351},{"$f":"+'Base original'!G31","v":29.956424397723399},null,null,null,null,{"$f":"+'Base original'!Q31","v":10.207594462623099},null,null,null,{"$f":"+'Base original'!Y31","v":5.8907807742312901},null,null,{"$f":"+'Base original'!AE31","v":4.83},{"$f":"+('Base original'!AH31/'Base original'!AH19*100-100)*'Base original'!AH19/'Base original'!$AK19","v":2.9393596811226024},{"$f":"+('Base original'!AI31/'Base original'!AI19*100-100)*'Base original'!AI19/'Base original'!$AK19","v":11.190543233761833},{"$f":"+('Base original'!AJ31/'Base original'!AJ19*100-100)*'Base original'!AJ19/'Base original'!$AK19","v":3.9323574317315941},{"$f":"+('Base original'!AK31/'Base original'!AK19*100-100)*'Base original'!AK19/'Base original'!$AK19","v":18.062260346616043},{"$f":"+('Base original'!AK31/'Base original'!AK19*100-100)*'Base original'!AK19/'Base original'!$AR19","v":4.0109155206612321},{"$f":"+('Base original'!AL31/'Base original'!AL19*100-100)*'Base original'!AL19/'Base original'!$AR19","v":17.899639634603339},{"$f":"+('Base original'!AM31/'Base original'!AM19*100-100)*'Base original'!AM19/'Base original'!$AR19","v":0.1907679789308922},{"$f":"+('Base original'!AN31/'Base original'!AN19*100-100)*'Base original'!AN19/'Base original'!$AR19","v":4.0451041653726234},{"$f":"+('Base original'!AO31/'Base original'!AO19*100-100)*'Base original'!AO19/'Base original'!$AR19","v":0.12120016895039565},{"$f":"+('Base original'!AP31/'Base original'!AP19*100-100)*'Base original'!AP19/'Base original'!$AR19","v":4.3089856350754285},{"$f":"+('Base original'!AQ31/'Base original'!AQ19*100-100)*'Base original'!AQ19/'Base original'!$AR19","v":9.5500453433047146E-3},{"$f":"+(('Base original'!AN31-'Base original'!AP31)/('Base original'!AN19-'Base original'!AP19)*100-100)*(('Base original'!AN19-'Base original'!AP19)/'Base original'!AR19)","v":-0.26388146970280474},{"$f":"+(('Base original'!AO31-'Base original'!AQ31)/('Base original'!AO19-'Base original'!AQ19)*100-100)*(('Base original'!AO19-'Base original'!AQ19)/'Base original'!AR19)","v":0.11165012360709092},{"$f":"+('Base original'!AR31/'Base original'!AR19*100-100)*'Base original'!AR19/'Base original'!$AR19","v":21.949091788099736},{"$f":"+('Base original'!AR31/'Base original'!AR19*100-100)*'Base original'!AR19/'Base original'!$BC19","v":13.040009926678485},{"$f":"+('Base original'!AS31/'Base original'!AS19*100-100)*'Base original'!AS19/'Base original'!$BC19","v":0.78812230479761869},{"$f":"+('Base original'!AT31/'Base original'!AT19*100-100)*'Base original'!AT19/'Base original'!$BC19","v":-2.7625411189900615},{"$f":"+('Base original'!AU31/'Base original'!AU19*100-100)*'Base original'!AU19/'Base original'!$BC19","v":0.41370385962667933},{"$f":"+('Base original'!AV31/'Base original'!AV19*100-100)*'Base original'!AV19/'Base original'!$BC19","v":-0.50626675396075416},{"$f":"+('Base original'!AW31/'Base original'!AW19*100-100)*'Base original'!AW19/'Base original'!$BC19","v":3.8916392950090146E-2},{"$f":"+('Base original'!AX31/'Base original'!AX19*100-100)*'Base original'!AX19/'Base original'!$BC19","v":2.220494654877248},{"$f":"+('Base original'!AY31/'Base original'!AY19*100-100)*'Base original'!AY19/'Base original'!$BC19","v":2.6681023653355949},{"$f":"+('Base original'!AZ31/'Base original'!AZ19*100-100)*'Base original'!AZ19/'Base original'!$BC19","v":0.25779227348921818},{"$f":"+('Base original'!BA31/'Base original'!BA19*100-100)*'Base original'!BA19/'Base original'!$BC19","v":0.49381227814503964},{"$f":"+('Base original'!BB31/'Base original'!BB19*100-100)*'Base original'!BB19/'Base original'!$BC19","v":7.0606114747852208E-2},{"$f":"+(('Base original'!AY31-'Base original'!BA31)/('Base original'!AY19-'Base original'!BA19)*100-100)*('Base original'!AY19-'Base original'!BA19)/'Base original'!$BC19","v":2.1742900871905566},{"$f":"+(('Base original'!AZ31-'Base original'!BB31)/('Base original'!AZ19-'Base original'!BB19)*100-100)*('Base original'!AZ19-'Base original'!BB19)/'Base original'!$BC19","v":0.18718615874136579},{"$f":"+('Base original'!BC31/'Base original'!BC19*100-100)*'Base original'!BC19/'Base original'!$BC19","v":15.593915511911234}]
["2008-01-01",{"$f":"+'Base original'!B32/'Base original'!B20*100-100","v":21.354915885682317},{"$f":"+'Base original'!C32/'Base original'!C20*100-100","v":15.327279259120033},{"$f":"+'Base original'!D32/'Base original'!D20*100-100","v":25.460520312908045},{"$f":"+'Base original'!E32/'Base original'!E20*100-100","v":2.9379687934311107},{"$f":"+'Base original'!F32/'Base original'!F20*100-100","v":19.695887865474219},{"$f":"+'Base original'!G32","v":32.062977085834703},null,null,null,null,{"$f":"+'Base original'!Q32","v":10.546072555411},null,null,null,{"$f":"+'Base original'!Y32","v":4.9099747135160499},null,null,{"$f":"+'Base original'!AE32","v":4.8},{"$f":"+('Base original'!AH32/'Base original'!AH20*100-100)*'Base original'!AH20/'Base original'!$AK20","v":2.8014581686448232},{"$f":"+('Base original'!AI32/'Base original'!AI20*100-100)*'Base original'!AI20/'Base original'!$AK20","v":10.686331090726078},{"$f":"+('Base original'!AJ32/'Base original'!AJ20*100-100)*'Base original'!AJ20/'Base original'!$AK20","v":2.575382883010946},{"$f":"+('Base original'!AK32/'Base original'!AK20*100-100)*'Base original'!AK20/'Base original'!$AK20","v":16.063172142381845},{"$f":"+('Base original'!AK32/'Base original'!AK20*100-100)*'Base original'!AK20/'Base original'!$AR20","v":3.5743296240072207},{"$f":"+('Base original'!AL32/'Base original'!AL20*100-100)*'Base original'!AL20/'Base original'!$AR20","v":17.775344328668943},{"$f":"+('Base original'!AM32/'Base original'!AM20*100-100)*'Base original'!AM20/'Base original'!$AR20","v":0.22069856131239596},{"$f":"+('Base original'!AN32/'Base original'!AN20*100-100)*'Base original'!AN20/'Base original'!$AR20","v":2.5532444453848298},{"$f":"+('Base original'!AO32/'Base original'!AO20*100-100)*'Base original'!AO20/'Base original'!$AR20","v":0.14864250580134145},{"$f":"+('Base original'!AP32/'Base original'!AP20*100-100)*'Base original'!AP20/'Base original'!$AR20","v":2.9436429899081906},{"$f":"+('Base original'!AQ32/'Base original'!AQ20*100-100)*'Base original'!AQ20/'Base original'!$AR20","v":1.6324606886065924E-2},{"$f":"+(('Base original'!AN32-'Base original'!AP32)/('Base original'!AN20-'Base original'!AP20)*100-100)*(('Base original'!AN20-'Base original'!AP20)/'Base original'!AR20)","v":-0.39039854452336176},{"$f":"+(('Base original'!AO32-'Base original'!AQ32)/('Base original'!AO20-'Base original'!AQ20)*100-100)*(('Base original'!AO20-'Base original'!AQ20)/'Base original'!AR20)","v":0.13231789891527543},{"$f":"+('Base original'!AR32/'Base original'!AR20*100-100)*'Base original'!AR20/'Base original'!$AR20","v":21.312291868380484},{"$f":"+('Base original'!AR32/'Base original'!AR20*100-100)*'Base original'!AR20/'Base original'!$BC20","v":12.808514748122587},{"$f":"+('Base original'!AS32/'Base original'!AS20*100-100)*'Base original'!AS20/'Base original'!$BC20","v":0.87941154886931316},{"$f":"+('Base original'!AT32/'Base original'!AT20*100-100)*'Base original'!AT20/'Base original'!$BC20","v":-1.8277431656782068},{"$f":"+('Base original'!AU32/'Base original'!AU20*100-100)*'Base original'!AU20/'Base original'!$BC20","v":0.54419626366682383},{"$f":"+('Base original'!AV32/'Base original'!AV20*100-100)*'Base original'!AV20/'Base original'!$BC20","v":-0.33659946665967422},{"$f":"+('Base original'!AW32/'Base original'!AW20*100-100)*'Base original'!AW20/'Base original'!$BC20","v":1.1651461496737648E-2},{"$f":"+('Base original'!AX32/'Base original'!AX20*100-100)*'Base original'!AX20/'Base original'!$BC20","v":1.9294272650328981},{"$f":"+('Base original'!AY32/'Base original'!AY20*100-100)*'Base original'!AY20/'Base original'!$BC20","v":1.6861307550585891},{"$f":"+('Base original'!AZ32/'Base original'!AZ20*100-100)*'Base original'!AZ20/'Base original'!$BC20","v":0.16398747571322436},{"$f":"+('Base original'!BA32/'Base original'!BA20*100-100)*'Base original'!BA20/'Base original'!$BC20","v":0.40845521615130453},{"$f":"+('Base original'!BB32/'Base original'!BB20*100-100)*'Base original'!BB20/'Base original'!$BC20","v":6.9589342490307141E-2},{"$f":"+(('Base original'!AY32-'Base original'!BA32)/('Base original'!AY20-'Base original'!BA20)*100-100)*('Base original'!AY20-'Base original'!BA20)/'Base original'!$BC20","v":1.2776755389072842},{"$f":"+(('Base original'!AZ32-'Base original'!BB32)/('Base original'!AZ20-'Base original'!BB20)*100-100)*('Base original'!AZ20-'Base original'!BB20)/'Base original'!$BC20","v":9.4398133222917097E-2},{"$f":"+('Base original'!BC32/'Base original'!BC20*100-100)*'Base original'!BC20/'Base original'!$BC20","v":15.380932326980684}]
["2008-02-01",{"$f":"+'Base original'!B33/'Base original'!B21*100-100","v":21.175434866948706},{"$f":"+'Base original'!C33/'Base original'!C21*100-100","v":15.171233180741865},{"$f":"+'Base original'!D33/'Base original'!D21*100-100","v":25.151657909401564},{"$f":"+'Base original'!E33/'Base original'!E21*100-100","v":4.3115513833416941},{"$f":"+'Base original'!F33/'Base original'!F21*100-100","v":19.648714019045002},{"$f":"+'Base original'!G33","v":31.960689431939102},null,null,null,null,{"$f":"+'Base original'!Q33","v":10.5242958634587},null,null,null,{"$f":"+'Base original'!Y33","v":4.1944529702062496},null,null,{"$f":"+'Base original'!AE33","v":4.9000000000000004},{"$f":"+('Base original'!AH33/'Base original'!AH21*100-100)*'Base original'!AH21/'Base original'!$AK21","v":2.9155186144650003},{"$f":"+('Base original'!AI33/'Base original'!AI21*100-100)*'Base original'!AI21/'Base original'!$AK21","v":8.9966262140366009},{"$f":"+('Base original'!AJ33/'Base original'!AJ21*100-100)*'Base original'!AJ21/'Base original'!$AK21","v":4.305827947786109},{"$f":"+('Base original'!AK33/'Base original'!AK21*100-100)*'Base original'!AK21/'Base original'!$AK21","v":16.217972776287709},{"$f":"+('Base original'!AK33/'Base original'!AK21*100-100)*'Base original'!AK21/'Base original'!$AR21","v":3.555392695099838},{"$f":"+('Base original'!AL33/'Base original'!AL21*100-100)*'Base original'!AL21/'Base original'!$AR21","v":17.429875212077857},{"$f":"+('Base original'!AM33/'Base original'!AM21*100-100)*'Base original'!AM21/'Base original'!$AR21","v":0.2527274750460779},{"$f":"+('Base original'!AN33/'Base original'!AN21*100-100)*'Base original'!AN21/'Base original'!$AR21","v":4.0584395223528507},{"$f":"+('Base original'!AO33/'Base original'!AO21*100-100)*'Base original'!AO21/'Base original'!$AR21","v":0.16977266015998571},{"$f":"+('Base original'!AP33/'Base original'!AP21*100-100)*'Base original'!AP21/'Base original'!$AR21","v":3.9116694522293169},{"$f":"+('Base original'!AQ33/'Base original'!AQ21*100-100)*'Base original'!AQ21/'Base original'!$AR21","v":1.1313160421417483E-2},{"$f":"+(('Base original'!AN33-'Base original'!AP33)/('Base original'!AN21-'Base original'!AP21)*100-100)*(('Base original'!AN21-'Base original'!AP21)/'Base original'!AR21)","v":0.1467700701235343},{"$f":"+(('Base original'!AO33-'Base original'!AQ33)/('Base original'!AO21-'Base original'!AQ21)*100-100)*(('Base original'!AO21-'Base original'!AQ21)/'Base original'!AR21)","v":0.15845949973856821},{"$f":"+('Base original'!AR33/'Base original'!AR21*100-100)*'Base original'!AR21/'Base original'!$AR21","v":21.543224952085893},{"$f":"+('Base original'!AR33/'Base original'!AR21*100-100)*'Base original'!AR21/'Base original'!$BC21","v":12.942649966801794},{"$f":"+('Base original'!AS33/'Base original'!AS21*100-100)*'Base original'!AS21/'Base original'!$BC21","v":0.75836413613083797},{"$f":"+('Base original'!AT33/'Base original'!AT21*100-100)*'Base original'!AT21/'Base original'!$BC21","v":-1.1804511502549297},{"$f":"+('Base original'!AU33/'Base original'!AU21*100-100)*'Base original'!AU21/'Base original'!$BC21","v":0.38026712465699775},{"$f":"+('Base original'!AV33/'Base original'!AV21*100-100)*'Base original'!AV21/'Base original'!$BC21","v":-0.42482979606391447},{"$f":"+('Base original'!AW33/'Base original'!AW21*100-100)*'Base original'!AW21/'Base original'!$BC21","v":8.9366466500851172E-3},{"$f":"+('Base original'!AX33/'Base original'!AX21*100-100)*'Base original'!AX21/'Base original'!$BC21","v":1.7555311437916088},{"$f":"+('Base original'!AY33/'Base original'!AY21*100-100)*'Base original'!AY21/'Base original'!$BC21","v":1.1092895221238976},{"$f":"+('Base original'!AZ33/'Base original'!AZ21*100-100)*'Base original'!AZ21/'Base original'!$BC21","v":0.10904818745365331},{"$f":"+('Base original'!BA33/'Base original'!BA21*100-100)*'Base original'!BA21/'Base original'!$BC21","v":0.68804644090436673},{"$f":"+('Base original'!BB33/'Base original'!BB21*100-100)*'Base original'!BB21/'Base original'!$BC21","v":6.6113100934104121E-2},{"$f":"+(('Base original'!AY33-'Base original'!BA33)/('Base original'!AY21-'Base original'!BA21)*100-100)*('Base original'!AY21-'Base original'!BA21)/'Base original'!$BC21","v":0.42124308121952991},{"$f":"+(('Base original'!AZ33-'Base original'!BB33)/('Base original'!AZ21-'Base original'!BB21)*100-100)*('Base original'!AZ21-'Base original'!BB21)/'Base original'!$BC21","v":4.293508651954913E-2},{"$f":"+('Base original'!BC33/'Base original'!BC21*100-100)*'Base original'!BC21/'Base original'!$BC21","v":14.704646239451563}]
["2008-03-01",{"$f":"+'Base original'!B34/'Base original'!B22*100-100","v":20.3520151581493},{"$f":"+'Base original'!C34/'Base original'!C22*100-100","v":14.2047277011837},{"$f":"+'Base original'!D34/'Base original'!D22*100-100","v":25.072411031963554},{"$f":"+'Base original'!E34/'Base original'!E22*100-100","v":3.5419583520437783},{"$f":"+'Base original'!F34/'Base original'!F22*100-100","v":18.983967703436178},{"$f":"+'Base original'!G34","v":29.8751708037857},null,null,null,null,{"$f":"+'Base original'!Q34","v":10.6081632164383},null,null,null,{"$f":"+'Base original'!Y34","v":3.9099521988548198},null,null,{"$f":"+'Base original'!AE34","v":4.82},{"$f":"+('Base original'!AH34/'Base original'!AH22*100-100)*'Base original'!AH22/'Base original'!$AK22","v":2.9801184987126423},{"$f":"+('Base original'!AI34/'Base original'!AI22*100-100)*'Base original'!AI22/'Base original'!$AK22","v":7.4100344700752698},{"$f":"+('Base original'!AJ34/'Base original'!AJ22*100-100)*'Base original'!AJ22/'Base original'!$AK22","v":4.6433320845000718},{"$f":"+('Base original'!AK34/'Base original'!AK22*100-100)*'Base original'!AK22/'Base original'!$AK22","v":15.03348505328799},{"$f":"+('Base original'!AK34/'Base original'!AK22*100-100)*'Base original'!AK22/'Base original'!$AR22","v":3.2670710227069217},{"$f":"+('Base original'!AL34/'Base original'!AL22*100-100)*'Base original'!AL22/'Base original'!$AR22","v":17.236610325156558},{"$f":"+('Base original'!AM34/'Base original'!AM22*100-100)*'Base original'!AM22/'Base original'!$AR22","v":0.25516993504723762},{"$f":"+('Base original'!AN34/'Base original'!AN22*100-100)*'Base original'!AN22/'Base original'!$AR22","v":2.9329322909633646},{"$f":"+('Base original'!AO34/'Base original'!AO22*100-100)*'Base original'!AO22/'Base original'!$AR22","v":0.184738974408653},{"$f":"+('Base original'!AP34/'Base original'!AP22*100-100)*'Base original'!AP22/'Base original'!$AR22","v":2.6594245689051683},{"$f":"+('Base original'!AQ34/'Base original'!AQ22*100-100)*'Base original'!AQ22/'Base original'!$AR22","v":7.1767317586750694E-3},{"$f":"+(('Base original'!AN34-'Base original'!AP34)/('Base original'!AN22-'Base original'!AP22)*100-100)*(('Base original'!AN22-'Base original'!AP22)/'Base original'!AR22)","v":0.27350772205819496},{"$f":"+(('Base original'!AO34-'Base original'!AQ34)/('Base original'!AO22-'Base original'!AQ22)*100-100)*(('Base original'!AO22-'Base original'!AQ22)/'Base original'!AR22)","v":0.17756224264997802},{"$f":"+('Base original'!AR34/'Base original'!AR22*100-100)*'Base original'!AR22/'Base original'!$AR22","v":21.209921247618908},{"$f":"+('Base original'!AR34/'Base original'!AR22*100-100)*'Base original'!AR22/'Base original'!$BC22","v":12.789527023429992},{"$f":"+('Base original'!AS34/'Base original'!AS22*100-100)*'Base original'!AS22/'Base original'!$BC22","v":0.61900386637535798},{"$f":"+('Base original'!AT34/'Base original'!AT22*100-100)*'Base original'!AT22/'Base original'!$BC22","v":-1.1423539446678361},{"$f":"+('Base original'!AU34/'Base original'!AU22*100-100)*'Base original'!AU22/'Base original'!$BC22","v":0.44866252613103685},{"$f":"+('Base original'!AV34/'Base original'!AV22*100-100)*'Base original'!AV22/'Base original'!$BC22","v":-0.47997011542867973},{"$f":"+('Base original'!AW34/'Base original'!AW22*100-100)*'Base original'!AW22/'Base original'!$BC22","v":-5.8198092593329948E-3},{"$f":"+('Base original'!AX34/'Base original'!AX22*100-100)*'Base original'!AX22/'Base original'!$BC22","v":1.7705352025675254},{"$f":"+('Base original'!AY34/'Base original'!AY22*100-100)*'Base original'!AY22/'Base original'!$BC22","v":1.1372056518615037},{"$f":"+('Base original'!AZ34/'Base original'!AZ22*100-100)*'Base original'!AZ22/'Base original'!$BC22","v":9.4997194217727066E-2},{"$f":"+('Base original'!BA34/'Base original'!BA22*100-100)*'Base original'!BA22/'Base original'!$BC22","v":0.91553060943229547},{"$f":"+('Base original'!BB34/'Base original'!BB22*100-100)*'Base original'!BB22/'Base original'!$BC22","v":7.0941982612484175E-2},{"$f":"+(('Base original'!AY34-'Base original'!BA34)/('Base original'!AY22-'Base original'!BA22)*100-100)*('Base original'!AY22-'Base original'!BA22)/'Base original'!$BC22","v":0.22167504242920857},{"$f":"+(('Base original'!AZ34-'Base original'!BB34)/('Base original'!AZ22-'Base original'!BB22)*100-100)*('Base original'!AZ22-'Base original'!BB22)/'Base original'!$BC22","v":2.4055211605242766E-2},{"$f":"+('Base original'!BC34/'Base original'!BC22*100-100)*'Base original'!BC22/'Base original'!$BC22","v":14.245315003182583}]
["2008-04-01",{"$f":"+'Base original'!B35/'Base original'!B23*100-100","v":21.227801295798017},{"$f":"+'Base original'!C35/'Base original'!C23*100-100","v":14.165146235544015},{"$f":"+'Base original'!D35/'Base original'!D23*100-100","v":25.823273661464825},{"$f":"+'Base original'!E35/'Base original'!E23*100-100","v":13.141608434914431},{"$f":"+'Base original'!F35/'Base original'!F23*100-100","v":20.505495859526391},{"$f":"+'Base original'!G35","v":30.126329719934201},null,null,null,null,{"$f":"+'Base original'!Q35","v":10.592877402859299},null,null,null,{"$f":"+'Base original'!Y35","v":4.01635492774912},null,null,{"$f":"+'Base original'!AE35","v":4.76},{"$f":"+('Base original'!AH35/'Base original'!AH23*100-100)*'Base original'!AH23/'Base original'!$AK23","v":2.6789624745165108},{"$f":"+('Base original'!AI35/'Base original'!AI23*100-100)*'Base original'!AI23/'Base original'!$AK23","v":6.5370008070235412},{"$f":"+('Base original'!AJ35/'Base original'!AJ23*100-100)*'Base original'!AJ23/'Base original'!$AK23","v":3.0703588920433602},{"$f":"+('Base original'!AK35/'Base original'!AK23*100-100)*'Base original'!AK23/'Base original'!$AK23","v":12.286322173583414},{"$f":"+('Base original'!AK35/'Base original'!AK23*100-100)*'Base original'!AK23/'Base original'!$AR23","v":2.6879289185213002},{"$f":"+('Base original'!AL35/'Base original'!AL23*100-100)*'Base original'!AL23/'Base original'!$AR23","v":17.467193383484755},{"$f":"+('Base original'!AM35/'Base original'!AM23*100-100)*'Base original'!AM23/'Base original'!$AR23","v":0.2804465500903639},{"$f":"+('Base original'!AN35/'Base original'!AN23*100-100)*'Base original'!AN23/'Base original'!$AR23","v":1.9934759455434663},{"$f":"+('Base original'!AO35/'Base original'!AO23*100-100)*'Base original'!AO23/'Base original'!$AR23","v":0.20308785464833706},{"$f":"+('Base original'!AP35/'Base original'!AP23*100-100)*'Base original'!AP23/'Base original'!$AR23","v":2.0786167166036793},{"$f":"+('Base original'!AQ35/'Base original'!AQ23*100-100)*'Base original'!AQ23/'Base original'!$AR23","v":4.4260555078430618E-3},{"$f":"+(('Base original'!AN35-'Base original'!AP35)/('Base original'!AN23-'Base original'!AP23)*100-100)*(('Base original'!AN23-'Base original'!AP23)/'Base original'!AR23)","v":-8.514077106021227E-2},{"$f":"+(('Base original'!AO35-'Base original'!AQ35)/('Base original'!AO23-'Base original'!AQ23)*100-100)*(('Base original'!AO23-'Base original'!AQ23)/'Base original'!AR23)","v":0.19866179914049409},{"$f":"+('Base original'!AR35/'Base original'!AR23*100-100)*'Base original'!AR23/'Base original'!$AR23","v":20.549089880176723},{"$f":"+('Base original'!AR35/'Base original'!AR23*100-100)*'Base original'!AR23/'Base original'!$BC23","v":12.517855559572727},{"$f":"+('Base original'!AS35/'Base original'!AS23*100-100)*'Base original'!AS23/'Base original'!$BC23","v":0.92237150896894549},{"$f":"+('Base original'!AT35/'Base original'!AT23*100-100)*'Base original'!AT23/'Base original'!$BC23","v":-1.0481602160881396},{"$f":"+('Base original'!AU35/'Base original'!AU23*100-100)*'Base original'!AU23/'Base original'!$BC23","v":0.61355141844877836},{"$f":"+('Base original'!AV35/'Base original'!AV23*100-100)*'Base original'!AV23/'Base original'!$BC23","v":4.9613282315649987E-2},{"$f":"+('Base original'!AW35/'Base original'!AW23*100-100)*'Base original'!AW23/'Base original'!$BC23","v":4.3406066642237891E-3},{"$f":"+('Base original'!AX35/'Base original'!AX23*100-100)*'Base original'!AX23/'Base original'!$BC23","v":2.0743803691397114},{"$f":"+('Base original'!AY35/'Base original'!AY23*100-100)*'Base original'!AY23/'Base original'!$BC23","v":0.995776648973139},{"$f":"+('Base original'!AZ35/'Base original'!AZ23*100-100)*'Base original'!AZ23/'Base original'!$BC23","v":5.673898813644053E-2},{"$f":"+('Base original'!BA35/'Base original'!BA23*100-100)*'Base original'!BA23/'Base original'!$BC23","v":0.83179652895166145},{"$f":"+('Base original'!BB35/'Base original'!BB23*100-100)*'Base original'!BB23/'Base original'!$BC23","v":5.816116642915551E-2},{"$f":"+(('Base original'!AY35-'Base original'!BA35)/('Base original'!AY23-'Base original'!BA23)*100-100)*('Base original'!AY23-'Base original'!BA23)/'Base original'!$BC23","v":0.1639801200214781},{"$f":"+(('Base original'!AZ35-'Base original'!BB35)/('Base original'!AZ23-'Base original'!BB23)*100-100)*('Base original'!AZ23-'Base original'!BB23)/'Base original'!$BC23","v":-1.4221782927148047E-3},{"$f":"+('Base original'!BC35/'Base original'!BC23*100-100)*'Base original'!BC23/'Base original'!$BC23","v":15.296510470750661}]
["2008-05-01",{"$f":"+'Base original'!B36/'Base original'!B24*100-100","v":21.444244360127044},{"$f":"+'Base original'!C36/'Base original'!C24*100-100","v":13.473326754138498},{"$f":"+'Base original'!D36/'Base original'!D24*100-100","v":25.070389970006033},{"$f":"+'Base original'!E36/'Base original'!E24*100-100","v":19.102425910113439},{"$f":"+'Base original'!F36/'Base original'!F24*100-100","v":20.949325194862752},{"$f":"+'Base original'!G36","v":30.9324869049988},null,null,null,null,{"$f":"+'Base original'!Q36","v":10.6795696146953},null,null,null,{"$f":"+'Base original'!Y36","v":4.1160037726979901},null,null,{"$f":"+'Base original'!AE36","v":4.63},{"$f":"+('Base original'!AH36/'Base original'!AH24*100-100)*'Base original'!AH24/'Base original'!$AK24","v":2.9981577850984991},{"$f":"+('Base original'!AI36/'Base original'!AI24*100-100)*'Base original'!AI24/'Base original'!$AK24","v":7.4161538044997748},{"$f":"+('Base original'!AJ36/'Base original'!AJ24*100-100)*'Base original'!AJ24/'Base original'!$AK24","v":4.6981497178107103},{"$f":"+('Base original'!AK36/'Base original'!AK24*100-100)*'Base original'!AK24/'Base original'!$AK24","v":15.11246130740898},{"$f":"+('Base original'!AK36/'Base original'!AK24*100-100)*'Base original'!AK24/'Base original'!$AR24","v":3.2756648470112233},{"$f":"+('Base original'!AL36/'Base original'!AL24*100-100)*'Base original'!AL24/'Base original'!$AR24","v":16.62977249051146},{"$f":"+('Base original'!AM36/'Base original'!AM24*100-100)*'Base original'!AM24/'Base original'!$AR24","v":0.32270152919492628},{"$f":"+('Base original'!AN36/'Base original'!AN24*100-100)*'Base original'!AN24/'Base original'!$AR24","v":4.3347687746651413},{"$f":"+('Base original'!AO36/'Base original'!AO24*100-100)*'Base original'!AO24/'Base original'!$AR24","v":0.20449101504877337},{"$f":"+('Base original'!AP36/'Base original'!AP24*100-100)*'Base original'!AP24/'Base original'!$AR24","v":4.3923050775990946},{"$f":"+('Base original'!AQ36/'Base original'!AQ24*100-100)*'Base original'!AQ24/'Base original'!$AR24","v":4.5032576817581535E-3},{"$f":"+(('Base original'!AN36-'Base original'!AP36)/('Base original'!AN24-'Base original'!AP24)*100-100)*(('Base original'!AN24-'Base original'!AP24)/'Base original'!AR24)","v":-5.7536302933953683E-2},{"$f":"+(('Base original'!AO36-'Base original'!AQ36)/('Base original'!AO24-'Base original'!AQ24)*100-100)*(('Base original'!AO24-'Base original'!AQ24)/'Base original'!AR24)","v":0.19998775736701518},{"$f":"+('Base original'!AR36/'Base original'!AR24*100-100)*'Base original'!AR24/'Base original'!$AR24","v":20.370590321150672},{"$f":"+('Base original'!AR36/'Base original'!AR24*100-100)*'Base original'!AR24/'Base original'!$BC24","v":12.381349579826644},{"$f":"+('Base original'!AS36/'Base original'!AS24*100-100)*'Base original'!AS24/'Base original'!$BC24","v":1.3313531944771277},{"$f":"+('Base original'!AT36/'Base original'!AT24*100-100)*'Base original'!AT24/'Base original'!$BC24","v":-0.55718976549657395},{"$f":"+('Base original'!AU36/'Base original'!AU24*100-100)*'Base original'!AU24/'Base original'!$BC24","v":0.71214183558045019},{"$f":"+('Base original'!AV36/'Base original'!AV24*100-100)*'Base original'!AV24/'Base original'!$BC24","v":-0.29386005661683373},{"$f":"+('Base original'!AW36/'Base original'!AW24*100-100)*'Base original'!AW24/'Base original'!$BC24","v":3.4694238749401293E-2},{"$f":"+('Base original'!AX36/'Base original'!AX24*100-100)*'Base original'!AX24/'Base original'!$BC24","v":2.3832015649882452},{"$f":"+('Base original'!AY36/'Base original'!AY24*100-100)*'Base original'!AY24/'Base original'!$BC24","v":0.9003031203464027},{"$f":"+('Base original'!AZ36/'Base original'!AZ24*100-100)*'Base original'!AZ24/'Base original'!$BC24","v":4.2890989238663912E-2},{"$f":"+('Base original'!BA36/'Base original'!BA24*100-100)*'Base original'!BA24/'Base original'!$BC24","v":0.88706893527581521},{"$f":"+('Base original'!BB36/'Base original'!BB24*100-100)*'Base original'!BB24/'Base original'!$BC24","v":4.3881005283548179E-2},{"$f":"+(('Base original'!AY36-'Base original'!BA36)/('Base original'!AY24-'Base original'!BA24)*100-100)*('Base original'!AY24-'Base original'!BA24)/'Base original'!$BC24","v":1.3234185070585831E-2},{"$f":"+(('Base original'!AZ36-'Base original'!BB36)/('Base original'!AZ24-'Base original'!BB24)*100-100)*('Base original'!AZ24-'Base original'!BB24)/'Base original'!$BC24","v":-9.9001604488425411E-4},{"$f":"+('Base original'!BC36/'Base original'!BC24*100-100)*'Base original'!BC24/'Base original'!$BC24","v":16.003934760534165}]
["2008-06-01",{"$f":"+'Base original'!B37/'Base original'!B25*100-100","v":22.024724614340158},{"$f":"+'Base original'!C37/'Base original'!C25*100-100","v":13.126290554044658},{"$f":"+'Base original'!D37/'Base original'!D25*100-100","v":24.878763966050485},{"$f":"+'Base original'!E37/'Base original'!E25*100-100","v":32.759707009036731},{"$f":"+'Base original'!F37/'Base original'!F25*100-100","v":22.488679070659259},{"$f":"+'Base original'!G37","v":30.744248148501701},null,null,null,null,{"$f":"+'Base original'!Q37","v":10.8763012727232},null,null,null,{"$f":"+'Base original'!Y37","v":4.2386793668557603},null,null,{"$f":"+'Base original'!AE37","v":4.72},{"$f":"+('Base original'!AH37/'Base original'!AH25*100-100)*'Base original'!AH25/'Base original'!$AK25","v":2.9440908675994892},{"$f":"+('Base original'!AI37/'Base original'!AI25*100-100)*'Base original'!AI25/'Base original'!$AK25","v":10.415948240309083},{"$f":"+('Base original'!AJ37/'Base original'!AJ25*100-100)*'Base original'!AJ25/'Base original'!$AK25","v":2.024787771410117},{"$f":"+('Base original'!AK37/'Base original'!AK25*100-100)*'Base original'!AK25/'Base original'!$AK25","v":15.38482687931868},{"$f":"+('Base original'!AK37/'Base original'!AK25*100-100)*'Base original'!AK25/'Base original'!$AR25","v":3.2932677263093986},{"$f":"+('Base original'!AL37/'Base original'!AL25*100-100)*'Base original'!AL25/'Base original'!$AR25","v":14.826628373472728},{"$f":"+('Base original'!AM37/'Base original'!AM25*100-100)*'Base original'!AM25/'Base original'!$AR25","v":0.35606775532685853},{"$f":"+('Base original'!AN37/'Base original'!AN25*100-100)*'Base original'!AN25/'Base original'!$AR25","v":2.935716845786795},{"$f":"+('Base original'!AO37/'Base original'!AO25*100-100)*'Base original'!AO25/'Base original'!$AR25","v":0.21251065304697897},{"$f":"+('Base original'!AP37/'Base original'!AP25*100-100)*'Base original'!AP25/'Base original'!$AR25","v":2.9865668524979365},{"$f":"+('Base original'!AQ37/'Base original'!AQ25*100-100)*'Base original'!AQ25/'Base original'!$AR25","v":1.306562672439052E-2},{"$f":"+(('Base original'!AN37-'Base original'!AP37)/('Base original'!AN25-'Base original'!AP25)*100-100)*(('Base original'!AN25-'Base original'!AP25)/'Base original'!AR25)","v":-5.0850006711142356E-2},{"$f":"+(('Base original'!AO37-'Base original'!AQ37)/('Base original'!AO25-'Base original'!AQ25)*100-100)*(('Base original'!AO25-'Base original'!AQ25)/'Base original'!AR25)","v":0.19944502632258837},{"$f":"+('Base original'!AR37/'Base original'!AR25*100-100)*'Base original'!AR25/'Base original'!$AR25","v":18.624558874720435},{"$f":"+('Base original'!AR37/'Base original'!AR25*100-100)*'Base original'!AR25/'Base original'!$BC25","v":11.36176453348209},{"$f":"+('Base original'!AS37/'Base original'!AS25*100-100)*'Base original'!AS25/'Base original'!$BC25","v":2.0650126483442892},{"$f":"+('Base original'!AT37/'Base original'!AT25*100-100)*'Base original'!AT25/'Base original'!$BC25","v":0.23131921584322643},{"$f":"+('Base original'!AU37/'Base original'!AU25*100-100)*'Base original'!AU25/'Base original'!$BC25","v":0.71409234304170099},{"$f":"+('Base original'!AV37/'Base original'!AV25*100-100)*'Base original'!AV25/'Base original'!$BC25","v":-0.18737330409800398},{"$f":"+('Base original'!AW37/'Base original'!AW25*100-100)*'Base original'!AW25/'Base original'!$BC25","v":4.4922487561781008E-2},{"$f":"+('Base original'!AX37/'Base original'!AX25*100-100)*'Base original'!AX25/'Base original'!$BC25","v":2.4875109416882912},{"$f":"+('Base original'!AY37/'Base original'!AY25*100-100)*'Base original'!AY25/'Base original'!$BC25","v":0.65078725187407482},{"$f":"+('Base original'!AZ37/'Base original'!AZ25*100-100)*'Base original'!AZ25/'Base original'!$BC25","v":1.0311491710152989E-2},{"$f":"+('Base original'!BA37/'Base original'!BA25*100-100)*'Base original'!BA25/'Base original'!$BC25","v":0.93086345149998839},{"$f":"+('Base original'!BB37/'Base original'!BB25*100-100)*'Base original'!BB25/'Base original'!$BC25","v":3.090575231232515E-2},{"$f":"+(('Base original'!AY37-'Base original'!BA37)/('Base original'!AY25-'Base original'!BA25)*100-100)*('Base original'!AY25-'Base original'!BA25)/'Base original'!$BC25","v":-0.28007619962591346},{"$f":"+(('Base original'!AZ37-'Base original'!BB37)/('Base original'!AZ25-'Base original'!BB25)*100-100)*('Base original'!AZ25-'Base original'!BB25)/'Base original'!$BC25","v":-2.0594260602172058E-2},{"$f":"+('Base original'!BC37/'Base original'!BC25*100-100)*'Base original'!BC25/'Base original'!$BC25","v":16.416578405635278}]
["2008-07-01",{"$f":"+'Base original'!B38/'Base original'!B26*100-100","v":21.58154513120887},{"$f":"+'Base original'!C38/'Base original'!C26*100-100","v":12.294786004141756},{"$f":"+'Base original'!D38/'Base original'!D26*100-100","v":25.20579870004957},{"$f":"+'Base original'!E38/'Base original'!E26*100-100","v":27.195672635264344},{"$f":"+'Base original'!F38/'Base original'!F26*100-100","v":21.675957902137895},{"$f":"+'Base original'!G38","v":31.240313742673901},null,null,null,null,{"$f":"+'Base original'!Q38","v":11.428753715123401},null,null,null,{"$f":"+'Base original'!Y38","v":4.4044248683942699},null,null,{"$f":"+'Base original'!AE38","v":4.87},{"$f":"+('Base original'!AH38/'Base original'!AH26*100-100)*'Base original'!AH26/'Base original'!$AK26","v":2.8781810683291811},{"$f":"+('Base original'!AI38/'Base original'!AI26*100-100)*'Base original'!AI26/'Base original'!$AK26","v":8.5109208976074324},{"$f":"+('Base original'!AJ38/'Base original'!AJ26*100-100)*'Base original'!AJ26/'Base original'!$AK26","v":-2.538941319456232},{"$f":"+('Base original'!AK38/'Base original'!AK26*100-100)*'Base original'!AK26/'Base original'!$AK26","v":8.8501606464803899},{"$f":"+('Base original'!AK38/'Base original'!AK26*100-100)*'Base original'!AK26/'Base original'!$AR26","v":1.8773289744567503},{"$f":"+('Base original'!AL38/'Base original'!AL26*100-100)*'Base original'!AL26/'Base original'!$AR26","v":14.089120624379364},{"$f":"+('Base original'!AM38/'Base original'!AM26*100-100)*'Base original'!AM26/'Base original'!$AR26","v":0.41149892713367558},{"$f":"+('Base original'!AN38/'Base original'!AN26*100-100)*'Base original'!AN26/'Base original'!$AR26","v":2.3283696695843226},{"$f":"+('Base original'!AO38/'Base original'!AO26*100-100)*'Base original'!AO26/'Base original'!$AR26","v":0.22335065548196195},{"$f":"+('Base original'!AP38/'Base original'!AP26*100-100)*'Base original'!AP26/'Base original'!$AR26","v":2.5927472298862448},{"$f":"+('Base original'!AQ38/'Base original'!AQ26*100-100)*'Base original'!AQ26/'Base original'!$AR26","v":1.4572905105732167E-2},{"$f":"+(('Base original'!AN38-'Base original'!AP38)/('Base original'!AN26-'Base original'!AP26)*100-100)*(('Base original'!AN26-'Base original'!AP26)/'Base original'!AR26)","v":-0.264377560301922},{"$f":"+(('Base original'!AO38-'Base original'!AQ38)/('Base original'!AO26-'Base original'!AQ26)*100-100)*(('Base original'!AO26-'Base original'!AQ26)/'Base original'!AR26)","v":0.2087777503762297},{"$f":"+('Base original'!AR38/'Base original'!AR26*100-100)*'Base original'!AR26/'Base original'!$AR26","v":16.322348716044061},{"$f":"+('Base original'!AR38/'Base original'!AR26*100-100)*'Base original'!AR26/'Base original'!$BC26","v":9.9993904890633765},{"$f":"+('Base original'!AS38/'Base original'!AS26*100-100)*'Base original'!AS26/'Base original'!$BC26","v":2.7092992141786958},{"$f":"+('Base original'!AT38/'Base original'!AT26*100-100)*'Base original'!AT26/'Base original'!$BC26","v":1.1135107321726136},{"$f":"+('Base original'!AU38/'Base original'!AU26*100-100)*'Base original'!AU26/'Base original'!$BC26","v":0.7462972743701568},{"$f":"+('Base original'!AV38/'Base original'!AV26*100-100)*'Base original'!AV26/'Base original'!$BC26","v":-0.13340293012342672},{"$f":"+('Base original'!AW38/'Base original'!AW26*100-100)*'Base original'!AW26/'Base original'!$BC26","v":4.3515171473551884E-2},{"$f":"+('Base original'!AX38/'Base original'!AX26*100-100)*'Base original'!AX26/'Base original'!$BC26","v":2.5130757865898534},{"$f":"+('Base original'!AY38/'Base original'!AY26*100-100)*'Base original'!AY26/'Base original'!$BC26","v":0.15576469579735655},{"$f":"+('Base original'!AZ38/'Base original'!AZ26*100-100)*'Base original'!AZ26/'Base original'!$BC26","v":-4.6002971214771024E-2},{"$f":"+('Base original'!BA38/'Base original'!BA26*100-100)*'Base original'!BA26/'Base original'!$BC26","v":0.99686846430574227},{"$f":"+('Base original'!BB38/'Base original'!BB26*100-100)*'Base original'!BB26/'Base original'!$BC26","v":4.1084235726417825E-2},{"$f":"+(('Base original'!AY38-'Base original'!BA38)/('Base original'!AY26-'Base original'!BA26)*100-100)*('Base original'!AY26-'Base original'!BA26)/'Base original'!$BC26","v":-0.84110376850838631},{"$f":"+(('Base original'!AZ38-'Base original'!BB38)/('Base original'!AZ26-'Base original'!BB26)*100-100)*('Base original'!AZ26-'Base original'!BB26)/'Base original'!$BC26","v":-8.7087206941188669E-2},{"$f":"+('Base original'!BC38/'Base original'!BC26*100-100)*'Base original'!BC26/'Base original'!$BC26","v":16.063494762275226}]
["2008-08-01",{"$f":"+'Base original'!B39/'Base original'!B27*100-100","v":20.734256172211005},{"$f":"+'Base original'!C39/'Base original'!C27*100-100","v":11.167500211905775},{"$f":"+'Base original'!D39/'Base original'!D27*100-100","v":24.760985488975962},{"$f":"+'Base original'!E39/'Base original'!E27*100-100","v":25.127798665210932},{"$f":"+'Base original'!F39/'Base original'!F27*100-100","v":20.771601713138523},{"$f":"+'Base original'!G39","v":32.014571090938801},null,null,null,null,{"$f":"+'Base original'!Q39","v":11.872771857100901},null,null,null,{"$f":"+'Base original'!Y39","v":4.6828430653168001},null,null,{"$f":"+'Base original'!AE39","v":4.82},{"$f":"+('Base original'!AH39/'Base original'!AH27*100-100)*'Base original'!AH27/'Base original'!$AK27","v":2.8734466559593059},{"$f":"+('Base original'!AI39/'Base original'!AI27*100-100)*'Base original'!AI27/'Base original'!$AK27","v":5.9892856947086255},{"$f":"+('Base original'!AJ39/'Base original'!AJ27*100-100)*'Base original'!AJ27/'Base original'!$AK27","v":1.4574470067807073},{"$f":"+('Base original'!AK39/'Base original'!AK27*100-100)*'Base original'!AK27/'Base original'!$AK27","v":10.320179357448637},{"$f":"+('Base original'!AK39/'Base original'!AK27*100-100)*'Base original'!AK27/'Base original'!$AR27","v":2.1796125040966836},{"$f":"+('Base original'!AL39/'Base original'!AL27*100-100)*'Base original'!AL27/'Base original'!$AR27","v":14.342694244404807},{"$f":"+('Base original'!AM39/'Base original'!AM27*100-100)*'Base original'!AM27/'Base original'!$AR27","v":0.45479310357961589},{"$f":"+('Base original'!AN39/'Base original'!AN27*100-100)*'Base original'!AN27/'Base original'!$AR27","v":2.1045237129904497},{"$f":"+('Base original'!AO39/'Base original'!AO27*100-100)*'Base original'!AO27/'Base original'!$AR27","v":0.23286092265045288},{"$f":"+('Base original'!AP39/'Base original'!AP27*100-100)*'Base original'!AP27/'Base original'!$AR27","v":2.1120951082083788},{"$f":"+('Base original'!AQ39/'Base original'!AQ27*100-100)*'Base original'!AQ27/'Base original'!$AR27","v":1.0396197103515291E-2},{"$f":"+(('Base original'!AN39-'Base original'!AP39)/('Base original'!AN27-'Base original'!AP27)*100-100)*(('Base original'!AN27-'Base original'!AP27)/'Base original'!AR27)","v":-7.5713952179286264E-3},{"$f":"+(('Base original'!AO39-'Base original'!AQ39)/('Base original'!AO27-'Base original'!AQ27)*100-100)*(('Base original'!AO27-'Base original'!AQ27)/'Base original'!AR27)","v":0.22246472554693769},{"$f":"+('Base original'!AR39/'Base original'!AR27*100-100)*'Base original'!AR27/'Base original'!$AR27","v":17.19199318241013},{"$f":"+('Base original'!AR39/'Base original'!AR27*100-100)*'Base original'!AR27/'Base original'!$BC27","v":10.493721106997418},{"$f":"+('Base original'!AS39/'Base original'!AS27*100-100)*'Base original'!AS27/'Base original'!$BC27","v":2.9472619541572493},{"$f":"+('Base original'!AT39/'Base original'!AT27*100-100)*'Base original'!AT27/'Base original'!$BC27","v":2.1391000260547166},{"$f":"+('Base original'!AU39/'Base original'!AU27*100-100)*'Base original'!AU27/'Base original'!$BC27","v":0.94311704153573939},{"$f":"+('Base original'!AV39/'Base original'!AV27*100-100)*'Base original'!AV27/'Base original'!$BC27","v":-0.1965463150608032},{"$f":"+('Base original'!AW39/'Base original'!AW27*100-100)*'Base original'!AW27/'Base original'!$BC27","v":5.4510616034336559E-2},{"$f":"+('Base original'!AX39/'Base original'!AX27*100-100)*'Base original'!AX27/'Base original'!$BC27","v":2.7740631987772155},{"$f":"+('Base original'!AY39/'Base original'!AY27*100-100)*'Base original'!AY27/'Base original'!$BC27","v":-0.11761403853713906},{"$f":"+('Base original'!AZ39/'Base original'!AZ27*100-100)*'Base original'!AZ27/'Base original'!$BC27","v":-7.4423879708793439E-2},{"$f":"+('Base original'!BA39/'Base original'!BA27*100-100)*'Base original'!BA27/'Base original'!$BC27","v":1.1325969039086592},{"$f":"+('Base original'!BB39/'Base original'!BB27*100-100)*'Base original'!BB27/'Base original'!$BC27","v":4.6539657402403442E-2},{"$f":"+(('Base original'!AY39-'Base original'!BA39)/('Base original'!AY27-'Base original'!BA27)*100-100)*('Base original'!AY27-'Base original'!BA27)/'Base original'!$BC27","v":-1.2502109424457981},{"$f":"+(('Base original'!AZ39-'Base original'!BB39)/('Base original'!AZ27-'Base original'!BB27)*100-100)*('Base original'!AZ27-'Base original'!BB27)/'Base original'!$BC27","v":-0.12096353711119694},{"$f":"+('Base original'!BC39/'Base original'!BC27*100-100)*'Base original'!BC27/'Base original'!$BC27","v":17.784053148938852}]
["2008-09-01",{"$f":"+'Base original'!B40/'Base original'!B28*100-100","v":20.23680606588465},{"$f":"+'Base original'!C40/'Base original'!C28*100-100","v":10.44001468610152},{"$f":"+'Base original'!D40/'Base original'!D28*100-100","v":23.746253447441518},{"$f":"+'Base original'!E40/'Base original'!E28*100-100","v":36.869184904918569},{"$f":"+'Base original'!F40/'Base original'!F28*100-100","v":21.229827816531468},{"$f":"+'Base original'!G40","v":34.024364909569798},null,null,null,null,{"$f":"+'Base original'!Q40","v":12.804720313383299},null,null,null,{"$f":"+'Base original'!Y40","v":5.1263856274647104},null,null,{"$f":"+'Base original'!AE40","v":4.8},{"$f":"+('Base original'!AH40/'Base original'!AH28*100-100)*'Base original'!AH28/'Base original'!$AK28","v":2.7175443686677849},{"$f":"+('Base original'!AI40/'Base original'!AI28*100-100)*'Base original'!AI28/'Base original'!$AK28","v":7.9800956082484946},{"$f":"+('Base original'!AJ40/'Base original'!AJ28*100-100)*'Base original'!AJ28/'Base original'!$AK28","v":-2.3646520491049805},{"$f":"+('Base original'!AK40/'Base original'!AK28*100-100)*'Base original'!AK28/'Base original'!$AK28","v":8.3329879278113026},{"$f":"+('Base original'!AK40/'Base original'!AK28*100-100)*'Base original'!AK28/'Base original'!$AR28","v":1.8017807472946938},{"$f":"+('Base original'!AL40/'Base original'!AL28*100-100)*'Base original'!AL28/'Base original'!$AR28","v":14.590895497808221},{"$f":"+('Base original'!AM40/'Base original'!AM28*100-100)*'Base original'!AM28/'Base original'!$AR28","v":0.47255754317048282},{"$f":"+('Base original'!AN40/'Base original'!AN28*100-100)*'Base original'!AN28/'Base original'!$AR28","v":1.076858540678469},{"$f":"+('Base original'!AO40/'Base original'!AO28*100-100)*'Base original'!AO28/'Base original'!$AR28","v":0.22713279307027145},{"$f":"+('Base original'!AP40/'Base original'!AP28*100-100)*'Base original'!AP28/'Base original'!$AR28","v":0.29968016536112935},{"$f":"+('Base original'!AQ40/'Base original'!AQ28*100-100)*'Base original'!AQ28/'Base original'!$AR28","v":6.4573365897153288E-3},{"$f":"+(('Base original'!AN40-'Base original'!AP40)/('Base original'!AN28-'Base original'!AP28)*100-100)*(('Base original'!AN28-'Base original'!AP28)/'Base original'!AR28)","v":0.77717837531733858},{"$f":"+(('Base original'!AO40-'Base original'!AQ40)/('Base original'!AO28-'Base original'!AQ28)*100-100)*(('Base original'!AO28-'Base original'!AQ28)/'Base original'!AR28)","v":0.2206754564805562},{"$f":"+('Base original'!AR40/'Base original'!AR28*100-100)*'Base original'!AR28/'Base original'!$AR28","v":17.863087620071312},{"$f":"+('Base original'!AR40/'Base original'!AR28*100-100)*'Base original'!AR28/'Base original'!$BC28","v":10.898679810653029},{"$f":"+('Base original'!AS40/'Base original'!AS28*100-100)*'Base original'!AS28/'Base original'!$BC28","v":3.1590920828324291},{"$f":"+('Base original'!AT40/'Base original'!AT28*100-100)*'Base original'!AT28/'Base original'!$BC28","v":3.1975924616706899},{"$f":"+('Base original'!AU40/'Base original'!AU28*100-100)*'Base original'!AU28/'Base original'!$BC28","v":1.1063320806152228},{"$f":"+('Base original'!AV40/'Base original'!AV28*100-100)*'Base original'!AV28/'Base original'!$BC28","v":-0.3428160098231206},{"$f":"+('Base original'!AW40/'Base original'!AW28*100-100)*'Base original'!AW28/'Base original'!$BC28","v":8.4221331275100716E-2},{"$f":"+('Base original'!AX40/'Base original'!AX28*100-100)*'Base original'!AX28/'Base original'!$BC28","v":3.0311126734968017},{"$f":"+('Base original'!AY40/'Base original'!AY28*100-100)*'Base original'!AY28/'Base original'!$BC28","v":-0.64340217949298495},{"$f":"+('Base original'!AZ40/'Base original'!AZ28*100-100)*'Base original'!AZ28/'Base original'!$BC28","v":-0.13936408071824546},{"$f":"+('Base original'!BA40/'Base original'!BA28*100-100)*'Base original'!BA28/'Base original'!$BC28","v":0.78350934836797859},{"$f":"+('Base original'!BB40/'Base original'!BB28*100-100)*'Base original'!BB28/'Base original'!$BC28","v":6.4410320605595581E-2},{"$f":"+(('Base original'!AY40-'Base original'!BA40)/('Base original'!AY28-'Base original'!BA28)*100-100)*('Base original'!AY28-'Base original'!BA28)/'Base original'!$BC28","v":-1.4269115278609645},{"$f":"+(('Base original'!AZ40-'Base original'!BB40)/('Base original'!AZ28-'Base original'!BB28)*100-100)*('Base original'!AZ28-'Base original'!BB28)/'Base original'!$BC28","v":-0.20377440132384106},{"$f":"+('Base original'!BC40/'Base original'!BC28*100-100)*'Base original'!BC28/'Base original'!$BC28","v":19.503528501535342}]
["2008-10-01",{"$f":"+'Base original'!B41/'Base original'!B29*100-100","v":22.170368028786982},{"$f":"+'Base original'!C41/'Base original'!C29*100-100","v":9.1482328450985619},{"$f":"+'Base original'!D41/'Base original'!D29*100-100","v":23.135581434273121},{"$f":"+'Base original'!E41/'Base original'!E29*100-100","v":61.59700315725425},{"$f":"+'Base original'!F41/'Base original'!F29*100-100","v":24.147095820818549},{"$f":"+'Base original'!G41","v":35.760897802525299},null,null,null,null,{"$f":"+'Base original'!Q41","v":15.1485057621497},null,null,null,{"$f":"+'Base original'!Y41","v":8.0271257425205302},null,null,{"$f":"+'Base original'!AE41","v":5.34},{"$f":"+('Base original'!AH41/'Base original'!AH29*100-100)*'Base original'!AH29/'Base original'!$AK29","v":3.1226777124590477},{"$f":"+('Base original'!AI41/'Base original'!AI29*100-100)*'Base original'!AI29/'Base original'!$AK29","v":9.3884480509377486},{"$f":"+('Base original'!AJ41/'Base original'!AJ29*100-100)*'Base original'!AJ29/'Base original'!$AK29","v":0.82466654262997341},{"$f":"+('Base original'!AK41/'Base original'!AK29*100-100)*'Base original'!AK29/'Base original'!$AK29","v":13.335792306026775},{"$f":"+('Base original'!AK41/'Base original'!AK29*100-100)*'Base original'!AK29/'Base original'!$AR29","v":2.7869877796906035},{"$f":"+('Base original'!AL41/'Base original'!AL29*100-100)*'Base original'!AL29/'Base original'!$AR29","v":15.80565786010105},{"$f":"+('Base original'!AM41/'Base original'!AM29*100-100)*'Base original'!AM29/'Base original'!$AR29","v":0.46798074109517385},{"$f":"+('Base original'!AN41/'Base original'!AN29*100-100)*'Base original'!AN29/'Base original'!$AR29","v":1.1985909734516722},{"$f":"+('Base original'!AO41/'Base original'!AO29*100-100)*'Base original'!AO29/'Base original'!$AR29","v":0.20821629882943066},{"$f":"+('Base original'!AP41/'Base original'!AP29*100-100)*'Base original'!AP29/'Base original'!$AR29","v":0.11639830006638224},{"$f":"+('Base original'!AQ41/'Base original'!AQ29*100-100)*'Base original'!AQ29/'Base original'!$AR29","v":2.364802345556501E-3},{"$f":"+(('Base original'!AN41-'Base original'!AP41)/('Base original'!AN29-'Base original'!AP29)*100-100)*(('Base original'!AN29-'Base original'!AP29)/'Base original'!AR29)","v":1.0821926733852885},{"$f":"+(('Base original'!AO41-'Base original'!AQ41)/('Base original'!AO29-'Base original'!AQ29)*100-100)*(('Base original'!AO29-'Base original'!AQ29)/'Base original'!AR29)","v":0.20585149648387421},{"$f":"+('Base original'!AR41/'Base original'!AR29*100-100)*'Base original'!AR29/'Base original'!$AR29","v":20.348670550755998},{"$f":"+('Base original'!AR41/'Base original'!AR29*100-100)*'Base original'!AR29/'Base original'!$BC29","v":12.407234902419136},{"$f":"+('Base original'!AS41/'Base original'!AS29*100-100)*'Base original'!AS29/'Base original'!$BC29","v":3.4118576959142195},{"$f":"+('Base original'!AT41/'Base original'!AT29*100-100)*'Base original'!AT29/'Base original'!$BC29","v":3.1131912087820384},{"$f":"+('Base original'!AU41/'Base original'!AU29*100-100)*'Base original'!AU29/'Base original'!$BC29","v":1.3216359461685201},{"$f":"+('Base original'!AV41/'Base original'!AV29*100-100)*'Base original'!AV29/'Base original'!$BC29","v":-0.29305141298453807},{"$f":"+('Base original'!AW41/'Base original'!AW29*100-100)*'Base original'!AW29/'Base original'!$BC29","v":9.93105583199244E-2},{"$f":"+('Base original'!AX41/'Base original'!AX29*100-100)*'Base original'!AX29/'Base original'!$BC29","v":3.0044528716463157},{"$f":"+('Base original'!AY41/'Base original'!AY29*100-100)*'Base original'!AY29/'Base original'!$BC29","v":-1.8838920374858752},{"$f":"+('Base original'!AZ41/'Base original'!AZ29*100-100)*'Base original'!AZ29/'Base original'!$BC29","v":-0.28557851183495775},{"$f":"+('Base original'!BA41/'Base original'!BA29*100-100)*'Base original'!BA29/'Base original'!$BC29","v":0.2330325093175053},{"$f":"+('Base original'!BB41/'Base original'!BB29*100-100)*'Base original'!BB29/'Base original'!$BC29","v":5.2823290129681996E-2},{"$f":"+(('Base original'!AY41-'Base original'!BA41)/('Base original'!AY29-'Base original'!BA29)*100-100)*('Base original'!AY29-'Base original'!BA29)/'Base original'!$BC29","v":-2.1169245468033804},{"$f":"+(('Base original'!AZ41-'Base original'!BB41)/('Base original'!AZ29-'Base original'!BB29)*100-100)*('Base original'!AZ29-'Base original'!BB29)/'Base original'!$BC29","v":-0.3384018019646397},{"$f":"+('Base original'!BC41/'Base original'!BC29*100-100)*'Base original'!BC29/'Base original'!$BC29","v":20.609305421497595}]
["2008-11-01",{"$f":"+'Base original'!B42/'Base original'!B30*100-100","v":19.537224889747606},{"$f":"+'Base original'!C42/'Base original'!C30*100-100","v":8.0771603229327269},{"$f":"+'Base original'!D42/'Base original'!D30*100-100","v":22.722753146790396},{"$f":"+'Base original'!E42/'Base original'!E30*100-100","v":51.40255611334689},{"$f":"+'Base original'!F42/'Base original'!F30*100-100","v":21.62517544784464},{"$f":"+'Base original'!G42","v":36.071842036112699},null,null,null,null,{"$f":"+'Base original'!Q42","v":15.128786233759699},null,null,null,{"$f":"+'Base original'!Y42","v":5.9275972440875204},null,null,{"$f":"+'Base original'!AE42","v":5.69},{"$f":"+('Base original'!AH42/'Base original'!AH30*100-100)*'Base original'!AH30/'Base original'!$AK30","v":3.0290903429590608},{"$f":"+('Base original'!AI42/'Base original'!AI30*100-100)*'Base original'!AI30/'Base original'!$AK30","v":7.2876350630529396},{"$f":"+('Base original'!AJ42/'Base original'!AJ30*100-100)*'Base original'!AJ30/'Base original'!$AK30","v":-2.874399850374016},{"$f":"+('Base original'!AK42/'Base original'!AK30*100-100)*'Base original'!AK30/'Base original'!$AK30","v":7.4423255556379928},{"$f":"+('Base original'!AK42/'Base original'!AK30*100-100)*'Base original'!AK30/'Base original'!$AR30","v":1.5668145135634002},{"$f":"+('Base original'!AL42/'Base original'!AL30*100-100)*'Base original'!AL30/'Base original'!$AR30","v":15.894356222022985},{"$f":"+('Base original'!AM42/'Base original'!AM30*100-100)*'Base original'!AM30/'Base original'!$AR30","v":0.45827350247892279},{"$f":"+('Base original'!AN42/'Base original'!AN30*100-100)*'Base original'!AN30/'Base original'!$AR30","v":-0.22314243791802524},{"$f":"+('Base original'!AO42/'Base original'!AO30*100-100)*'Base original'!AO30/'Base original'!$AR30","v":0.22107467479062934},{"$f":"+('Base original'!AP42/'Base original'!AP30*100-100)*'Base original'!AP30/'Base original'!$AR30","v":-1.0786684331376408},{"$f":"+('Base original'!AQ42/'Base original'!AQ30*100-100)*'Base original'!AQ30/'Base original'!$AR30","v":5.8513297009261042E-3},{"$f":"+(('Base original'!AN42-'Base original'!AP42)/('Base original'!AN30-'Base original'!AP30)*100-100)*(('Base original'!AN30-'Base original'!AP30)/'Base original'!AR30)","v":0.8555259952196157},{"$f":"+(('Base original'!AO42-'Base original'!AQ42)/('Base original'!AO30-'Base original'!AQ30)*100-100)*(('Base original'!AO30-'Base original'!AQ30)/'Base original'!AR30)","v":0.21522334508970323},{"$f":"+('Base original'!AR42/'Base original'!AR30*100-100)*'Base original'!AR30/'Base original'!$AR30","v":18.990193578374615},{"$f":"+('Base original'!AR42/'Base original'!AR30*100-100)*'Base original'!AR30/'Base original'!$BC30","v":11.692991511777731},{"$f":"+('Base original'!AS42/'Base original'!AS30*100-100)*'Base original'!AS30/'Base original'!$BC30","v":3.673618807836053},{"$f":"+('Base original'!AT42/'Base original'!AT30*100-100)*'Base original'!AT30/'Base original'!$BC30","v":2.7497352774347683},{"$f":"+('Base original'!AU42/'Base original'!AU30*100-100)*'Base original'!AU30/'Base original'!$BC30","v":1.4380129989098891},{"$f":"+('Base original'!AV42/'Base original'!AV30*100-100)*'Base original'!AV30/'Base original'!$BC30","v":-0.30141006013809979},{"$f":"+('Base original'!AW42/'Base original'!AW30*100-100)*'Base original'!AW30/'Base original'!$BC30","v":0.11007772249774569},{"$f":"+('Base original'!AX42/'Base original'!AX30*100-100)*'Base original'!AX30/'Base original'!$BC30","v":2.888907001153771},{"$f":"+('Base original'!AY42/'Base original'!AY30*100-100)*'Base original'!AY30/'Base original'!$BC30","v":-2.6662322432033649},{"$f":"+('Base original'!AZ42/'Base original'!AZ30*100-100)*'Base original'!AZ30/'Base original'!$BC30","v":-0.34930409566806503},{"$f":"+('Base original'!BA42/'Base original'!BA30*100-100)*'Base original'!BA30/'Base original'!$BC30","v":-3.4268074064144343E-3},{"$f":"+('Base original'!BB42/'Base original'!BB30*100-100)*'Base original'!BB30/'Base original'!$BC30","v":1.7472654364721538E-2},{"$f":"+(('Base original'!AY42-'Base original'!BA42)/('Base original'!AY30-'Base original'!BA30)*100-100)*('Base original'!AY30-'Base original'!BA30)/'Base original'!$BC30","v":-2.6628054357969506},{"$f":"+(('Base original'!AZ42-'Base original'!BB42)/('Base original'!AZ30-'Base original'!BB30)*100-100)*('Base original'!AZ30-'Base original'!BB30)/'Base original'!$BC30","v":-0.36677675003278659},{"$f":"+('Base original'!BC42/'Base original'!BC30*100-100)*'Base original'!BC30/'Base original'!$BC30","v":19.222351073642116}]
["2008-12-01",{"$f":"+'Base original'!B43/'Base original'!B31*100-100","v":15.253573325265492},{"$f":"+'Base original'!C43/'Base original'!C31*100-100","v":6.7645485344274334},{"$f":"+'Base original'!D43/'Base original'!D31*100-100","v":21.169572403209756},{"$f":"+'Base original'!E43/'Base original'!E31*100-100","v":44.878598765652583},{"$f":"+'Base original'!F43/'Base original'!F31*100-100","v":17.986616265955831},{"$f":"+'Base original'!G43","v":36.851581681413002},null,null,null,null,{"$f":"+'Base original'!Q43","v":14.910910610780199},null,null,null,{"$f":"+'Base original'!Y43","v":5.8315002485440504},null,null,{"$f":"+'Base original'!AE43","v":5.77},{"$f":"+('Base original'!AH43/'Base original'!AH31*100-100)*'Base original'!AH31/'Base original'!$AK31","v":2.7098104021180962},{"$f":"+('Base original'!AI43/'Base original'!AI31*100-100)*'Base original'!AI31/'Base original'!$AK31","v":4.6172721044516001},{"$f":"+('Base original'!AJ43/'Base original'!AJ31*100-100)*'Base original'!AJ31/'Base original'!$AK31","v":-0.63360401821941403},{"$f":"+('Base original'!AK43/'Base original'!AK31*100-100)*'Base original'!AK31/'Base original'!$AK31","v":6.6934784883502658},{"$f":"+('Base original'!AK43/'Base original'!AK31*100-100)*'Base original'!AK31/'Base original'!$AR31","v":1.4389834941139779},{"$f":"+('Base original'!AL43/'Base original'!AL31*100-100)*'Base original'!AL31/'Base original'!$AR31","v":14.153460828097192},{"$f":"+('Base original'!AM43/'Base original'!AM31*100-100)*'Base original'!AM31/'Base original'!$AR31","v":0.43943708673712562},{"$f":"+('Base original'!AN43/'Base original'!AN31*100-100)*'Base original'!AN31/'Base original'!$AR31","v":0.7114695690029641},{"$f":"+('Base original'!AO43/'Base original'!AO31*100-100)*'Base original'!AO31/'Base original'!$AR31","v":0.25724026506040326},{"$f":"+('Base original'!AP43/'Base original'!AP31*100-100)*'Base original'!AP31/'Base original'!$AR31","v":-6.9016198496531317E-2},{"$f":"+('Base original'!AQ43/'Base original'!AQ31*100-100)*'Base original'!AQ31/'Base original'!$AR31","v":1.1969599001243074E-2},{"$f":"+(('Base original'!AN43-'Base original'!AP43)/('Base original'!AN31-'Base original'!AP31)*100-100)*(('Base original'!AN31-'Base original'!AP31)/'Base original'!AR31)","v":0.78048576749949594},{"$f":"+(('Base original'!AO43-'Base original'!AQ43)/('Base original'!AO31-'Base original'!AQ31)*100-100)*(('Base original'!AO31-'Base original'!AQ31)/'Base original'!AR31)","v":0.24527066605916009},{"$f":"+('Base original'!AR43/'Base original'!AR31*100-100)*'Base original'!AR31/'Base original'!$AR31","v":17.057637842506949},{"$f":"+('Base original'!AR43/'Base original'!AR31*100-100)*'Base original'!AR31/'Base original'!$BC31","v":10.691135953180757},{"$f":"+('Base original'!AS43/'Base original'!AS31*100-100)*'Base original'!AS31/'Base original'!$BC31","v":3.3568172603464976},{"$f":"+('Base original'!AT43/'Base original'!AT31*100-100)*'Base original'!AT31/'Base original'!$BC31","v":2.9900775157543733},{"$f":"+('Base original'!AU43/'Base original'!AU31*100-100)*'Base original'!AU31/'Base original'!$BC31","v":1.3410056708518046},{"$f":"+('Base original'!AV43/'Base original'!AV31*100-100)*'Base original'!AV31/'Base original'!$BC31","v":-0.4275947854505987},{"$f":"+('Base original'!AW43/'Base original'!AW31*100-100)*'Base original'!AW31/'Base original'!$BC31","v":0.15146586890829233},{"$f":"+('Base original'!AX43/'Base original'!AX31*100-100)*'Base original'!AX31/'Base original'!$BC31","v":2.9361127287023892},{"$f":"+('Base original'!AY43/'Base original'!AY31*100-100)*'Base original'!AY31/'Base original'!$BC31","v":-2.6642802445529323},{"$f":"+('Base original'!AZ43/'Base original'!AZ31*100-100)*'Base original'!AZ31/'Base original'!$BC31","v":-0.3280851547047538},{"$f":"+('Base original'!BA43/'Base original'!BA31*100-100)*'Base original'!BA31/'Base original'!$BC31","v":-8.5742424781140761E-2},{"$f":"+('Base original'!BB43/'Base original'!BB31*100-100)*'Base original'!BB31/'Base original'!$BC31","v":2.9263626205169434E-4},{"$f":"+(('Base original'!AY43-'Base original'!BA43)/('Base original'!AY31-'Base original'!BA31)*100-100)*('Base original'!AY31-'Base original'!BA31)/'Base original'!$BC31","v":-2.5785378197717916},{"$f":"+(('Base original'!AZ43-'Base original'!BB43)/('Base original'!AZ31-'Base original'!BB31)*100-100)*('Base original'!AZ31-'Base original'!BB31)/'Base original'!$BC31","v":-0.32837779096680542},{"$f":"+('Base original'!BC43/'Base original'!BC31*100-100)*'Base original'!BC31/'Base original'!$BC31","v":18.132104601554914}]
["2009-01-01",{"$f":"+'Base original'!B44/'Base original'!B32*100-100","v":13.926050673060146},{"$f":"+'Base original'!C44/'Base original'!C32*100-100","v":5.3804837092024513},{"$f":"+'Base original'!D44/'Base original'!D32*100-100","v":18.634299654171627},{"$f":"+'Base original'!E44/'Base original'!E32*100-100","v":46.958229600124781},{"$f":"+'Base original'!F44/'Base original'!F32*100-100","v":16.538155933640894},{"$f":"+'Base original'!G44","v":36.334171451960003},null,null,null,null,{"$f":"+'Base original'!Q44","v":13.5112458646691},null,null,null,{"$f":"+'Base original'!Y44","v":5.3235662820483602},null,null,{"$f":"+'Base original'!AE44","v":5.92},{"$f":"+('Base original'!AH44/'Base original'!AH32*100-100)*'Base original'!AH32/'Base original'!$AK32","v":2.4970355053360906},{"$f":"+('Base original'!AI44/'Base original'!AI32*100-100)*'Base original'!AI32/'Base original'!$AK32","v":3.5085999745200644},{"$f":"+('Base original'!AJ44/'Base original'!AJ32*100-100)*'Base original'!AJ32/'Base original'!$AK32","v":-0.62838515890670221},{"$f":"+('Base original'!AK44/'Base original'!AK32*100-100)*'Base original'!AK32/'Base original'!$AK32","v":5.3772503209494431},{"$f":"+('Base original'!AK44/'Base original'!AK32*100-100)*'Base original'!AK32/'Base original'!$AR32","v":1.1447566359426713},{"$f":"+('Base original'!AL44/'Base original'!AL32*100-100)*'Base original'!AL32/'Base original'!$AR32","v":12.570041236900458},{"$f":"+('Base original'!AM44/'Base original'!AM32*100-100)*'Base original'!AM32/'Base original'!$AR32","v":0.40077956946343396},{"$f":"+('Base original'!AN44/'Base original'!AN32*100-100)*'Base original'!AN32/'Base original'!$AR32","v":4.3614247265138406},{"$f":"+('Base original'!AO44/'Base original'!AO32*100-100)*'Base original'!AO32/'Base original'!$AR32","v":0.24931368324247977},{"$f":"+('Base original'!AP44/'Base original'!AP32*100-100)*'Base original'!AP32/'Base original'!$AR32","v":3.4161190371651573},{"$f":"+('Base original'!AQ44/'Base original'!AQ32*100-100)*'Base original'!AQ32/'Base original'!$AR32","v":1.3352364625538666E-2},{"$f":"+(('Base original'!AN44-'Base original'!AP44)/('Base original'!AN32-'Base original'!AP32)*100-100)*(('Base original'!AN32-'Base original'!AP32)/'Base original'!AR32)","v":0.94530568934868398},{"$f":"+(('Base original'!AO44-'Base original'!AQ44)/('Base original'!AO32-'Base original'!AQ32)*100-100)*(('Base original'!AO32-'Base original'!AQ32)/'Base original'!AR32)","v":0.2359613186169412},{"$f":"+('Base original'!AR44/'Base original'!AR32*100-100)*'Base original'!AR32/'Base original'!$AR32","v":15.296844450272188},{"$f":"+('Base original'!AR44/'Base original'!AR32*100-100)*'Base original'!AR32/'Base original'!$BC32","v":9.6658762738254023},{"$f":"+('Base original'!AS44/'Base original'!AS32*100-100)*'Base original'!AS32/'Base original'!$BC32","v":3.084450222158329},{"$f":"+('Base original'!AT44/'Base original'!AT32*100-100)*'Base original'!AT32/'Base original'!$BC32","v":2.5167858781563721},{"$f":"+('Base original'!AU44/'Base original'!AU32*100-100)*'Base original'!AU32/'Base original'!$BC32","v":1.2563495583694002},{"$f":"+('Base original'!AV44/'Base original'!AV32*100-100)*'Base original'!AV32/'Base original'!$BC32","v":-0.60774097209684563},{"$f":"+('Base original'!AW44/'Base original'!AW32*100-100)*'Base original'!AW32/'Base original'!$BC32","v":0.17362144474003149},{"$f":"+('Base original'!AX44/'Base original'!AX32*100-100)*'Base original'!AX32/'Base original'!$BC32","v":3.2554350466289574},{"$f":"+('Base original'!AY44/'Base original'!AY32*100-100)*'Base original'!AY32/'Base original'!$BC32","v":-2.0166190130510731},{"$f":"+('Base original'!AZ44/'Base original'!AZ32*100-100)*'Base original'!AZ32/'Base original'!$BC32","v":-0.28066822767769717},{"$f":"+('Base original'!BA44/'Base original'!BA32*100-100)*'Base original'!BA32/'Base original'!$BC32","v":0.20512905695936953},{"$f":"+('Base original'!BB44/'Base original'!BB32*100-100)*'Base original'!BB32/'Base original'!$BC32","v":-1.9510989993564685E-2},{"$f":"+(('Base original'!AY44-'Base original'!BA44)/('Base original'!AY32-'Base original'!BA32)*100-100)*('Base original'!AY32-'Base original'!BA32)/'Base original'!$BC32","v":-2.2217480700104435},{"$f":"+(('Base original'!AZ44-'Base original'!BB44)/('Base original'!AZ32-'Base original'!BB32)*100-100)*('Base original'!AZ32-'Base original'!BB32)/'Base original'!$BC32","v":-0.26115723768413246},{"$f":"+('Base original'!BC44/'Base original'!BC32*100-100)*'Base original'!BC32/'Base original'!$BC32","v":16.861872144087073}]
["2009-02-01",{"$f":"+'Base original'!B45/'Base original'!B33*100-100","v":11.426824592664261},{"$f":"+'Base original'!C45/'Base original'!C33*100-100","v":3.8502626047412605},{"$f":"+'Base original'!D45/'Base original'!D33*100-100","v":16.59682268912745},{"$f":"+'Base original'!E45/'Base original'!E33*100-100","v":36.021299317779551},{"$f":"+'Base original'!F45/'Base original'!F33*100-100","v":13.601158631138972},{"$f":"+'Base original'!G45","v":36.189776794957403},null,null,null,null,{"$f":"+'Base original'!Q45","v":12.2157947060754},null,null,null,{"$f":"+'Base original'!Y45","v":5.1172565620763102},null,null,{"$f":"+'Base original'!AE45","v":5.53},{"$f":"+('Base original'!AH45/'Base original'!AH33*100-100)*'Base original'!AH33/'Base original'!$AK33","v":2.1384688090737241},{"$f":"+('Base original'!AI45/'Base original'!AI33*100-100)*'Base original'!AI33/'Base original'!$AK33","v":4.4728836838374342},{"$f":"+('Base original'!AJ45/'Base original'!AJ33*100-100)*'Base original'!AJ33/'Base original'!$AK33","v":-2.8857696321676034},{"$f":"+('Base original'!AK45/'Base original'!AK33*100-100)*'Base original'!AK33/'Base original'!$AK33","v":3.7255828607435575},{"$f":"+('Base original'!AK45/'Base original'!AK33*100-100)*'Base original'!AK33/'Base original'!$AR33","v":0.78095817583030125},{"$f":"+('Base original'!AL45/'Base original'!AL33*100-100)*'Base original'!AL33/'Base original'!$AR33","v":10.763143289789214},{"$f":"+('Base original'!AM45/'Base original'!AM33*100-100)*'Base original'!AM33/'Base original'!$AR33","v":0.34362985273716851},{"$f":"+('Base original'!AN45/'Base original'!AN33*100-100)*'Base original'!AN33/'Base original'!$AR33","v":4.9907850443785025},{"$f":"+('Base original'!AO45/'Base original'!AO33*100-100)*'Base original'!AO33/'Base original'!$AR33","v":0.23837386180866649},{"$f":"+('Base original'!AP45/'Base original'!AP33*100-100)*'Base original'!AP33/'Base original'!$AR33","v":4.1512137285017463},{"$f":"+('Base original'!AQ45/'Base original'!AQ33*100-100)*'Base original'!AQ33/'Base original'!$AR33","v":1.8780970930379788E-2},{"$f":"+(('Base original'!AN45-'Base original'!AP45)/('Base original'!AN33-'Base original'!AP33)*100-100)*(('Base original'!AN33-'Base original'!AP33)/'Base original'!AR33)","v":0.83957131587675649},{"$f":"+(('Base original'!AO45-'Base original'!AQ45)/('Base original'!AO33-'Base original'!AQ33)*100-100)*(('Base original'!AO33-'Base original'!AQ33)/'Base original'!AR33)","v":0.21959289087828665},{"$f":"+('Base original'!AR45/'Base original'!AR33*100-100)*'Base original'!AR33/'Base original'!$AR33","v":12.946895525111698},{"$f":"+('Base original'!AR45/'Base original'!AR33*100-100)*'Base original'!AR33/'Base original'!$BC33","v":8.2419102055867857},{"$f":"+('Base original'!AS45/'Base original'!AS33*100-100)*'Base original'!AS33/'Base original'!$BC33","v":3.0162888928400107},{"$f":"+('Base original'!AT45/'Base original'!AT33*100-100)*'Base original'!AT33/'Base original'!$BC33","v":2.2973615985800331},{"$f":"+('Base original'!AU45/'Base original'!AU33*100-100)*'Base original'!AU33/'Base original'!$BC33","v":1.5023635982936463},{"$f":"+('Base original'!AV45/'Base original'!AV33*100-100)*'Base original'!AV33/'Base original'!$BC33","v":-0.4844087964065304},{"$f":"+('Base original'!AW45/'Base original'!AW33*100-100)*'Base original'!AW33/'Base original'!$BC33","v":0.20916159584464228},{"$f":"+('Base original'!AX45/'Base original'!AX33*100-100)*'Base original'!AX33/'Base original'!$BC33","v":3.4653556859285706},{"$f":"+('Base original'!AY45/'Base original'!AY33*100-100)*'Base original'!AY33/'Base original'!$BC33","v":-1.2361818186571856},{"$f":"+('Base original'!AZ45/'Base original'!AZ33*100-100)*'Base original'!AZ33/'Base original'!$BC33","v":-0.25251795679233807},{"$f":"+('Base original'!BA45/'Base original'!BA33*100-100)*'Base original'!BA33/'Base original'!$BC33","v":0.57716513225220734},{"$f":"+('Base original'!BB45/'Base original'!BB33*100-100)*'Base original'!BB33/'Base original'!$BC33","v":-1.3138291196271523E-2},{"$f":"+(('Base original'!AY45-'Base original'!BA45)/('Base original'!AY33-'Base original'!BA33)*100-100)*('Base original'!AY33-'Base original'!BA33)/'Base original'!$BC33","v":-1.813346950909392},{"$f":"+(('Base original'!AZ45-'Base original'!BB45)/('Base original'!AZ33-'Base original'!BB33)*100-100)*('Base original'!AZ33-'Base original'!BB33)/'Base original'!$BC33","v":-0.23937966559606663},{"$f":"+('Base original'!BC45/'Base original'!BC33*100-100)*'Base original'!BC33/'Base original'!$BC33","v":16.195306164161693}]
["2009-03-01",{"$f":"+'Base original'!B46/'Base original'!B34*100-100","v":9.1165123696176096},{"$f":"+'Base original'!C46/'Base original'!C34*100-100","v":2.8200315586999238},{"$f":"+'Base original'!D46/'Base original'!D34*100-100","v":15.106332198349961},{"$f":"+'Base original'!E46/'Base original'!E34*100-100","v":30.726654615906256},{"$f":"+'Base original'!F46/'Base original'!F34*100-100","v":11.366673377021669},{"$f":"+'Base original'!G46","v":32.2310900560189},null,null,null,null,{"$f":"+'Base original'!Q46","v":10.0588162851225},null,null,null,{"$f":"+'Base original'!Y46","v":4.6835907984627498},null,null,{"$f":"+'Base original'!AE46","v":4.9000000000000004},{"$f":"+('Base original'!AH46/'Base original'!AH34*100-100)*'Base original'!AH34/'Base original'!$AK34","v":2.2827840858469375},{"$f":"+('Base original'!AI46/'Base original'!AI34*100-100)*'Base original'!AI34/'Base original'!$AK34","v":6.0019516517021723},{"$f":"+('Base original'!AJ46/'Base original'!AJ34*100-100)*'Base original'!AJ34/'Base original'!$AK34","v":-2.9311813853113788},{"$f":"+('Base original'!AK46/'Base original'!AK34*100-100)*'Base original'!AK34/'Base original'!$AK34","v":5.3535543522377509},{"$f":"+('Base original'!AK46/'Base original'!AK34*100-100)*'Base original'!AK34/'Base original'!$AR34","v":1.1041478473567885},{"$f":"+('Base original'!AL46/'Base original'!AL34*100-100)*'Base original'!AL34/'Base original'!$AR34","v":7.9473675098125725},{"$f":"+('Base original'!AM46/'Base original'!AM34*100-100)*'Base original'!AM34/'Base original'!$AR34","v":0.31319578362524153},{"$f":"+('Base original'!AN46/'Base original'!AN34*100-100)*'Base original'!AN34/'Base original'!$AR34","v":4.386986833608594},{"$f":"+('Base original'!AO46/'Base original'!AO34*100-100)*'Base original'!AO34/'Base original'!$AR34","v":0.22948634993140313},{"$f":"+('Base original'!AP46/'Base original'!AP34*100-100)*'Base original'!AP34/'Base original'!$AR34","v":3.7518159842877763},{"$f":"+('Base original'!AQ46/'Base original'!AQ34*100-100)*'Base original'!AQ34/'Base original'!$AR34","v":2.2662797902478413E-2},{"$f":"+(('Base original'!AN46-'Base original'!AP46)/('Base original'!AN34-'Base original'!AP34)*100-100)*(('Base original'!AN34-'Base original'!AP34)/'Base original'!AR34)","v":0.6351708493208148},{"$f":"+(('Base original'!AO46-'Base original'!AQ46)/('Base original'!AO34-'Base original'!AQ34)*100-100)*(('Base original'!AO34-'Base original'!AQ34)/'Base original'!AR34)","v":0.20682355202892477},{"$f":"+('Base original'!AR46/'Base original'!AR34*100-100)*'Base original'!AR34/'Base original'!$AR34","v":10.206705542144334},{"$f":"+('Base original'!AR46/'Base original'!AR34*100-100)*'Base original'!AR34/'Base original'!$BC34","v":6.529813588139632},{"$f":"+('Base original'!AS46/'Base original'!AS34*100-100)*'Base original'!AS34/'Base original'!$BC34","v":3.0253930294066849},{"$f":"+('Base original'!AT46/'Base original'!AT34*100-100)*'Base original'!AT34/'Base original'!$BC34","v":2.984901196269818},{"$f":"+('Base original'!AU46/'Base original'!AU34*100-100)*'Base original'!AU34/'Base original'!$BC34","v":1.5206642625141438},{"$f":"+('Base original'!AV46/'Base original'!AV34*100-100)*'Base original'!AV34/'Base original'!$BC34","v":-0.62866836415397409},{"$f":"+('Base original'!AW46/'Base original'!AW34*100-100)*'Base original'!AW34/'Base original'!$BC34","v":0.25287802888055166},{"$f":"+('Base original'!AX46/'Base original'!AX34*100-100)*'Base original'!AX34/'Base original'!$BC34","v":3.4970575760428759},{"$f":"+('Base original'!AY46/'Base original'!AY34*100-100)*'Base original'!AY34/'Base original'!$BC34","v":-1.0938019699616435},{"$f":"+('Base original'!AZ46/'Base original'!AZ34*100-100)*'Base original'!AZ34/'Base original'!$BC34","v":-0.25248617243084004},{"$f":"+('Base original'!BA46/'Base original'!BA34*100-100)*'Base original'!BA34/'Base original'!$BC34","v":0.74152302167091544},{"$f":"+('Base original'!BB46/'Base original'!BB34*100-100)*'Base original'!BB34/'Base original'!$BC34","v":-2.1813342367278957E-2},{"$f":"+(('Base original'!AY46-'Base original'!BA46)/('Base original'!AY34-'Base original'!BA34)*100-100)*('Base original'!AY34-'Base original'!BA34)/'Base original'!$BC34","v":-1.8353249916325582},{"$f":"+(('Base original'!AZ46-'Base original'!BB46)/('Base original'!AZ34-'Base original'!BB34)*100-100)*('Base original'!AZ34-'Base original'!BB34)/'Base original'!$BC34","v":-0.23067283006356107},{"$f":"+('Base original'!BC46/'Base original'!BC34*100-100)*'Base original'!BC34/'Base original'!$BC34","v":15.116041495403579}]
["2009-04-01",{"$f":"+'Base original'!B47/'Base original'!B35*100-100","v":7.7294743446649505},{"$f":"+'Base original'!C47/'Base original'!C35*100-100","v":2.0225450144623522},{"$f":"+'Base original'!D47/'Base original'!D35*100-100","v":13.139920898412583},{"$f":"+'Base original'!E47/'Base original'!E35*100-100","v":9.9657637161243713},{"$f":"+'Base original'!F47/'Base original'!F35*100-100","v":8.3938579433057896},{"$f":"+'Base original'!G47","v":29.9749702923983},null,null,null,null,{"$f":"+'Base original'!Q47","v":8.7663514466743102},null,null,null,{"$f":"+'Base original'!Y47","v":3.94729968911175},null,null,{"$f":"+'Base original'!AE47","v":4.42},{"$f":"+('Base original'!AH47/'Base original'!AH35*100-100)*'Base original'!AH35/'Base original'!$AK35","v":2.4630493104847844},{"$f":"+('Base original'!AI47/'Base original'!AI35*100-100)*'Base original'!AI35/'Base original'!$AK35","v":7.1251942819241112},{"$f":"+('Base original'!AJ47/'Base original'!AJ35*100-100)*'Base original'!AJ35/'Base original'!$AK35","v":-1.7823176224842336},{"$f":"+('Base original'!AK47/'Base original'!AK35*100-100)*'Base original'!AK35/'Base original'!$AK35","v":7.8059259699246581},{"$f":"+('Base original'!AK47/'Base original'!AK35*100-100)*'Base original'!AK35/'Base original'!$AR35","v":1.5906814992958875},{"$f":"+('Base original'!AL47/'Base original'!AL35*100-100)*'Base original'!AL35/'Base original'!$AR35","v":5.9084285713954365},{"$f":"+('Base original'!AM47/'Base original'!AM35*100-100)*'Base original'!AM35/'Base original'!$AR35","v":0.31672415394984738},{"$f":"+('Base original'!AN47/'Base original'!AN35*100-100)*'Base original'!AN35/'Base original'!$AR35","v":5.6633103018051347},{"$f":"+('Base original'!AO47/'Base original'!AO35*100-100)*'Base original'!AO35/'Base original'!$AR35","v":0.21323403230890992},{"$f":"+('Base original'!AP47/'Base original'!AP35*100-100)*'Base original'!AP35/'Base original'!$AR35","v":5.4962736142443234},{"$f":"+('Base original'!AQ47/'Base original'!AQ35*100-100)*'Base original'!AQ35/'Base original'!$AR35","v":1.210410779426168E-2},{"$f":"+(('Base original'!AN47-'Base original'!AP47)/('Base original'!AN35-'Base original'!AP35)*100-100)*(('Base original'!AN35-'Base original'!AP35)/'Base original'!AR35)","v":0.16703668756080972},{"$f":"+(('Base original'!AO47-'Base original'!AQ47)/('Base original'!AO35-'Base original'!AQ35)*100-100)*(('Base original'!AO35-'Base original'!AQ35)/'Base original'!AR35)","v":0.20112992451464823},{"$f":"+('Base original'!AR47/'Base original'!AR35*100-100)*'Base original'!AR35/'Base original'!$AR35","v":8.1840008367165922},{"$f":"+('Base original'!AR47/'Base original'!AR35*100-100)*'Base original'!AR35/'Base original'!$BC35","v":5.2125565794995898},{"$f":"+('Base original'!AS47/'Base original'!AS35*100-100)*'Base original'!AS35/'Base original'!$BC35","v":2.3421012676507469},{"$f":"+('Base original'!AT47/'Base original'!AT35*100-100)*'Base original'!AT35/'Base original'!$BC35","v":3.1717560781193042},{"$f":"+('Base original'!AU47/'Base original'!AU35*100-100)*'Base original'!AU35/'Base original'!$BC35","v":1.4312412782730781},{"$f":"+('Base original'!AV47/'Base original'!AV35*100-100)*'Base original'!AV35/'Base original'!$BC35","v":-0.77401898377924672},{"$f":"+('Base original'!AW47/'Base original'!AW35*100-100)*'Base original'!AW35/'Base original'!$BC35","v":0.26507323431882213},{"$f":"+('Base original'!AX47/'Base original'!AX35*100-100)*'Base original'!AX35/'Base original'!$BC35","v":3.8298777970630775},{"$f":"+('Base original'!AY47/'Base original'!AY35*100-100)*'Base original'!AY35/'Base original'!$BC35","v":-1.1497214254410184},{"$f":"+('Base original'!AZ47/'Base original'!AZ35*100-100)*'Base original'!AZ35/'Base original'!$BC35","v":-0.22986719156392293},{"$f":"+('Base original'!BA47/'Base original'!BA35*100-100)*'Base original'!BA35/'Base original'!$BC35","v":0.71375754563308702},{"$f":"+('Base original'!BB47/'Base original'!BB35*100-100)*'Base original'!BB35/'Base original'!$BC35","v":-2.3642014112779074E-2},{"$f":"+(('Base original'!AY47-'Base original'!BA47)/('Base original'!AY35-'Base original'!BA35)*100-100)*('Base original'!AY35-'Base original'!BA35)/'Base original'!$BC35","v":-1.8634789710741053},{"$f":"+(('Base original'!AZ47-'Base original'!BB47)/('Base original'!AZ35-'Base original'!BB35)*100-100)*('Base original'!AZ35-'Base original'!BB35)/'Base original'!$BC35","v":-0.20622517745114385},{"$f":"+('Base original'!BC47/'Base original'!BC35*100-100)*'Base original'!BC35/'Base original'!$BC35","v":13.408883102620123}]
["2009-05-01",{"$f":"+'Base original'!B48/'Base original'!B36*100-100","v":5.8085295833944883},{"$f":"+'Base original'!C48/'Base original'!C36*100-100","v":1.336348610294209},{"$f":"+'Base original'!D48/'Base original'!D36*100-100","v":12.170297178094259},{"$f":"+'Base original'!E48/'Base original'!E36*100-100","v":-2.399493264783672},{"$f":"+'Base original'!F48/'Base original'!F36*100-100","v":5.8671669964797815},{"$f":"+'Base original'!G48","v":29.566587019095401},null,null,null,null,{"$f":"+'Base original'!Q48","v":8.0713683339428606},null,null,null,{"$f":"+'Base original'!Y48","v":3.7768421556343399},null,null,{"$f":"+'Base original'!AE48","v":4.4556453691489804},{"$f":"+('Base original'!AH48/'Base original'!AH36*100-100)*'Base original'!AH36/'Base original'!$AK36","v":2.2685380745747121},{"$f":"+('Base original'!AI48/'Base original'!AI36*100-100)*'Base original'!AI36/'Base original'!$AK36","v":7.7441784109673186},{"$f":"+('Base original'!AJ48/'Base original'!AJ36*100-100)*'Base original'!AJ36/'Base original'!$AK36","v":-1.2006508966629428},{"$f":"+('Base original'!AK48/'Base original'!AK36*100-100)*'Base original'!AK36/'Base original'!$AK36","v":8.8120655888790793},{"$f":"+('Base original'!AK48/'Base original'!AK36*100-100)*'Base original'!AK36/'Base original'!$AR36","v":1.8266019995033418},{"$f":"+('Base original'!AL48/'Base original'!AL36*100-100)*'Base original'!AL36/'Base original'!$AR36","v":4.8209646468436507},{"$f":"+('Base original'!AM48/'Base original'!AM36*100-100)*'Base original'!AM36/'Base original'!$AR36","v":0.32337163625590204},{"$f":"+('Base original'!AN48/'Base original'!AN36*100-100)*'Base original'!AN36/'Base original'!$AR36","v":4.5558586095031552},{"$f":"+('Base original'!AO48/'Base original'!AO36*100-100)*'Base original'!AO36/'Base original'!$AR36","v":0.19680895277359223},{"$f":"+('Base original'!AP48/'Base original'!AP36*100-100)*'Base original'!AP36/'Base original'!$AR36","v":4.607200075444096},{"$f":"+('Base original'!AQ48/'Base original'!AQ36*100-100)*'Base original'!AQ36/'Base original'!$AR36","v":8.3579130601525546E-3},{"$f":"+(('Base original'!AN48-'Base original'!AP48)/('Base original'!AN36-'Base original'!AP36)*100-100)*(('Base original'!AN36-'Base original'!AP36)/'Base original'!AR36)","v":-5.1341465940939295E-2},{"$f":"+(('Base original'!AO48-'Base original'!AQ48)/('Base original'!AO36-'Base original'!AQ36)*100-100)*(('Base original'!AO36-'Base original'!AQ36)/'Base original'!AR36)","v":0.18845103971343982},{"$f":"+('Base original'!AR48/'Base original'!AR36*100-100)*'Base original'!AR36/'Base original'!$AR36","v":7.1080478563753928},{"$f":"+('Base original'!AR48/'Base original'!AR36*100-100)*'Base original'!AR36/'Base original'!$BC36","v":4.482934405416068},{"$f":"+('Base original'!AS48/'Base original'!AS36*100-100)*'Base original'!AS36/'Base original'!$BC36","v":1.2098670076282743},{"$f":"+('Base original'!AT48/'Base original'!AT36*100-100)*'Base original'!AT36/'Base original'!$BC36","v":2.7505648692096751},{"$f":"+('Base original'!AU48/'Base original'!AU36*100-100)*'Base original'!AU36/'Base original'!$BC36","v":1.3047486941186244},{"$f":"+('Base original'!AV48/'Base original'!AV36*100-100)*'Base original'!AV36/'Base original'!$BC36","v":-0.65036626903835237},{"$f":"+('Base original'!AW48/'Base original'!AW36*100-100)*'Base original'!AW36/'Base original'!$BC36","v":0.25628095742499346},{"$f":"+('Base original'!AX48/'Base original'!AX36*100-100)*'Base original'!AX36/'Base original'!$BC36","v":3.9549096622803082},{"$f":"+('Base original'!AY48/'Base original'!AY36*100-100)*'Base original'!AY36/'Base original'!$BC36","v":-1.108835582198735},{"$f":"+('Base original'!AZ48/'Base original'!AZ36*100-100)*'Base original'!AZ36/'Base original'!$BC36","v":-0.21473884336638777},{"$f":"+('Base original'!BA48/'Base original'!BA36*100-100)*'Base original'!BA36/'Base original'!$BC36","v":0.57067067258151016},{"$f":"+('Base original'!BB48/'Base original'!BB36*100-100)*'Base original'!BB36/'Base original'!$BC36","v":-3.5768889748346272E-2},{"$f":"+(('Base original'!AY48-'Base original'!BA48)/('Base original'!AY36-'Base original'!BA36)*100-100)*('Base original'!AY36-'Base original'!BA36)/'Base original'!$BC36","v":-1.6795062547802453},{"$f":"+(('Base original'!AZ48-'Base original'!BB48)/('Base original'!AZ36-'Base original'!BB36)*100-100)*('Base original'!AZ36-'Base original'!BB36)/'Base original'!$BC36","v":-0.17896995361804141},{"$f":"+('Base original'!BC48/'Base original'!BC36*100-100)*'Base original'!BC36/'Base original'!$BC36","v":11.450463118641323}]
["2009-06-01",{"$f":"+'Base original'!B49/'Base original'!B37*100-100","v":2.8482618713180869},{"$f":"+'Base original'!C49/'Base original'!C37*100-100","v":0.16224256091280154},{"$f":"+'Base original'!D49/'Base original'!D37*100-100","v":10.738033433344469},{"$f":"+'Base original'!E49/'Base original'!E37*100-100","v":-23.012163922237633},{"$f":"+'Base original'!F49/'Base original'!F37*100-100","v":1.6025548793120237},{"$f":"+'Base original'!G49","v":28.9061914956599},null,null,null,null,{"$f":"+'Base original'!Q49","v":7.9845183487956701},null,null,null,{"$f":"+'Base original'!Y49","v":3.49696459618111},null,null,{"$f":"+'Base original'!AE49","v":4.6100000000000003},{"$f":"+('Base original'!AH49/'Base original'!AH37*100-100)*'Base original'!AH37/'Base original'!$AK37","v":2.1979278858526299},{"$f":"+('Base original'!AI49/'Base original'!AI37*100-100)*'Base original'!AI37/'Base original'!$AK37","v":8.0944051011752034},{"$f":"+('Base original'!AJ49/'Base original'!AJ37*100-100)*'Base original'!AJ37/'Base original'!$AK37","v":0.41327239627516238},{"$f":"+('Base original'!AK49/'Base original'!AK37*100-100)*'Base original'!AK37/'Base original'!$AK37","v":10.705605383303009},{"$f":"+('Base original'!AK49/'Base original'!AK37*100-100)*'Base original'!AK37/'Base original'!$AR37","v":2.2290496791409833},{"$f":"+('Base original'!AL49/'Base original'!AL37*100-100)*'Base original'!AL37/'Base original'!$AR37","v":3.9654142858607049},{"$f":"+('Base original'!AM49/'Base original'!AM37*100-100)*'Base original'!AM37/'Base original'!$AR37","v":0.31594080210046582},{"$f":"+('Base original'!AN49/'Base original'!AN37*100-100)*'Base original'!AN37/'Base original'!$AR37","v":4.0435262831639465},{"$f":"+('Base original'!AO49/'Base original'!AO37*100-100)*'Base original'!AO37/'Base original'!$AR37","v":0.15439820605160992},{"$f":"+('Base original'!AP49/'Base original'!AP37*100-100)*'Base original'!AP37/'Base original'!$AR37","v":3.5833084941746374},{"$f":"+('Base original'!AQ49/'Base original'!AQ37*100-100)*'Base original'!AQ37/'Base original'!$AR37","v":8.5335769411558227E-3},{"$f":"+(('Base original'!AN49-'Base original'!AP49)/('Base original'!AN37-'Base original'!AP37)*100-100)*(('Base original'!AN37-'Base original'!AP37)/'Base original'!AR37)","v":0.46021778898931121},{"$f":"+(('Base original'!AO49-'Base original'!AQ49)/('Base original'!AO37-'Base original'!AQ37)*100-100)*(('Base original'!AO37-'Base original'!AQ37)/'Base original'!AR37)","v":0.14586462911045411},{"$f":"+('Base original'!AR49/'Base original'!AR37*100-100)*'Base original'!AR37/'Base original'!$AR37","v":7.1164871852019047},{"$f":"+('Base original'!AR49/'Base original'!AR37*100-100)*'Base original'!AR37/'Base original'!$BC37","v":4.4236956570319563},{"$f":"+('Base original'!AS49/'Base original'!AS37*100-100)*'Base original'!AS37/'Base original'!$BC37","v":4.1943159210444791E-3},{"$f":"+('Base original'!AT49/'Base original'!AT37*100-100)*'Base original'!AT37/'Base original'!$BC37","v":2.5133821345691598},{"$f":"+('Base original'!AU49/'Base original'!AU37*100-100)*'Base original'!AU37/'Base original'!$BC37","v":1.2616255566034555},{"$f":"+('Base original'!AV49/'Base original'!AV37*100-100)*'Base original'!AV37/'Base original'!$BC37","v":-0.79914054519186273},{"$f":"+('Base original'!AW49/'Base original'!AW37*100-100)*'Base original'!AW37/'Base original'!$BC37","v":0.22797340653204137},{"$f":"+('Base original'!AX49/'Base original'!AX37*100-100)*'Base original'!AX37/'Base original'!$BC37","v":3.7336813431270368},{"$f":"+('Base original'!AY49/'Base original'!AY37*100-100)*'Base original'!AY37/'Base original'!$BC37","v":-1.0137908305629402},{"$f":"+('Base original'!AZ49/'Base original'!AZ37*100-100)*'Base original'!AZ37/'Base original'!$BC37","v":-0.18615360955457264},{"$f":"+('Base original'!BA49/'Base original'!BA37*100-100)*'Base original'!BA37/'Base original'!$BC37","v":0.45199922160898276},{"$f":"+('Base original'!BB49/'Base original'!BB37*100-100)*'Base original'!BB37/'Base original'!$BC37","v":-5.1812137848191199E-2},{"$f":"+(('Base original'!AY49-'Base original'!BA49)/('Base original'!AY37-'Base original'!BA37)*100-100)*('Base original'!AY37-'Base original'!BA37)/'Base original'!$BC37","v":-1.4657900521719227},{"$f":"+(('Base original'!AZ49-'Base original'!BB49)/('Base original'!AZ37-'Base original'!BB37)*100-100)*('Base original'!AZ37-'Base original'!BB37)/'Base original'!$BC37","v":-0.13434147170638147},{"$f":"+('Base original'!BC49/'Base original'!BC37*100-100)*'Base original'!BC37/'Base original'!$BC37","v":9.7652803447145402}]
["2009-07-01",{"$f":"+'Base original'!B50/'Base original'!B38*100-100","v":1.7684456582876606},{"$f":"+'Base original'!C50/'Base original'!C38*100-100","v":-0.20002631485553479},{"$f":"+'Base original'!D50/'Base original'!D38*100-100","v":9.2314420787089375},{"$f":"+'Base original'!E50/'Base original'!E38*100-100","v":-19.890239153391477},{"$f":"+'Base original'!F50/'Base original'!F38*100-100","v":1.0823944056955099},{"$f":"+'Base original'!G50","v":27.909352390439899},null,null,null,null,{"$f":"+'Base original'!Q50","v":7.2408472343698298},null,null,null,{"$f":"+'Base original'!Y50","v":2.7133157939572001},null,null,{"$f":"+'Base original'!AE50","v":4.62},{"$f":"+('Base original'!AH50/'Base original'!AH38*100-100)*'Base original'!AH38/'Base original'!$AK38","v":2.337641454443125},{"$f":"+('Base original'!AI50/'Base original'!AI38*100-100)*'Base original'!AI38/'Base original'!$AK38","v":9.8182227492914631},{"$f":"+('Base original'!AJ50/'Base original'!AJ38*100-100)*'Base original'!AJ38/'Base original'!$AK38","v":4.4458121444795164},{"$f":"+('Base original'!AK50/'Base original'!AK38*100-100)*'Base original'!AK38/'Base original'!$AK38","v":16.601676348214099},{"$f":"+('Base original'!AK50/'Base original'!AK38*100-100)*'Base original'!AK38/'Base original'!$AR38","v":3.2953920050227041},{"$f":"+('Base original'!AL50/'Base original'!AL38*100-100)*'Base original'!AL38/'Base original'!$AR38","v":3.7636762059810045},{"$f":"+('Base original'!AM50/'Base original'!AM38*100-100)*'Base original'!AM38/'Base original'!$AR38","v":0.28267876209923026},{"$f":"+('Base original'!AN50/'Base original'!AN38*100-100)*'Base original'!AN38/'Base original'!$AR38","v":7.4224620334693263},{"$f":"+('Base original'!AO50/'Base original'!AO38*100-100)*'Base original'!AO38/'Base original'!$AR38","v":0.11949511538280778},{"$f":"+('Base original'!AP50/'Base original'!AP38*100-100)*'Base original'!AP38/'Base original'!$AR38","v":6.5301387428060558},{"$f":"+('Base original'!AQ50/'Base original'!AQ38*100-100)*'Base original'!AQ38/'Base original'!$AR38","v":9.974550532788598E-4},{"$f":"+(('Base original'!AN50-'Base original'!AP50)/('Base original'!AN38-'Base original'!AP38)*100-100)*(('Base original'!AN38-'Base original'!AP38)/'Base original'!AR38)","v":0.89232329066327254},{"$f":"+(('Base original'!AO50-'Base original'!AQ50)/('Base original'!AO38-'Base original'!AQ38)*100-100)*(('Base original'!AO38-'Base original'!AQ38)/'Base original'!AR38)","v":0.11849766032952894},{"$f":"+('Base original'!AR50/'Base original'!AR38*100-100)*'Base original'!AR38/'Base original'!$AR38","v":8.3525679240957516},{"$f":"+('Base original'!AR50/'Base original'!AR38*100-100)*'Base original'!AR38/'Base original'!$BC38","v":5.1283589092750237},{"$f":"+('Base original'!AS50/'Base original'!AS38*100-100)*'Base original'!AS38/'Base original'!$BC38","v":-0.84563414182685881},{"$f":"+('Base original'!AT50/'Base original'!AT38*100-100)*'Base original'!AT38/'Base original'!$BC38","v":1.2531406293497385},{"$f":"+('Base original'!AU50/'Base original'!AU38*100-100)*'Base original'!AU38/'Base original'!$BC38","v":1.3382674730011954},{"$f":"+('Base original'!AV50/'Base original'!AV38*100-100)*'Base original'!AV38/'Base original'!$BC38","v":-0.8125632817032703},{"$f":"+('Base original'!AW50/'Base original'!AW38*100-100)*'Base original'!AW38/'Base original'!$BC38","v":0.2316185055322405},{"$f":"+('Base original'!AX50/'Base original'!AX38*100-100)*'Base original'!AX38/'Base original'!$BC38","v":3.5259661125101078},{"$f":"+('Base original'!AY50/'Base original'!AY38*100-100)*'Base original'!AY38/'Base original'!$BC38","v":-0.65762017779090376},{"$f":"+('Base original'!AZ50/'Base original'!AZ38*100-100)*'Base original'!AZ38/'Base original'!$BC38","v":-0.13595798050808414},{"$f":"+('Base original'!BA50/'Base original'!BA38*100-100)*'Base original'!BA38/'Base original'!$BC38","v":0.49532799385107334},{"$f":"+('Base original'!BB50/'Base original'!BB38*100-100)*'Base original'!BB38/'Base original'!$BC38","v":-6.9693775593783647E-2},{"$f":"+(('Base original'!AY50-'Base original'!BA50)/('Base original'!AY38-'Base original'!BA38)*100-100)*('Base original'!AY38-'Base original'!BA38)/'Base original'!$BC38","v":-1.1529481716419774},{"$f":"+(('Base original'!AZ50-'Base original'!BB50)/('Base original'!AZ38-'Base original'!BB38)*100-100)*('Base original'!AZ38-'Base original'!BB38)/'Base original'!$BC38","v":-6.6264204914300504E-2},{"$f":"+('Base original'!BC50/'Base original'!BC38*100-100)*'Base original'!BC38/'Base original'!$BC38","v":8.5999418295819225}]
["2009-08-01",{"$f":"+'Base original'!B51/'Base original'!B39*100-100","v":1.4775135503445966},{"$f":"+'Base original'!C51/'Base original'!C39*100-100","v":-0.82355648258108261},{"$f":"+'Base original'!D51/'Base original'!D39*100-100","v":7.8153888356481218},{"$f":"+'Base original'!E51/'Base original'!E39*100-100","v":-19.640616038706426},{"$f":"+'Base original'!F51/'Base original'!F39*100-100","v":0.59274798600704059},{"$f":"+'Base original'!G51","v":24.5737435113694},null,null,null,null,{"$f":"+'Base original'!Q51","v":5.9873966986875997},null,null,null,{"$f":"+'Base original'!Y51","v":3.3949739058076802},null,null,{"$f":"+'Base original'!AE51","v":4.5599999999999996},{"$f":"+('Base original'!AH51/'Base original'!AH39*100-100)*'Base original'!AH39/'Base original'!$AK39","v":2.720912668442184},{"$f":"+('Base original'!AI51/'Base original'!AI39*100-100)*'Base original'!AI39/'Base original'!$AK39","v":12.783653158166713},{"$f":"+('Base original'!AJ51/'Base original'!AJ39*100-100)*'Base original'!AJ39/'Base original'!$AK39","v":1.2442515999523174},{"$f":"+('Base original'!AK51/'Base original'!AK39*100-100)*'Base original'!AK39/'Base original'!$AK39","v":16.748817426561203},{"$f":"+('Base original'!AK51/'Base original'!AK39*100-100)*'Base original'!AK39/'Base original'!$AR39","v":3.3299154973188494},{"$f":"+('Base original'!AL51/'Base original'!AL39*100-100)*'Base original'!AL39/'Base original'!$AR39","v":3.161008329392216},{"$f":"+('Base original'!AM51/'Base original'!AM39*100-100)*'Base original'!AM39/'Base original'!$AR39","v":0.25526586107368787},{"$f":"+('Base original'!AN51/'Base original'!AN39*100-100)*'Base original'!AN39/'Base original'!$AR39","v":7.745698775180264},{"$f":"+('Base original'!AO51/'Base original'!AO39*100-100)*'Base original'!AO39/'Base original'!$AR39","v":8.7327794577840845E-2},{"$f":"+('Base original'!AP51/'Base original'!AP39*100-100)*'Base original'!AP39/'Base original'!$AR39","v":7.0832324964031077},{"$f":"+('Base original'!AQ51/'Base original'!AQ39*100-100)*'Base original'!AQ39/'Base original'!$AR39","v":-5.5320774845691034E-3},{"$f":"+(('Base original'!AN51-'Base original'!AP51)/('Base original'!AN39-'Base original'!AP39)*100-100)*(('Base original'!AN39-'Base original'!AP39)/'Base original'!AR39)","v":0.66246627877715281},{"$f":"+(('Base original'!AO51-'Base original'!AQ51)/('Base original'!AO39-'Base original'!AQ39)*100-100)*(('Base original'!AO39-'Base original'!AQ39)/'Base original'!AR39)","v":9.2859872062409879E-2},{"$f":"+('Base original'!AR51/'Base original'!AR39*100-100)*'Base original'!AR39/'Base original'!$AR39","v":7.5015158386242859},{"$f":"+('Base original'!AR51/'Base original'!AR39*100-100)*'Base original'!AR39/'Base original'!$BC39","v":4.5557906999059332},{"$f":"+('Base original'!AS51/'Base original'!AS39*100-100)*'Base original'!AS39/'Base original'!$BC39","v":-0.82085140637307741},{"$f":"+('Base original'!AT51/'Base original'!AT39*100-100)*'Base original'!AT39/'Base original'!$BC39","v":-0.15490705534682742},{"$f":"+('Base original'!AU51/'Base original'!AU39*100-100)*'Base original'!AU39/'Base original'!$BC39","v":1.2950517802930319},{"$f":"+('Base original'!AV51/'Base original'!AV39*100-100)*'Base original'!AV39/'Base original'!$BC39","v":-0.83800997253465515},{"$f":"+('Base original'!AW51/'Base original'!AW39*100-100)*'Base original'!AW39/'Base original'!$BC39","v":0.21346216224787404},{"$f":"+('Base original'!AX51/'Base original'!AX39*100-100)*'Base original'!AX39/'Base original'!$BC39","v":3.1602959130323258},{"$f":"+('Base original'!AY51/'Base original'!AY39*100-100)*'Base original'!AY39/'Base original'!$BC39","v":-9.3832159009465413E-2},{"$f":"+('Base original'!AZ51/'Base original'!AZ39*100-100)*'Base original'!AZ39/'Base original'!$BC39","v":-8.0273292042623762E-2},{"$f":"+('Base original'!BA51/'Base original'!BA39*100-100)*'Base original'!BA39/'Base original'!$BC39","v":0.570072362473103},{"$f":"+('Base original'!BB51/'Base original'!BB39*100-100)*'Base original'!BB39/'Base original'!$BC39","v":-7.8353452472097615E-2},{"$f":"+(('Base original'!AY51-'Base original'!BA51)/('Base original'!AY39-'Base original'!BA39)*100-100)*('Base original'!AY39-'Base original'!BA39)/'Base original'!$BC39","v":-0.66390452148256818},{"$f":"+(('Base original'!AZ51-'Base original'!BB51)/('Base original'!AZ39-'Base original'!BB39)*100-100)*('Base original'!AZ39-'Base original'!BB39)/'Base original'!$BC39","v":-1.9198395705261018E-3},{"$f":"+('Base original'!BC51/'Base original'!BC39*100-100)*'Base original'!BC39/'Base original'!$BC39","v":6.7450077601715321}]
["2009-09-01",{"$f":"+'Base original'!B52/'Base original'!B40*100-100","v":0.19040925602686798},{"$f":"+'Base original'!C52/'Base original'!C40*100-100","v":-0.88472493277458852},{"$f":"+'Base original'!D52/'Base original'!D40*100-100","v":6.790161494633324},{"$f":"+'Base original'!E52/'Base original'!E40*100-100","v":-27.820902425585373},{"$f":"+'Base original'!F52/'Base original'!F40*100-100","v":-1.312811187995834},{"$f":"+'Base original'!G52","v":26.523264242632901},null,null,null,null,{"$f":"+'Base original'!Q52","v":5.7749809206789102},null,null,null,{"$f":"+'Base original'!Y52","v":2.5450470118040398},null,null,{"$f":"+'Base original'!AE52","v":4.49},{"$f":"+('Base original'!AH52/'Base original'!AH40*100-100)*'Base original'!AH40/'Base original'!$AK40","v":2.9195648121805493},{"$f":"+('Base original'!AI52/'Base original'!AI40*100-100)*'Base original'!AI40/'Base original'!$AK40","v":12.935520881363248},{"$f":"+('Base original'!AJ52/'Base original'!AJ40*100-100)*'Base original'!AJ40/'Base original'!$AK40","v":4.7869046334356948},{"$f":"+('Base original'!AK52/'Base original'!AK40*100-100)*'Base original'!AK40/'Base original'!$AK40","v":20.641990326979482},{"$f":"+('Base original'!AK52/'Base original'!AK40*100-100)*'Base original'!AK40/'Base original'!$AR40","v":4.1023779305676271},{"$f":"+('Base original'!AL52/'Base original'!AL40*100-100)*'Base original'!AL40/'Base original'!$AR40","v":1.0380355612859562},{"$f":"+('Base original'!AM52/'Base original'!AM40*100-100)*'Base original'!AM40/'Base original'!$AR40","v":0.22772574606259266},{"$f":"+('Base original'!AN52/'Base original'!AN40*100-100)*'Base original'!AN40/'Base original'!$AR40","v":6.1382616980210356},{"$f":"+('Base original'!AO52/'Base original'!AO40*100-100)*'Base original'!AO40/'Base original'!$AR40","v":6.9604530260569508E-2},{"$f":"+('Base original'!AP52/'Base original'!AP40*100-100)*'Base original'!AP40/'Base original'!$AR40","v":5.8495101313098239},{"$f":"+('Base original'!AQ52/'Base original'!AQ40*100-100)*'Base original'!AQ40/'Base original'!$AR40","v":-2.534618748984327E-3},{"$f":"+(('Base original'!AN52-'Base original'!AP52)/('Base original'!AN40-'Base original'!AP40)*100-100)*(('Base original'!AN40-'Base original'!AP40)/'Base original'!AR40)","v":0.2887515667112131},{"$f":"+(('Base original'!AO52-'Base original'!AQ52)/('Base original'!AO40-'Base original'!AQ40)*100-100)*(('Base original'!AO40-'Base original'!AQ40)/'Base original'!AR40)","v":7.2139149009553774E-2},{"$f":"+('Base original'!AR52/'Base original'!AR40*100-100)*'Base original'!AR40/'Base original'!$AR40","v":5.7290299536369389},{"$f":"+('Base original'!AR52/'Base original'!AR40*100-100)*'Base original'!AR40/'Base original'!$BC40","v":3.447430690318305},{"$f":"+('Base original'!AS52/'Base original'!AS40*100-100)*'Base original'!AS40/'Base original'!$BC40","v":-0.99935865296120963},{"$f":"+('Base original'!AT52/'Base original'!AT40*100-100)*'Base original'!AT40/'Base original'!$BC40","v":-0.45978945303533558},{"$f":"+('Base original'!AU52/'Base original'!AU40*100-100)*'Base original'!AU40/'Base original'!$BC40","v":1.2507821788236042},{"$f":"+('Base original'!AV52/'Base original'!AV40*100-100)*'Base original'!AV40/'Base original'!$BC40","v":-0.82243533191571705},{"$f":"+('Base original'!AW52/'Base original'!AW40*100-100)*'Base original'!AW40/'Base original'!$BC40","v":0.1752807968448048},{"$f":"+('Base original'!AX52/'Base original'!AX40*100-100)*'Base original'!AX40/'Base original'!$BC40","v":2.1512374102719818},{"$f":"+('Base original'!AY52/'Base original'!AY40*100-100)*'Base original'!AY40/'Base original'!$BC40","v":0.85552046224385336},{"$f":"+('Base original'!AZ52/'Base original'!AZ40*100-100)*'Base original'!AZ40/'Base original'!$BC40","v":-1.4078778863037527E-3},{"$f":"+('Base original'!BA52/'Base original'!BA40*100-100)*'Base original'!BA40/'Base original'!$BC40","v":0.97190503417828944},{"$f":"+('Base original'!BB52/'Base original'!BB40*100-100)*'Base original'!BB40/'Base original'!$BC40","v":-8.3064795291915572E-2},{"$f":"+(('Base original'!AY52-'Base original'!BA52)/('Base original'!AY40-'Base original'!BA40)*100-100)*('Base original'!AY40-'Base original'!BA40)/'Base original'!$BC40","v":-0.11638457193443555},{"$f":"+(('Base original'!AZ52-'Base original'!BB52)/('Base original'!AZ40-'Base original'!BB40)*100-100)*('Base original'!AZ40-'Base original'!BB40)/'Base original'!$BC40","v":8.1656917405611817E-2},{"$f":"+('Base original'!BC52/'Base original'!BC40*100-100)*'Base original'!BC40/'Base original'!$BC40","v":4.708419983817592}]
["2009-10-01",{"$f":"+'Base original'!B53/'Base original'!B41*100-100","v":-3.1248495223663326},{"$f":"+'Base original'!C53/'Base original'!C41*100-100","v":-0.30103087100995651},{"$f":"+'Base original'!D53/'Base original'!D41*100-100","v":6.6654999428540833},{"$f":"+'Base original'!E53/'Base original'!E41*100-100","v":-38.268903639298671},{"$f":"+'Base original'!F53/'Base original'!F41*100-100","v":-4.686929542154644},{"$f":"+'Base original'!G53","v":26.667814255904599},null,null,null,null,{"$f":"+'Base original'!Q53","v":5.6134654537822497},null,null,null,{"$f":"+'Base original'!Y53","v":2.6609289121842599},null,null,{"$f":"+'Base original'!AE53","v":4.3499999999999996},{"$f":"+('Base original'!AH53/'Base original'!AH41*100-100)*'Base original'!AH41/'Base original'!$AK41","v":2.5469207507320091},{"$f":"+('Base original'!AI53/'Base original'!AI41*100-100)*'Base original'!AI41/'Base original'!$AK41","v":12.263810300964803},{"$f":"+('Base original'!AJ53/'Base original'!AJ41*100-100)*'Base original'!AJ41/'Base original'!$AK41","v":3.6954850477607679},{"$f":"+('Base original'!AK53/'Base original'!AK41*100-100)*'Base original'!AK41/'Base original'!$AK41","v":18.506216099457575},{"$f":"+('Base original'!AK53/'Base original'!AK41*100-100)*'Base original'!AK41/'Base original'!$AR41","v":3.6421653503391958},{"$f":"+('Base original'!AL53/'Base original'!AL41*100-100)*'Base original'!AL41/'Base original'!$AR41","v":-2.6970719046233023},{"$f":"+('Base original'!AM53/'Base original'!AM41*100-100)*'Base original'!AM41/'Base original'!$AR41","v":0.20140832408889264},{"$f":"+('Base original'!AN53/'Base original'!AN41*100-100)*'Base original'!AN41/'Base original'!$AR41","v":6.7993258527082405},{"$f":"+('Base original'!AO53/'Base original'!AO41*100-100)*'Base original'!AO41/'Base original'!$AR41","v":6.0271346514406125E-2},{"$f":"+('Base original'!AP53/'Base original'!AP41*100-100)*'Base original'!AP41/'Base original'!$AR41","v":6.2614182554464417},{"$f":"+('Base original'!AQ53/'Base original'!AQ41*100-100)*'Base original'!AQ41/'Base original'!$AR41","v":1.2658872151928527E-2},{"$f":"+(('Base original'!AN53-'Base original'!AP53)/('Base original'!AN41-'Base original'!AP41)*100-100)*(('Base original'!AN41-'Base original'!AP41)/'Base original'!AR41)","v":0.53790759726180037},{"$f":"+(('Base original'!AO53-'Base original'!AQ53)/('Base original'!AO41-'Base original'!AQ41)*100-100)*(('Base original'!AO41-'Base original'!AQ41)/'Base original'!AR41)","v":4.7612474362477605E-2},{"$f":"+('Base original'!AR53/'Base original'!AR41*100-100)*'Base original'!AR41/'Base original'!$AR41","v":1.7320218414290451},{"$f":"+('Base original'!AR53/'Base original'!AR41*100-100)*'Base original'!AR41/'Base original'!$BC41","v":1.053786933509866},{"$f":"+('Base original'!AS53/'Base original'!AS41*100-100)*'Base original'!AS41/'Base original'!$BC41","v":-1.4761092505229729},{"$f":"+('Base original'!AT53/'Base original'!AT41*100-100)*'Base original'!AT41/'Base original'!$BC41","v":-0.44084409125111801},{"$f":"+('Base original'!AU53/'Base original'!AU41*100-100)*'Base original'!AU41/'Base original'!$BC41","v":1.2235578897723323},{"$f":"+('Base original'!AV53/'Base original'!AV41*100-100)*'Base original'!AV41/'Base original'!$BC41","v":-0.85513407948293663},{"$f":"+('Base original'!AW53/'Base original'!AW41*100-100)*'Base original'!AW41/'Base original'!$BC41","v":0.14541532605806085},{"$f":"+('Base original'!AX53/'Base original'!AX41*100-100)*'Base original'!AX41/'Base original'!$BC41","v":1.3897796775035212},{"$f":"+('Base original'!AY53/'Base original'!AY41*100-100)*'Base original'!AY41/'Base original'!$BC41","v":2.0875433369283685},{"$f":"+('Base original'!AZ53/'Base original'!AZ41*100-100)*'Base original'!AZ41/'Base original'!$BC41","v":0.11104443080797384},{"$f":"+('Base original'!BA53/'Base original'!BA41*100-100)*'Base original'!BA41/'Base original'!$BC41","v":1.5738191534078354},{"$f":"+('Base original'!BB53/'Base original'!BB41*100-100)*'Base original'!BB41/'Base original'!$BC41","v":-8.6904337154066452E-2},{"$f":"+(('Base original'!AY53-'Base original'!BA53)/('Base original'!AY41-'Base original'!BA41)*100-100)*('Base original'!AY41-'Base original'!BA41)/'Base original'!$BC41","v":0.51372418352053228},{"$f":"+(('Base original'!AZ53-'Base original'!BB53)/('Base original'!AZ41-'Base original'!BB41)*100-100)*('Base original'!AZ41-'Base original'!BB41)/'Base original'!$BC41","v":0.1979487679620402},{"$f":"+('Base original'!BC53/'Base original'!BC41*100-100)*'Base original'!BC41/'Base original'!$BC41","v":1.752125357069346}]
["2009-11-01",{"$f":"+'Base original'!B54/'Base original'!B42*100-100","v":-4.1589298953574172},{"$f":"+'Base original'!C54/'Base original'!C42*100-100","v":-0.2367642624623727},{"$f":"+'Base original'!D54/'Base original'!D42*100-100","v":6.8865164757758066},{"$f":"+'Base original'!E54/'Base original'!E42*100-100","v":-42.583719472286653},{"$f":"+'Base original'!F54/'Base original'!F42*100-100","v":-5.6255162561757999},{"$f":"+'Base original'!G54","v":27.258339937912599},null,null,null,null,{"$f":"+'Base original'!Q54","v":5.2475719388473099},null,null,null,{"$f":"+'Base original'!Y54","v":2.5465993614059901},null,null,{"$f":"+'Base original'!AE54","v":4.28},{"$f":"+('Base original'!AH54/'Base original'!AH42*100-100)*'Base original'!AH42/'Base original'!$AK42","v":2.4730618119578329},{"$f":"+('Base original'!AI54/'Base original'!AI42*100-100)*'Base original'!AI42/'Base original'!$AK42","v":14.122452481770535},{"$f":"+('Base original'!AJ54/'Base original'!AJ42*100-100)*'Base original'!AJ42/'Base original'!$AK42","v":3.2395500856235899},{"$f":"+('Base original'!AK54/'Base original'!AK42*100-100)*'Base original'!AK42/'Base original'!$AK42","v":19.835064379351934},{"$f":"+('Base original'!AK54/'Base original'!AK42*100-100)*'Base original'!AK42/'Base original'!$AR42","v":3.7705678946477903},{"$f":"+('Base original'!AL54/'Base original'!AL42*100-100)*'Base original'!AL42/'Base original'!$AR42","v":-5.9216624588397044},{"$f":"+('Base original'!AM54/'Base original'!AM42*100-100)*'Base original'!AM42/'Base original'!$AR42","v":0.13292009787467002},{"$f":"+('Base original'!AN54/'Base original'!AN42*100-100)*'Base original'!AN42/'Base original'!$AR42","v":5.91133942926347},{"$f":"+('Base original'!AO54/'Base original'!AO42*100-100)*'Base original'!AO42/'Base original'!$AR42","v":3.2167033421686447E-2},{"$f":"+('Base original'!AP54/'Base original'!AP42*100-100)*'Base original'!AP42/'Base original'!$AR42","v":5.3084848546191061},{"$f":"+('Base original'!AQ54/'Base original'!AQ42*100-100)*'Base original'!AQ42/'Base original'!$AR42","v":1.0167740449383627E-2},{"$f":"+(('Base original'!AN54-'Base original'!AP54)/('Base original'!AN42-'Base original'!AP42)*100-100)*(('Base original'!AN42-'Base original'!AP42)/'Base original'!AR42)","v":0.60285457464436287},{"$f":"+(('Base original'!AO54-'Base original'!AQ54)/('Base original'!AO42-'Base original'!AQ42)*100-100)*(('Base original'!AO42-'Base original'!AQ42)/'Base original'!AR42)","v":2.199929297230278E-2},{"$f":"+('Base original'!AR54/'Base original'!AR42*100-100)*'Base original'!AR42/'Base original'!$AR42","v":-1.3933205987005692},{"$f":"+('Base original'!AR54/'Base original'!AR42*100-100)*'Base original'!AR42/'Base original'!$BC42","v":-0.85625040419835008},{"$f":"+('Base original'!AS54/'Base original'!AS42*100-100)*'Base original'!AS42/'Base original'!$BC42","v":-1.6942461665379913},{"$f":"+('Base original'!AT54/'Base original'!AT42*100-100)*'Base original'!AT42/'Base original'!$BC42","v":-6.7937987500149524E-2},{"$f":"+('Base original'!AU54/'Base original'!AU42*100-100)*'Base original'!AU42/'Base original'!$BC42","v":1.2532172911607711},{"$f":"+('Base original'!AV54/'Base original'!AV42*100-100)*'Base original'!AV42/'Base original'!$BC42","v":-1.0818954096386559},{"$f":"+('Base original'!AW54/'Base original'!AW42*100-100)*'Base original'!AW42/'Base original'!$BC42","v":5.30552511079758E-2},{"$f":"+('Base original'!AX54/'Base original'!AX42*100-100)*'Base original'!AX42/'Base original'!$BC42","v":1.4037487852037429},{"$f":"+('Base original'!AY54/'Base original'!AY42*100-100)*'Base original'!AY42/'Base original'!$BC42","v":2.6315177332206443},{"$f":"+('Base original'!AZ54/'Base original'!AZ42*100-100)*'Base original'!AZ42/'Base original'!$BC42","v":0.16995857742512138},{"$f":"+('Base original'!BA54/'Base original'!BA42*100-100)*'Base original'!BA42/'Base original'!$BC42","v":1.4815707274070908},{"$f":"+('Base original'!BB54/'Base original'!BB42*100-100)*'Base original'!BB42/'Base original'!$BC42","v":-8.1343811120579451E-2},{"$f":"+(('Base original'!AY54-'Base original'!BA54)/('Base original'!AY42-'Base original'!BA42)*100-100)*('Base original'!AY42-'Base original'!BA42)/'Base original'!$BC42","v":1.1499470058135535},{"$f":"+(('Base original'!AZ54-'Base original'!BB54)/('Base original'!AZ42-'Base original'!BB42)*100-100)*('Base original'!AZ42-'Base original'!BB42)/'Base original'!$BC42","v":0.25130238854570086},{"$f":"+('Base original'!BC54/'Base original'!BC42*100-100)*'Base original'!BC42/'Base original'!$BC42","v":0.41094075395662344}]
["2009-12-01",{"$f":"+'Base original'!B55/'Base original'!B43*100-100","v":0.53953450855439655},{"$f":"+'Base original'!C55/'Base original'!C43*100-100","v":0.80779557560781257},{"$f":"+'Base original'!D55/'Base original'!D43*100-100","v":7.1319000877443841},{"$f":"+'Base original'!E55/'Base original'!E43*100-100","v":-40.92991793839871},{"$f":"+'Base original'!F55/'Base original'!F43*100-100","v":-2.3390240260607271},{"$f":"+'Base original'!G55","v":26.556523975162101},null,null,null,null,{"$f":"+'Base original'!Q55","v":4.7397666361242097},null,null,null,{"$f":"+'Base original'!Y55","v":2.2207973644244801},null,null,{"$f":"+'Base original'!AE55","v":4.5414325420879997},{"$f":"+('Base original'!AH55/'Base original'!AH43*100-100)*'Base original'!AH43/'Base original'!$AK43","v":2.4953968856114495},{"$f":"+('Base original'!AI55/'Base original'!AI43*100-100)*'Base original'!AI43/'Base original'!$AK43","v":15.872163822717631},{"$f":"+('Base original'!AJ55/'Base original'!AJ43*100-100)*'Base original'!AJ43/'Base original'!$AK43","v":4.4971956273142917},{"$f":"+('Base original'!AK55/'Base original'!AK43*100-100)*'Base original'!AK43/'Base original'!$AK43","v":22.864756335643378},{"$f":"+('Base original'!AK55/'Base original'!AK43*100-100)*'Base original'!AK43/'Base original'!$AR43","v":4.4803158992563485},{"$f":"+('Base original'!AL55/'Base original'!AL43*100-100)*'Base original'!AL43/'Base original'!$AR43","v":-6.618545393067861},{"$f":"+('Base original'!AM55/'Base original'!AM43*100-100)*'Base original'!AM43/'Base original'!$AR43","v":0.11693929083118898},{"$f":"+('Base original'!AN55/'Base original'!AN43*100-100)*'Base original'!AN43/'Base original'!$AR43","v":5.3233666005974811},{"$f":"+('Base original'!AO55/'Base original'!AO43*100-100)*'Base original'!AO43/'Base original'!$AR43","v":6.7081453655101E-3},{"$f":"+('Base original'!AP55/'Base original'!AP43*100-100)*'Base original'!AP43/'Base original'!$AR43","v":4.8800851027955305},{"$f":"+('Base original'!AQ55/'Base original'!AQ43*100-100)*'Base original'!AQ43/'Base original'!$AR43","v":3.2634220697076032E-3},{"$f":"+(('Base original'!AN55-'Base original'!AP55)/('Base original'!AN43-'Base original'!AP43)*100-100)*(('Base original'!AN43-'Base original'!AP43)/'Base original'!AR43)","v":0.44328149780195086},{"$f":"+(('Base original'!AO55-'Base original'!AQ55)/('Base original'!AO43-'Base original'!AQ43)*100-100)*(('Base original'!AO43-'Base original'!AQ43)/'Base original'!AR43)","v":3.4447232958024657E-3},{"$f":"+('Base original'!AR55/'Base original'!AR43*100-100)*'Base original'!AR43/'Base original'!$AR43","v":-1.5745639818825765},{"$f":"+('Base original'!AR55/'Base original'!AR43*100-100)*'Base original'!AR43/'Base original'!$BC43","v":-0.97790595385380263},{"$f":"+('Base original'!AS55/'Base original'!AS43*100-100)*'Base original'!AS43/'Base original'!$BC43","v":-1.4397007098008252},{"$f":"+('Base original'!AT55/'Base original'!AT43*100-100)*'Base original'!AT43/'Base original'!$BC43","v":-0.13084093733681851},{"$f":"+('Base original'!AU55/'Base original'!AU43*100-100)*'Base original'!AU43/'Base original'!$BC43","v":1.2560504784786644},{"$f":"+('Base original'!AV55/'Base original'!AV43*100-100)*'Base original'!AV43/'Base original'!$BC43","v":-0.95889967500890272},{"$f":"+('Base original'!AW55/'Base original'!AW43*100-100)*'Base original'!AW43/'Base original'!$BC43","v":-7.318985307136947E-3},{"$f":"+('Base original'!AX55/'Base original'!AX43*100-100)*'Base original'!AX43/'Base original'!$BC43","v":1.3544626809161693},{"$f":"+('Base original'!AY55/'Base original'!AY43*100-100)*'Base original'!AY43/'Base original'!$BC43","v":2.7666890458717392},{"$f":"+('Base original'!AZ55/'Base original'!AZ43*100-100)*'Base original'!AZ43/'Base original'!$BC43","v":0.18500142860963215},{"$f":"+('Base original'!BA55/'Base original'!BA43*100-100)*'Base original'!BA43/'Base original'!$BC43","v":1.2592032721494313},{"$f":"+('Base original'!BB55/'Base original'!BB43*100-100)*'Base original'!BB43/'Base original'!$BC43","v":-7.6905645611916471E-2},{"$f":"+(('Base original'!AY55-'Base original'!BA55)/('Base original'!AY43-'Base original'!BA43)*100-100)*('Base original'!AY43-'Base original'!BA43)/'Base original'!$BC43","v":1.5074857737223082},{"$f":"+(('Base original'!AZ55-'Base original'!BB55)/('Base original'!AZ43-'Base original'!BB43)*100-100)*('Base original'!AZ43-'Base original'!BB43)/'Base original'!$BC43","v":0.26190707422154863},{"$f":"+('Base original'!BC55/'Base original'!BC43*100-100)*'Base original'!BC43/'Base original'!$BC43","v":0.86523974603120746}]
["2010-01-01",{"$f":"+'Base original'!B56/'Base original'!B44*100-100","v":1.7022024242270106},{"$f":"+'Base original'!C56/'Base original'!C44*100-100","v":1.4064852978419111},{"$f":"+'Base original'!D56/'Base original'!D44*100-100","v":7.4818988417938499},{"$f":"+'Base original'!E56/'Base original'!E44*100-100","v":-29.953398635007261},{"$f":"+'Base original'!F56/'Base original'!F44*100-100","v":-0.27167636702625941},{"$f":"+'Base original'!G56","v":30.353914964528101},null,null,null,null,{"$f":"+'Base original'!Q56","v":7.0406248867057499},null,null,null,{"$f":"+'Base original'!Y56","v":1.83706570409307},null,null,{"$f":"+'Base original'!AE56","v":4.5838309984722203},{"$f":"+('Base original'!AH56/'Base original'!AH44*100-100)*'Base original'!AH44/'Base original'!$AK44","v":2.7797410906926592},{"$f":"+('Base original'!AI56/'Base original'!AI44*100-100)*'Base original'!AI44/'Base original'!$AK44","v":19.007237184733263},{"$f":"+('Base original'!AJ56/'Base original'!AJ44*100-100)*'Base original'!AJ44/'Base original'!$AK44","v":6.3712688788036544},{"$f":"+('Base original'!AK56/'Base original'!AK44*100-100)*'Base original'!AK44/'Base original'!$AK44","v":28.158247154229571},{"$f":"+('Base original'!AK56/'Base original'!AK44*100-100)*'Base original'!AK44/'Base original'!$AR44","v":5.4788318641174385},{"$f":"+('Base original'!AL56/'Base original'!AL44*100-100)*'Base original'!AL44/'Base original'!$AR44","v":-5.9202761021471444},{"$f":"+('Base original'!AM56/'Base original'!AM44*100-100)*'Base original'!AM44/'Base original'!$AR44","v":0.1842080334788149},{"$f":"+('Base original'!AN56/'Base original'!AN44*100-100)*'Base original'!AN44/'Base original'!$AR44","v":3.7502077542715502},{"$f":"+('Base original'!AO56/'Base original'!AO44*100-100)*'Base original'!AO44/'Base original'!$AR44","v":5.4285275091988522E-3},{"$f":"+('Base original'!AP56/'Base original'!AP44*100-100)*'Base original'!AP44/'Base original'!$AR44","v":3.2853448485671559},{"$f":"+('Base original'!AQ56/'Base original'!AQ44*100-100)*'Base original'!AQ44/'Base original'!$AR44","v":1.8095091697330098E-4},{"$f":"+(('Base original'!AN56-'Base original'!AP56)/('Base original'!AN44-'Base original'!AP44)*100-100)*(('Base original'!AN44-'Base original'!AP44)/'Base original'!AR44)","v":0.46486290570439576},{"$f":"+(('Base original'!AO56-'Base original'!AQ56)/('Base original'!AO44-'Base original'!AQ44)*100-100)*(('Base original'!AO44-'Base original'!AQ44)/'Base original'!AR44)","v":5.2475765922255814E-3},{"$f":"+('Base original'!AR56/'Base original'!AR44*100-100)*'Base original'!AR44/'Base original'!$AR44","v":0.21287427774574041},{"$f":"+('Base original'!AR56/'Base original'!AR44*100-100)*'Base original'!AR44/'Base original'!$BC44","v":0.13271106993323428},{"$f":"+('Base original'!AS56/'Base original'!AS44*100-100)*'Base original'!AS44/'Base original'!$BC44","v":-1.1676886527590524},{"$f":"+('Base original'!AT56/'Base original'!AT44*100-100)*'Base original'!AT44/'Base original'!$BC44","v":-0.25765635039142826},{"$f":"+('Base original'!AU56/'Base original'!AU44*100-100)*'Base original'!AU44/'Base original'!$BC44","v":1.3291187041645403},{"$f":"+('Base original'!AV56/'Base original'!AV44*100-100)*'Base original'!AV44/'Base original'!$BC44","v":-0.96090927873650966},{"$f":"+('Base original'!AW56/'Base original'!AW44*100-100)*'Base original'!AW44/'Base original'!$BC44","v":-5.9788907927957437E-3},{"$f":"+('Base original'!AX56/'Base original'!AX44*100-100)*'Base original'!AX44/'Base original'!$BC44","v":1.0375067664404374},{"$f":"+('Base original'!AY56/'Base original'!AY44*100-100)*'Base original'!AY44/'Base original'!$BC44","v":2.8162831819273246},{"$f":"+('Base original'!AZ56/'Base original'!AZ44*100-100)*'Base original'!AZ44/'Base original'!$BC44","v":0.20565128142012865},{"$f":"+('Base original'!BA56/'Base original'!BA44*100-100)*'Base original'!BA44/'Base original'!$BC44","v":1.1620481897469799},{"$f":"+('Base original'!BB56/'Base original'!BB44*100-100)*'Base original'!BB44/'Base original'!$BC44","v":-2.323870760973477E-2},{"$f":"+(('Base original'!AY56-'Base original'!BA56)/('Base original'!AY44-'Base original'!BA44)*100-100)*('Base original'!AY44-'Base original'!BA44)/'Base original'!$BC44","v":1.6542349921803448},{"$f":"+(('Base original'!AZ56-'Base original'!BB56)/('Base original'!AZ44-'Base original'!BB44)*100-100)*('Base original'!AZ44-'Base original'!BB44)/'Base original'!$BC44","v":0.22888998902986349},{"$f":"+('Base original'!BC56/'Base original'!BC44*100-100)*'Base original'!BC44/'Base original'!$BC44","v":1.9902283490686301}]
["2010-02-01",{"$f":"+'Base original'!B57/'Base original'!B45*100-100","v":3.5174415884268342},{"$f":"+'Base original'!C57/'Base original'!C45*100-100","v":2.3118128147396675},{"$f":"+'Base original'!D57/'Base original'!D45*100-100","v":8.937570740927697},{"$f":"+'Base original'!E57/'Base original'!E45*100-100","v":-27.590566856748978},{"$f":"+'Base original'!F57/'Base original'!F45*100-100","v":1.5578769430916424},{"$f":"+'Base original'!G57","v":29.5461259997262},null,null,null,null,{"$f":"+'Base original'!Q57","v":5.6279494904808596},null,null,null,{"$f":"+'Base original'!Y57","v":1.9782439184533001},null,null,{"$f":"+'Base original'!AE57","v":4.6029839655247002},{"$f":"+('Base original'!AH57/'Base original'!AH45*100-100)*'Base original'!AH45/'Base original'!$AK45","v":3.377249601336473},{"$f":"+('Base original'!AI57/'Base original'!AI45*100-100)*'Base original'!AI45/'Base original'!$AK45","v":20.76528447490319},{"$f":"+('Base original'!AJ57/'Base original'!AJ45*100-100)*'Base original'!AJ45/'Base original'!$AK45","v":7.5692511770066142},{"$f":"+('Base original'!AK57/'Base original'!AK45*100-100)*'Base original'!AK45/'Base original'!$AK45","v":31.711785253246262},{"$f":"+('Base original'!AK57/'Base original'!AK45*100-100)*'Base original'!AK45/'Base original'!$AR45","v":6.1047210823671048},{"$f":"+('Base original'!AL57/'Base original'!AL45*100-100)*'Base original'!AL45/'Base original'!$AR45","v":-4.5551654804435859},{"$f":"+('Base original'!AM57/'Base original'!AM45*100-100)*'Base original'!AM45/'Base original'!$AR45","v":0.16975323671822123},{"$f":"+('Base original'!AN57/'Base original'!AN45*100-100)*'Base original'!AN45/'Base original'!$AR45","v":1.2030735312731624},{"$f":"+('Base original'!AO57/'Base original'!AO45*100-100)*'Base original'!AO45/'Base original'!$AR45","v":4.3854442209228612E-3},{"$f":"+('Base original'!AP57/'Base original'!AP45*100-100)*'Base original'!AP45/'Base original'!$AR45","v":0.92843508693787058},{"$f":"+('Base original'!AQ57/'Base original'!AQ45*100-100)*'Base original'!AQ45/'Base original'!$AR45","v":-9.1363421269225755E-4},{"$f":"+(('Base original'!AN57-'Base original'!AP57)/('Base original'!AN45-'Base original'!AP45)*100-100)*(('Base original'!AN45-'Base original'!AP45)/'Base original'!AR45)","v":0.27463844433529366},{"$f":"+(('Base original'!AO57-'Base original'!AQ57)/('Base original'!AO45-'Base original'!AQ45)*100-100)*(('Base original'!AO45-'Base original'!AQ45)/'Base original'!AR45)","v":5.2990784336151486E-3},{"$f":"+('Base original'!AR57/'Base original'!AR45*100-100)*'Base original'!AR45/'Base original'!$AR45","v":1.9992463614106697},{"$f":"+('Base original'!AR57/'Base original'!AR45*100-100)*'Base original'!AR45/'Base original'!$BC45","v":1.2371269367480255},{"$f":"+('Base original'!AS57/'Base original'!AS45*100-100)*'Base original'!AS45/'Base original'!$BC45","v":-1.1006307459943803},{"$f":"+('Base original'!AT57/'Base original'!AT45*100-100)*'Base original'!AT45/'Base original'!$BC45","v":-0.11386225202551301},{"$f":"+('Base original'!AU57/'Base original'!AU45*100-100)*'Base original'!AU45/'Base original'!$BC45","v":1.350630189120904},{"$f":"+('Base original'!AV57/'Base original'!AV45*100-100)*'Base original'!AV45/'Base original'!$BC45","v":-1.0649003868682023},{"$f":"+('Base original'!AW57/'Base original'!AW45*100-100)*'Base original'!AW45/'Base original'!$BC45","v":-5.7892227444947882E-2},{"$f":"+('Base original'!AX57/'Base original'!AX45*100-100)*'Base original'!AX45/'Base original'!$BC45","v":0.78866852818068489},{"$f":"+('Base original'!AY57/'Base original'!AY45*100-100)*'Base original'!AY45/'Base original'!$BC45","v":2.5982529188622228},{"$f":"+('Base original'!AZ57/'Base original'!AZ45*100-100)*'Base original'!AZ45/'Base original'!$BC45","v":0.21788734821565353},{"$f":"+('Base original'!BA57/'Base original'!BA45*100-100)*'Base original'!BA45/'Base original'!$BC45","v":0.77046413634741184},{"$f":"+('Base original'!BB57/'Base original'!BB45*100-100)*'Base original'!BB45/'Base original'!$BC45","v":-2.2274939075497515E-2},{"$f":"+(('Base original'!AY57-'Base original'!BA57)/('Base original'!AY45-'Base original'!BA45)*100-100)*('Base original'!AY45-'Base original'!BA45)/'Base original'!$BC45","v":1.8277887825148105},{"$f":"+(('Base original'!AZ57-'Base original'!BB57)/('Base original'!AZ45-'Base original'!BB45)*100-100)*('Base original'!AZ45-'Base original'!BB45)/'Base original'!$BC45","v":0.24016228729115105},{"$f":"+('Base original'!BC57/'Base original'!BC45*100-100)*'Base original'!BC45/'Base original'!$BC45","v":3.1070911115225357}]
["2010-03-01",{"$f":"+'Base original'!B58/'Base original'!B46*100-100","v":4.8614049734068772},{"$f":"+'Base original'!C58/'Base original'!C46*100-100","v":2.9526078120792647},{"$f":"+'Base original'!D58/'Base original'!D46*100-100","v":9.4825979533006404},{"$f":"+'Base original'!E58/'Base original'!E46*100-100","v":-23.646317707537079},{"$f":"+'Base original'!F58/'Base original'!F46*100-100","v":3.0046348715761013},{"$f":"+'Base original'!G58","v":27.982459031962598},null,null,null,null,{"$f":"+'Base original'!Q58","v":5.4203586919209599},null,null,null,{"$f":"+'Base original'!Y58","v":2.2012315029075702},null,null,{"$f":"+'Base original'!AE58","v":4.2755855149842201},{"$f":"+('Base original'!AH58/'Base original'!AH46*100-100)*'Base original'!AH46/'Base original'!$AK46","v":3.8515386422363203},{"$f":"+('Base original'!AI58/'Base original'!AI46*100-100)*'Base original'!AI46/'Base original'!$AK46","v":19.691229974160223},{"$f":"+('Base original'!AJ58/'Base original'!AJ46*100-100)*'Base original'!AJ46/'Base original'!$AK46","v":9.9286901573878286},{"$f":"+('Base original'!AK58/'Base original'!AK46*100-100)*'Base original'!AK46/'Base original'!$AK46","v":33.471458773784377},{"$f":"+('Base original'!AK58/'Base original'!AK46*100-100)*'Base original'!AK46/'Base original'!$AR46","v":6.5993449008055816},{"$f":"+('Base original'!AL58/'Base original'!AL46*100-100)*'Base original'!AL46/'Base original'!$AR46","v":-2.8906240375144883},{"$f":"+('Base original'!AM58/'Base original'!AM46*100-100)*'Base original'!AM46/'Base original'!$AR46","v":0.22453556846264644},{"$f":"+('Base original'!AN58/'Base original'!AN46*100-100)*'Base original'!AN46/'Base original'!$AR46","v":1.8776138501393671},{"$f":"+('Base original'!AO58/'Base original'!AO46*100-100)*'Base original'!AO46/'Base original'!$AR46","v":9.2630185009340651E-4},{"$f":"+('Base original'!AP58/'Base original'!AP46*100-100)*'Base original'!AP46/'Base original'!$AR46","v":1.1921504810702368},{"$f":"+('Base original'!AQ58/'Base original'!AQ46*100-100)*'Base original'!AQ46/'Base original'!$AR46","v":-6.2988525806352679E-3},{"$f":"+(('Base original'!AN58-'Base original'!AP58)/('Base original'!AN46-'Base original'!AP46)*100-100)*(('Base original'!AN46-'Base original'!AP46)/'Base original'!AR46)","v":0.6854633690691323},{"$f":"+(('Base original'!AO58-'Base original'!AQ58)/('Base original'!AO46-'Base original'!AQ46)*100-100)*(('Base original'!AO46-'Base original'!AQ46)/'Base original'!AR46)","v":7.2251544307287037E-3},{"$f":"+('Base original'!AR58/'Base original'!AR46*100-100)*'Base original'!AR46/'Base original'!$AR46","v":4.625944955253587},{"$f":"+('Base original'!AR58/'Base original'!AR46*100-100)*'Base original'!AR46/'Base original'!$BC46","v":2.8332691393300271},{"$f":"+('Base original'!AS58/'Base original'!AS46*100-100)*'Base original'!AS46/'Base original'!$BC46","v":-1.0309619336652136},{"$f":"+('Base original'!AT58/'Base original'!AT46*100-100)*'Base original'!AT46/'Base original'!$BC46","v":-0.45659154975443794},{"$f":"+('Base original'!AU58/'Base original'!AU46*100-100)*'Base original'!AU46/'Base original'!$BC46","v":1.5970492203761697},{"$f":"+('Base original'!AV58/'Base original'!AV46*100-100)*'Base original'!AV46/'Base original'!$BC46","v":-0.74876929344670307},{"$f":"+('Base original'!AW58/'Base original'!AW46*100-100)*'Base original'!AW46/'Base original'!$BC46","v":-0.10665905983329298},{"$f":"+('Base original'!AX58/'Base original'!AX46*100-100)*'Base original'!AX46/'Base original'!$BC46","v":0.68273145001800606},{"$f":"+('Base original'!AY58/'Base original'!AY46*100-100)*'Base original'!AY46/'Base original'!$BC46","v":2.7570232296056965},{"$f":"+('Base original'!AZ58/'Base original'!AZ46*100-100)*'Base original'!AZ46/'Base original'!$BC46","v":0.24043675296462544},{"$f":"+('Base original'!BA58/'Base original'!BA46*100-100)*'Base original'!BA46/'Base original'!$BC46","v":0.74162086709617414},{"$f":"+('Base original'!BB58/'Base original'!BB46*100-100)*'Base original'!BB46/'Base original'!$BC46","v":-2.1672213221445712E-2},{"$f":"+(('Base original'!AY58-'Base original'!BA58)/('Base original'!AY46-'Base original'!BA46)*100-100)*('Base original'!AY46-'Base original'!BA46)/'Base original'!$BC46","v":2.0154023625095219},{"$f":"+(('Base original'!AZ58-'Base original'!BB58)/('Base original'!AZ46-'Base original'!BB46)*100-100)*('Base original'!AZ46-'Base original'!BB46)/'Base original'!$BC46","v":0.26210896618607121},{"$f":"+('Base original'!BC58/'Base original'!BC46*100-100)*'Base original'!BC46/'Base original'!$BC46","v":5.0475793017201767}]
["2010-04-01",{"$f":"+'Base original'!B59/'Base original'!B47*100-100","v":4.553444536309101},{"$f":"+'Base original'!C59/'Base original'!C47*100-100","v":3.9336442785218111},{"$f":"+'Base original'!D59/'Base original'!D47*100-100","v":9.8934363733884823},{"$f":"+'Base original'!E59/'Base original'!E47*100-100","v":-16.448253981031385},{"$f":"+'Base original'!F59/'Base original'!F47*100-100","v":3.8160146536283293},{"$f":"+'Base original'!G59","v":27.308355461376799},null,null,null,null,{"$f":"+'Base original'!Q59","v":5.4443365264185601},null,null,null,{"$f":"+'Base original'!Y59","v":1.82082148908182},null,null,{"$f":"+'Base original'!AE59","v":4.1275277843385396},{"$f":"+('Base original'!AH59/'Base original'!AH47*100-100)*'Base original'!AH47/'Base original'!$AK47","v":4.1874047273595494},{"$f":"+('Base original'!AI59/'Base original'!AI47*100-100)*'Base original'!AI47/'Base original'!$AK47","v":20.591802879759062},{"$f":"+('Base original'!AJ59/'Base original'!AJ47*100-100)*'Base original'!AJ47/'Base original'!$AK47","v":6.8467175705706032},{"$f":"+('Base original'!AK59/'Base original'!AK47*100-100)*'Base original'!AK47/'Base original'!$AK47","v":31.625925177689201},{"$f":"+('Base original'!AK59/'Base original'!AK47*100-100)*'Base original'!AK47/'Base original'!$AR47","v":6.4221676219874073},{"$f":"+('Base original'!AL59/'Base original'!AL47*100-100)*'Base original'!AL47/'Base original'!$AR47","v":-2.2772532743381428},{"$f":"+('Base original'!AM59/'Base original'!AM47*100-100)*'Base original'!AM47/'Base original'!$AR47","v":0.33080503372258035},{"$f":"+('Base original'!AN59/'Base original'!AN47*100-100)*'Base original'!AN47/'Base original'!$AR47","v":2.5088223921666271},{"$f":"+('Base original'!AO59/'Base original'!AO47*100-100)*'Base original'!AO47/'Base original'!$AR47","v":2.1630994313314063E-2},{"$f":"+('Base original'!AP59/'Base original'!AP47*100-100)*'Base original'!AP47/'Base original'!$AR47","v":0.90980707978155007},{"$f":"+('Base original'!AQ59/'Base original'!AQ47*100-100)*'Base original'!AQ47/'Base original'!$AR47","v":-2.0512149779866921E-3},{"$f":"+(('Base original'!AN59-'Base original'!AP59)/('Base original'!AN47-'Base original'!AP47)*100-100)*(('Base original'!AN47-'Base original'!AP47)/'Base original'!AR47)","v":1.5990153123850768},{"$f":"+(('Base original'!AO59-'Base original'!AQ59)/('Base original'!AO47-'Base original'!AQ47)*100-100)*(('Base original'!AO47-'Base original'!AQ47)/'Base original'!AR47)","v":2.3682209291300872E-2},{"$f":"+('Base original'!AR59/'Base original'!AR47*100-100)*'Base original'!AR47/'Base original'!$AR47","v":6.0984169030482471},{"$f":"+('Base original'!AR59/'Base original'!AR47*100-100)*'Base original'!AR47/'Base original'!$BC47","v":3.7052557718646137},{"$f":"+('Base original'!AS59/'Base original'!AS47*100-100)*'Base original'!AS47/'Base original'!$BC47","v":-0.60931290130507054},{"$f":"+('Base original'!AT59/'Base original'!AT47*100-100)*'Base original'!AT47/'Base original'!$BC47","v":-0.2586577451988612},{"$f":"+('Base original'!AU59/'Base original'!AU47*100-100)*'Base original'!AU47/'Base original'!$BC47","v":1.8096978379594426},{"$f":"+('Base original'!AV59/'Base original'!AV47*100-100)*'Base original'!AV47/'Base original'!$BC47","v":-0.84508459108116729},{"$f":"+('Base original'!AW59/'Base original'!AW47*100-100)*'Base original'!AW47/'Base original'!$BC47","v":-0.12757276438629775},{"$f":"+('Base original'!AX59/'Base original'!AX47*100-100)*'Base original'!AX47/'Base original'!$BC47","v":0.14921254946425794},{"$f":"+('Base original'!AY59/'Base original'!AY47*100-100)*'Base original'!AY47/'Base original'!$BC47","v":3.1270055924172437},{"$f":"+('Base original'!AZ59/'Base original'!AZ47*100-100)*'Base original'!AZ47/'Base original'!$BC47","v":0.25197320425854897},{"$f":"+('Base original'!BA59/'Base original'!BA47*100-100)*'Base original'!BA47/'Base original'!$BC47","v":1.2579399671235014},{"$f":"+('Base original'!BB59/'Base original'!BB47*100-100)*'Base original'!BB47/'Base original'!$BC47","v":-1.0536649278797248E-2},{"$f":"+(('Base original'!AY59-'Base original'!BA59)/('Base original'!AY47-'Base original'!BA47)*100-100)*('Base original'!AY47-'Base original'!BA47)/'Base original'!$BC47","v":1.869065625293741},{"$f":"+(('Base original'!AZ59-'Base original'!BB59)/('Base original'!AZ47-'Base original'!BB47)*100-100)*('Base original'!AZ47-'Base original'!BB47)/'Base original'!$BC47","v":0.26250985353734613},{"$f":"+('Base original'!BC59/'Base original'!BC47*100-100)*'Base original'!BC47/'Base original'!$BC47","v":5.9551136361480275}]
["2010-05-01",{"$f":"+'Base original'!B60/'Base original'!B48*100-100","v":5.6505067440419054},{"$f":"+'Base original'!C60/'Base original'!C48*100-100","v":4.8357446863036557},{"$f":"+'Base original'!D60/'Base original'!D48*100-100","v":10.698265960912764},{"$f":"+'Base original'!E60/'Base original'!E48*100-100","v":-8.8741830502587646},{"$f":"+'Base original'!F60/'Base original'!F48*100-100","v":5.4507006336250896},{"$f":"+'Base original'!G60","v":27.3045490031868},null,null,null,null,{"$f":"+'Base original'!Q60","v":5.1043360239322801},null,null,null,{"$f":"+'Base original'!Y60","v":2.3431927319747898},null,null,{"$f":"+'Base original'!AE60","v":4.18098759676288},{"$f":"+('Base original'!AH60/'Base original'!AH48*100-100)*'Base original'!AH48/'Base original'!$AK48","v":4.3108087839566611},{"$f":"+('Base original'!AI60/'Base original'!AI48*100-100)*'Base original'!AI48/'Base original'!$AK48","v":23.790602860344258},{"$f":"+('Base original'!AJ60/'Base original'!AJ48*100-100)*'Base original'!AJ48/'Base original'!$AK48","v":4.4758097103482219},{"$f":"+('Base original'!AK60/'Base original'!AK48*100-100)*'Base original'!AK48/'Base original'!$AK48","v":32.577221354649168},{"$f":"+('Base original'!AK60/'Base original'!AK48*100-100)*'Base original'!AK48/'Base original'!$AR48","v":6.8601750424085974},{"$f":"+('Base original'!AL60/'Base original'!AL48*100-100)*'Base original'!AL48/'Base original'!$AR48","v":-1.1387976034608869},{"$f":"+('Base original'!AM60/'Base original'!AM48*100-100)*'Base original'!AM48/'Base original'!$AR48","v":0.27571497570507986},{"$f":"+('Base original'!AN60/'Base original'!AN48*100-100)*'Base original'!AN48/'Base original'!$AR48","v":1.533525208537555},{"$f":"+('Base original'!AO60/'Base original'!AO48*100-100)*'Base original'!AO48/'Base original'!$AR48","v":4.4590023025080167E-2},{"$f":"+('Base original'!AP60/'Base original'!AP48*100-100)*'Base original'!AP48/'Base original'!$AR48","v":0.26716855462527161},{"$f":"+('Base original'!AQ60/'Base original'!AQ48*100-100)*'Base original'!AQ48/'Base original'!$AR48","v":-7.4316705041799821E-4},{"$f":"+(('Base original'!AN60-'Base original'!AP60)/('Base original'!AN48-'Base original'!AP48)*100-100)*(('Base original'!AN48-'Base original'!AP48)/'Base original'!AR48)","v":1.2663566539122828},{"$f":"+(('Base original'!AO60-'Base original'!AQ60)/('Base original'!AO48-'Base original'!AQ48)*100-100)*(('Base original'!AO48-'Base original'!AQ48)/'Base original'!AR48)","v":4.5333190075498186E-2},{"$f":"+('Base original'!AR60/'Base original'!AR48*100-100)*'Base original'!AR48/'Base original'!$AR48","v":7.3087822586405631},{"$f":"+('Base original'!AR60/'Base original'!AR48*100-100)*'Base original'!AR48/'Base original'!$BC48","v":4.4299343617855076},{"$f":"+('Base original'!AS60/'Base original'!AS48*100-100)*'Base original'!AS48/'Base original'!$BC48","v":0.11463744564933787},{"$f":"+('Base original'!AT60/'Base original'!AT48*100-100)*'Base original'!AT48/'Base original'!$BC48","v":-0.84424059924663974},{"$f":"+('Base original'!AU60/'Base original'!AU48*100-100)*'Base original'!AU48/'Base original'!$BC48","v":2.0245108034221806},{"$f":"+('Base original'!AV60/'Base original'!AV48*100-100)*'Base original'!AV48/'Base original'!$BC48","v":-0.7978450907913085},{"$f":"+('Base original'!AW60/'Base original'!AW48*100-100)*'Base original'!AW48/'Base original'!$BC48","v":-0.15157367568173627},{"$f":"+('Base original'!AX60/'Base original'!AX48*100-100)*'Base original'!AX48/'Base original'!$BC48","v":-0.29886815398166966},{"$f":"+('Base original'!AY60/'Base original'!AY48*100-100)*'Base original'!AY48/'Base original'!$BC48","v":3.1060216364440185},{"$f":"+('Base original'!AZ60/'Base original'!AZ48*100-100)*'Base original'!AZ48/'Base original'!$BC48","v":0.21868950830158371},{"$f":"+('Base original'!BA60/'Base original'!BA48*100-100)*'Base original'!BA48/'Base original'!$BC48","v":1.2389402524891995},{"$f":"+('Base original'!BB60/'Base original'!BB48*100-100)*'Base original'!BB48/'Base original'!$BC48","v":9.0088365932681127E-3},{"$f":"+(('Base original'!AY60-'Base original'!BA60)/('Base original'!AY48-'Base original'!BA48)*100-100)*('Base original'!AY48-'Base original'!BA48)/'Base original'!$BC48","v":1.8670813839548188},{"$f":"+(('Base original'!AZ60-'Base original'!BB60)/('Base original'!AZ48-'Base original'!BB48)*100-100)*('Base original'!AZ48-'Base original'!BB48)/'Base original'!$BC48","v":0.20968067170831553},{"$f":"+('Base original'!BC60/'Base original'!BC48*100-100)*'Base original'!BC48/'Base original'!$BC48","v":6.5533171468188121}]
["2010-06-01",{"$f":"+'Base original'!B61/'Base original'!B49*100-100","v":7.1738427552971586},{"$f":"+'Base original'!C61/'Base original'!C49*100-100","v":6.2691507530492316},{"$f":"+'Base original'!D61/'Base original'!D49*100-100","v":11.283072227321213},{"$f":"+'Base original'!E61/'Base original'!E49*100-100","v":8.3030123702168623},{"$f":"+'Base original'!F61/'Base original'!F49*100-100","v":8.1141264486020361},{"$f":"+'Base original'!G61","v":27.305817463765901},null,null,null,null,{"$f":"+'Base original'!Q61","v":5.2645016387231296},null,null,null,{"$f":"+'Base original'!Y61","v":2.1711366096890399},null,null,{"$f":"+'Base original'!AE61","v":4.0648042155850499},{"$f":"+('Base original'!AH61/'Base original'!AH49*100-100)*'Base original'!AH49/'Base original'!$AK49","v":4.3444196678404454},{"$f":"+('Base original'!AI61/'Base original'!AI49*100-100)*'Base original'!AI49/'Base original'!$AK49","v":22.813530895659891},{"$f":"+('Base original'!AJ61/'Base original'!AJ49*100-100)*'Base original'!AJ49/'Base original'!$AK49","v":4.7622553788667856},{"$f":"+('Base original'!AK61/'Base original'!AK49*100-100)*'Base original'!AK49/'Base original'!$AK49","v":31.920205942367119},{"$f":"+('Base original'!AK61/'Base original'!AK49*100-100)*'Base original'!AK49/'Base original'!$AR49","v":6.8689046981668476},{"$f":"+('Base original'!AL61/'Base original'!AL49*100-100)*'Base original'!AL49/'Base original'!$AR49","v":-0.71003539009769168},{"$f":"+('Base original'!AM61/'Base original'!AM49*100-100)*'Base original'!AM49/'Base original'!$AR49","v":0.31662732647787378},{"$f":"+('Base original'!AN61/'Base original'!AN49*100-100)*'Base original'!AN49/'Base original'!$AR49","v":0.21083785695249774},{"$f":"+('Base original'!AO61/'Base original'!AO49*100-100)*'Base original'!AO49/'Base original'!$AR49","v":6.6141577268929538E-2},{"$f":"+('Base original'!AP61/'Base original'!AP49*100-100)*'Base original'!AP49/'Base original'!$AR49","v":-1.9823946128223566E-2},{"$f":"+('Base original'!AQ61/'Base original'!AQ49*100-100)*'Base original'!AQ49/'Base original'!$AR49","v":-6.2991978351361576E-3},{"$f":"+(('Base original'!AN61-'Base original'!AP61)/('Base original'!AN49-'Base original'!AP49)*100-100)*(('Base original'!AN49-'Base original'!AP49)/'Base original'!AR49)","v":0.23066180308071904},{"$f":"+(('Base original'!AO61-'Base original'!AQ61)/('Base original'!AO49-'Base original'!AQ49)*100-100)*(('Base original'!AO49-'Base original'!AQ49)/'Base original'!AR49)","v":7.2440775104065921E-2},{"$f":"+('Base original'!AR61/'Base original'!AR49*100-100)*'Base original'!AR49/'Base original'!$AR49","v":6.7785992127318337},{"$f":"+('Base original'!AR61/'Base original'!AR49*100-100)*'Base original'!AR49/'Base original'!$BC49","v":4.1119787029666375},{"$f":"+('Base original'!AS61/'Base original'!AS49*100-100)*'Base original'!AS49/'Base original'!$BC49","v":0.89527721768475077},{"$f":"+('Base original'!AT61/'Base original'!AT49*100-100)*'Base original'!AT49/'Base original'!$BC49","v":-1.9925144102853298},{"$f":"+('Base original'!AU61/'Base original'!AU49*100-100)*'Base original'!AU49/'Base original'!$BC49","v":2.2027910452700361},{"$f":"+('Base original'!AV61/'Base original'!AV49*100-100)*'Base original'!AV49/'Base original'!$BC49","v":-0.63487584769032834},{"$f":"+('Base original'!AW61/'Base original'!AW49*100-100)*'Base original'!AW49/'Base original'!$BC49","v":-0.15846609050156887},{"$f":"+('Base original'!AX61/'Base original'!AX49*100-100)*'Base original'!AX49/'Base original'!$BC49","v":-0.24084598010274116},{"$f":"+('Base original'!AY61/'Base original'!AY49*100-100)*'Base original'!AY49/'Base original'!$BC49","v":3.1166121671624163},{"$f":"+('Base original'!AZ61/'Base original'!AZ49*100-100)*'Base original'!AZ49/'Base original'!$BC49","v":0.19240705456644405},{"$f":"+('Base original'!BA61/'Base original'!BA49*100-100)*'Base original'!BA49/'Base original'!$BC49","v":0.89550199228120642},{"$f":"+('Base original'!BB61/'Base original'!BB49*100-100)*'Base original'!BB49/'Base original'!$BC49","v":2.7872049960559638E-2},{"$f":"+(('Base original'!AY61-'Base original'!BA61)/('Base original'!AY49-'Base original'!BA49)*100-100)*('Base original'!AY49-'Base original'!BA49)/'Base original'!$BC49","v":2.2211101748812099},{"$f":"+(('Base original'!AZ61-'Base original'!BB61)/('Base original'!AZ49-'Base original'!BB49)*100-100)*('Base original'!AZ49-'Base original'!BB49)/'Base original'!$BC49","v":0.16453500460588438},{"$f":"+('Base original'!BC61/'Base original'!BC49*100-100)*'Base original'!BC49/'Base original'!$BC49","v":6.5689898168285197}]
["2010-07-01",{"$f":"+'Base original'!B62/'Base original'!B50*100-100","v":6.222826541513669},{"$f":"+'Base original'!C62/'Base original'!C50*100-100","v":7.126986628044321},{"$f":"+'Base original'!D62/'Base original'!D50*100-100","v":11.193379609157134},{"$f":"+'Base original'!E62/'Base original'!E50*100-100","v":3.9436598914136596},{"$f":"+'Base original'!F62/'Base original'!F50*100-100","v":7.3221570039791857},{"$f":"+'Base original'!G62","v":28.120906910575101},null,null,null,null,{"$f":"+'Base original'!Q62","v":5.8647111374861103},null,null,null,{"$f":"+'Base original'!Y62","v":2.04966951250272},null,null,{"$f":"+'Base original'!AE62","v":4.0258767077034898},{"$f":"+('Base original'!AH62/'Base original'!AH50*100-100)*'Base original'!AH50/'Base original'!$AK50","v":4.4664328009584491},{"$f":"+('Base original'!AI62/'Base original'!AI50*100-100)*'Base original'!AI50/'Base original'!$AK50","v":20.358930279863134},{"$f":"+('Base original'!AJ62/'Base original'!AJ50*100-100)*'Base original'!AJ50/'Base original'!$AK50","v":5.7139358392015183},{"$f":"+('Base original'!AK62/'Base original'!AK50*100-100)*'Base original'!AK50/'Base original'!$AK50","v":30.5392989200231},{"$f":"+('Base original'!AK62/'Base original'!AK50*100-100)*'Base original'!AK50/'Base original'!$AR50","v":6.5234868217492847},{"$f":"+('Base original'!AL62/'Base original'!AL50*100-100)*'Base original'!AL50/'Base original'!$AR50","v":-1.5473525891878812},{"$f":"+('Base original'!AM62/'Base original'!AM50*100-100)*'Base original'!AM50/'Base original'!$AR50","v":0.36417523519474143},{"$f":"+('Base original'!AN62/'Base original'!AN50*100-100)*'Base original'!AN50/'Base original'!$AR50","v":-1.289710577623441},{"$f":"+('Base original'!AO62/'Base original'!AO50*100-100)*'Base original'!AO50/'Base original'!$AR50","v":6.9962886437816951E-2},{"$f":"+('Base original'!AP62/'Base original'!AP50*100-100)*'Base original'!AP50/'Base original'!$AR50","v":-1.1994952766904656},{"$f":"+('Base original'!AQ62/'Base original'!AQ50*100-100)*'Base original'!AQ50/'Base original'!$AR50","v":-7.3645143618754306E-4},{"$f":"+(('Base original'!AN62-'Base original'!AP62)/('Base original'!AN50-'Base original'!AP50)*100-100)*(('Base original'!AN50-'Base original'!AP50)/'Base original'!AR50)","v":-9.0215300932974307E-2},{"$f":"+(('Base original'!AO62-'Base original'!AQ62)/('Base original'!AO50-'Base original'!AQ50)*100-100)*(('Base original'!AO50-'Base original'!AQ50)/'Base original'!AR50)","v":7.0699337874004411E-2},{"$f":"+('Base original'!AR62/'Base original'!AR50*100-100)*'Base original'!AR50/'Base original'!$AR50","v":5.3207935046971642},{"$f":"+('Base original'!AR62/'Base original'!AR50*100-100)*'Base original'!AR50/'Base original'!$BC50","v":3.2594506966891492},{"$f":"+('Base original'!AS62/'Base original'!AS50*100-100)*'Base original'!AS50/'Base original'!$BC50","v":0.99014131551975315},{"$f":"+('Base original'!AT62/'Base original'!AT50*100-100)*'Base original'!AT50/'Base original'!$BC50","v":-2.0609240526816754},{"$f":"+('Base original'!AU62/'Base original'!AU50*100-100)*'Base original'!AU50/'Base original'!$BC50","v":2.280855202614871},{"$f":"+('Base original'!AV62/'Base original'!AV50*100-100)*'Base original'!AV50/'Base original'!$BC50","v":-0.63261221537194345},{"$f":"+('Base original'!AW62/'Base original'!AW50*100-100)*'Base original'!AW50/'Base original'!$BC50","v":-0.2237658469063889},{"$f":"+('Base original'!AX62/'Base original'!AX50*100-100)*'Base original'!AX50/'Base original'!$BC50","v":-6.6317700595241141E-2},{"$f":"+('Base original'!AY62/'Base original'!AY50*100-100)*'Base original'!AY50/'Base original'!$BC50","v":3.1262930999990899},{"$f":"+('Base original'!AZ62/'Base original'!AZ50*100-100)*'Base original'!AZ50/'Base original'!$BC50","v":0.19590790124818444},{"$f":"+('Base original'!BA62/'Base original'!BA50*100-100)*'Base original'!BA50/'Base original'!$BC50","v":1.1736428442076021},{"$f":"+('Base original'!BB62/'Base original'!BB50*100-100)*'Base original'!BB50/'Base original'!$BC50","v":2.5940597171607585E-2},{"$f":"+(('Base original'!AY62-'Base original'!BA62)/('Base original'!AY50-'Base original'!BA50)*100-100)*('Base original'!AY50-'Base original'!BA50)/'Base original'!$BC50","v":1.9526502557914875},{"$f":"+(('Base original'!AZ62-'Base original'!BB62)/('Base original'!AZ50-'Base original'!BB50)*100-100)*('Base original'!AZ50-'Base original'!BB50)/'Base original'!$BC50","v":0.16996730407657676},{"$f":"+('Base original'!BC62/'Base original'!BC50*100-100)*'Base original'!BC50/'Base original'!$BC50","v":5.6694449591365981}]
["2010-08-01",{"$f":"+'Base original'!B63/'Base original'!B51*100-100","v":5.6624471383373418},{"$f":"+'Base original'!C63/'Base original'!C51*100-100","v":8.6020547155698495},{"$f":"+'Base original'!D63/'Base original'!D51*100-100","v":11.926454941377386},{"$f":"+'Base original'!E63/'Base original'!E51*100-100","v":2.1682592350613845},{"$f":"+'Base original'!F63/'Base original'!F51*100-100","v":7.2068589138805521},{"$f":"+'Base original'!G63","v":27.5146327566252},null,null,null,null,{"$f":"+'Base original'!Q63","v":6.9137059213616698},null,null,null,{"$f":"+'Base original'!Y63","v":2.1077787977831299},null,null,{"$f":"+'Base original'!AE63","v":4.0647273420175303},{"$f":"+('Base original'!AH63/'Base original'!AH51*100-100)*'Base original'!AH51/'Base original'!$AK51","v":3.7878143034677656},{"$f":"+('Base original'!AI63/'Base original'!AI51*100-100)*'Base original'!AI51/'Base original'!$AK51","v":17.94005634905772},{"$f":"+('Base original'!AJ63/'Base original'!AJ51*100-100)*'Base original'!AJ51/'Base original'!$AK51","v":7.0203631194566078},{"$f":"+('Base original'!AK63/'Base original'!AK51*100-100)*'Base original'!AK51/'Base original'!$AK51","v":28.748233771982115},{"$f":"+('Base original'!AK63/'Base original'!AK51*100-100)*'Base original'!AK51/'Base original'!$AR51","v":6.2072342324759253},{"$f":"+('Base original'!AL63/'Base original'!AL51*100-100)*'Base original'!AL51/'Base original'!$AR51","v":-1.4553192761795912},{"$f":"+('Base original'!AM63/'Base original'!AM51*100-100)*'Base original'!AM51/'Base original'!$AR51","v":0.32934694571554662},{"$f":"+('Base original'!AN63/'Base original'!AN51*100-100)*'Base original'!AN51/'Base original'!$AR51","v":-2.8553203954445996},{"$f":"+('Base original'!AO63/'Base original'!AO51*100-100)*'Base original'!AO51/'Base original'!$AR51","v":6.9655408719973111E-2},{"$f":"+('Base original'!AP63/'Base original'!AP51*100-100)*'Base original'!AP51/'Base original'!$AR51","v":-2.759015819800096},{"$f":"+('Base original'!AQ63/'Base original'!AQ51*100-100)*'Base original'!AQ51/'Base original'!$AR51","v":2.3892356553025045E-3},{"$f":"+(('Base original'!AN63-'Base original'!AP63)/('Base original'!AN51-'Base original'!AP51)*100-100)*(('Base original'!AN51-'Base original'!AP51)/'Base original'!AR51)","v":-9.6304575644502233E-2},{"$f":"+(('Base original'!AO63-'Base original'!AQ63)/('Base original'!AO51-'Base original'!AQ51)*100-100)*(('Base original'!AO51-'Base original'!AQ51)/'Base original'!AR51)","v":6.7266173064670712E-2},{"$f":"+('Base original'!AR63/'Base original'!AR51*100-100)*'Base original'!AR51/'Base original'!$AR51","v":5.0522234994320598},{"$f":"+('Base original'!AR63/'Base original'!AR51*100-100)*'Base original'!AR51/'Base original'!$BC51","v":3.0900414326488215},{"$f":"+('Base original'!AS63/'Base original'!AS51*100-100)*'Base original'!AS51/'Base original'!$BC51","v":0.67298694746480203},{"$f":"+('Base original'!AT63/'Base original'!AT51*100-100)*'Base original'!AT51/'Base original'!$BC51","v":-1.944996350757223},{"$f":"+('Base original'!AU63/'Base original'!AU51*100-100)*'Base original'!AU51/'Base original'!$BC51","v":2.2183727089056102},{"$f":"+('Base original'!AV63/'Base original'!AV51*100-100)*'Base original'!AV51/'Base original'!$BC51","v":-0.59340205372752586},{"$f":"+('Base original'!AW63/'Base original'!AW51*100-100)*'Base original'!AW51/'Base original'!$BC51","v":-0.28945070815464646},{"$f":"+('Base original'!AX63/'Base original'!AX51*100-100)*'Base original'!AX51/'Base original'!$BC51","v":-9.5659243743536501E-2},{"$f":"+('Base original'!AY63/'Base original'!AY51*100-100)*'Base original'!AY51/'Base original'!$BC51","v":3.0162449910344202},{"$f":"+('Base original'!AZ63/'Base original'!AZ51*100-100)*'Base original'!AZ51/'Base original'!$BC51","v":0.18232584412692665},{"$f":"+('Base original'!BA63/'Base original'!BA51*100-100)*'Base original'!BA51/'Base original'!$BC51","v":0.99537321192597861},{"$f":"+('Base original'!BB63/'Base original'!BB51*100-100)*'Base original'!BB51/'Base original'!$BC51","v":3.0574987424490808E-2},{"$f":"+(('Base original'!AY63-'Base original'!BA63)/('Base original'!AY51-'Base original'!BA51)*100-100)*('Base original'!AY51-'Base original'!BA51)/'Base original'!$BC51","v":2.0208717791084414},{"$f":"+(('Base original'!AZ63-'Base original'!BB63)/('Base original'!AZ51-'Base original'!BB51)*100-100)*('Base original'!AZ51-'Base original'!BB51)/'Base original'!$BC51","v":0.1517508567024359},{"$f":"+('Base original'!BC63/'Base original'!BC51*100-100)*'Base original'!BC51/'Base original'!$BC51","v":5.2305153684471861}]
["2010-09-01",{"$f":"+'Base original'!B64/'Base original'!B52*100-100","v":5.9634056589052733},{"$f":"+'Base original'!C64/'Base original'!C52*100-100","v":9.2511837128430159},{"$f":"+'Base original'!D64/'Base original'!D52*100-100","v":12.136183492239965},{"$f":"+'Base original'!E64/'Base original'!E52*100-100","v":1.4130090492484868},{"$f":"+'Base original'!F64/'Base original'!F52*100-100","v":7.4632624711362467},{"$f":"+'Base original'!G64","v":28.002971261041601},null,null,null,null,{"$f":"+'Base original'!Q64","v":6.8686859812019003},null,null,null,{"$f":"+'Base original'!Y64","v":1.95942499863764},null,null,{"$f":"+'Base original'!AE64","v":4.0002791868918797},{"$f":"+('Base original'!AH64/'Base original'!AH52*100-100)*'Base original'!AH52/'Base original'!$AK52","v":3.6080797566965401},{"$f":"+('Base original'!AI64/'Base original'!AI52*100-100)*'Base original'!AI52/'Base original'!$AK52","v":14.801407614617723},{"$f":"+('Base original'!AJ64/'Base original'!AJ52*100-100)*'Base original'!AJ52/'Base original'!$AK52","v":8.8434278790638619},{"$f":"+('Base original'!AK64/'Base original'!AK52*100-100)*'Base original'!AK52/'Base original'!$AK52","v":27.252915250378123},{"$f":"+('Base original'!AK64/'Base original'!AK52*100-100)*'Base original'!AK52/'Base original'!$AR52","v":6.1801826213168782},{"$f":"+('Base original'!AL64/'Base original'!AL52*100-100)*'Base original'!AL52/'Base original'!$AR52","v":-0.1951116883510805},{"$f":"+('Base original'!AM64/'Base original'!AM52*100-100)*'Base original'!AM52/'Base original'!$AR52","v":0.38006076214519524},{"$f":"+('Base original'!AN64/'Base original'!AN52*100-100)*'Base original'!AN52/'Base original'!$AR52","v":-3.1116668124396059},{"$f":"+('Base original'!AO64/'Base original'!AO52*100-100)*'Base original'!AO52/'Base original'!$AR52","v":7.431561724624644E-2},{"$f":"+('Base original'!AP64/'Base original'!AP52*100-100)*'Base original'!AP52/'Base original'!$AR52","v":-2.9604538939733023},{"$f":"+('Base original'!AQ64/'Base original'!AQ52*100-100)*'Base original'!AQ52/'Base original'!$AR52","v":7.3762399251857055E-4},{"$f":"+(('Base original'!AN64-'Base original'!AP64)/('Base original'!AN52-'Base original'!AP52)*100-100)*(('Base original'!AN52-'Base original'!AP52)/'Base original'!AR52)","v":-0.15121291846630611},{"$f":"+(('Base original'!AO64-'Base original'!AQ64)/('Base original'!AO52-'Base original'!AQ52)*100-100)*(('Base original'!AO52-'Base original'!AQ52)/'Base original'!AR52)","v":7.3577993253727825E-2},{"$f":"+('Base original'!AR64/'Base original'!AR52*100-100)*'Base original'!AR52/'Base original'!$AR52","v":6.2874967698984108},{"$f":"+('Base original'!AR64/'Base original'!AR52*100-100)*'Base original'!AR52/'Base original'!$BC52","v":3.8203650818740398},{"$f":"+('Base original'!AS64/'Base original'!AS52*100-100)*'Base original'!AS52/'Base original'!$BC52","v":1.0358790519495977},{"$f":"+('Base original'!AT64/'Base original'!AT52*100-100)*'Base original'!AT52/'Base original'!$BC52","v":-2.3587117277004848},{"$f":"+('Base original'!AU64/'Base original'!AU52*100-100)*'Base original'!AU52/'Base original'!$BC52","v":2.2427425747780583},{"$f":"+('Base original'!AV64/'Base original'!AV52*100-100)*'Base original'!AV52/'Base original'!$BC52","v":-0.52146902193330791},{"$f":"+('Base original'!AW64/'Base original'!AW52*100-100)*'Base original'!AW52/'Base original'!$BC52","v":-0.29614151804248645},{"$f":"+('Base original'!AX64/'Base original'!AX52*100-100)*'Base original'!AX52/'Base original'!$BC52","v":0.49569809906165913},{"$f":"+('Base original'!AY64/'Base original'!AY52*100-100)*'Base original'!AY52/'Base original'!$BC52","v":2.6722206068086485},{"$f":"+('Base original'!AZ64/'Base original'!AZ52*100-100)*'Base original'!AZ52/'Base original'!$BC52","v":0.16549414383229383},{"$f":"+('Base original'!BA64/'Base original'!BA52*100-100)*'Base original'!BA52/'Base original'!$BC52","v":0.18443016976841867},{"$f":"+('Base original'!BB64/'Base original'!BB52*100-100)*'Base original'!BB52/'Base original'!$BC52","v":3.0028727520009964E-2},{"$f":"+(('Base original'!AY64-'Base original'!BA64)/('Base original'!AY52-'Base original'!BA52)*100-100)*('Base original'!AY52-'Base original'!BA52)/'Base original'!$BC52","v":2.4877904370402297},{"$f":"+(('Base original'!AZ64-'Base original'!BB64)/('Base original'!AZ52-'Base original'!BB52)*100-100)*('Base original'!AZ52-'Base original'!BB52)/'Base original'!$BC52","v":0.13546541631228387},{"$f":"+('Base original'!BC64/'Base original'!BC52*100-100)*'Base original'!BC52/'Base original'!$BC52","v":7.041618393339605}]
["2010-10-01",{"$f":"+'Base original'!B65/'Base original'!B53*100-100","v":7.0834825471705472},{"$f":"+'Base original'!C65/'Base original'!C53*100-100","v":9.8272422891534603},{"$f":"+'Base original'!D65/'Base original'!D53*100-100","v":11.82372393152022},{"$f":"+'Base original'!E65/'Base original'!E53*100-100","v":9.2366733943575667},{"$f":"+'Base original'!F65/'Base original'!F53*100-100","v":8.6863538457360363},{"$f":"+'Base original'!G65","v":27.252425282524701},null,null,null,null,{"$f":"+'Base original'!Q65","v":7.1399747697498004},null,null,null,{"$f":"+'Base original'!Y65","v":1.7650550466581301},null,null,{"$f":"+'Base original'!AE65","v":4.1404423827680903},{"$f":"+('Base original'!AH65/'Base original'!AH53*100-100)*'Base original'!AH53/'Base original'!$AK53","v":3.6802708964533997},{"$f":"+('Base original'!AI65/'Base original'!AI53*100-100)*'Base original'!AI53/'Base original'!$AK53","v":14.443618055443036},{"$f":"+('Base original'!AJ65/'Base original'!AJ53*100-100)*'Base original'!AJ53/'Base original'!$AK53","v":7.0280042449085514},{"$f":"+('Base original'!AK65/'Base original'!AK53*100-100)*'Base original'!AK53/'Base original'!$AK53","v":25.151893196804988},{"$f":"+('Base original'!AK65/'Base original'!AK53*100-100)*'Base original'!AK53/'Base original'!$AR53","v":5.7662858131586177},{"$f":"+('Base original'!AL65/'Base original'!AL53*100-100)*'Base original'!AL53/'Base original'!$AR53","v":1.9177357648370856},{"$f":"+('Base original'!AM65/'Base original'!AM53*100-100)*'Base original'!AM53/'Base original'!$AR53","v":0.33318464148436544},{"$f":"+('Base original'!AN65/'Base original'!AN53*100-100)*'Base original'!AN53/'Base original'!$AR53","v":-2.7620523902761822},{"$f":"+('Base original'!AO65/'Base original'!AO53*100-100)*'Base original'!AO53/'Base original'!$AR53","v":7.9117423228728653E-2},{"$f":"+('Base original'!AP65/'Base original'!AP53*100-100)*'Base original'!AP53/'Base original'!$AR53","v":-2.5731734714413999},{"$f":"+('Base original'!AQ65/'Base original'!AQ53*100-100)*'Base original'!AQ53/'Base original'!$AR53","v":-5.5716495231499111E-3},{"$f":"+(('Base original'!AN65-'Base original'!AP65)/('Base original'!AN53-'Base original'!AP53)*100-100)*(('Base original'!AN53-'Base original'!AP53)/'Base original'!AR53)","v":-0.18887891883478353},{"$f":"+(('Base original'!AO65-'Base original'!AQ65)/('Base original'!AO53-'Base original'!AQ53)*100-100)*(('Base original'!AO53-'Base original'!AQ53)/'Base original'!AR53)","v":8.4689072751878577E-2},{"$f":"+('Base original'!AR65/'Base original'!AR53*100-100)*'Base original'!AR53/'Base original'!$AR53","v":7.9130163733971699},{"$f":"+('Base original'!AR65/'Base original'!AR53*100-100)*'Base original'!AR53/'Base original'!$BC53","v":4.8134414747022332},{"$f":"+('Base original'!AS65/'Base original'!AS53*100-100)*'Base original'!AS53/'Base original'!$BC53","v":1.6814959588542313},{"$f":"+('Base original'!AT65/'Base original'!AT53*100-100)*'Base original'!AT53/'Base original'!$BC53","v":-2.2121319786565929},{"$f":"+('Base original'!AU65/'Base original'!AU53*100-100)*'Base original'!AU53/'Base original'!$BC53","v":2.3334654011108689},{"$f":"+('Base original'!AV65/'Base original'!AV53*100-100)*'Base original'!AV53/'Base original'!$BC53","v":-0.54724310835057088},{"$f":"+('Base original'!AW65/'Base original'!AW53*100-100)*'Base original'!AW53/'Base original'!$BC53","v":-0.28988972254904333},{"$f":"+('Base original'!AX65/'Base original'!AX53*100-100)*'Base original'!AX53/'Base original'!$BC53","v":1.0502006472392487},{"$f":"+('Base original'!AY65/'Base original'!AY53*100-100)*'Base original'!AY53/'Base original'!$BC53","v":2.2480575171486401},{"$f":"+('Base original'!AZ65/'Base original'!AZ53*100-100)*'Base original'!AZ53/'Base original'!$BC53","v":0.16460223139281221},{"$f":"+('Base original'!BA65/'Base original'!BA53*100-100)*'Base original'!BA53/'Base original'!$BC53","v":-0.23588844141948656},{"$f":"+('Base original'!BB65/'Base original'!BB53*100-100)*'Base original'!BB53/'Base original'!$BC53","v":3.5134724751657236E-2},{"$f":"+(('Base original'!AY65-'Base original'!BA65)/('Base original'!AY53-'Base original'!BA53)*100-100)*('Base original'!AY53-'Base original'!BA53)/'Base original'!$BC53","v":2.4839459585681269},{"$f":"+(('Base original'!AZ65-'Base original'!BB65)/('Base original'!AZ53-'Base original'!BB53)*100-100)*('Base original'!AZ53-'Base original'!BB53)/'Base original'!$BC53","v":0.12946750664115503},{"$f":"+('Base original'!BC65/'Base original'!BC53*100-100)*'Base original'!BC53/'Base original'!$BC53","v":9.4427521375596513}]
["2010-11-01",{"$f":"+'Base original'!B66/'Base original'!B54*100-100","v":7.916894991597772},{"$f":"+'Base original'!C66/'Base original'!C54*100-100","v":10.983849433468933},{"$f":"+'Base original'!D66/'Base original'!D54*100-100","v":11.288977093021018},{"$f":"+'Base original'!E66/'Base original'!E54*100-100","v":20.856961231225426},{"$f":"+'Base original'!F66/'Base original'!F54*100-100","v":9.9645593344987304},{"$f":"+'Base original'!G66","v":27.341910117002001},null,null,null,null,{"$f":"+'Base original'!Q66","v":7.1872391337535504},null,null,null,{"$f":"+'Base original'!Y66","v":1.8657389296077},null,null,{"$f":"+'Base original'!AE66","v":4.3502802608229301},{"$f":"+('Base original'!AH66/'Base original'!AH54*100-100)*'Base original'!AH54/'Base original'!$AK54","v":3.6510744660131147},{"$f":"+('Base original'!AI66/'Base original'!AI54*100-100)*'Base original'!AI54/'Base original'!$AK54","v":14.520200660622109},{"$f":"+('Base original'!AJ66/'Base original'!AJ54*100-100)*'Base original'!AJ54/'Base original'!$AK54","v":6.384006312045547},{"$f":"+('Base original'!AK66/'Base original'!AK54*100-100)*'Base original'!AK54/'Base original'!$AK54","v":24.55528143868078},{"$f":"+('Base original'!AK66/'Base original'!AK54*100-100)*'Base original'!AK54/'Base original'!$AR54","v":5.6727761498402574},{"$f":"+('Base original'!AL66/'Base original'!AL54*100-100)*'Base original'!AL54/'Base original'!$AR54","v":4.2836902895572742},{"$f":"+('Base original'!AM66/'Base original'!AM54*100-100)*'Base original'!AM54/'Base original'!$AR54","v":0.40851937439691699},{"$f":"+('Base original'!AN66/'Base original'!AN54*100-100)*'Base original'!AN54/'Base original'!$AR54","v":-2.3223173431182214},{"$f":"+('Base original'!AO66/'Base original'!AO54*100-100)*'Base original'!AO54/'Base original'!$AR54","v":9.786466885506688E-2},{"$f":"+('Base original'!AP66/'Base original'!AP54*100-100)*'Base original'!AP54/'Base original'!$AR54","v":-1.9192348947688118},{"$f":"+('Base original'!AQ66/'Base original'!AQ54*100-100)*'Base original'!AQ54/'Base original'!$AR54","v":-1.8748020853461079E-3},{"$f":"+(('Base original'!AN66-'Base original'!AP66)/('Base original'!AN54-'Base original'!AP54)*100-100)*(('Base original'!AN54-'Base original'!AP54)/'Base original'!AR54)","v":-0.4030824483494117},{"$f":"+(('Base original'!AO66-'Base original'!AQ66)/('Base original'!AO54-'Base original'!AQ54)*100-100)*(('Base original'!AO54-'Base original'!AQ54)/'Base original'!AR54)","v":9.9739470940413008E-2},{"$f":"+('Base original'!AR66/'Base original'!AR54*100-100)*'Base original'!AR54/'Base original'!$AR54","v":10.061642836385444},{"$f":"+('Base original'!AR66/'Base original'!AR54*100-100)*'Base original'!AR54/'Base original'!$BC54","v":6.072170068906841},{"$f":"+('Base original'!AS66/'Base original'!AS54*100-100)*'Base original'!AS54/'Base original'!$BC54","v":1.7848422001776383},{"$f":"+('Base original'!AT66/'Base original'!AT54*100-100)*'Base original'!AT54/'Base original'!$BC54","v":-2.0495985075257002},{"$f":"+('Base original'!AU66/'Base original'!AU54*100-100)*'Base original'!AU54/'Base original'!$BC54","v":2.5838631585075582},{"$f":"+('Base original'!AV66/'Base original'!AV54*100-100)*'Base original'!AV54/'Base original'!$BC54","v":-0.36635936888590814},{"$f":"+('Base original'!AW66/'Base original'!AW54*100-100)*'Base original'!AW54/'Base original'!$BC54","v":-0.2204039686812071},{"$f":"+('Base original'!AX66/'Base original'!AX54*100-100)*'Base original'!AX54/'Base original'!$BC54","v":0.874148389132958},{"$f":"+('Base original'!AY66/'Base original'!AY54*100-100)*'Base original'!AY54/'Base original'!$BC54","v":2.3263480493091881},{"$f":"+('Base original'!AZ66/'Base original'!AZ54*100-100)*'Base original'!AZ54/'Base original'!$BC54","v":0.17084701884426209},{"$f":"+('Base original'!BA66/'Base original'!BA54*100-100)*'Base original'!BA54/'Base original'!$BC54","v":-0.2904399320352451},{"$f":"+('Base original'!BB66/'Base original'!BB54*100-100)*'Base original'!BB54/'Base original'!$BC54","v":5.2611830306345607E-2},{"$f":"+(('Base original'!AY66-'Base original'!BA66)/('Base original'!AY54-'Base original'!BA54)*100-100)*('Base original'!AY54-'Base original'!BA54)/'Base original'!$BC54","v":2.6167879813444328},{"$f":"+(('Base original'!AZ66-'Base original'!BB66)/('Base original'!AZ54-'Base original'!BB54)*100-100)*('Base original'!AZ54-'Base original'!BB54)/'Base original'!$BC54","v":0.11823518853791641},{"$f":"+('Base original'!BC66/'Base original'!BC54*100-100)*'Base original'!BC54/'Base original'!$BC54","v":11.413685141514506}]
["2010-12-01",{"$f":"+'Base original'!B67/'Base original'!B55*100-100","v":5.4972714014115667},{"$f":"+'Base original'!C67/'Base original'!C55*100-100","v":11.474994866011002},{"$f":"+'Base original'!D67/'Base original'!D55*100-100","v":11.732182242389968},{"$f":"+'Base original'!E67/'Base original'!E55*100-100","v":14.268152149442813},{"$f":"+'Base original'!F67/'Base original'!F55*100-100","v":8.2328128838838239},{"$f":"+'Base original'!G67","v":26.441702931038801},null,null,null,null,{"$f":"+'Base original'!Q67","v":7.3797969271821202},null,null,null,{"$f":"+'Base original'!Y67","v":1.93437911813958},null,null,{"$f":"+'Base original'!AE67","v":4.37113062194567},{"$f":"+('Base original'!AH67/'Base original'!AH55*100-100)*'Base original'!AH55/'Base original'!$AK55","v":3.4241778433779362},{"$f":"+('Base original'!AI67/'Base original'!AI55*100-100)*'Base original'!AI55/'Base original'!$AK55","v":12.719285239244384},{"$f":"+('Base original'!AJ67/'Base original'!AJ55*100-100)*'Base original'!AJ55/'Base original'!$AK55","v":5.1403588631420698},{"$f":"+('Base original'!AK67/'Base original'!AK55*100-100)*'Base original'!AK55/'Base original'!$AK55","v":21.283821945764387},{"$f":"+('Base original'!AK67/'Base original'!AK55*100-100)*'Base original'!AK55/'Base original'!$AR55","v":5.2060897674621502},{"$f":"+('Base original'!AL67/'Base original'!AL55*100-100)*'Base original'!AL55/'Base original'!$AR55","v":4.9760569697229142},{"$f":"+('Base original'!AM67/'Base original'!AM55*100-100)*'Base original'!AM55/'Base original'!$AR55","v":0.39179679918593219},{"$f":"+('Base original'!AN67/'Base original'!AN55*100-100)*'Base original'!AN55/'Base original'!$AR55","v":-2.2082087581762848},{"$f":"+('Base original'!AO67/'Base original'!AO55*100-100)*'Base original'!AO55/'Base original'!$AR55","v":0.1081263380922154},{"$f":"+('Base original'!AP67/'Base original'!AP55*100-100)*'Base original'!AP55/'Base original'!$AR55","v":-2.0464797550332423},{"$f":"+('Base original'!AQ67/'Base original'!AQ55*100-100)*'Base original'!AQ55/'Base original'!$AR55","v":-1.2894111867896233E-3},{"$f":"+(('Base original'!AN67-'Base original'!AP67)/('Base original'!AN55-'Base original'!AP55)*100-100)*(('Base original'!AN55-'Base original'!AP55)/'Base original'!AR55)","v":-0.16172900314304312},{"$f":"+(('Base original'!AO67-'Base original'!AQ67)/('Base original'!AO55-'Base original'!AQ55)*100-100)*(('Base original'!AO55-'Base original'!AQ55)/'Base original'!AR55)","v":0.1094157492790049},{"$f":"+('Base original'!AR67/'Base original'!AR55*100-100)*'Base original'!AR55/'Base original'!$AR55","v":10.521630282506948},{"$f":"+('Base original'!AR67/'Base original'!AR55*100-100)*'Base original'!AR55/'Base original'!$BC55","v":6.3765480541319999},{"$f":"+('Base original'!AS67/'Base original'!AS55*100-100)*'Base original'!AS55/'Base original'!$BC55","v":1.7188267474157646},{"$f":"+('Base original'!AT67/'Base original'!AT55*100-100)*'Base original'!AT55/'Base original'!$BC55","v":-2.0600914981366834},{"$f":"+('Base original'!AU67/'Base original'!AU55*100-100)*'Base original'!AU55/'Base original'!$BC55","v":2.9164349403284304},{"$f":"+('Base original'!AV67/'Base original'!AV55*100-100)*'Base original'!AV55/'Base original'!$BC55","v":-0.43648844465776698},{"$f":"+('Base original'!AW67/'Base original'!AW55*100-100)*'Base original'!AW55/'Base original'!$BC55","v":-0.19145209273352179},{"$f":"+('Base original'!AX67/'Base original'!AX55*100-100)*'Base original'!AX55/'Base original'!$BC55","v":0.70820529230405838},{"$f":"+('Base original'!AY67/'Base original'!AY55*100-100)*'Base original'!AY55/'Base original'!$BC55","v":2.3476603557935647},{"$f":"+('Base original'!AZ67/'Base original'!AZ55*100-100)*'Base original'!AZ55/'Base original'!$BC55","v":0.16622283736455623},{"$f":"+('Base original'!BA67/'Base original'!BA55*100-100)*'Base original'!BA55/'Base original'!$BC55","v":-0.37520144820837709},{"$f":"+('Base original'!BB67/'Base original'!BB55*100-100)*'Base original'!BB55/'Base original'!$BC55","v":6.5863985255264046E-2},{"$f":"+(('Base original'!AY67-'Base original'!BA67)/('Base original'!AY55-'Base original'!BA55)*100-100)*('Base original'!AY55-'Base original'!BA55)/'Base original'!$BC55","v":2.7228618040019419},{"$f":"+(('Base original'!AZ67-'Base original'!BB67)/('Base original'!AZ55-'Base original'!BB55)*100-100)*('Base original'!AZ55-'Base original'!BB55)/'Base original'!$BC55","v":0.10035885210929218},{"$f":"+('Base original'!BC67/'Base original'!BC55*100-100)*'Base original'!BC55/'Base original'!$BC55","v":11.855203654763526}]
["2011-01-01",{"$f":"+'Base original'!B68/'Base original'!B56*100-100","v":6.6413992101191042},{"$f":"+'Base original'!C68/'Base original'!C56*100-100","v":12.475975450034611},{"$f":"+'Base original'!D68/'Base original'!D56*100-100","v":12.10419442552633},{"$f":"+'Base original'!E68/'Base original'!E56*100-100","v":14.5819435022688},{"$f":"+'Base original'!F68/'Base original'!F56*100-100","v":9.1784800783972287},{"$f":"+'Base original'!G68","v":27.0938928234382},null,null,null,null,{"$f":"+'Base original'!Q68","v":7.5991038176093504},null,null,null,{"$f":"+'Base original'!Y68","v":1.7777270464467601},null,null,{"$f":"+'Base original'!AE68","v":4.3373107206554904},{"$f":"+('Base original'!AH68/'Base original'!AH56*100-100)*'Base original'!AH56/'Base original'!$AK56","v":3.2719910598957926},{"$f":"+('Base original'!AI68/'Base original'!AI56*100-100)*'Base original'!AI56/'Base original'!$AK56","v":11.90611620684151},{"$f":"+('Base original'!AJ68/'Base original'!AJ56*100-100)*'Base original'!AJ56/'Base original'!$AK56","v":4.4523877770198936},{"$f":"+('Base original'!AK68/'Base original'!AK56*100-100)*'Base original'!AK56/'Base original'!$AK56","v":19.630495043757207},{"$f":"+('Base original'!AK68/'Base original'!AK56*100-100)*'Base original'!AK56/'Base original'!$AR56","v":4.8846859659913493},{"$f":"+('Base original'!AL68/'Base original'!AL56*100-100)*'Base original'!AL56/'Base original'!$AR56","v":4.9623404110059104},{"$f":"+('Base original'!AM68/'Base original'!AM56*100-100)*'Base original'!AM56/'Base original'!$AR56","v":0.36998083484830047},{"$f":"+('Base original'!AN68/'Base original'!AN56*100-100)*'Base original'!AN56/'Base original'!$AR56","v":-2.5284732212692855},{"$f":"+('Base original'!AO68/'Base original'!AO56*100-100)*'Base original'!AO56/'Base original'!$AR56","v":0.1182710819061189},{"$f":"+('Base original'!AP68/'Base original'!AP56*100-100)*'Base original'!AP56/'Base original'!$AR56","v":-2.0665840189550071},{"$f":"+('Base original'!AQ68/'Base original'!AQ56*100-100)*'Base original'!AQ56/'Base original'!$AR56","v":-5.0558630433150059E-3},{"$f":"+(('Base original'!AN68-'Base original'!AP68)/('Base original'!AN56-'Base original'!AP56)*100-100)*(('Base original'!AN56-'Base original'!AP56)/'Base original'!AR56)","v":-0.46188920231427677},{"$f":"+(('Base original'!AO68-'Base original'!AQ68)/('Base original'!AO56-'Base original'!AQ56)*100-100)*(('Base original'!AO56-'Base original'!AQ56)/'Base original'!AR56)","v":0.12332694494943393},{"$f":"+('Base original'!AR68/'Base original'!AR56*100-100)*'Base original'!AR56/'Base original'!$AR56","v":9.8784449544806989},{"$f":"+('Base original'!AR68/'Base original'!AR56*100-100)*'Base original'!AR56/'Base original'!$BC56","v":6.0511441907171424},{"$f":"+('Base original'!AS68/'Base original'!AS56*100-100)*'Base original'!AS56/'Base original'!$BC56","v":1.6858857681100516},{"$f":"+('Base original'!AT68/'Base original'!AT56*100-100)*'Base original'!AT56/'Base original'!$BC56","v":-1.5690838148805408},{"$f":"+('Base original'!AU68/'Base original'!AU56*100-100)*'Base original'!AU56/'Base original'!$BC56","v":3.779251077600331},{"$f":"+('Base original'!AV68/'Base original'!AV56*100-100)*'Base original'!AV56/'Base original'!$BC56","v":-0.53644836473781332},{"$f":"+('Base original'!AW68/'Base original'!AW56*100-100)*'Base original'!AW56/'Base original'!$BC56","v":-0.20772165545930177},{"$f":"+('Base original'!AX68/'Base original'!AX56*100-100)*'Base original'!AX56/'Base original'!$BC56","v":0.81318935619637278},{"$f":"+('Base original'!AY68/'Base original'!AY56*100-100)*'Base original'!AY56/'Base original'!$BC56","v":2.0941395648620653},{"$f":"+('Base original'!AZ68/'Base original'!AZ56*100-100)*'Base original'!AZ56/'Base original'!$BC56","v":0.15628897719062487},{"$f":"+('Base original'!BA68/'Base original'!BA56*100-100)*'Base original'!BA56/'Base original'!$BC56","v":-0.88453145831098812},{"$f":"+('Base original'!BB68/'Base original'!BB56*100-100)*'Base original'!BB56/'Base original'!$BC56","v":2.532921144844524E-2},{"$f":"+(('Base original'!AY68-'Base original'!BA68)/('Base original'!AY56-'Base original'!BA56)*100-100)*('Base original'!AY56-'Base original'!BA56)/'Base original'!$BC56","v":2.9786710231730549},{"$f":"+(('Base original'!AZ68-'Base original'!BB68)/('Base original'!AZ56-'Base original'!BB56)*100-100)*('Base original'!AZ56-'Base original'!BB56)/'Base original'!$BC56","v":0.13095976574217968},{"$f":"+('Base original'!BC68/'Base original'!BC56*100-100)*'Base original'!BC56/'Base original'!$BC56","v":13.125847346461455}]
["2011-02-01",{"$f":"+'Base original'!B69/'Base original'!B57*100-100","v":6.4575175252161756},{"$f":"+'Base original'!C69/'Base original'!C57*100-100","v":13.512796300290518},{"$f":"+'Base original'!D69/'Base original'!D57*100-100","v":12.243384170295471},{"$f":"+'Base original'!E69/'Base original'!E57*100-100","v":20.792284002031352},{"$f":"+'Base original'!F69/'Base original'!F57*100-100","v":9.6433676184100676},{"$f":"+'Base original'!G69","v":26.447192406930501},null,null,null,null,{"$f":"+'Base original'!Q69","v":7.9065708323920303},null,null,null,{"$f":"+'Base original'!Y69","v":1.74237777338487},null,null,{"$f":"+'Base original'!AE69","v":4.3533094044596599},{"$f":"+('Base original'!AH69/'Base original'!AH57*100-100)*'Base original'!AH57/'Base original'!$AK57","v":2.9979605220486998},{"$f":"+('Base original'!AI69/'Base original'!AI57*100-100)*'Base original'!AI57/'Base original'!$AK57","v":11.613803590345984},{"$f":"+('Base original'!AJ69/'Base original'!AJ57*100-100)*'Base original'!AJ57/'Base original'!$AK57","v":1.3999394642586618},{"$f":"+('Base original'!AK69/'Base original'!AK57*100-100)*'Base original'!AK57/'Base original'!$AK57","v":16.01170357665336},{"$f":"+('Base original'!AK69/'Base original'!AK57*100-100)*'Base original'!AK57/'Base original'!$AR57","v":3.9802499845285602},{"$f":"+('Base original'!AL69/'Base original'!AL57*100-100)*'Base original'!AL57/'Base original'!$AR57","v":4.9172192470220857},{"$f":"+('Base original'!AM69/'Base original'!AM57*100-100)*'Base original'!AM57/'Base original'!$AR57","v":0.37083074390017751},{"$f":"+('Base original'!AN69/'Base original'!AN57*100-100)*'Base original'!AN57/'Base original'!$AR57","v":-2.6289570853792754},{"$f":"+('Base original'!AO69/'Base original'!AO57*100-100)*'Base original'!AO57/'Base original'!$AR57","v":0.1230728121060008},{"$f":"+('Base original'!AP69/'Base original'!AP57*100-100)*'Base original'!AP57/'Base original'!$AR57","v":-1.870097650035724},{"$f":"+('Base original'!AQ69/'Base original'!AQ57*100-100)*'Base original'!AQ57/'Base original'!$AR57","v":-3.2246151643493684E-3},{"$f":"+(('Base original'!AN69-'Base original'!AP69)/('Base original'!AN57-'Base original'!AP57)*100-100)*(('Base original'!AN57-'Base original'!AP57)/'Base original'!AR57)","v":-0.75885943534355094},{"$f":"+(('Base original'!AO69-'Base original'!AQ69)/('Base original'!AO57-'Base original'!AQ57)*100-100)*(('Base original'!AO57-'Base original'!AQ57)/'Base original'!AR57)","v":0.12629742727035015},{"$f":"+('Base original'!AR69/'Base original'!AR57*100-100)*'Base original'!AR57/'Base original'!$AR57","v":8.6357379673775938},{"$f":"+('Base original'!AR69/'Base original'!AR57*100-100)*'Base original'!AR57/'Base original'!$BC57","v":5.2863490230406969},{"$f":"+('Base original'!AS69/'Base original'!AS57*100-100)*'Base original'!AS57/'Base original'!$BC57","v":1.5483377496526693},{"$f":"+('Base original'!AT69/'Base original'!AT57*100-100)*'Base original'!AT57/'Base original'!$BC57","v":-1.0332486916373298},{"$f":"+('Base original'!AU69/'Base original'!AU57*100-100)*'Base original'!AU57/'Base original'!$BC57","v":3.872982810714876},{"$f":"+('Base original'!AV69/'Base original'!AV57*100-100)*'Base original'!AV57/'Base original'!$BC57","v":-0.4874538775555009},{"$f":"+('Base original'!AW69/'Base original'!AW57*100-100)*'Base original'!AW57/'Base original'!$BC57","v":-0.18763410224914781},{"$f":"+('Base original'!AX69/'Base original'!AX57*100-100)*'Base original'!AX57/'Base original'!$BC57","v":1.065051081849048},{"$f":"+('Base original'!AY69/'Base original'!AY57*100-100)*'Base original'!AY57/'Base original'!$BC57","v":1.6397970373649964},{"$f":"+('Base original'!AZ69/'Base original'!AZ57*100-100)*'Base original'!AZ57/'Base original'!$BC57","v":0.14826493643532893},{"$f":"+('Base original'!BA69/'Base original'!BA57*100-100)*'Base original'!BA57/'Base original'!$BC57","v":-1.2760434913916328},{"$f":"+('Base original'!BB69/'Base original'!BB57*100-100)*'Base original'!BB57/'Base original'!$BC57","v":2.6757873143653993E-2},{"$f":"+(('Base original'!AY69-'Base original'!BA69)/('Base original'!AY57-'Base original'!BA57)*100-100)*('Base original'!AY57-'Base original'!BA57)/'Base original'!$BC57","v":2.9158405287566298},{"$f":"+(('Base original'!AZ69-'Base original'!BB69)/('Base original'!AZ57-'Base original'!BB57)*100-100)*('Base original'!AZ57-'Base original'!BB57)/'Base original'!$BC57","v":0.12150706329167495},{"$f":"+('Base original'!BC69/'Base original'!BC57*100-100)*'Base original'!BC57/'Base original'!$BC57","v":13.101731585863602}]
["2011-03-01",{"$f":"+'Base original'!B70/'Base original'!B58*100-100","v":8.2035231140571625},{"$f":"+'Base original'!C70/'Base original'!C58*100-100","v":15.24757224739632},{"$f":"+'Base original'!D70/'Base original'!D58*100-100","v":12.639898219269341},{"$f":"+'Base original'!E70/'Base original'!E58*100-100","v":25.89001155491178},{"$f":"+'Base original'!F70/'Base original'!F58*100-100","v":11.314920048241177},{"$f":"+'Base original'!G70","v":25.8812617644417},null,null,null,null,{"$f":"+'Base original'!Q70","v":8.2523413456186905},null,null,null,{"$f":"+'Base original'!Y70","v":1.89461768162144},null,null,{"$f":"+'Base original'!AE70","v":4.3926488605217502},{"$f":"+('Base original'!AH70/'Base original'!AH58*100-100)*'Base original'!AH58/'Base original'!$AK58","v":2.142248692334225},{"$f":"+('Base original'!AI70/'Base original'!AI58*100-100)*'Base original'!AI58/'Base original'!$AK58","v":10.870894844664084},{"$f":"+('Base original'!AJ70/'Base original'!AJ58*100-100)*'Base original'!AJ58/'Base original'!$AK58","v":-0.18781107661547569},{"$f":"+('Base original'!AK70/'Base original'!AK58*100-100)*'Base original'!AK58/'Base original'!$AK58","v":12.825332460382825},{"$f":"+('Base original'!AK70/'Base original'!AK58*100-100)*'Base original'!AK58/'Base original'!$AR58","v":3.2258474916941897},{"$f":"+('Base original'!AL70/'Base original'!AL58*100-100)*'Base original'!AL58/'Base original'!$AR58","v":5.6919661107527606},{"$f":"+('Base original'!AM70/'Base original'!AM58*100-100)*'Base original'!AM58/'Base original'!$AR58","v":0.30597565405903759},{"$f":"+('Base original'!AN70/'Base original'!AN58*100-100)*'Base original'!AN58/'Base original'!$AR58","v":-2.906768713560866},{"$f":"+('Base original'!AO70/'Base original'!AO58*100-100)*'Base original'!AO58/'Base original'!$AR58","v":0.1382910797570075},{"$f":"+('Base original'!AP70/'Base original'!AP58*100-100)*'Base original'!AP58/'Base original'!$AR58","v":-2.0649815264100169},{"$f":"+('Base original'!AQ70/'Base original'!AQ58*100-100)*'Base original'!AQ58/'Base original'!$AR58","v":1.4165539539770303E-3},{"$f":"+(('Base original'!AN70-'Base original'!AP70)/('Base original'!AN58-'Base original'!AP58)*100-100)*(('Base original'!AN58-'Base original'!AP58)/'Base original'!AR58)","v":-0.84178718715084921},{"$f":"+(('Base original'!AO70-'Base original'!AQ70)/('Base original'!AO58-'Base original'!AQ58)*100-100)*(('Base original'!AO58-'Base original'!AQ58)/'Base original'!AR58)","v":0.13687452580303053},{"$f":"+('Base original'!AR70/'Base original'!AR58*100-100)*'Base original'!AR58/'Base original'!$AR58","v":8.5188765951581757},{"$f":"+('Base original'!AR70/'Base original'!AR58*100-100)*'Base original'!AR58/'Base original'!$BC58","v":5.1966449067499738},{"$f":"+('Base original'!AS70/'Base original'!AS58*100-100)*'Base original'!AS58/'Base original'!$BC58","v":1.2736042156245537},{"$f":"+('Base original'!AT70/'Base original'!AT58*100-100)*'Base original'!AT58/'Base original'!$BC58","v":-1.0487171002882523},{"$f":"+('Base original'!AU70/'Base original'!AU58*100-100)*'Base original'!AU58/'Base original'!$BC58","v":3.8945868542582387},{"$f":"+('Base original'!AV70/'Base original'!AV58*100-100)*'Base original'!AV58/'Base original'!$BC58","v":-0.47332148866650736},{"$f":"+('Base original'!AW70/'Base original'!AW58*100-100)*'Base original'!AW58/'Base original'!$BC58","v":-0.17174376243262141},{"$f":"+('Base original'!AX70/'Base original'!AX58*100-100)*'Base original'!AX58/'Base original'!$BC58","v":1.103696707255676},{"$f":"+('Base original'!AY70/'Base original'!AY58*100-100)*'Base original'!AY58/'Base original'!$BC58","v":1.170449943220055},{"$f":"+('Base original'!AZ70/'Base original'!AZ58*100-100)*'Base original'!AZ58/'Base original'!$BC58","v":-0.14582017565033897},{"$f":"+('Base original'!BA70/'Base original'!BA58*100-100)*'Base original'!BA58/'Base original'!$BC58","v":-1.3756783385797908},{"$f":"+('Base original'!BB70/'Base original'!BB58*100-100)*'Base original'!BB58/'Base original'!$BC58","v":3.0244184579329574E-2},{"$f":"+(('Base original'!AY70-'Base original'!BA70)/('Base original'!AY58-'Base original'!BA58)*100-100)*('Base original'!AY58-'Base original'!BA58)/'Base original'!$BC58","v":2.5461282817998447},{"$f":"+(('Base original'!AZ70-'Base original'!BB70)/('Base original'!AZ58-'Base original'!BB58)*100-100)*('Base original'!AZ58-'Base original'!BB58)/'Base original'!$BC58","v":-0.17606436022966851},{"$f":"+('Base original'!BC70/'Base original'!BC58*100-100)*'Base original'!BC58/'Base original'!$BC58","v":12.144814254071235}]
["2011-04-01",{"$f":"+'Base original'!B71/'Base original'!B59*100-100","v":8.8543120419594601},{"$f":"+'Base original'!C71/'Base original'!C59*100-100","v":15.582002455314381},{"$f":"+'Base original'!D71/'Base original'!D59*100-100","v":13.169709934082704},{"$f":"+'Base original'!E71/'Base original'!E59*100-100","v":22.283118630898556},{"$f":"+'Base original'!F71/'Base original'!F59*100-100","v":11.629987680018132},{"$f":"+'Base original'!G71","v":27.117885715615099},null,null,null,null,{"$f":"+'Base original'!Q71","v":8.4234255582339106},null,null,null,{"$f":"+'Base original'!Y71","v":1.6399518332446801},null,null,{"$f":"+'Base original'!AE71","v":4.3059766507292601},{"$f":"+('Base original'!AH71/'Base original'!AH59*100-100)*'Base original'!AH59/'Base original'!$AK59","v":1.961796592669077},{"$f":"+('Base original'!AI71/'Base original'!AI59*100-100)*'Base original'!AI59/'Base original'!$AK59","v":9.2095114345114144},{"$f":"+('Base original'!AJ71/'Base original'!AJ59*100-100)*'Base original'!AJ59/'Base original'!$AK59","v":2.5563845595724839},{"$f":"+('Base original'!AK71/'Base original'!AK59*100-100)*'Base original'!AK59/'Base original'!$AK59","v":13.727692586752994},{"$f":"+('Base original'!AK71/'Base original'!AK59*100-100)*'Base original'!AK59/'Base original'!$AR59","v":3.4583462737180111},{"$f":"+('Base original'!AL71/'Base original'!AL59*100-100)*'Base original'!AL59/'Base original'!$AR59","v":7.2892938997026597},{"$f":"+('Base original'!AM71/'Base original'!AM59*100-100)*'Base original'!AM59/'Base original'!$AR59","v":0.24992470403145867},{"$f":"+('Base original'!AN71/'Base original'!AN59*100-100)*'Base original'!AN59/'Base original'!$AR59","v":-3.3919105928995199},{"$f":"+('Base original'!AO71/'Base original'!AO59*100-100)*'Base original'!AO59/'Base original'!$AR59","v":0.16591344627686153},{"$f":"+('Base original'!AP71/'Base original'!AP59*100-100)*'Base original'!AP59/'Base original'!$AR59","v":-2.1892138631616374},{"$f":"+('Base original'!AQ71/'Base original'!AQ59*100-100)*'Base original'!AQ59/'Base original'!$AR59","v":-1.2302903855275721E-3},{"$f":"+(('Base original'!AN71-'Base original'!AP71)/('Base original'!AN59-'Base original'!AP59)*100-100)*(('Base original'!AN59-'Base original'!AP59)/'Base original'!AR59)","v":-1.2026967297378826},{"$f":"+(('Base original'!AO71-'Base original'!AQ71)/('Base original'!AO59-'Base original'!AQ59)*100-100)*(('Base original'!AO59-'Base original'!AQ59)/'Base original'!AR59)","v":0.16714373666238902},{"$f":"+('Base original'!AR71/'Base original'!AR59*100-100)*'Base original'!AR59/'Base original'!$AR59","v":9.9620118843766345},{"$f":"+('Base original'!AR71/'Base original'!AR59*100-100)*'Base original'!AR59/'Base original'!$BC59","v":6.0608721045147567},{"$f":"+('Base original'!AS71/'Base original'!AS59*100-100)*'Base original'!AS59/'Base original'!$BC59","v":1.0409589658306313},{"$f":"+('Base original'!AT71/'Base original'!AT59*100-100)*'Base original'!AT59/'Base original'!$BC59","v":-1.3183341643272586},{"$f":"+('Base original'!AU71/'Base original'!AU59*100-100)*'Base original'!AU59/'Base original'!$BC59","v":3.7966398603782645},{"$f":"+('Base original'!AV71/'Base original'!AV59*100-100)*'Base original'!AV59/'Base original'!$BC59","v":-0.39232444228377872},{"$f":"+('Base original'!AW71/'Base original'!AW59*100-100)*'Base original'!AW59/'Base original'!$BC59","v":-0.19397016579525064},{"$f":"+('Base original'!AX71/'Base original'!AX59*100-100)*'Base original'!AX59/'Base original'!$BC59","v":1.1242570690029008},{"$f":"+('Base original'!AY71/'Base original'!AY59*100-100)*'Base original'!AY59/'Base original'!$BC59","v":0.89542787671964108},{"$f":"+('Base original'!AZ71/'Base original'!AZ59*100-100)*'Base original'!AZ59/'Base original'!$BC59","v":0.12959858927444531},{"$f":"+('Base original'!BA71/'Base original'!BA59*100-100)*'Base original'!BA59/'Base original'!$BC59","v":-1.4483604717181207},{"$f":"+('Base original'!BB71/'Base original'!BB59*100-100)*'Base original'!BB59/'Base original'!$BC59","v":3.6035251308158468E-2},{"$f":"+(('Base original'!AY71-'Base original'!BA71)/('Base original'!AY59-'Base original'!BA59)*100-100)*('Base original'!AY59-'Base original'!BA59)/'Base original'!$BC59","v":2.3437883484377608},{"$f":"+(('Base original'!AZ71-'Base original'!BB71)/('Base original'!AZ59-'Base original'!BB59)*100-100)*('Base original'!AZ59-'Base original'!BB59)/'Base original'!$BC59","v":9.3563337966286672E-2},{"$f":"+('Base original'!BC71/'Base original'!BC59*100-100)*'Base original'!BC59/'Base original'!$BC59","v":12.555450913724313}]
["2011-05-01",{"$f":"+'Base original'!B72/'Base original'!B60*100-100","v":9.9920773991111389},{"$f":"+'Base original'!C72/'Base original'!C60*100-100","v":16.123681239131656},{"$f":"+'Base original'!D72/'Base original'!D60*100-100","v":12.939603793113434},{"$f":"+'Base original'!E72/'Base original'!E60*100-100","v":23.691101925593699},{"$f":"+'Base original'!F72/'Base original'!F60*100-100","v":12.427053581933407},{"$f":"+'Base original'!G72","v":27.319752293923599},null,null,null,null,{"$f":"+'Base original'!Q72","v":8.6587811839057807},null,null,null,{"$f":"+'Base original'!Y72","v":1.6287831033851501},null,null,{"$f":"+'Base original'!AE72","v":4.16},{"$f":"+('Base original'!AH72/'Base original'!AH60*100-100)*'Base original'!AH60/'Base original'!$AK60","v":1.7868194613587809},{"$f":"+('Base original'!AI72/'Base original'!AI60*100-100)*'Base original'!AI60/'Base original'!$AK60","v":5.7753359020942661},{"$f":"+('Base original'!AJ72/'Base original'!AJ60*100-100)*'Base original'!AJ60/'Base original'!$AK60","v":2.7721162996532707},{"$f":"+('Base original'!AK72/'Base original'!AK60*100-100)*'Base original'!AK60/'Base original'!$AK60","v":10.334271663106321},{"$f":"+('Base original'!AK72/'Base original'!AK60*100-100)*'Base original'!AK60/'Base original'!$AR60","v":2.6886525228954197},{"$f":"+('Base original'!AL72/'Base original'!AL60*100-100)*'Base original'!AL60/'Base original'!$AR60","v":8.4877136379549007},{"$f":"+('Base original'!AM72/'Base original'!AM60*100-100)*'Base original'!AM60/'Base original'!$AR60","v":0.2423925257295122},{"$f":"+('Base original'!AN72/'Base original'!AN60*100-100)*'Base original'!AN60/'Base original'!$AR60","v":-2.9658456898189587},{"$f":"+('Base original'!AO72/'Base original'!AO60*100-100)*'Base original'!AO60/'Base original'!$AR60","v":0.16136416712850382},{"$f":"+('Base original'!AP72/'Base original'!AP60*100-100)*'Base original'!AP60/'Base original'!$AR60","v":-2.1687205552056197},{"$f":"+('Base original'!AQ72/'Base original'!AQ60*100-100)*'Base original'!AQ60/'Base original'!$AR60","v":0},{"$f":"+(('Base original'!AN72-'Base original'!AP72)/('Base original'!AN60-'Base original'!AP60)*100-100)*(('Base original'!AN60-'Base original'!AP60)/'Base original'!AR60)","v":-0.79712513461333767},{"$f":"+(('Base original'!AO72-'Base original'!AQ72)/('Base original'!AO60-'Base original'!AQ60)*100-100)*(('Base original'!AO60-'Base original'!AQ60)/'Base original'!AR60)","v":0.16136416712850388},{"$f":"+('Base original'!AR72/'Base original'!AR60*100-100)*'Base original'!AR60/'Base original'!$AR60","v":10.782997719094995},{"$f":"+('Base original'!AR72/'Base original'!AR60*100-100)*'Base original'!AR60/'Base original'!$BC60","v":6.5820332686379732},{"$f":"+('Base original'!AS72/'Base original'!AS60*100-100)*'Base original'!AS60/'Base original'!$BC60","v":0.88426312988469857},{"$f":"+('Base original'!AT72/'Base original'!AT60*100-100)*'Base original'!AT60/'Base original'!$BC60","v":-0.35309228121725628},{"$f":"+('Base original'!AU72/'Base original'!AU60*100-100)*'Base original'!AU60/'Base original'!$BC60","v":3.6246650610320947},{"$f":"+('Base original'!AV72/'Base original'!AV60*100-100)*'Base original'!AV60/'Base original'!$BC60","v":-0.627766581990572},{"$f":"+('Base original'!AW72/'Base original'!AW60*100-100)*'Base original'!AW60/'Base original'!$BC60","v":-0.20872710428137706},{"$f":"+('Base original'!AX72/'Base original'!AX60*100-100)*'Base original'!AX60/'Base original'!$BC60","v":1.1186715943384196},{"$f":"+('Base original'!AY72/'Base original'!AY60*100-100)*'Base original'!AY60/'Base original'!$BC60","v":0.81968983331967504},{"$f":"+('Base original'!AZ72/'Base original'!AZ60*100-100)*'Base original'!AZ60/'Base original'!$BC60","v":0.14056053098442101},{"$f":"+('Base original'!BA72/'Base original'!BA60*100-100)*'Base original'!BA60/'Base original'!$BC60","v":-1.1428733699740814},{"$f":"+('Base original'!BB72/'Base original'!BB60*100-100)*'Base original'!BB60/'Base original'!$BC60","v":3.4875921221698414E-2},{"$f":"+(('Base original'!AY72-'Base original'!BA72)/('Base original'!AY60-'Base original'!BA60)*100-100)*('Base original'!AY60-'Base original'!BA60)/'Base original'!$BC60","v":1.9625632032937579},{"$f":"+(('Base original'!AZ72-'Base original'!BB72)/('Base original'!AZ60-'Base original'!BB60)*100-100)*('Base original'!AZ60-'Base original'!BB60)/'Base original'!$BC60","v":0.10568460976272259},{"$f":"+('Base original'!BC72/'Base original'!BC60*100-100)*'Base original'!BC60/'Base original'!$BC60","v":13.088294899460465}]
["2011-06-01",{"$f":"+'Base original'!B73/'Base original'!B61*100-100","v":10.020583411672206},{"$f":"+'Base original'!C73/'Base original'!C61*100-100","v":16.739563119408942},{"$f":"+'Base original'!D73/'Base original'!D61*100-100","v":12.676304603767093},{"$f":"+'Base original'!E73/'Base original'!E61*100-100","v":16.28320501983373},{"$f":"+'Base original'!F73/'Base original'!F61*100-100","v":11.908836515628423},{"$f":"+'Base original'!G73","v":26.940850667834901},null,null,null,null,{"$f":"+'Base original'!Q73","v":9.0991380381480607},null,null,null,{"$f":"+'Base original'!Y73","v":1.7759442266732399},null,null,{"$f":"+'Base original'!AE73","v":4.13},{"$f":"+('Base original'!AH73/'Base original'!AH61*100-100)*'Base original'!AH61/'Base original'!$AK61","v":1.8273899650185357},{"$f":"+('Base original'!AI73/'Base original'!AI61*100-100)*'Base original'!AI61/'Base original'!$AK61","v":4.5803372839763918},{"$f":"+('Base original'!AJ73/'Base original'!AJ61*100-100)*'Base original'!AJ61/'Base original'!$AK61","v":2.6287161280217188},{"$f":"+('Base original'!AK73/'Base original'!AK61*100-100)*'Base original'!AK61/'Base original'!$AK61","v":9.0364433770166386},{"$f":"+('Base original'!AK73/'Base original'!AK61*100-100)*'Base original'!AK61/'Base original'!$AR61","v":2.4024061956331062},{"$f":"+('Base original'!AL73/'Base original'!AL61*100-100)*'Base original'!AL61/'Base original'!$AR61","v":10.392879299961805},{"$f":"+('Base original'!AM73/'Base original'!AM61*100-100)*'Base original'!AM61/'Base original'!$AR61","v":0.20855786849277652},{"$f":"+('Base original'!AN73/'Base original'!AN61*100-100)*'Base original'!AN61/'Base original'!$AR61","v":-2.2885842640763201},{"$f":"+('Base original'!AO73/'Base original'!AO61*100-100)*'Base original'!AO61/'Base original'!$AR61","v":0.15355550217646269},{"$f":"+('Base original'!AP73/'Base original'!AP61*100-100)*'Base original'!AP61/'Base original'!$AR61","v":-2.1445717592102591},{"$f":"+('Base original'!AQ73/'Base original'!AQ61*100-100)*'Base original'!AQ61/'Base original'!$AR61","v":2.7761446721168434E-3},{"$f":"+(('Base original'!AN73-'Base original'!AP73)/('Base original'!AN61-'Base original'!AP61)*100-100)*(('Base original'!AN61-'Base original'!AP61)/'Base original'!AR61)","v":-0.14401250486606104},{"$f":"+(('Base original'!AO73-'Base original'!AQ73)/('Base original'!AO61-'Base original'!AQ61)*100-100)*(('Base original'!AO61-'Base original'!AQ61)/'Base original'!AR61)","v":0.15077935750434585},{"$f":"+('Base original'!AR73/'Base original'!AR61*100-100)*'Base original'!AR61/'Base original'!$AR61","v":13.010610216725979},{"$f":"+('Base original'!AR73/'Base original'!AR61*100-100)*'Base original'!AR61/'Base original'!$BC61","v":7.907913971574656},{"$f":"+('Base original'!AS73/'Base original'!AS61*100-100)*'Base original'!AS61/'Base original'!$BC61","v":0.63423441725900609},{"$f":"+('Base original'!AT73/'Base original'!AT61*100-100)*'Base original'!AT61/'Base original'!$BC61","v":0.88881404533736286},{"$f":"+('Base original'!AU73/'Base original'!AU61*100-100)*'Base original'!AU61/'Base original'!$BC61","v":3.4852309646783528},{"$f":"+('Base original'!AV73/'Base original'!AV61*100-100)*'Base original'!AV61/'Base original'!$BC61","v":-0.81805061102063614},{"$f":"+('Base original'!AW73/'Base original'!AW61*100-100)*'Base original'!AW61/'Base original'!$BC61","v":-0.174535743359437},{"$f":"+('Base original'!AX73/'Base original'!AX61*100-100)*'Base original'!AX61/'Base original'!$BC61","v":1.2327180085368317},{"$f":"+('Base original'!AY73/'Base original'!AY61*100-100)*'Base original'!AY61/'Base original'!$BC61","v":0.68221856422489224},{"$f":"+('Base original'!AZ73/'Base original'!AZ61*100-100)*'Base original'!AZ61/'Base original'!$BC61","v":0.13920675603290442},{"$f":"+('Base original'!BA73/'Base original'!BA61*100-100)*'Base original'!BA61/'Base original'!$BC61","v":-0.75203286156866778},{"$f":"+('Base original'!BB73/'Base original'!BB61*100-100)*'Base original'!BB61/'Base original'!$BC61","v":3.5118067999210009E-2},{"$f":"+(('Base original'!AY73-'Base original'!BA73)/('Base original'!AY61-'Base original'!BA61)*100-100)*('Base original'!AY61-'Base original'!BA61)/'Base original'!$BC61","v":1.4342514257935621},{"$f":"+(('Base original'!AZ73-'Base original'!BB73)/('Base original'!AZ61-'Base original'!BB61)*100-100)*('Base original'!AZ61-'Base original'!BB61)/'Base original'!$BC61","v":0.10408868803369449},{"$f":"+('Base original'!BC73/'Base original'!BC61*100-100)*'Base original'!BC61/'Base original'!$BC61","v":14.694665166833417}]
["2011-07-01",{"$f":"+'Base original'!B74/'Base original'!B62*100-100","v":11.248296822379118},{"$f":"+'Base original'!C74/'Base original'!C62*100-100","v":17.020027254733122},{"$f":"+'Base original'!D74/'Base original'!D62*100-100","v":12.826064611698868},{"$f":"+'Base original'!E74/'Base original'!E62*100-100","v":24.93166533780186},{"$f":"+'Base original'!F74/'Base original'!F62*100-100","v":13.309131062443598},{"$f":"+'Base original'!G74","v":27.438141379244001},null,null,null,null,{"$f":"+'Base original'!Q74","v":9.4809083494664108},null,null,null,{"$f":"+'Base original'!Y74","v":1.7864255577894801},null,null,{"$f":"+'Base original'!AE74","v":4.13},{"$f":"+('Base original'!AH74/'Base original'!AH62*100-100)*'Base original'!AH62/'Base original'!$AK62","v":1.8679062151294477},{"$f":"+('Base original'!AI74/'Base original'!AI62*100-100)*'Base original'!AI62/'Base original'!$AK62","v":5.4023634394828637},{"$f":"+('Base original'!AJ74/'Base original'!AJ62*100-100)*'Base original'!AJ62/'Base original'!$AK62","v":0.34529424970124029},{"$f":"+('Base original'!AK74/'Base original'!AK62*100-100)*'Base original'!AK62/'Base original'!$AK62","v":7.6155639043135466},{"$f":"+('Base original'!AK74/'Base original'!AK62*100-100)*'Base original'!AK62/'Base original'!$AR62","v":2.0162758421983229},{"$f":"+('Base original'!AL74/'Base original'!AL62*100-100)*'Base original'!AL62/'Base original'!$AR62","v":12.742907025568424},{"$f":"+('Base original'!AM74/'Base original'!AM62*100-100)*'Base original'!AM62/'Base original'!$AR62","v":0.16677017109911571},{"$f":"+('Base original'!AN74/'Base original'!AN62*100-100)*'Base original'!AN62/'Base original'!$AR62","v":-3.6886974636922867},{"$f":"+('Base original'!AO74/'Base original'!AO62*100-100)*'Base original'!AO62/'Base original'!$AR62","v":0.15645629259298582},{"$f":"+('Base original'!AP74/'Base original'!AP62*100-100)*'Base original'!AP62/'Base original'!$AR62","v":-3.3455424889883383},{"$f":"+('Base original'!AQ74/'Base original'!AQ62*100-100)*'Base original'!AQ62/'Base original'!$AR62","v":1.2236805007272628E-3},{"$f":"+(('Base original'!AN74-'Base original'!AP74)/('Base original'!AN62-'Base original'!AP62)*100-100)*(('Base original'!AN62-'Base original'!AP62)/'Base original'!AR62)","v":-0.34315497470394596},{"$f":"+(('Base original'!AO74-'Base original'!AQ74)/('Base original'!AO62-'Base original'!AQ62)*100-100)*(('Base original'!AO62-'Base original'!AQ62)/'Base original'!AR62)","v":0.15523261209225855},{"$f":"+('Base original'!AR74/'Base original'!AR62*100-100)*'Base original'!AR62/'Base original'!$AR62","v":14.738030676254184},{"$f":"+('Base original'!AR74/'Base original'!AR62*100-100)*'Base original'!AR62/'Base original'!$BC62","v":8.9985423286875186},{"$f":"+('Base original'!AS74/'Base original'!AS62*100-100)*'Base original'!AS62/'Base original'!$BC62","v":0.74895234327223581},{"$f":"+('Base original'!AT74/'Base original'!AT62*100-100)*'Base original'!AT62/'Base original'!$BC62","v":2.0829136353082074},{"$f":"+('Base original'!AU74/'Base original'!AU62*100-100)*'Base original'!AU62/'Base original'!$BC62","v":3.6224445743646037},{"$f":"+('Base original'!AV74/'Base original'!AV62*100-100)*'Base original'!AV62/'Base original'!$BC62","v":-0.67754731011716574},{"$f":"+('Base original'!AW74/'Base original'!AW62*100-100)*'Base original'!AW62/'Base original'!$BC62","v":-0.10854845847340232},{"$f":"+('Base original'!AX74/'Base original'!AX62*100-100)*'Base original'!AX62/'Base original'!$BC62","v":1.3584033736391281},{"$f":"+('Base original'!AY74/'Base original'!AY62*100-100)*'Base original'!AY62/'Base original'!$BC62","v":0.14046191873254468},{"$f":"+('Base original'!AZ74/'Base original'!AZ62*100-100)*'Base original'!AZ62/'Base original'!$BC62","v":0.10278482351021272},{"$f":"+('Base original'!BA74/'Base original'!BA62*100-100)*'Base original'!BA62/'Base original'!$BC62","v":-1.1781296800682544},{"$f":"+('Base original'!BB74/'Base original'!BB62*100-100)*'Base original'!BB62/'Base original'!$BC62","v":5.1445778745506314E-2},{"$f":"+(('Base original'!AY74-'Base original'!BA74)/('Base original'!AY62-'Base original'!BA62)*100-100)*('Base original'!AY62-'Base original'!BA62)/'Base original'!$BC62","v":1.3185915988007992},{"$f":"+(('Base original'!AZ74-'Base original'!BB74)/('Base original'!AZ62-'Base original'!BB62)*100-100)*('Base original'!AZ62-'Base original'!BB62)/'Base original'!$BC62","v":5.1339044764706403E-2},{"$f":"+('Base original'!BC74/'Base original'!BC62*100-100)*'Base original'!BC62/'Base original'!$BC62","v":17.395091130246641}]
["2011-08-01",{"$f":"+'Base original'!B75/'Base original'!B63*100-100","v":11.737279838085229},{"$f":"+'Base original'!C75/'Base original'!C63*100-100","v":17.274914686564429},{"$f":"+'Base original'!D75/'Base original'!D63*100-100","v":12.256788858208949},{"$f":"+'Base original'!E75/'Base original'!E63*100-100","v":31.110256444694727},{"$f":"+'Base original'!F75/'Base original'!F63*100-100","v":13.911022206568774},{"$f":"+'Base original'!G75","v":27.68},null,null,null,null,{"$f":"+'Base original'!Q75","v":9.61},null,null,null,{"$f":"+'Base original'!Y75","v":1.75},null,null,{"$f":"+'Base original'!AE75","v":4.17},{"$f":"+('Base original'!AH75/'Base original'!AH63*100-100)*'Base original'!AH63/'Base original'!$AK63","v":2.1394192627069315},{"$f":"+('Base original'!AI75/'Base original'!AI63*100-100)*'Base original'!AI63/'Base original'!$AK63","v":5.6478794229650342},{"$f":"+('Base original'!AJ75/'Base original'!AJ63*100-100)*'Base original'!AJ63/'Base original'!$AK63","v":1.5108448590469021},{"$f":"+('Base original'!AK75/'Base original'!AK63*100-100)*'Base original'!AK63/'Base original'!$AK63","v":9.2981435447188687},{"$f":"+('Base original'!AK75/'Base original'!AK63*100-100)*'Base original'!AK63/'Base original'!$AR63","v":2.4604766260231363},{"$f":"+('Base original'!AL75/'Base original'!AL63*100-100)*'Base original'!AL63/'Base original'!$AR63","v":15.661273999597306},{"$f":"+('Base original'!AM75/'Base original'!AM63*100-100)*'Base original'!AM63/'Base original'!$AR63","v":0.18124671391922445},{"$f":"+('Base original'!AN75/'Base original'!AN63*100-100)*'Base original'!AN63/'Base original'!$AR63","v":-2.5734933993743181},{"$f":"+('Base original'!AO75/'Base original'!AO63*100-100)*'Base original'!AO63/'Base original'!$AR63","v":0.15535432621647824},{"$f":"+('Base original'!AP75/'Base original'!AP63*100-100)*'Base original'!AP63/'Base original'!$AR63","v":-1.7290166734205576},{"$f":"+('Base original'!AQ75/'Base original'!AQ63*100-100)*'Base original'!AQ63/'Base original'!$AR63","v":5.0735084012138191E-3},{"$f":"+(('Base original'!AN75-'Base original'!AP75)/('Base original'!AN63-'Base original'!AP63)*100-100)*(('Base original'!AN63-'Base original'!AP63)/'Base original'!AR63)","v":-0.84447672595376111},{"$f":"+(('Base original'!AO75-'Base original'!AQ75)/('Base original'!AO63-'Base original'!AQ63)*100-100)*(('Base original'!AO63-'Base original'!AQ63)/'Base original'!AR63)","v":0.15028081781526439},{"$f":"+('Base original'!AR75/'Base original'!AR63*100-100)*'Base original'!AR63/'Base original'!$AR63","v":17.608801431401176},{"$f":"+('Base original'!AR75/'Base original'!AR63*100-100)*'Base original'!AR63/'Base original'!$BC63","v":10.751649443473962},{"$f":"+('Base original'!AS75/'Base original'!AS63*100-100)*'Base original'!AS63/'Base original'!$BC63","v":0.84911826454882411},{"$f":"+('Base original'!AT75/'Base original'!AT63*100-100)*'Base original'!AT63/'Base original'!$BC63","v":2.7764853355331578},{"$f":"+('Base original'!AU75/'Base original'!AU63*100-100)*'Base original'!AU63/'Base original'!$BC63","v":4.0314156880202123},{"$f":"+('Base original'!AV75/'Base original'!AV63*100-100)*'Base original'!AV63/'Base original'!$BC63","v":-0.63921546044284383},{"$f":"+('Base original'!AW75/'Base original'!AW63*100-100)*'Base original'!AW63/'Base original'!$BC63","v":-5.896506252748164E-2},{"$f":"+('Base original'!AX75/'Base original'!AX63*100-100)*'Base original'!AX63/'Base original'!$BC63","v":1.3238297462012314},{"$f":"+('Base original'!AY75/'Base original'!AY63*100-100)*'Base original'!AY63/'Base original'!$BC63","v":-0.61443304285883171},{"$f":"+('Base original'!AZ75/'Base original'!AZ63*100-100)*'Base original'!AZ63/'Base original'!$BC63","v":6.1635581663690063E-2},{"$f":"+('Base original'!BA75/'Base original'!BA63*100-100)*'Base original'!BA63/'Base original'!$BC63","v":-1.2933858280484558},{"$f":"+('Base original'!BB75/'Base original'!BB63*100-100)*'Base original'!BB63/'Base original'!$BC63","v":7.413361122114541E-2},{"$f":"+(('Base original'!AY75-'Base original'!BA75)/('Base original'!AY63-'Base original'!BA63)*100-100)*('Base original'!AY63-'Base original'!BA63)/'Base original'!$BC63","v":0.67895278518962465},{"$f":"+(('Base original'!AZ75-'Base original'!BB75)/('Base original'!AZ63-'Base original'!BB63)*100-100)*('Base original'!AZ63-'Base original'!BB63)/'Base original'!$BC63","v":-1.2498029557455279E-2},{"$f":"+('Base original'!BC75/'Base original'!BC63*100-100)*'Base original'!BC63/'Base original'!$BC63","v":19.700772710439225}]
["2011-09-01",{"$f":"+'Base original'!B76/'Base original'!B64*100-100","v":13.754569266109158},{"$f":"+'Base original'!C76/'Base original'!C64*100-100","v":17.352151178709292},{"$f":"+'Base original'!D76/'Base original'!D64*100-100","v":12.13321307685311},{"$f":"+'Base original'!E76/'Base original'!E64*100-100","v":53.739933410933929},{"$f":"+'Base original'!F76/'Base original'!F64*100-100","v":16.553744090807541},{"$f":"+'Base original'!G76","v":28.74},null,null,null,null,{"$f":"+'Base original'!Q76","v":9.3000000000000007},null,null,null,{"$f":"+'Base original'!Y76","v":1.81},null,null,{"$f":"+'Base original'!AE76","v":4.17},{"$f":"+('Base original'!AH76/'Base original'!AH64*100-100)*'Base original'!AH64/'Base original'!$AK64","v":2.1579929451459505},{"$f":"+('Base original'!AI76/'Base original'!AI64*100-100)*'Base original'!AI64/'Base original'!$AK64","v":6.5855378687183652},{"$f":"+('Base original'!AJ76/'Base original'!AJ64*100-100)*'Base original'!AJ64/'Base original'!$AK64","v":-1.3103729998466314},{"$f":"+('Base original'!AK76/'Base original'!AK64*100-100)*'Base original'!AK64/'Base original'!$AK64","v":7.4331578140177044},{"$f":"+('Base original'!AK76/'Base original'!AK64*100-100)*'Base original'!AK64/'Base original'!$AR64","v":2.0181212611373747},{"$f":"+('Base original'!AL76/'Base original'!AL64*100-100)*'Base original'!AL64/'Base original'!$AR64","v":17.746892877032177},{"$f":"+('Base original'!AM76/'Base original'!AM64*100-100)*'Base original'!AM64/'Base original'!$AR64","v":0.16395500273167241},{"$f":"+('Base original'!AN76/'Base original'!AN64*100-100)*'Base original'!AN64/'Base original'!$AR64","v":1.6107494659903141},{"$f":"+('Base original'!AO76/'Base original'!AO64*100-100)*'Base original'!AO64/'Base original'!$AR64","v":0.16117904501346422},{"$f":"+('Base original'!AP76/'Base original'!AP64*100-100)*'Base original'!AP64/'Base original'!$AR64","v":2.2957170329581911},{"$f":"+('Base original'!AQ76/'Base original'!AQ64*100-100)*'Base original'!AQ64/'Base original'!$AR64","v":1.0583338800668812E-2},{"$f":"+(('Base original'!AN76-'Base original'!AP76)/('Base original'!AN64-'Base original'!AP64)*100-100)*(('Base original'!AN64-'Base original'!AP64)/'Base original'!AR64)","v":-0.68496756696787664},{"$f":"+(('Base original'!AO76-'Base original'!AQ76)/('Base original'!AO64-'Base original'!AQ64)*100-100)*(('Base original'!AO64-'Base original'!AQ64)/'Base original'!AR64)","v":0.15059570621279547},{"$f":"+('Base original'!AR76/'Base original'!AR64*100-100)*'Base original'!AR64/'Base original'!$AR64","v":19.394597280146115},{"$f":"+('Base original'!AR76/'Base original'!AR64*100-100)*'Base original'!AR64/'Base original'!$BC64","v":11.701387735447621},{"$f":"+('Base original'!AS76/'Base original'!AS64*100-100)*'Base original'!AS64/'Base original'!$BC64","v":0.74268023856270959},{"$f":"+('Base original'!AT76/'Base original'!AT64*100-100)*'Base original'!AT64/'Base original'!$BC64","v":3.5840209567510395},{"$f":"+('Base original'!AU76/'Base original'!AU64*100-100)*'Base original'!AU64/'Base original'!$BC64","v":4.1996238437118993},{"$f":"+('Base original'!AV76/'Base original'!AV64*100-100)*'Base original'!AV64/'Base original'!$BC64","v":-0.55478580188616811},{"$f":"+('Base original'!AW76/'Base original'!AW64*100-100)*'Base original'!AW64/'Base original'!$BC64","v":-3.422923721071261E-2},{"$f":"+('Base original'!AX76/'Base original'!AX64*100-100)*'Base original'!AX64/'Base original'!$BC64","v":1.2537112356963471},{"$f":"+('Base original'!AY76/'Base original'!AY64*100-100)*'Base original'!AY64/'Base original'!$BC64","v":-1.1037097160542935},{"$f":"+('Base original'!AZ76/'Base original'!AZ64*100-100)*'Base original'!AZ64/'Base original'!$BC64","v":1.6120191224616956E-2},{"$f":"+('Base original'!BA76/'Base original'!BA64*100-100)*'Base original'!BA64/'Base original'!$BC64","v":-0.5546811253197742},{"$f":"+('Base original'!BB76/'Base original'!BB64*100-100)*'Base original'!BB64/'Base original'!$BC64","v":8.9917170532116661E-2},{"$f":"+(('Base original'!AY76-'Base original'!BA76)/('Base original'!AY64-'Base original'!BA64)*100-100)*('Base original'!AY64-'Base original'!BA64)/'Base original'!$BC64","v":-0.54902859073451959},{"$f":"+(('Base original'!AZ76-'Base original'!BB76)/('Base original'!AZ64-'Base original'!BB64)*100-100)*('Base original'!AZ64-'Base original'!BB64)/'Base original'!$BC64","v":-7.3796979307499705E-2},{"$f":"+('Base original'!BC76/'Base original'!BC64*100-100)*'Base original'!BC64/'Base original'!$BC64","v":20.269583401030715}]
["2011-10-01",{"$f":"+'Base original'!B77/'Base original'!B65*100-100","v":14.015088342973428},{"$f":"+'Base original'!C77/'Base original'!C65*100-100","v":17.234479025918944},{"$f":"+'Base original'!D77/'Base original'!D65*100-100","v":11.884133383645917},{"$f":"+'Base original'!E77/'Base original'!E65*100-100","v":35.634797748585015},{"$f":"+'Base original'!F77/'Base original'!F65*100-100","v":15.454617394643861},{"$f":"+'Base original'!G77","v":27.73},null,null,null,null,{"$f":"+'Base original'!Q77","v":9.59},null,null,null,{"$f":"+'Base original'!Y77","v":2.02},null,null,{"$f":"+'Base original'!AE77","v":4.1100000000000003},{"$f":"+('Base original'!AH77/'Base original'!AH65*100-100)*'Base original'!AH65/'Base original'!$AK65","v":2.4383455239821323},{"$f":"+('Base original'!AI77/'Base original'!AI65*100-100)*'Base original'!AI65/'Base original'!$AK65","v":7.3749831704317508},{"$f":"+('Base original'!AJ77/'Base original'!AJ65*100-100)*'Base original'!AJ65/'Base original'!$AK65","v":-0.3039753382096046},{"$f":"+('Base original'!AK77/'Base original'!AK65*100-100)*'Base original'!AK65/'Base original'!$AK65","v":9.5093533562042865},{"$f":"+('Base original'!AK77/'Base original'!AK65*100-100)*'Base original'!AK65/'Base original'!$AR65","v":2.5283667004966879},{"$f":"+('Base original'!AL77/'Base original'!AL65*100-100)*'Base original'!AL65/'Base original'!$AR65","v":18.339680223311372},{"$f":"+('Base original'!AM77/'Base original'!AM65*100-100)*'Base original'!AM65/'Base original'!$AR65","v":0.2233898289595467},{"$f":"+('Base original'!AN77/'Base original'!AN65*100-100)*'Base original'!AN65/'Base original'!$AR65","v":2.4447245919648397},{"$f":"+('Base original'!AO77/'Base original'!AO65*100-100)*'Base original'!AO65/'Base original'!$AR65","v":0.16866104189549749},{"$f":"+('Base original'!AP77/'Base original'!AP65*100-100)*'Base original'!AP65/'Base original'!$AR65","v":3.1520683493020765},{"$f":"+('Base original'!AQ77/'Base original'!AQ65*100-100)*'Base original'!AQ65/'Base original'!$AR65","v":1.2219320382224817E-2},{"$f":"+(('Base original'!AN77-'Base original'!AP77)/('Base original'!AN65-'Base original'!AP65)*100-100)*(('Base original'!AN65-'Base original'!AP65)/'Base original'!AR65)","v":-0.70734375733723631},{"$f":"+(('Base original'!AO77-'Base original'!AQ77)/('Base original'!AO65-'Base original'!AQ65)*100-100)*(('Base original'!AO65-'Base original'!AQ65)/'Base original'!AR65)","v":0.15644172151327271},{"$f":"+('Base original'!AR77/'Base original'!AR65*100-100)*'Base original'!AR65/'Base original'!$AR65","v":20.540534716943654},{"$f":"+('Base original'!AR77/'Base original'!AR65*100-100)*'Base original'!AR65/'Base original'!$BC65","v":12.320042411027545},{"$f":"+('Base original'!AS77/'Base original'!AS65*100-100)*'Base original'!AS65/'Base original'!$BC65","v":0.4600783478226283},{"$f":"+('Base original'!AT77/'Base original'!AT65*100-100)*'Base original'!AT65/'Base original'!$BC65","v":4.5727060022092756},{"$f":"+('Base original'!AU77/'Base original'!AU65*100-100)*'Base original'!AU65/'Base original'!$BC65","v":4.3647055824510073},{"$f":"+('Base original'!AV77/'Base original'!AV65*100-100)*'Base original'!AV65/'Base original'!$BC65","v":-0.648465824774903},{"$f":"+('Base original'!AW77/'Base original'!AW65*100-100)*'Base original'!AW65/'Base original'!$BC65","v":-3.0141996312364167E-2},{"$f":"+('Base original'!AX77/'Base original'!AX65*100-100)*'Base original'!AX65/'Base original'!$BC65","v":1.3646479152378588},{"$f":"+('Base original'!AY77/'Base original'!AY65*100-100)*'Base original'!AY65/'Base original'!$BC65","v":-1.2021701679924415},{"$f":"+('Base original'!AZ77/'Base original'!AZ65*100-100)*'Base original'!AZ65/'Base original'!$BC65","v":-1.5483902215255507E-2},{"$f":"+('Base original'!BA77/'Base original'!BA65*100-100)*'Base original'!BA65/'Base original'!$BC65","v":-0.31205224264478393},{"$f":"+('Base original'!BB77/'Base original'!BB65*100-100)*'Base original'!BB65/'Base original'!$BC65","v":9.2800187276764992E-2},{"$f":"+(('Base original'!AY77-'Base original'!BA77)/('Base original'!AY65-'Base original'!BA65)*100-100)*('Base original'!AY65-'Base original'!BA65)/'Base original'!$BC65","v":-0.89011792534765755},{"$f":"+(('Base original'!AZ77-'Base original'!BB77)/('Base original'!AZ65-'Base original'!BB65)*100-100)*('Base original'!AZ65-'Base original'!BB65)/'Base original'!$BC65","v":-0.10828408949202067},{"$f":"+('Base original'!BC77/'Base original'!BC65*100-100)*'Base original'!BC65/'Base original'!$BC65","v":21.405170422821371}]
["2011-11-01",{"$f":"+'Base original'!B78/'Base original'!B66*100-100","v":15.287564811146126},{"$f":"+'Base original'!C78/'Base original'!C66*100-100","v":18.101772472356743},{"$f":"+'Base original'!D78/'Base original'!D66*100-100","v":12.247254713659288},{"$f":"+'Base original'!E78/'Base original'!E66*100-100","v":38.36536602609857},{"$f":"+'Base original'!F78/'Base original'!F66*100-100","v":16.585731333614319},{"$f":"+'Base original'!G78","v":26.96},null,null,null,null,{"$f":"+'Base original'!Q78","v":9.5},null,null,null,{"$f":"+'Base original'!Y78","v":2.2200000000000002},null,null,{"$f":"+'Base original'!AE78","v":4.1500000000000004},{"$f":"+('Base original'!AH78/'Base original'!AH66*100-100)*'Base original'!AH66/'Base original'!$AK66","v":2.7586296764441385},{"$f":"+('Base original'!AI78/'Base original'!AI66*100-100)*'Base original'!AI66/'Base original'!$AK66","v":7.1604197886397341},{"$f":"+('Base original'!AJ78/'Base original'!AJ66*100-100)*'Base original'!AJ66/'Base original'!$AK66","v":-0.41826109902139785},{"$f":"+('Base original'!AK78/'Base original'!AK66*100-100)*'Base original'!AK66/'Base original'!$AK66","v":9.5007883660624817},{"$f":"+('Base original'!AK78/'Base original'!AK66*100-100)*'Base original'!AK66/'Base original'!$AR66","v":2.4839138599046207},{"$f":"+('Base original'!AL78/'Base original'!AL66*100-100)*'Base original'!AL66/'Base original'!$AR66","v":18.574085077320238},{"$f":"+('Base original'!AM78/'Base original'!AM66*100-100)*'Base original'!AM66/'Base original'!$AR66","v":0.21871796709076449},{"$f":"+('Base original'!AN78/'Base original'!AN66*100-100)*'Base original'!AN66/'Base original'!$AR66","v":1.6432805518104392},{"$f":"+('Base original'!AO78/'Base original'!AO66*100-100)*'Base original'!AO66/'Base original'!$AR66","v":0.16557154518085906},{"$f":"+('Base original'!AP78/'Base original'!AP66*100-100)*'Base original'!AP66/'Base original'!$AR66","v":2.2795045448665192},{"$f":"+('Base original'!AQ78/'Base original'!AQ66*100-100)*'Base original'!AQ66/'Base original'!$AR66","v":6.8136438346032557E-3},{"$f":"+(('Base original'!AN78-'Base original'!AP78)/('Base original'!AN66-'Base original'!AP66)*100-100)*(('Base original'!AN66-'Base original'!AP66)/'Base original'!AR66)","v":-0.63622399305608079},{"$f":"+(('Base original'!AO78-'Base original'!AQ78)/('Base original'!AO66-'Base original'!AQ66)*100-100)*(('Base original'!AO66-'Base original'!AQ66)/'Base original'!AR66)","v":0.15875790134625586},{"$f":"+('Base original'!AR78/'Base original'!AR66*100-100)*'Base original'!AR66/'Base original'!$AR66","v":20.799250812605834},{"$f":"+('Base original'!AR78/'Base original'!AR66*100-100)*'Base original'!AR66/'Base original'!$BC66","v":12.399956842089454},{"$f":"+('Base original'!AS78/'Base original'!AS66*100-100)*'Base original'!AS66/'Base original'!$BC66","v":0.21407331043084107},{"$f":"+('Base original'!AT78/'Base original'!AT66*100-100)*'Base original'!AT66/'Base original'!$BC66","v":4.6648280429984101},{"$f":"+('Base original'!AU78/'Base original'!AU66*100-100)*'Base original'!AU66/'Base original'!$BC66","v":3.9119155555533216},{"$f":"+('Base original'!AV78/'Base original'!AV66*100-100)*'Base original'!AV66/'Base original'!$BC66","v":-0.5618916634790514},{"$f":"+('Base original'!AW78/'Base original'!AW66*100-100)*'Base original'!AW66/'Base original'!$BC66","v":-5.1182613120087074E-2},{"$f":"+('Base original'!AX78/'Base original'!AX66*100-100)*'Base original'!AX66/'Base original'!$BC66","v":1.4896780790844384},{"$f":"+('Base original'!AY78/'Base original'!AY66*100-100)*'Base original'!AY66/'Base original'!$BC66","v":-1.3070861378346048},{"$f":"+('Base original'!AZ78/'Base original'!AZ66*100-100)*'Base original'!AZ66/'Base original'!$BC66","v":-3.2090686003864166E-2},{"$f":"+('Base original'!BA78/'Base original'!BA66*100-100)*'Base original'!BA66/'Base original'!$BC66","v":-0.27795002402713981},{"$f":"+('Base original'!BB78/'Base original'!BB66*100-100)*'Base original'!BB66/'Base original'!$BC66","v":7.961739818680208E-2},{"$f":"+(('Base original'!AY78-'Base original'!BA78)/('Base original'!AY66-'Base original'!BA66)*100-100)*('Base original'!AY66-'Base original'!BA66)/'Base original'!$BC66","v":-1.0291361138074653},{"$f":"+(('Base original'!AZ78-'Base original'!BB78)/('Base original'!AZ66-'Base original'!BB66)*100-100)*('Base original'!AZ66-'Base original'!BB66)/'Base original'!$BC66","v":-0.11170808419066632},{"$f":"+('Base original'!BC78/'Base original'!BC66*100-100)*'Base original'!BC66/'Base original'!$BC66","v":20.926533355559201}]
["2011-12-01",{"$f":"+'Base original'!B79/'Base original'!B67*100-100","v":15.569854725386008},{"$f":"+'Base original'!C79/'Base original'!C67*100-100","v":17.71566490830692},{"$f":"+'Base original'!D79/'Base original'!D67*100-100","v":12.392925608811893},{"$f":"+'Base original'!E79/'Base original'!E67*100-100","v":43.920502370324016},{"$f":"+'Base original'!F79/'Base original'!F67*100-100","v":16.937997631403405},{"$f":"+'Base original'!G79","v":27.48},null,null,null,null,{"$f":"+'Base original'!Q79","v":9.2799999999999994},null,null,null,{"$f":"+'Base original'!Y79","v":2.75},null,null,{"$f":"+'Base original'!AE79","v":4.26},{"$f":"+('Base original'!AH79/'Base original'!AH67*100-100)*'Base original'!AH67/'Base original'!$AK67","v":2.717722006283608},{"$f":"+('Base original'!AI79/'Base original'!AI67*100-100)*'Base original'!AI67/'Base original'!$AK67","v":6.9973049411998289},{"$f":"+('Base original'!AJ79/'Base original'!AJ67*100-100)*'Base original'!AJ67/'Base original'!$AK67","v":2.1052320960671551},{"$f":"+('Base original'!AK79/'Base original'!AK67*100-100)*'Base original'!AK67/'Base original'!$AK67","v":11.820259043550593},{"$f":"+('Base original'!AK79/'Base original'!AK67*100-100)*'Base original'!AK67/'Base original'!$AR67","v":3.1728140584879232},{"$f":"+('Base original'!AL79/'Base original'!AL67*100-100)*'Base original'!AL67/'Base original'!$AR67","v":18.904995152154434},{"$f":"+('Base original'!AM79/'Base original'!AM67*100-100)*'Base original'!AM67/'Base original'!$AR67","v":0.23999854200885709},{"$f":"+('Base original'!AN79/'Base original'!AN67*100-100)*'Base original'!AN67/'Base original'!$AR67","v":1.6104902162719377},{"$f":"+('Base original'!AO79/'Base original'!AO67*100-100)*'Base original'!AO67/'Base original'!$AR67","v":0.15916569973504083},{"$f":"+('Base original'!AP79/'Base original'!AP67*100-100)*'Base original'!AP67/'Base original'!$AR67","v":2.1699868173300838},{"$f":"+('Base original'!AQ79/'Base original'!AQ67*100-100)*'Base original'!AQ67/'Base original'!$AR67","v":1.533324018389922E-2},{"$f":"+(('Base original'!AN79-'Base original'!AP79)/('Base original'!AN67-'Base original'!AP67)*100-100)*(('Base original'!AN67-'Base original'!AP67)/'Base original'!AR67)","v":-0.55949660105814669},{"$f":"+(('Base original'!AO79-'Base original'!AQ79)/('Base original'!AO67-'Base original'!AQ67)*100-100)*(('Base original'!AO67-'Base original'!AQ67)/'Base original'!AR67)","v":0.1438324595511416},{"$f":"+('Base original'!AR79/'Base original'!AR67*100-100)*'Base original'!AR67/'Base original'!$AR67","v":21.902143611144226},{"$f":"+('Base original'!AR79/'Base original'!AR67*100-100)*'Base original'!AR67/'Base original'!$BC67","v":13.115362891340297},{"$f":"+('Base original'!AS79/'Base original'!AS67*100-100)*'Base original'!AS67/'Base original'!$BC67","v":0.15748775768466469},{"$f":"+('Base original'!AT79/'Base original'!AT67*100-100)*'Base original'!AT67/'Base original'!$BC67","v":4.5512764345334533},{"$f":"+('Base original'!AU79/'Base original'!AU67*100-100)*'Base original'!AU67/'Base original'!$BC67","v":3.6482667821057921},{"$f":"+('Base original'!AV79/'Base original'!AV67*100-100)*'Base original'!AV67/'Base original'!$BC67","v":-0.47934961987290697},{"$f":"+('Base original'!AW79/'Base original'!AW67*100-100)*'Base original'!AW67/'Base original'!$BC67","v":-4.9402053266102246E-2},{"$f":"+('Base original'!AX79/'Base original'!AX67*100-100)*'Base original'!AX67/'Base original'!$BC67","v":1.5828617470714783},{"$f":"+('Base original'!AY79/'Base original'!AY67*100-100)*'Base original'!AY67/'Base original'!$BC67","v":-1.4203838829962969},{"$f":"+('Base original'!AZ79/'Base original'!AZ67*100-100)*'Base original'!AZ67/'Base original'!$BC67","v":-4.8803240499240362E-2},{"$f":"+('Base original'!BA79/'Base original'!BA67*100-100)*'Base original'!BA67/'Base original'!$BC67","v":3.3234108560832087E-2},{"$f":"+('Base original'!BB79/'Base original'!BB67*100-100)*'Base original'!BB67/'Base original'!$BC67","v":6.7965249038819467E-2},{"$f":"+(('Base original'!AY79-'Base original'!BA79)/('Base original'!AY67-'Base original'!BA67)*100-100)*('Base original'!AY67-'Base original'!BA67)/'Base original'!$BC67","v":-1.4536179915571288},{"$f":"+(('Base original'!AZ79-'Base original'!BB79)/('Base original'!AZ67-'Base original'!BB67)*100-100)*('Base original'!AZ67-'Base original'!BB67)/'Base original'!$BC67","v":-0.11676848953805977},{"$f":"+('Base original'!BC79/'Base original'!BC67*100-100)*'Base original'!BC67/'Base original'!$BC67","v":20.956117458501481}]
["2012-01-01",{"$f":"+'Base original'!B80/'Base original'!B68*100-100","v":15.911833996848543},{"$f":"+'Base original'!C80/'Base original'!C68*100-100","v":17.2436283594445},{"$f":"+'Base original'!D80/'Base original'!D68*100-100","v":12.765775694553128},{"$f":"+'Base original'!E80/'Base original'!E68*100-100","v":17.367214757638337},{"$f":"+'Base original'!F80/'Base original'!F68*100-100","v":15.410465404287393},{"$f":"+'Base original'!G80","v":28.04},null,null,null,null,{"$f":"+'Base original'!Q80","v":9.39},null,null,null,{"$f":"+'Base original'!Y80","v":2.7},null,null,{"$f":"+'Base original'!AE80","v":4.33},{"$f":"+('Base original'!AH80/'Base original'!AH68*100-100)*'Base original'!AH68/'Base original'!$AK68","v":2.6733855803176079},{"$f":"+('Base original'!AI80/'Base original'!AI68*100-100)*'Base original'!AI68/'Base original'!$AK68","v":5.6364598624270572},{"$f":"+('Base original'!AJ80/'Base original'!AJ68*100-100)*'Base original'!AJ68/'Base original'!$AK68","v":2.0173027696562795},{"$f":"+('Base original'!AK80/'Base original'!AK68*100-100)*'Base original'!AK68/'Base original'!$AK68","v":10.327148212400942},{"$f":"+('Base original'!AK80/'Base original'!AK68*100-100)*'Base original'!AK68/'Base original'!$AR68","v":2.7977905692023164},{"$f":"+('Base original'!AL80/'Base original'!AL68*100-100)*'Base original'!AL68/'Base original'!$AR68","v":18.295060644872574},{"$f":"+('Base original'!AM80/'Base original'!AM68*100-100)*'Base original'!AM68/'Base original'!$AR68","v":0.22575409247079964},{"$f":"+('Base original'!AN80/'Base original'!AN68*100-100)*'Base original'!AN68/'Base original'!$AR68","v":1.8667704870126083},{"$f":"+('Base original'!AO80/'Base original'!AO68*100-100)*'Base original'!AO68/'Base original'!$AR68","v":0.14376779222715785},{"$f":"+('Base original'!AP80/'Base original'!AP68*100-100)*'Base original'!AP68/'Base original'!$AR68","v":1.9476537067495305},{"$f":"+('Base original'!AQ80/'Base original'!AQ68*100-100)*'Base original'!AQ68/'Base original'!$AR68","v":1.4876517667366132E-2},{"$f":"+(('Base original'!AN80-'Base original'!AP80)/('Base original'!AN68-'Base original'!AP68)*100-100)*(('Base original'!AN68-'Base original'!AP68)/'Base original'!AR68)","v":-8.0883219736922626E-2},{"$f":"+(('Base original'!AO80-'Base original'!AQ80)/('Base original'!AO68-'Base original'!AQ68)*100-100)*(('Base original'!AO68-'Base original'!AQ68)/'Base original'!AR68)","v":0.1288912745597918},{"$f":"+('Base original'!AR80/'Base original'!AR68*100-100)*'Base original'!AR68/'Base original'!$AR68","v":21.366613361368582},{"$f":"+('Base original'!AR80/'Base original'!AR68*100-100)*'Base original'!AR68/'Base original'!$BC68","v":12.712625932544896},{"$f":"+('Base original'!AS80/'Base original'!AS68*100-100)*'Base original'!AS68/'Base original'!$BC68","v":0.3652649158648465},{"$f":"+('Base original'!AT80/'Base original'!AT68*100-100)*'Base original'!AT68/'Base original'!$BC68","v":4.6437277209838337},{"$f":"+('Base original'!AU80/'Base original'!AU68*100-100)*'Base original'!AU68/'Base original'!$BC68","v":2.889339543286666},{"$f":"+('Base original'!AV80/'Base original'!AV68*100-100)*'Base original'!AV68/'Base original'!$BC68","v":1.0133319738806344E-2},{"$f":"+('Base original'!AW80/'Base original'!AW68*100-100)*'Base original'!AW68/'Base original'!$BC68","v":-3.1991288845341581E-2},{"$f":"+('Base original'!AX80/'Base original'!AX68*100-100)*'Base original'!AX68/'Base original'!$BC68","v":1.5465557819569684},{"$f":"+('Base original'!AY80/'Base original'!AY68*100-100)*'Base original'!AY68/'Base original'!$BC68","v":-1.2553762596404878},{"$f":"+('Base original'!AZ80/'Base original'!AZ68*100-100)*'Base original'!AZ68/'Base original'!$BC68","v":-4.8596875470446763E-2},{"$f":"+('Base original'!BA80/'Base original'!BA68*100-100)*'Base original'!BA68/'Base original'!$BC68","v":0.43942975862328754},{"$f":"+('Base original'!BB80/'Base original'!BB68*100-100)*'Base original'!BB68/'Base original'!$BC68","v":6.3787214205046808E-2},{"$f":"+(('Base original'!AY80-'Base original'!BA80)/('Base original'!AY68-'Base original'!BA68)*100-100)*('Base original'!AY68-'Base original'!BA68)/'Base original'!$BC68","v":-1.6948060182637745},{"$f":"+(('Base original'!AZ80-'Base original'!BB80)/('Base original'!AZ68-'Base original'!BB68)*100-100)*('Base original'!AZ68-'Base original'!BB68)/'Base original'!$BC68","v":-0.1123840896754937},{"$f":"+('Base original'!BC80/'Base original'!BC68*100-100)*'Base original'!BC68/'Base original'!$BC68","v":20.328465817591407}]
["2012-02-01",{"$f":"+'Base original'!B81/'Base original'!B69*100-100","v":16.240271699794803},{"$f":"+'Base original'!C81/'Base original'!C69*100-100","v":16.970955632180093},{"$f":"+'Base original'!D81/'Base original'!D69*100-100","v":12.821499601797683},{"$f":"+'Base original'!E81/'Base original'!E69*100-100","v":15.729348735249914},{"$f":"+'Base original'!F81/'Base original'!F69*100-100","v":15.453087649510294},{"$f":"+'Base original'!G81","v":29.81},null,null,null,null,{"$f":"+'Base original'!Q81","v":9.4600000000000009},null,null,null,{"$f":"+'Base original'!Y81","v":2.5},null,null,{"$f":"+'Base original'!AE81","v":4.32},{"$f":"+('Base original'!AH81/'Base original'!AH69*100-100)*'Base original'!AH69/'Base original'!$AK69","v":2.7538871529826841},{"$f":"+('Base original'!AI81/'Base original'!AI69*100-100)*'Base original'!AI69/'Base original'!$AK69","v":4.4770283701600908},{"$f":"+('Base original'!AJ81/'Base original'!AJ69*100-100)*'Base original'!AJ69/'Base original'!$AK69","v":2.9455112157486485},{"$f":"+('Base original'!AK81/'Base original'!AK69*100-100)*'Base original'!AK69/'Base original'!$AK69","v":10.176426738891436},{"$f":"+('Base original'!AK81/'Base original'!AK69*100-100)*'Base original'!AK69/'Base original'!$AR69","v":2.7014516787626572},{"$f":"+('Base original'!AL81/'Base original'!AL69*100-100)*'Base original'!AL69/'Base original'!$AR69","v":18.056029507296593},{"$f":"+('Base original'!AM81/'Base original'!AM69*100-100)*'Base original'!AM69/'Base original'!$AR69","v":0.2839029905054638},{"$f":"+('Base original'!AN81/'Base original'!AN69*100-100)*'Base original'!AN69/'Base original'!$AR69","v":1.9851025500702975},{"$f":"+('Base original'!AO81/'Base original'!AO69*100-100)*'Base original'!AO69/'Base original'!$AR69","v":0.13448952674889256},{"$f":"+('Base original'!AP81/'Base original'!AP69*100-100)*'Base original'!AP69/'Base original'!$AR69","v":2.1451842034490083},{"$f":"+('Base original'!AQ81/'Base original'!AQ69*100-100)*'Base original'!AQ69/'Base original'!$AR69","v":2.6820446340084683E-3},{"$f":"+(('Base original'!AN81-'Base original'!AP81)/('Base original'!AN69-'Base original'!AP69)*100-100)*(('Base original'!AN69-'Base original'!AP69)/'Base original'!AR69)","v":-0.16008165337870978},{"$f":"+(('Base original'!AO81-'Base original'!AQ81)/('Base original'!AO69-'Base original'!AQ69)*100-100)*(('Base original'!AO69-'Base original'!AQ69)/'Base original'!AR69)","v":0.13180748211488413},{"$f":"+('Base original'!AR81/'Base original'!AR69*100-100)*'Base original'!AR69/'Base original'!$AR69","v":21.013110005300902},{"$f":"+('Base original'!AR81/'Base original'!AR69*100-100)*'Base original'!AR69/'Base original'!$BC69","v":12.355211272529932},{"$f":"+('Base original'!AS81/'Base original'!AS69*100-100)*'Base original'!AS69/'Base original'!$BC69","v":0.30746978752524873},{"$f":"+('Base original'!AT81/'Base original'!AT69*100-100)*'Base original'!AT69/'Base original'!$BC69","v":4.4276783835383133},{"$f":"+('Base original'!AU81/'Base original'!AU69*100-100)*'Base original'!AU69/'Base original'!$BC69","v":2.5257802886986269},{"$f":"+('Base original'!AV81/'Base original'!AV69*100-100)*'Base original'!AV69/'Base original'!$BC69","v":0.10197959648873607},{"$f":"+('Base original'!AW81/'Base original'!AW69*100-100)*'Base original'!AW69/'Base original'!$BC69","v":-1.3822905886383581E-2},{"$f":"+('Base original'!AX81/'Base original'!AX69*100-100)*'Base original'!AX69/'Base original'!$BC69","v":1.4180841020012578},{"$f":"+('Base original'!AY81/'Base original'!AY69*100-100)*'Base original'!AY69/'Base original'!$BC69","v":-0.8615341184150217},{"$f":"+('Base original'!AZ81/'Base original'!AZ69*100-100)*'Base original'!AZ69/'Base original'!$BC69","v":-3.5564656833208766E-2},{"$f":"+('Base original'!BA81/'Base original'!BA69*100-100)*'Base original'!BA69/'Base original'!$BC69","v":0.67158232067461199},{"$f":"+('Base original'!BB81/'Base original'!BB69*100-100)*'Base original'!BB69/'Base original'!$BC69","v":6.2097830872379037E-2},{"$f":"+(('Base original'!AY81-'Base original'!BA81)/('Base original'!AY69-'Base original'!BA69)*100-100)*('Base original'!AY69-'Base original'!BA69)/'Base original'!$BC69","v":-1.533116439089633},{"$f":"+(('Base original'!AZ81-'Base original'!BB81)/('Base original'!AZ69-'Base original'!BB69)*100-100)*('Base original'!AZ69-'Base original'!BB69)/'Base original'!$BC69","v":-9.7662487705587719E-2},{"$f":"+('Base original'!BC81/'Base original'!BC69*100-100)*'Base original'!BC69/'Base original'!$BC69","v":19.491601598100502}]
["2012-03-01",{"$f":"+'Base original'!B82/'Base original'!B70*100-100","v":16.926108451801497},{"$f":"+'Base original'!C82/'Base original'!C70*100-100","v":15.955980044480839},{"$f":"+'Base original'!D82/'Base original'!D70*100-100","v":12.863688815859575},{"$f":"+'Base original'!E82/'Base original'!E70*100-100","v":15.531903240227152},{"$f":"+'Base original'!F82/'Base original'!F70*100-100","v":15.713502920320039},{"$f":"+'Base original'!G82","v":27.97},null,null,null,null,{"$f":"+'Base original'!Q82","v":9.33},null,null,null,{"$f":"+'Base original'!Y82","v":2.34},null,null,{"$f":"+'Base original'!AE82","v":4.29},{"$f":"+('Base original'!AH82/'Base original'!AH70*100-100)*'Base original'!AH70/'Base original'!$AK70","v":2.9290300439896422},{"$f":"+('Base original'!AI82/'Base original'!AI70*100-100)*'Base original'!AI70/'Base original'!$AK70","v":6.2548722428477843},{"$f":"+('Base original'!AJ82/'Base original'!AJ70*100-100)*'Base original'!AJ70/'Base original'!$AK70","v":2.2776395345209526},{"$f":"+('Base original'!AK82/'Base original'!AK70*100-100)*'Base original'!AK70/'Base original'!$AK70","v":11.461541821358395},{"$f":"+('Base original'!AK82/'Base original'!AK70*100-100)*'Base original'!AK70/'Base original'!$AR70","v":2.9972265826437372},{"$f":"+('Base original'!AL82/'Base original'!AL70*100-100)*'Base original'!AL70/'Base original'!$AR70","v":18.137971166197421},{"$f":"+('Base original'!AM82/'Base original'!AM70*100-100)*'Base original'!AM70/'Base original'!$AR70","v":0.33519333022267905},{"$f":"+('Base original'!AN82/'Base original'!AN70*100-100)*'Base original'!AN70/'Base original'!$AR70","v":2.4140765904652079},{"$f":"+('Base original'!AO82/'Base original'!AO70*100-100)*'Base original'!AO70/'Base original'!$AR70","v":0.11557652123668323},{"$f":"+('Base original'!AP82/'Base original'!AP70*100-100)*'Base original'!AP70/'Base original'!$AR70","v":3.0933941567596759},{"$f":"+('Base original'!AQ82/'Base original'!AQ70*100-100)*'Base original'!AQ70/'Base original'!$AR70","v":6.2203582200760464E-3},{"$f":"+(('Base original'!AN82-'Base original'!AP82)/('Base original'!AN70-'Base original'!AP70)*100-100)*(('Base original'!AN70-'Base original'!AP70)/'Base original'!AR70)","v":-0.67931756629446749},{"$f":"+(('Base original'!AO82-'Base original'!AQ82)/('Base original'!AO70-'Base original'!AQ70)*100-100)*(('Base original'!AO70-'Base original'!AQ70)/'Base original'!AR70)","v":0.10935616301660712},{"$f":"+('Base original'!AR82/'Base original'!AR70*100-100)*'Base original'!AR70/'Base original'!$AR70","v":20.900429675785961},{"$f":"+('Base original'!AR82/'Base original'!AR70*100-100)*'Base original'!AR70/'Base original'!$BC70","v":12.337353897743712},{"$f":"+('Base original'!AS82/'Base original'!AS70*100-100)*'Base original'!AS70/'Base original'!$BC70","v":0.69677484341105933},{"$f":"+('Base original'!AT82/'Base original'!AT70*100-100)*'Base original'!AT70/'Base original'!$BC70","v":4.3695341814194055},{"$f":"+('Base original'!AU82/'Base original'!AU70*100-100)*'Base original'!AU70/'Base original'!$BC70","v":2.2567652941209113},{"$f":"+('Base original'!AV82/'Base original'!AV70*100-100)*'Base original'!AV70/'Base original'!$BC70","v":-0.26509432014108897},{"$f":"+('Base original'!AW82/'Base original'!AW70*100-100)*'Base original'!AW70/'Base original'!$BC70","v":-2.1095102295990539E-2},{"$f":"+('Base original'!AX82/'Base original'!AX70*100-100)*'Base original'!AX70/'Base original'!$BC70","v":1.4136613078350209},{"$f":"+('Base original'!AY82/'Base original'!AY70*100-100)*'Base original'!AY70/'Base original'!$BC70","v":-0.7054542896666175},{"$f":"+('Base original'!AZ82/'Base original'!AZ70*100-100)*'Base original'!AZ70/'Base original'!$BC70","v":0.2143296290247565},{"$f":"+('Base original'!BA82/'Base original'!BA70*100-100)*'Base original'!BA70/'Base original'!$BC70","v":0.41379082098905767},{"$f":"+('Base original'!BB82/'Base original'!BB70*100-100)*'Base original'!BB70/'Base original'!$BC70","v":5.1983375082085545E-2},{"$f":"+(('Base original'!AY82-'Base original'!BA82)/('Base original'!AY70-'Base original'!BA70)*100-100)*('Base original'!AY70-'Base original'!BA70)/'Base original'!$BC70","v":-1.1192451106556747},{"$f":"+(('Base original'!AZ82-'Base original'!BB82)/('Base original'!AZ70-'Base original'!BB70)*100-100)*('Base original'!AZ70-'Base original'!BB70)/'Base original'!$BC70","v":0.16234625394267099},{"$f":"+('Base original'!BC82/'Base original'!BC70*100-100)*'Base original'!BC70/'Base original'!$BC70","v":19.831001245380023}]
["2012-04-01",{"$f":"+'Base original'!B83/'Base original'!B71*100-100","v":16.603698344029112},{"$f":"+'Base original'!C83/'Base original'!C71*100-100","v":15.053279950196938},{"$f":"+'Base original'!D83/'Base original'!D71*100-100","v":12.603150533748746},{"$f":"+'Base original'!E83/'Base original'!E71*100-100","v":17.825094983654211},{"$f":"+'Base original'!F83/'Base original'!F71*100-100","v":15.543699423101074},{"$f":"+'Base original'!G83","v":28.97},null,null,null,null,{"$f":"+'Base original'!Q83","v":9.84},null,null,null,{"$f":"+'Base original'!Y83","v":2.4500000000000002},null,null,{"$f":"+'Base original'!AE83","v":4.37},{"$f":"+('Base original'!AH83/'Base original'!AH71*100-100)*'Base original'!AH71/'Base original'!$AK71","v":2.9753642302855559},{"$f":"+('Base original'!AI83/'Base original'!AI71*100-100)*'Base original'!AI71/'Base original'!$AK71","v":6.9964911204490408},{"$f":"+('Base original'!AJ83/'Base original'!AJ71*100-100)*'Base original'!AJ71/'Base original'!$AK71","v":2.1025733828175377},{"$f":"+('Base original'!AK83/'Base original'!AK71*100-100)*'Base original'!AK71/'Base original'!$AK71","v":12.074428733552139},{"$f":"+('Base original'!AK83/'Base original'!AK71*100-100)*'Base original'!AK71/'Base original'!$AR71","v":3.1460170628941628},{"$f":"+('Base original'!AL83/'Base original'!AL71*100-100)*'Base original'!AL71/'Base original'!$AR71","v":18.301795425178288},{"$f":"+('Base original'!AM83/'Base original'!AM71*100-100)*'Base original'!AM71/'Base original'!$AR71","v":0.30854195131622264},{"$f":"+('Base original'!AN83/'Base original'!AN71*100-100)*'Base original'!AN71/'Base original'!$AR71","v":2.339882944011543},{"$f":"+('Base original'!AO83/'Base original'!AO71*100-100)*'Base original'!AO71/'Base original'!$AR71","v":2.2805688169225451E-2},{"$f":"+('Base original'!AP83/'Base original'!AP71*100-100)*'Base original'!AP71/'Base original'!$AR71","v":2.9668598433936673},{"$f":"+('Base original'!AQ83/'Base original'!AQ71*100-100)*'Base original'!AQ71/'Base original'!$AR71","v":1.1824875233428348E-2},{"$f":"+(('Base original'!AN83-'Base original'!AP83)/('Base original'!AN71-'Base original'!AP71)*100-100)*(('Base original'!AN71-'Base original'!AP71)/'Base original'!AR71)","v":-0.62697689938212464},{"$f":"+(('Base original'!AO83-'Base original'!AQ83)/('Base original'!AO71-'Base original'!AQ71)*100-100)*(('Base original'!AO71-'Base original'!AQ71)/'Base original'!AR71)","v":1.098081293579712E-2},{"$f":"+('Base original'!AR83/'Base original'!AR71*100-100)*'Base original'!AR71/'Base original'!$AR71","v":21.140358352942329},{"$f":"+('Base original'!AR83/'Base original'!AR71*100-100)*'Base original'!AR71/'Base original'!$BC71","v":12.565406822087153},{"$f":"+('Base original'!AS83/'Base original'!AS71*100-100)*'Base original'!AS71/'Base original'!$BC71","v":0.86347944510223618},{"$f":"+('Base original'!AT83/'Base original'!AT71*100-100)*'Base original'!AT71/'Base original'!$BC71","v":4.3122291360618874},{"$f":"+('Base original'!AU83/'Base original'!AU71*100-100)*'Base original'!AU71/'Base original'!$BC71","v":2.1102905249084052},{"$f":"+('Base original'!AV83/'Base original'!AV71*100-100)*'Base original'!AV71/'Base original'!$BC71","v":-0.26231189009419342},{"$f":"+('Base original'!AW83/'Base original'!AW71*100-100)*'Base original'!AW71/'Base original'!$BC71","v":-2.1240840036459308E-2},{"$f":"+('Base original'!AX83/'Base original'!AX71*100-100)*'Base original'!AX71/'Base original'!$BC71","v":1.4790723186883163},{"$f":"+('Base original'!AY83/'Base original'!AY71*100-100)*'Base original'!AY71/'Base original'!$BC71","v":-0.89408476066341147},{"$f":"+('Base original'!AZ83/'Base original'!AZ71*100-100)*'Base original'!AZ71/'Base original'!$BC71","v":-5.5623787636516396E-2},{"$f":"+('Base original'!BA83/'Base original'!BA71*100-100)*'Base original'!BA71/'Base original'!$BC71","v":-8.6367848638297579E-2},{"$f":"+('Base original'!BB83/'Base original'!BB71*100-100)*'Base original'!BB71/'Base original'!$BC71","v":4.2340509205686883E-2},{"$f":"+(('Base original'!AY83-'Base original'!BA83)/('Base original'!AY71-'Base original'!BA71)*100-100)*('Base original'!AY71-'Base original'!BA71)/'Base original'!$BC71","v":-0.80771691202511264},{"$f":"+(('Base original'!AZ83-'Base original'!BB83)/('Base original'!AZ71-'Base original'!BB71)*100-100)*('Base original'!AZ71-'Base original'!BB71)/'Base original'!$BC71","v":-9.7964296842203286E-2},{"$f":"+('Base original'!BC83/'Base original'!BC71*100-100)*'Base original'!BC71/'Base original'!$BC71","v":20.14124430785003}]
["2012-05-01",{"$f":"+'Base original'!B84/'Base original'!B72*100-100","v":17.101473200796008},{"$f":"+'Base original'!C84/'Base original'!C72*100-100","v":14.970362393794389},{"$f":"+'Base original'!D84/'Base original'!D72*100-100","v":12.317496470118812},{"$f":"+'Base original'!E84/'Base original'!E72*100-100","v":23.031683635036956},{"$f":"+'Base original'!F84/'Base original'!F72*100-100","v":16.185675971790218},{"$f":"+'Base original'!G84","v":27.931544579865701},null,null,null,null,{"$f":"+'Base original'!Q84","v":9.9690185256623103},null,null,null,{"$f":"+'Base original'!Y84","v":2.2949663942874898},null,null,{"$f":"+'Base original'!AE84","v":4.3499999999999996},{"$f":"+('Base original'!AH84/'Base original'!AH72*100-100)*'Base original'!AH72/'Base original'!$AK72","v":3.0108265579386706},{"$f":"+('Base original'!AI84/'Base original'!AI72*100-100)*'Base original'!AI72/'Base original'!$AK72","v":5.7023462568457708},{"$f":"+('Base original'!AJ84/'Base original'!AJ72*100-100)*'Base original'!AJ72/'Base original'!$AK72","v":4.3101570604839727},{"$f":"+('Base original'!AK84/'Base original'!AK72*100-100)*'Base original'!AK72/'Base original'!$AK72","v":13.023329875268402},{"$f":"+('Base original'!AK84/'Base original'!AK72*100-100)*'Base original'!AK72/'Base original'!$AR72","v":3.3745367753134574},{"$f":"+('Base original'!AL84/'Base original'!AL72*100-100)*'Base original'!AL72/'Base original'!$AR72","v":18.573725685966359},{"$f":"+('Base original'!AM84/'Base original'!AM72*100-100)*'Base original'!AM72/'Base original'!$AR72","v":0.34246324590226856},{"$f":"+('Base original'!AN84/'Base original'!AN72*100-100)*'Base original'!AN72/'Base original'!$AR72","v":1.4660784039426558},{"$f":"+('Base original'!AO84/'Base original'!AO72*100-100)*'Base original'!AO72/'Base original'!$AR72","v":2.1369336209920167E-2},{"$f":"+('Base original'!AP84/'Base original'!AP72*100-100)*'Base original'!AP72/'Base original'!$AR72","v":2.3026763132266925},{"$f":"+('Base original'!AQ84/'Base original'!AQ72*100-100)*'Base original'!AQ72/'Base original'!$AR72","v":6.6994150992132125E-3},{"$f":"+(('Base original'!AN84-'Base original'!AP84)/('Base original'!AN72-'Base original'!AP72)*100-100)*(('Base original'!AN72-'Base original'!AP72)/'Base original'!AR72)","v":-0.83659790928403843},{"$f":"+(('Base original'!AO84-'Base original'!AQ84)/('Base original'!AO72-'Base original'!AQ72)*100-100)*(('Base original'!AO72-'Base original'!AQ72)/'Base original'!AR72)","v":1.4669921110706955E-2},{"$f":"+('Base original'!AR84/'Base original'!AR72*100-100)*'Base original'!AR72/'Base original'!$AR72","v":21.468797719008734},{"$f":"+('Base original'!AR84/'Base original'!AR72*100-100)*'Base original'!AR72/'Base original'!$BC72","v":12.837597070686783},{"$f":"+('Base original'!AS84/'Base original'!AS72*100-100)*'Base original'!AS72/'Base original'!$BC72","v":0.8706490914563445},{"$f":"+('Base original'!AT84/'Base original'!AT72*100-100)*'Base original'!AT72/'Base original'!$BC72","v":4.0094498922846942},{"$f":"+('Base original'!AU84/'Base original'!AU72*100-100)*'Base original'!AU72/'Base original'!$BC72","v":1.9744507879166235},{"$f":"+('Base original'!AV84/'Base original'!AV72*100-100)*'Base original'!AV72/'Base original'!$BC72","v":-0.13437165736951576},{"$f":"+('Base original'!AW84/'Base original'!AW72*100-100)*'Base original'!AW72/'Base original'!$BC72","v":-5.5579307979656527E-3},{"$f":"+('Base original'!AX84/'Base original'!AX72*100-100)*'Base original'!AX72/'Base original'!$BC72","v":1.4921805106197708},{"$f":"+('Base original'!AY84/'Base original'!AY72*100-100)*'Base original'!AY72/'Base original'!$BC72","v":-1.0985257996371902},{"$f":"+('Base original'!AZ84/'Base original'!AZ72*100-100)*'Base original'!AZ72/'Base original'!$BC72","v":-7.2671438401701996E-2},{"$f":"+('Base original'!BA84/'Base original'!BA72*100-100)*'Base original'!BA72/'Base original'!$BC72","v":-0.25447118039080308},{"$f":"+('Base original'!BB84/'Base original'!BB72*100-100)*'Base original'!BB72/'Base original'!$BC72","v":4.3369897634786415E-2},{"$f":"+(('Base original'!AY84-'Base original'!BA84)/('Base original'!AY72-'Base original'!BA72)*100-100)*('Base original'!AY72-'Base original'!BA72)/'Base original'!$BC72","v":-0.84405461924638747},{"$f":"+(('Base original'!AZ84-'Base original'!BB84)/('Base original'!AZ72-'Base original'!BB72)*100-100)*('Base original'!AZ72-'Base original'!BB72)/'Base original'!$BC72","v":-0.11604133603648842},{"$f":"+('Base original'!BC84/'Base original'!BC72*100-100)*'Base original'!BC72/'Base original'!$BC72","v":20.084301809513889}]
["2012-06-01",{"$f":"+'Base original'!B85/'Base original'!B73*100-100","v":17.778368808158334},{"$f":"+'Base original'!C85/'Base original'!C73*100-100","v":14.42767446945372},{"$f":"+'Base original'!D85/'Base original'!D73*100-100","v":11.972170696872951},{"$f":"+'Base original'!E85/'Base original'!E73*100-100","v":22.1899436231447},{"$f":"+'Base original'!F85/'Base original'!F73*100-100","v":16.32617140211714},{"$f":"+'Base original'!G85","v":28.013292606401102},null,null,null,null,{"$f":"+'Base original'!Q85","v":9.4490771800013693},null,null,null,{"$f":"+'Base original'!Y85","v":2.3694759377230001},null,null,{"$f":"+'Base original'!AE85","v":4.3},{"$f":"+('Base original'!AH85/'Base original'!AH73*100-100)*'Base original'!AH73/'Base original'!$AK73","v":2.9862752139821636},{"$f":"+('Base original'!AI85/'Base original'!AI73*100-100)*'Base original'!AI73/'Base original'!$AK73","v":5.8427290955886679},{"$f":"+('Base original'!AJ85/'Base original'!AJ73*100-100)*'Base original'!AJ73/'Base original'!$AK73","v":1.4864083916921145},{"$f":"+('Base original'!AK85/'Base original'!AK73*100-100)*'Base original'!AK73/'Base original'!$AK73","v":10.315412701262943},{"$f":"+('Base original'!AK85/'Base original'!AK73*100-100)*'Base original'!AK73/'Base original'!$AR73","v":2.6459886234200716},{"$f":"+('Base original'!AL85/'Base original'!AL73*100-100)*'Base original'!AL73/'Base original'!$AR73","v":18.926556894783111},{"$f":"+('Base original'!AM85/'Base original'!AM73*100-100)*'Base original'!AM73/'Base original'!$AR73","v":0.423438999733528},{"$f":"+('Base original'!AN85/'Base original'!AN73*100-100)*'Base original'!AN73/'Base original'!$AR73","v":3.1220352032131964},{"$f":"+('Base original'!AO85/'Base original'!AO73*100-100)*'Base original'!AO73/'Base original'!$AR73","v":9.3429667522328827E-2},{"$f":"+('Base original'!AP85/'Base original'!AP73*100-100)*'Base original'!AP73/'Base original'!$AR73","v":3.7923544408792416},{"$f":"+('Base original'!AQ85/'Base original'!AQ73*100-100)*'Base original'!AQ73/'Base original'!$AR73","v":6.1377575960500424E-3},{"$f":"+(('Base original'!AN85-'Base original'!AP85)/('Base original'!AN73-'Base original'!AP73)*100-100)*(('Base original'!AN73-'Base original'!AP73)/'Base original'!AR73)","v":-0.67031923766604784},{"$f":"+(('Base original'!AO85-'Base original'!AQ85)/('Base original'!AO73-'Base original'!AQ73)*100-100)*(('Base original'!AO73-'Base original'!AQ73)/'Base original'!AR73)","v":8.7291909926278749E-2},{"$f":"+('Base original'!AR85/'Base original'!AR73*100-100)*'Base original'!AR73/'Base original'!$AR73","v":21.412957190196963},{"$f":"+('Base original'!AR85/'Base original'!AR73*100-100)*'Base original'!AR73/'Base original'!$BC73","v":12.823805452816249},{"$f":"+('Base original'!AS85/'Base original'!AS73*100-100)*'Base original'!AS73/'Base original'!$BC73","v":0.78370748766441534},{"$f":"+('Base original'!AT85/'Base original'!AT73*100-100)*'Base original'!AT73/'Base original'!$BC73","v":3.516402967852045},{"$f":"+('Base original'!AU85/'Base original'!AU73*100-100)*'Base original'!AU73/'Base original'!$BC73","v":1.8792646028246611},{"$f":"+('Base original'!AV85/'Base original'!AV73*100-100)*'Base original'!AV73/'Base original'!$BC73","v":-0.14074876570594533},{"$f":"+('Base original'!AW85/'Base original'!AW73*100-100)*'Base original'!AW73/'Base original'!$BC73","v":-3.0803938663057188E-2},{"$f":"+('Base original'!AX85/'Base original'!AX73*100-100)*'Base original'!AX73/'Base original'!$BC73","v":1.2073241906605769},{"$f":"+('Base original'!AY85/'Base original'!AY73*100-100)*'Base original'!AY73/'Base original'!$BC73","v":-1.1577164487509957},{"$f":"+('Base original'!AZ85/'Base original'!AZ73*100-100)*'Base original'!AZ73/'Base original'!$BC73","v":-7.6303221632715856E-2},{"$f":"+('Base original'!BA85/'Base original'!BA73*100-100)*'Base original'!BA73/'Base original'!$BC73","v":-0.14163081897514271},{"$f":"+('Base original'!BB85/'Base original'!BB73*100-100)*'Base original'!BB73/'Base original'!$BC73","v":4.331642166947576E-2},{"$f":"+(('Base original'!AY85-'Base original'!BA85)/('Base original'!AY73-'Base original'!BA73)*100-100)*('Base original'!AY73-'Base original'!BA73)/'Base original'!$BC73","v":-1.0160856297758534},{"$f":"+(('Base original'!AZ85-'Base original'!BB85)/('Base original'!AZ73-'Base original'!BB73)*100-100)*('Base original'!AZ73-'Base original'!BB73)/'Base original'!$BC73","v":-0.11961964330219167},{"$f":"+('Base original'!BC85/'Base original'!BC73*100-100)*'Base original'!BC73/'Base original'!$BC73","v":18.903246724370888}]
["2012-07-01",{"$f":"+'Base original'!B86/'Base original'!B74*100-100","v":17.357014848829351},{"$f":"+'Base original'!C86/'Base original'!C74*100-100","v":13.990203975613014},{"$f":"+'Base original'!D86/'Base original'!D74*100-100","v":11.406169053728647},{"$f":"+'Base original'!E86/'Base original'!E74*100-100","v":16.608365350408533},{"$f":"+'Base original'!F86/'Base original'!F74*100-100","v":15.450783858350832},{"$f":"+'Base original'!G86","v":28.0070344328368},null,null,null,null,{"$f":"+'Base original'!Q86","v":9.4289346983885807},null,null,null,{"$f":"+'Base original'!Y86","v":2.17729347799188},null,null,{"$f":"+'Base original'!AE86","v":4.3499999999999996},{"$f":"+('Base original'!AH86/'Base original'!AH74*100-100)*'Base original'!AH74/'Base original'!$AK74","v":3.2749728505954492},{"$f":"+('Base original'!AI86/'Base original'!AI74*100-100)*'Base original'!AI74/'Base original'!$AK74","v":6.6738773644523972},{"$f":"+('Base original'!AJ86/'Base original'!AJ74*100-100)*'Base original'!AJ74/'Base original'!$AK74","v":2.5743448864019616},{"$f":"+('Base original'!AK86/'Base original'!AK74*100-100)*'Base original'!AK74/'Base original'!$AK74","v":12.523195101449787},{"$f":"+('Base original'!AK86/'Base original'!AK74*100-100)*'Base original'!AK74/'Base original'!$AR74","v":3.1097875513990796},{"$f":"+('Base original'!AL86/'Base original'!AL74*100-100)*'Base original'!AL74/'Base original'!$AR74","v":18.555429501242003},{"$f":"+('Base original'!AM86/'Base original'!AM74*100-100)*'Base original'!AM74/'Base original'!$AR74","v":0.34885197996580714},{"$f":"+('Base original'!AN86/'Base original'!AN74*100-100)*'Base original'!AN74/'Base original'!$AR74","v":4.1294858148912486},{"$f":"+('Base original'!AO86/'Base original'!AO74*100-100)*'Base original'!AO74/'Base original'!$AR74","v":8.929217932960222E-2},{"$f":"+('Base original'!AP86/'Base original'!AP74*100-100)*'Base original'!AP74/'Base original'!$AR74","v":4.6228661432744689},{"$f":"+('Base original'!AQ86/'Base original'!AQ74*100-100)*'Base original'!AQ74/'Base original'!$AR74","v":9.9676836267381368E-3},{"$f":"+(('Base original'!AN86-'Base original'!AP86)/('Base original'!AN74-'Base original'!AP74)*100-100)*(('Base original'!AN74-'Base original'!AP74)/'Base original'!AR74)","v":-0.49338032838321871},{"$f":"+(('Base original'!AO86-'Base original'!AQ86)/('Base original'!AO74-'Base original'!AQ74)*100-100)*(('Base original'!AO74-'Base original'!AQ74)/'Base original'!AR74)","v":7.9324495702863998E-2},{"$f":"+('Base original'!AR86/'Base original'!AR74*100-100)*'Base original'!AR74/'Base original'!$AR74","v":21.600013199926522},{"$f":"+('Base original'!AR86/'Base original'!AR74*100-100)*'Base original'!AR74/'Base original'!$BC74","v":12.889740631999981},{"$f":"+('Base original'!AS86/'Base original'!AS74*100-100)*'Base original'!AS74/'Base original'!$BC74","v":0.68597179318426349},{"$f":"+('Base original'!AT86/'Base original'!AT74*100-100)*'Base original'!AT74/'Base original'!$BC74","v":2.8707659062954187},{"$f":"+('Base original'!AU86/'Base original'!AU74*100-100)*'Base original'!AU74/'Base original'!$BC74","v":1.6551732289254353},{"$f":"+('Base original'!AV86/'Base original'!AV74*100-100)*'Base original'!AV74/'Base original'!$BC74","v":-0.28910298452826727},{"$f":"+('Base original'!AW86/'Base original'!AW74*100-100)*'Base original'!AW74/'Base original'!$BC74","v":-8.1149586223740008E-2},{"$f":"+('Base original'!AX86/'Base original'!AX74*100-100)*'Base original'!AX74/'Base original'!$BC74","v":0.96367252061721254},{"$f":"+('Base original'!AY86/'Base original'!AY74*100-100)*'Base original'!AY74/'Base original'!$BC74","v":-1.0238147042105659},{"$f":"+('Base original'!AZ86/'Base original'!AZ74*100-100)*'Base original'!AZ74/'Base original'!$BC74","v":-6.6524111443936315E-2},{"$f":"+('Base original'!BA86/'Base original'!BA74*100-100)*'Base original'!BA74/'Base original'!$BC74","v":-0.19854004878253295},{"$f":"+('Base original'!BB86/'Base original'!BB74*100-100)*'Base original'!BB74/'Base original'!$BC74","v":3.2566445695618847E-2},{"$f":"+(('Base original'!AY86-'Base original'!BA86)/('Base original'!AY74-'Base original'!BA74)*100-100)*('Base original'!AY74-'Base original'!BA74)/'Base original'!$BC74","v":-0.82527465542803347},{"$f":"+(('Base original'!AZ86-'Base original'!BB86)/('Base original'!AZ74-'Base original'!BB74)*100-100)*('Base original'!AZ74-'Base original'!BB74)/'Base original'!$BC74","v":-9.9090557139555113E-2},{"$f":"+('Base original'!BC86/'Base original'!BC74*100-100)*'Base original'!BC74/'Base original'!$BC74","v":17.770706297702702}]
["2012-08-01",{"$f":"+'Base original'!B87/'Base original'!B75*100-100","v":16.353560309777521},{"$f":"+'Base original'!C87/'Base original'!C75*100-100","v":13.657751759824606},{"$f":"+'Base original'!D87/'Base original'!D75*100-100","v":11.263214832546069},{"$f":"+'Base original'!E87/'Base original'!E75*100-100","v":16.080273022699274},{"$f":"+'Base original'!F87/'Base original'!F75*100-100","v":14.777438494206379},{"$f":"+'Base original'!G87","v":27.7289703324582},null,null,null,null,{"$f":"+'Base original'!Q87","v":9.6431246179204493},null,null,null,{"$f":"+'Base original'!Y87","v":1.77855340825422},null,null,{"$f":"+'Base original'!AE87","v":4.2699999999999996},{"$f":"+('Base original'!AH87/'Base original'!AH75*100-100)*'Base original'!AH75/'Base original'!$AK75","v":3.2737055407694147},{"$f":"+('Base original'!AI87/'Base original'!AI75*100-100)*'Base original'!AI75/'Base original'!$AK75","v":6.142477921606579},{"$f":"+('Base original'!AJ87/'Base original'!AJ75*100-100)*'Base original'!AJ75/'Base original'!$AK75","v":-1.697153701911438},{"$f":"+('Base original'!AK87/'Base original'!AK75*100-100)*'Base original'!AK75/'Base original'!$AK75","v":7.7190297604645508},{"$f":"+('Base original'!AK87/'Base original'!AK75*100-100)*'Base original'!AK75/'Base original'!$AR75","v":1.898273014250881},{"$f":"+('Base original'!AL87/'Base original'!AL75*100-100)*'Base original'!AL75/'Base original'!$AR75","v":16.237672004541487},{"$f":"+('Base original'!AM87/'Base original'!AM75*100-100)*'Base original'!AM75/'Base original'!$AR75","v":0.4148633418885852},{"$f":"+('Base original'!AN87/'Base original'!AN75*100-100)*'Base original'!AN75/'Base original'!$AR75","v":4.415217061004765},{"$f":"+('Base original'!AO87/'Base original'!AO75*100-100)*'Base original'!AO75/'Base original'!$AR75","v":9.0711416993322538E-2},{"$f":"+('Base original'!AP87/'Base original'!AP75*100-100)*'Base original'!AP75/'Base original'!$AR75","v":4.9107565457506288},{"$f":"+('Base original'!AQ87/'Base original'!AQ75*100-100)*'Base original'!AQ75/'Base original'!$AR75","v":1.0642181039248359E-2},{"$f":"+(('Base original'!AN87-'Base original'!AP87)/('Base original'!AN75-'Base original'!AP75)*100-100)*(('Base original'!AN75-'Base original'!AP75)/'Base original'!AR75)","v":-0.49553948474586157},{"$f":"+(('Base original'!AO87-'Base original'!AQ87)/('Base original'!AO75-'Base original'!AQ75)*100-100)*(('Base original'!AO75-'Base original'!AQ75)/'Base original'!AR75)","v":8.0069235954074419E-2},{"$f":"+('Base original'!AR87/'Base original'!AR75*100-100)*'Base original'!AR75/'Base original'!$AR75","v":18.135338111889169},{"$f":"+('Base original'!AR87/'Base original'!AR75*100-100)*'Base original'!AR75/'Base original'!$BC75","v":10.879622504923201},{"$f":"+('Base original'!AS87/'Base original'!AS75*100-100)*'Base original'!AS75/'Base original'!$BC75","v":0.48014597851305718},{"$f":"+('Base original'!AT87/'Base original'!AT75*100-100)*'Base original'!AT75/'Base original'!$BC75","v":2.7864514690359532},{"$f":"+('Base original'!AU87/'Base original'!AU75*100-100)*'Base original'!AU75/'Base original'!$BC75","v":1.2602091759292953},{"$f":"+('Base original'!AV87/'Base original'!AV75*100-100)*'Base original'!AV75/'Base original'!$BC75","v":-0.30198758294702704},{"$f":"+('Base original'!AW87/'Base original'!AW75*100-100)*'Base original'!AW75/'Base original'!$BC75","v":-0.10963538100443224},{"$f":"+('Base original'!AX87/'Base original'!AX75*100-100)*'Base original'!AX75/'Base original'!$BC75","v":0.93906947477340796},{"$f":"+('Base original'!AY87/'Base original'!AY75*100-100)*'Base original'!AY75/'Base original'!$BC75","v":-0.72944275372607881},{"$f":"+('Base original'!AZ87/'Base original'!AZ75*100-100)*'Base original'!AZ75/'Base original'!$BC75","v":-4.6037322550782134E-2},{"$f":"+('Base original'!BA87/'Base original'!BA75*100-100)*'Base original'!BA75/'Base original'!$BC75","v":-0.18281184143233478},{"$f":"+('Base original'!BB87/'Base original'!BB75*100-100)*'Base original'!BB75/'Base original'!$BC75","v":1.4638467073621382E-2},{"$f":"+(('Base original'!AY87-'Base original'!BA87)/('Base original'!AY75-'Base original'!BA75)*100-100)*('Base original'!AY75-'Base original'!BA75)/'Base original'!$BC75","v":-0.5466309122937435},{"$f":"+(('Base original'!AZ87-'Base original'!BB87)/('Base original'!AZ75-'Base original'!BB75)*100-100)*('Base original'!AZ75-'Base original'!BB75)/'Base original'!$BC75","v":-6.0675789624403544E-2},{"$f":"+('Base original'!BC87/'Base original'!BC75*100-100)*'Base original'!BC75/'Base original'!$BC75","v":15.326568937305282}]
["2012-09-01",{"$f":"+'Base original'!B88/'Base original'!B76*100-100","v":14.547131813598725},{"$f":"+'Base original'!C88/'Base original'!C76*100-100","v":13.319415348940595},{"$f":"+'Base original'!D88/'Base original'!D76*100-100","v":11.186938571416334},{"$f":"+'Base original'!E88/'Base original'!E76*100-100","v":0.3244158312569283},{"$f":"+'Base original'!F88/'Base original'!F76*100-100","v":12.30486469608465},{"$f":"+'Base original'!G88","v":28.481981974524398},null,null,null,null,{"$f":"+'Base original'!Q88","v":9.5346932300959608},null,null,null,{"$f":"+'Base original'!Y88","v":1.79598059436146},null,null,{"$f":"+'Base original'!AE88","v":4.3099999999999996},{"$f":"+('Base original'!AH88/'Base original'!AH76*100-100)*'Base original'!AH76/'Base original'!$AK76","v":3.6184570544848906},{"$f":"+('Base original'!AI88/'Base original'!AI76*100-100)*'Base original'!AI76/'Base original'!$AK76","v":4.8513368427313752},{"$f":"+('Base original'!AJ88/'Base original'!AJ76*100-100)*'Base original'!AJ76/'Base original'!$AK76","v":2.3958794313585656},{"$f":"+('Base original'!AK88/'Base original'!AK76*100-100)*'Base original'!AK76/'Base original'!$AK76","v":10.865673328574843},{"$f":"+('Base original'!AK88/'Base original'!AK76*100-100)*'Base original'!AK76/'Base original'!$AR76","v":2.6545090763132038},{"$f":"+('Base original'!AL88/'Base original'!AL76*100-100)*'Base original'!AL76/'Base original'!$AR76","v":14.50021025518083},{"$f":"+('Base original'!AM88/'Base original'!AM76*100-100)*'Base original'!AM76/'Base original'!$AR76","v":0.29333278772678162},{"$f":"+('Base original'!AN88/'Base original'!AN76*100-100)*'Base original'!AN76/'Base original'!$AR76","v":2.5115014737953798},{"$f":"+('Base original'!AO88/'Base original'!AO76*100-100)*'Base original'!AO76/'Base original'!$AR76","v":8.0173347630995595E-2},{"$f":"+('Base original'!AP88/'Base original'!AP76*100-100)*'Base original'!AP76/'Base original'!$AR76","v":3.0110113717302869},{"$f":"+('Base original'!AQ88/'Base original'!AQ76*100-100)*'Base original'!AQ76/'Base original'!$AR76","v":2.9986529384036999E-3},{"$f":"+(('Base original'!AN88-'Base original'!AP88)/('Base original'!AN76-'Base original'!AP76)*100-100)*(('Base original'!AN76-'Base original'!AP76)/'Base original'!AR76)","v":-0.49950989793490769},{"$f":"+(('Base original'!AO88-'Base original'!AQ88)/('Base original'!AO76-'Base original'!AQ76)*100-100)*(('Base original'!AO76-'Base original'!AQ76)/'Base original'!AR76)","v":7.7174694692592014E-2},{"$f":"+('Base original'!AR88/'Base original'!AR76*100-100)*'Base original'!AR76/'Base original'!$AR76","v":17.025716915978521},{"$f":"+('Base original'!AR88/'Base original'!AR76*100-100)*'Base original'!AR76/'Base original'!$BC76","v":10.197433473585843},{"$f":"+('Base original'!AS88/'Base original'!AS76*100-100)*'Base original'!AS76/'Base original'!$BC76","v":0.12041284713082878},{"$f":"+('Base original'!AT88/'Base original'!AT76*100-100)*'Base original'!AT76/'Base original'!$BC76","v":1.8957725542923565},{"$f":"+('Base original'!AU88/'Base original'!AU76*100-100)*'Base original'!AU76/'Base original'!$BC76","v":0.99973560524248972},{"$f":"+('Base original'!AV88/'Base original'!AV76*100-100)*'Base original'!AV76/'Base original'!$BC76","v":-0.4266104889746829},{"$f":"+('Base original'!AW88/'Base original'!AW76*100-100)*'Base original'!AW76/'Base original'!$BC76","v":-0.11654291922065638},{"$f":"+('Base original'!AX88/'Base original'!AX76*100-100)*'Base original'!AX76/'Base original'!$BC76","v":0.85779636874758725},{"$f":"+('Base original'!AY88/'Base original'!AY76*100-100)*'Base original'!AY76/'Base original'!$BC76","v":-0.40210910505712322},{"$f":"+('Base original'!AZ88/'Base original'!AZ76*100-100)*'Base original'!AZ76/'Base original'!$BC76","v":-1.637070970157135E-2},{"$f":"+('Base original'!BA88/'Base original'!BA76*100-100)*'Base original'!BA76/'Base original'!$BC76","v":-0.29353333656892966},{"$f":"+('Base original'!BB88/'Base original'!BB76*100-100)*'Base original'!BB76/'Base original'!$BC76","v":2.4952363343620763E-3},{"$f":"+(('Base original'!AY88-'Base original'!BA88)/('Base original'!AY76-'Base original'!BA76)*100-100)*('Base original'!AY76-'Base original'!BA76)/'Base original'!$BC76","v":-0.10857576848819422},{"$f":"+(('Base original'!AZ88-'Base original'!BB88)/('Base original'!AZ76-'Base original'!BB76)*100-100)*('Base original'!AZ76-'Base original'!BB76)/'Base original'!$BC76","v":-1.8865946035933393E-2},{"$f":"+('Base original'!BC88/'Base original'!BC76*100-100)*'Base original'!BC76/'Base original'!$BC76","v":13.400555726279634}]
["2012-10-01",{"$f":"+'Base original'!B89/'Base original'!B77*100-100","v":14.320998170273597},{"$f":"+'Base original'!C89/'Base original'!C77*100-100","v":13.246211443462158},{"$f":"+'Base original'!D89/'Base original'!D77*100-100","v":11.516184283929533},{"$f":"+'Base original'!E89/'Base original'!E77*100-100","v":5.302834566766478},{"$f":"+'Base original'!F89/'Base original'!F77*100-100","v":12.751338683889628},{"$f":"+'Base original'!G89","v":27.4284071406062},null,null,null,null,{"$f":"+'Base original'!Q89","v":9.4280744323333803},null,null,null,{"$f":"+'Base original'!Y89","v":1.8064579251033399},null,null,{"$f":"+'Base original'!AE89","v":4.34},{"$f":"+('Base original'!AH89/'Base original'!AH77*100-100)*'Base original'!AH77/'Base original'!$AK77","v":3.0455665825358658},{"$f":"+('Base original'!AI89/'Base original'!AI77*100-100)*'Base original'!AI77/'Base original'!$AK77","v":3.7250267465022739},{"$f":"+('Base original'!AJ89/'Base original'!AJ77*100-100)*'Base original'!AJ77/'Base original'!$AK77","v":1.4732224658797337},{"$f":"+('Base original'!AK89/'Base original'!AK77*100-100)*'Base original'!AK77/'Base original'!$AK77","v":8.2438157949178645},{"$f":"+('Base original'!AK89/'Base original'!AK77*100-100)*'Base original'!AK77/'Base original'!$AR77","v":1.9912943257491378},{"$f":"+('Base original'!AL89/'Base original'!AL77*100-100)*'Base original'!AL77/'Base original'!$AR77","v":13.318358925798988},{"$f":"+('Base original'!AM89/'Base original'!AM77*100-100)*'Base original'!AM77/'Base original'!$AR77","v":0.29133468213462216},{"$f":"+('Base original'!AN89/'Base original'!AN77*100-100)*'Base original'!AN77/'Base original'!$AR77","v":0.71856189106519974},{"$f":"+('Base original'!AO89/'Base original'!AO77*100-100)*'Base original'!AO77/'Base original'!$AR77","v":5.1605921565521899E-2},{"$f":"+('Base original'!AP89/'Base original'!AP77*100-100)*'Base original'!AP77/'Base original'!$AR77","v":1.16183058045298},{"$f":"+('Base original'!AQ89/'Base original'!AQ77*100-100)*'Base original'!AQ77/'Base original'!$AR77","v":-2.3926733075317818E-3},{"$f":"+(('Base original'!AN89-'Base original'!AP89)/('Base original'!AN77-'Base original'!AP77)*100-100)*(('Base original'!AN77-'Base original'!AP77)/'Base original'!AR77)","v":-0.44326868938778247},{"$f":"+(('Base original'!AO89-'Base original'!AQ89)/('Base original'!AO77-'Base original'!AQ77)*100-100)*(('Base original'!AO77-'Base original'!AQ77)/'Base original'!AR77)","v":5.3998594873053626E-2},{"$f":"+('Base original'!AR89/'Base original'!AR77*100-100)*'Base original'!AR77/'Base original'!$AR77","v":15.211717839167989},{"$f":"+('Base original'!AR89/'Base original'!AR77*100-100)*'Base original'!AR77/'Base original'!$BC77","v":9.0588829805538911},{"$f":"+('Base original'!AS89/'Base original'!AS77*100-100)*'Base original'!AS77/'Base original'!$BC77","v":8.596133143865263E-2},{"$f":"+('Base original'!AT89/'Base original'!AT77*100-100)*'Base original'!AT77/'Base original'!$BC77","v":1.1038251206754455},{"$f":"+('Base original'!AU89/'Base original'!AU77*100-100)*'Base original'!AU77/'Base original'!$BC77","v":0.72421784041727721},{"$f":"+('Base original'!AV89/'Base original'!AV77*100-100)*'Base original'!AV77/'Base original'!$BC77","v":-0.44011181384050829},{"$f":"+('Base original'!AW89/'Base original'!AW77*100-100)*'Base original'!AW77/'Base original'!$BC77","v":-0.1058823840757135},{"$f":"+('Base original'!AX89/'Base original'!AX77*100-100)*'Base original'!AX77/'Base original'!$BC77","v":0.63486824643088646},{"$f":"+('Base original'!AY89/'Base original'!AY77*100-100)*'Base original'!AY77/'Base original'!$BC77","v":-0.22378429768044275},{"$f":"+('Base original'!AZ89/'Base original'!AZ77*100-100)*'Base original'!AZ77/'Base original'!$BC77","v":-4.984023117255286E-3},{"$f":"+('Base original'!BA89/'Base original'!BA77*100-100)*'Base original'!BA77/'Base original'!$BC77","v":-0.2313627480028389},{"$f":"+('Base original'!BB89/'Base original'!BB77*100-100)*'Base original'!BB77/'Base original'!$BC77","v":1.7418509046671108E-3},{"$f":"+(('Base original'!AY89-'Base original'!BA89)/('Base original'!AY77-'Base original'!BA77)*100-100)*('Base original'!AY77-'Base original'!BA77)/'Base original'!$BC77","v":7.5784503223958848E-3},{"$f":"+(('Base original'!AZ89-'Base original'!BB89)/('Base original'!AZ77-'Base original'!BB77)*100-100)*('Base original'!AZ77-'Base original'!BB77)/'Base original'!$BC77","v":-6.7258740219224055E-3},{"$f":"+('Base original'!BC89/'Base original'!BC77*100-100)*'Base original'!BC77/'Base original'!$BC77","v":11.062613897900391}]
["2012-11-01",{"$f":"+'Base original'!B90/'Base original'!B78*100-100","v":14.426238309818643},{"$f":"+'Base original'!C90/'Base original'!C78*100-100","v":11.933243645897335},{"$f":"+'Base original'!D90/'Base original'!D78*100-100","v":11.629699800585882},{"$f":"+'Base original'!E90/'Base original'!E78*100-100","v":1.3854213203778869},{"$f":"+'Base original'!F90/'Base original'!F78*100-100","v":12.321201152703253},{"$f":"+'Base original'!G90","v":25.904770674609601},null,null,null,null,{"$f":"+'Base original'!Q90","v":9.1915253581540899},null,null,null,{"$f":"+'Base original'!Y90","v":1.99207197945793},null,null,{"$f":"+'Base original'!AE90","v":4.34},{"$f":"+('Base original'!AH90/'Base original'!AH78*100-100)*'Base original'!AH78/'Base original'!$AK78","v":2.9673695734958128},{"$f":"+('Base original'!AI90/'Base original'!AI78*100-100)*'Base original'!AI78/'Base original'!$AK78","v":4.026401251904022},{"$f":"+('Base original'!AJ90/'Base original'!AJ78*100-100)*'Base original'!AJ78/'Base original'!$AK78","v":1.7269189118431143},{"$f":"+('Base original'!AK90/'Base original'!AK78*100-100)*'Base original'!AK78/'Base original'!$AK78","v":8.7206897372429353},{"$f":"+('Base original'!AK90/'Base original'!AK78*100-100)*'Base original'!AK78/'Base original'!$AR78","v":2.0667156461459575},{"$f":"+('Base original'!AL90/'Base original'!AL78*100-100)*'Base original'!AL78/'Base original'!$AR78","v":11.912884767122716},{"$f":"+('Base original'!AM90/'Base original'!AM78*100-100)*'Base original'!AM78/'Base original'!$AR78","v":0.29163055914804481},{"$f":"+('Base original'!AN90/'Base original'!AN78*100-100)*'Base original'!AN78/'Base original'!$AR78","v":2.8334628414784295},{"$f":"+('Base original'!AO90/'Base original'!AO78*100-100)*'Base original'!AO78/'Base original'!$AR78","v":4.2780476041732463E-2},{"$f":"+('Base original'!AP90/'Base original'!AP78*100-100)*'Base original'!AP78/'Base original'!$AR78","v":3.153618498567746},{"$f":"+('Base original'!AQ90/'Base original'!AQ78*100-100)*'Base original'!AQ78/'Base original'!$AR78","v":2.8543939980279669E-3},{"$f":"+(('Base original'!AN90-'Base original'!AP90)/('Base original'!AN78-'Base original'!AP78)*100-100)*(('Base original'!AN78-'Base original'!AP78)/'Base original'!AR78)","v":-0.32015565708931853},{"$f":"+(('Base original'!AO90-'Base original'!AQ90)/('Base original'!AO78-'Base original'!AQ78)*100-100)*(('Base original'!AO78-'Base original'!AQ78)/'Base original'!AR78)","v":3.9926082043704458E-2},{"$f":"+('Base original'!AR90/'Base original'!AR78*100-100)*'Base original'!AR78/'Base original'!$AR78","v":13.991001397371065},{"$f":"+('Base original'!AR90/'Base original'!AR78*100-100)*'Base original'!AR78/'Base original'!$BC78","v":8.3322812236940234},{"$f":"+('Base original'!AS90/'Base original'!AS78*100-100)*'Base original'!AS78/'Base original'!$BC78","v":0.45627430006326158},{"$f":"+('Base original'!AT90/'Base original'!AT78*100-100)*'Base original'!AT78/'Base original'!$BC78","v":1.2524617004975862},{"$f":"+('Base original'!AU90/'Base original'!AU78*100-100)*'Base original'!AU78/'Base original'!$BC78","v":0.70617878768165299},{"$f":"+('Base original'!AV90/'Base original'!AV78*100-100)*'Base original'!AV78/'Base original'!$BC78","v":-0.58393906317821487},{"$f":"+('Base original'!AW90/'Base original'!AW78*100-100)*'Base original'!AW78/'Base original'!$BC78","v":-7.7198042466354061E-2},{"$f":"+('Base original'!AX90/'Base original'!AX78*100-100)*'Base original'!AX78/'Base original'!$BC78","v":0.4815642382496052},{"$f":"+('Base original'!AY90/'Base original'!AY78*100-100)*'Base original'!AY78/'Base original'!$BC78","v":-0.10195067446148345},{"$f":"+('Base original'!AZ90/'Base original'!AZ78*100-100)*'Base original'!AZ78/'Base original'!$BC78","v":-1.2921501408660479E-3},{"$f":"+('Base original'!BA90/'Base original'!BA78*100-100)*'Base original'!BA78/'Base original'!$BC78","v":8.6966138939848905E-2},{"$f":"+('Base original'!BB90/'Base original'!BB78*100-100)*'Base original'!BB78/'Base original'!$BC78","v":2.1065053880118794E-3},{"$f":"+(('Base original'!AY90-'Base original'!BA90)/('Base original'!AY78-'Base original'!BA78)*100-100)*('Base original'!AY78-'Base original'!BA78)/'Base original'!$BC78","v":-0.18891681340133312},{"$f":"+(('Base original'!AZ90-'Base original'!BB90)/('Base original'!AZ78-'Base original'!BB78)*100-100)*('Base original'!AZ78-'Base original'!BB78)/'Base original'!$BC78","v":-3.398655528877853E-3},{"$f":"+('Base original'!BC90/'Base original'!BC78*100-100)*'Base original'!BC78/'Base original'!$BC78","v":10.375307675611339}]
["2012-12-01",{"$f":"+'Base original'!B91/'Base original'!B79*100-100","v":14.126870693979726},{"$f":"+'Base original'!C91/'Base original'!C79*100-100","v":11.565110643533203},{"$f":"+'Base original'!D91/'Base original'!D79*100-100","v":10.951721531361343},{"$f":"+'Base original'!E91/'Base original'!E79*100-100","v":5.8853330726463611},{"$f":"+'Base original'!F91/'Base original'!F79*100-100","v":12.388964337547947},{"$f":"+'Base original'!G91","v":25.6580552670092},null,null,null,null,{"$f":"+'Base original'!Q91","v":8.9380054820874104},null,null,null,{"$f":"+'Base original'!Y91","v":1.93347585976437},null,null,{"$f":"+'Base original'!AE91","v":4.38},{"$f":"+('Base original'!AH91/'Base original'!AH79*100-100)*'Base original'!AH79/'Base original'!$AK79","v":3.06612212714683},{"$f":"+('Base original'!AI91/'Base original'!AI79*100-100)*'Base original'!AI79/'Base original'!$AK79","v":6.8654258125059062},{"$f":"+('Base original'!AJ91/'Base original'!AJ79*100-100)*'Base original'!AJ79/'Base original'!$AK79","v":-1.1064761703805401},{"$f":"+('Base original'!AK91/'Base original'!AK79*100-100)*'Base original'!AK79/'Base original'!$AK79","v":8.825071769272185},{"$f":"+('Base original'!AK91/'Base original'!AK79*100-100)*'Base original'!AK79/'Base original'!$AR79","v":2.1729264390319516},{"$f":"+('Base original'!AL91/'Base original'!AL79*100-100)*'Base original'!AL79/'Base original'!$AR79","v":9.7948940379527976},{"$f":"+('Base original'!AM91/'Base original'!AM79*100-100)*'Base original'!AM79/'Base original'!$AR79","v":0.28024904332828232},{"$f":"+('Base original'!AN91/'Base original'!AN79*100-100)*'Base original'!AN79/'Base original'!$AR79","v":2.3512991586921759},{"$f":"+('Base original'!AO91/'Base original'!AO79*100-100)*'Base original'!AO79/'Base original'!$AR79","v":3.1738538288344081E-2},{"$f":"+('Base original'!AP91/'Base original'!AP79*100-100)*'Base original'!AP79/'Base original'!$AR79","v":2.641385491036067},{"$f":"+('Base original'!AQ91/'Base original'!AQ79*100-100)*'Base original'!AQ79/'Base original'!$AR79","v":-8.2533126844736102E-3},{"$f":"+(('Base original'!AN91-'Base original'!AP91)/('Base original'!AN79-'Base original'!AP79)*100-100)*(('Base original'!AN79-'Base original'!AP79)/'Base original'!AR79)","v":-0.29008633234389042},{"$f":"+(('Base original'!AO91-'Base original'!AQ91)/('Base original'!AO79-'Base original'!AQ79)*100-100)*(('Base original'!AO79-'Base original'!AQ79)/'Base original'!AR79)","v":3.9991850972817655E-2},{"$f":"+('Base original'!AR91/'Base original'!AR79*100-100)*'Base original'!AR79/'Base original'!$AR79","v":11.997975038941959},{"$f":"+('Base original'!AR91/'Base original'!AR79*100-100)*'Base original'!AR79/'Base original'!$BC79","v":7.2407765939304358},{"$f":"+('Base original'!AS91/'Base original'!AS79*100-100)*'Base original'!AS79/'Base original'!$BC79","v":0.81124836118156651},{"$f":"+('Base original'!AT91/'Base original'!AT79*100-100)*'Base original'!AT79/'Base original'!$BC79","v":0.40527763430142622},{"$f":"+('Base original'!AU91/'Base original'!AU79*100-100)*'Base original'!AU79/'Base original'!$BC79","v":0.60615896669896729},{"$f":"+('Base original'!AV91/'Base original'!AV79*100-100)*'Base original'!AV79/'Base original'!$BC79","v":-0.49760746710880716},{"$f":"+('Base original'!AW91/'Base original'!AW79*100-100)*'Base original'!AW79/'Base original'!$BC79","v":-5.4860733545834678E-2},{"$f":"+('Base original'!AX91/'Base original'!AX79*100-100)*'Base original'!AX79/'Base original'!$BC79","v":0.4432419517757667},{"$f":"+('Base original'!AY91/'Base original'!AY79*100-100)*'Base original'!AY79/'Base original'!$BC79","v":-9.1484873317583208E-3},{"$f":"+('Base original'!AZ91/'Base original'!AZ79*100-100)*'Base original'!AZ79/'Base original'!$BC79","v":1.0018657763430392E-2},{"$f":"+('Base original'!BA91/'Base original'!BA79*100-100)*'Base original'!BA79/'Base original'!$BC79","v":-1.9430875175936568E-2},{"$f":"+('Base original'!BB91/'Base original'!BB79*100-100)*'Base original'!BB79/'Base original'!$BC79","v":-9.7051723620372014E-5},{"$f":"+(('Base original'!AY91-'Base original'!BA91)/('Base original'!AY79-'Base original'!BA79)*100-100)*('Base original'!AY79-'Base original'!BA79)/'Base original'!$BC79","v":1.0282387844177785E-2},{"$f":"+(('Base original'!AZ91-'Base original'!BB91)/('Base original'!AZ79-'Base original'!BB79)*100-100)*('Base original'!AZ79-'Base original'!BB79)/'Base original'!$BC79","v":1.0115709487050775E-2},{"$f":"+('Base original'!BC91/'Base original'!BC79*100-100)*'Base original'!BC79/'Base original'!$BC79","v":8.9746334045647416}]
["2013-01-01",{"$f":"+'Base original'!B92/'Base original'!B80*100-100","v":12.873180930696833},{"$f":"+'Base original'!C92/'Base original'!C80*100-100","v":11.42271621760915},{"$f":"+'Base original'!D92/'Base original'!D80*100-100","v":10.584707149563584},{"$f":"+'Base original'!E92/'Base original'!E80*100-100","v":12.581433479378902},{"$f":"+'Base original'!F92/'Base original'!F80*100-100","v":12.130276420488542},{"$f":"+'Base original'!G92","v":25.89170232802476},null,null,null,null,{"$f":"+'Base original'!Q92","v":9.3112663279834216},null,null,null,{"$f":"+'Base original'!Y92","v":1.8710290952025586},null,null,{"$f":"+'Base original'!AE92","v":4.43},{"$f":"+('Base original'!AH92/'Base original'!AH80*100-100)*'Base original'!AH80/'Base original'!$AK80","v":2.9938235613165425},{"$f":"+('Base original'!AI92/'Base original'!AI80*100-100)*'Base original'!AI80/'Base original'!$AK80","v":7.5059231716542421},{"$f":"+('Base original'!AJ92/'Base original'!AJ80*100-100)*'Base original'!AJ80/'Base original'!$AK80","v":8.529213237094159E-2},{"$f":"+('Base original'!AK92/'Base original'!AK80*100-100)*'Base original'!AK80/'Base original'!$AK80","v":10.585038865341716},{"$f":"+('Base original'!AK92/'Base original'!AK80*100-100)*'Base original'!AK80/'Base original'!$AR80","v":2.6068161802560668},{"$f":"+('Base original'!AL92/'Base original'!AL80*100-100)*'Base original'!AL80/'Base original'!$AR80","v":9.3251799813198115},{"$f":"+('Base original'!AM92/'Base original'!AM80*100-100)*'Base original'!AM80/'Base original'!$AR80","v":0.25433667369623458},{"$f":"+('Base original'!AN92/'Base original'!AN80*100-100)*'Base original'!AN80/'Base original'!$AR80","v":0.63683433186359883},{"$f":"+('Base original'!AO92/'Base original'!AO80*100-100)*'Base original'!AO80/'Base original'!$AR80","v":2.6766730107429346E-2},{"$f":"+('Base original'!AP92/'Base original'!AP80*100-100)*'Base original'!AP80/'Base original'!$AR80","v":0.99655676502577473},{"$f":"+('Base original'!AQ92/'Base original'!AQ80*100-100)*'Base original'!AQ80/'Base original'!$AR80","v":-6.2529624763947092E-3},{"$f":"+(('Base original'!AN92-'Base original'!AP92)/('Base original'!AN80-'Base original'!AP80)*100-100)*(('Base original'!AN80-'Base original'!AP80)/'Base original'!AR80)","v":-0.35972243316217667},{"$f":"+(('Base original'!AO92-'Base original'!AQ92)/('Base original'!AO80-'Base original'!AQ80)*100-100)*(('Base original'!AO80-'Base original'!AQ80)/'Base original'!AR80)","v":3.3019692583824117E-2},{"$f":"+('Base original'!AR92/'Base original'!AR80*100-100)*'Base original'!AR80/'Base original'!$AR80","v":11.859630094693756},{"$f":"+('Base original'!AR92/'Base original'!AR80*100-100)*'Base original'!AR80/'Base original'!$BC80","v":7.1170755205374974},{"$f":"+('Base original'!AS92/'Base original'!AS80*100-100)*'Base original'!AS80/'Base original'!$BC80","v":0.54565907390398394},{"$f":"+('Base original'!AT92/'Base original'!AT80*100-100)*'Base original'!AT80/'Base original'!$BC80","v":-3.3380004997506395E-2},{"$f":"+('Base original'!AU92/'Base original'!AU80*100-100)*'Base original'!AU80/'Base original'!$BC80","v":0.9488404555907608},{"$f":"+('Base original'!AV92/'Base original'!AV80*100-100)*'Base original'!AV80/'Base original'!$BC80","v":-0.70281974300300376},{"$f":"+('Base original'!AW92/'Base original'!AW80*100-100)*'Base original'!AW80/'Base original'!$BC80","v":-4.2047248429499931E-2},{"$f":"+('Base original'!AX92/'Base original'!AX80*100-100)*'Base original'!AX80/'Base original'!$BC80","v":0.46688484838501615},{"$f":"+('Base original'!AY92/'Base original'!AY80*100-100)*'Base original'!AY80/'Base original'!$BC80","v":-4.742679064125005E-2},{"$f":"+('Base original'!AZ92/'Base original'!AZ80*100-100)*'Base original'!AZ80/'Base original'!$BC80","v":1.4918109683570716E-2},{"$f":"+('Base original'!BA92/'Base original'!BA80*100-100)*'Base original'!BA80/'Base original'!$BC80","v":-0.10860825281371231},{"$f":"+('Base original'!BB92/'Base original'!BB80*100-100)*'Base original'!BB80/'Base original'!$BC80","v":-4.4312049545532734E-3},{"$f":"+(('Base original'!AY92-'Base original'!BA92)/('Base original'!AY80-'Base original'!BA80)*100-100)*('Base original'!AY80-'Base original'!BA80)/'Base original'!$BC80","v":6.1181462172462536E-2},{"$f":"+(('Base original'!AZ92-'Base original'!BB92)/('Base original'!AZ80-'Base original'!BB80)*100-100)*('Base original'!AZ80-'Base original'!BB80)/'Base original'!$BC80","v":1.9349314638124119E-2},{"$f":"+('Base original'!BC92/'Base original'!BC80*100-100)*'Base original'!BC80/'Base original'!$BC80","v":8.3807436787978702}]
["2013-02-01",{"$f":"+'Base original'!B93/'Base original'!B81*100-100","v":12.887861446613627},{"$f":"+'Base original'!C93/'Base original'!C81*100-100","v":11.001522577444405},{"$f":"+'Base original'!D93/'Base original'!D81*100-100","v":10.598185467217718},{"$f":"+'Base original'!E93/'Base original'!E81*100-100","v":12.259796341476843},{"$f":"+'Base original'!F93/'Base original'!F81*100-100","v":12.065884751131264},{"$f":"+'Base original'!G93","v":26.686751233779432},null,null,null,null,{"$f":"+'Base original'!Q93","v":9.676705483834187},null,null,null,{"$f":"+'Base original'!Y93","v":1.8413967970039411},null,null,{"$f":"+'Base original'!AE93","v":4.5199999999999996},{"$f":"+('Base original'!AH93/'Base original'!AH81*100-100)*'Base original'!AH81/'Base original'!$AK81","v":3.1076588863042045},{"$f":"+('Base original'!AI93/'Base original'!AI81*100-100)*'Base original'!AI81/'Base original'!$AK81","v":5.9966826963167792},{"$f":"+('Base original'!AJ93/'Base original'!AJ81*100-100)*'Base original'!AJ81/'Base original'!$AK81","v":1.6068729575192156},{"$f":"+('Base original'!AK93/'Base original'!AK81*100-100)*'Base original'!AK81/'Base original'!$AK81","v":10.711214540140219},{"$f":"+('Base original'!AK93/'Base original'!AK81*100-100)*'Base original'!AK81/'Base original'!$AR81","v":2.5887902969191692},{"$f":"+('Base original'!AL93/'Base original'!AL81*100-100)*'Base original'!AL81/'Base original'!$AR81","v":9.8577865571604857},{"$f":"+('Base original'!AM93/'Base original'!AM81*100-100)*'Base original'!AM81/'Base original'!$AR81","v":0.24571797010365415},{"$f":"+('Base original'!AN93/'Base original'!AN81*100-100)*'Base original'!AN81/'Base original'!$AR81","v":0.70676494156248992},{"$f":"+('Base original'!AO93/'Base original'!AO81*100-100)*'Base original'!AO81/'Base original'!$AR81","v":3.0110414704885635E-2},{"$f":"+('Base original'!AP93/'Base original'!AP81*100-100)*'Base original'!AP81/'Base original'!$AR81","v":0.80339700976980599},{"$f":"+('Base original'!AQ93/'Base original'!AQ81*100-100)*'Base original'!AQ81/'Base original'!$AR81","v":7.2569738391542165E-3},{"$f":"+(('Base original'!AN93-'Base original'!AP93)/('Base original'!AN81-'Base original'!AP81)*100-100)*(('Base original'!AN81-'Base original'!AP81)/'Base original'!AR81)","v":-9.6632068207317151E-2},{"$f":"+(('Base original'!AO93-'Base original'!AQ93)/('Base original'!AO81-'Base original'!AQ81)*100-100)*(('Base original'!AO81-'Base original'!AQ81)/'Base original'!AR81)","v":2.2853440865731298E-2},{"$f":"+('Base original'!AR93/'Base original'!AR81*100-100)*'Base original'!AR81/'Base original'!$AR81","v":12.618516196841682},{"$f":"+('Base original'!AR93/'Base original'!AR81*100-100)*'Base original'!AR81/'Base original'!$BC81","v":7.5138612595232015},{"$f":"+('Base original'!AS93/'Base original'!AS81*100-100)*'Base original'!AS81/'Base original'!$BC81","v":0.56187509741156783},{"$f":"+('Base original'!AT93/'Base original'!AT81*100-100)*'Base original'!AT81/'Base original'!$BC81","v":6.609889544865534E-2},{"$f":"+('Base original'!AU93/'Base original'!AU81*100-100)*'Base original'!AU81/'Base original'!$BC81","v":1.0360419046520675},{"$f":"+('Base original'!AV93/'Base original'!AV81*100-100)*'Base original'!AV81/'Base original'!$BC81","v":-0.79815193205753632},{"$f":"+('Base original'!AW93/'Base original'!AW81*100-100)*'Base original'!AW81/'Base original'!$BC81","v":-4.982720095610603E-2},{"$f":"+('Base original'!AX93/'Base original'!AX81*100-100)*'Base original'!AX81/'Base original'!$BC81","v":0.49079760713329351},{"$f":"+('Base original'!AY93/'Base original'!AY81*100-100)*'Base original'!AY81/'Base original'!$BC81","v":-0.12226750369117687},{"$f":"+('Base original'!AZ93/'Base original'!AZ81*100-100)*'Base original'!AZ81/'Base original'!$BC81","v":1.3366781153919469E-2},{"$f":"+('Base original'!BA93/'Base original'!BA81*100-100)*'Base original'!BA81/'Base original'!$BC81","v":-4.2588540172515489E-2},{"$f":"+('Base original'!BB93/'Base original'!BB81*100-100)*'Base original'!BB81/'Base original'!$BC81","v":-6.84920552819091E-3},{"$f":"+(('Base original'!AY93-'Base original'!BA93)/('Base original'!AY81-'Base original'!BA81)*100-100)*('Base original'!AY81-'Base original'!BA81)/'Base original'!$BC81","v":-7.9678963518661328E-2},{"$f":"+(('Base original'!AZ93-'Base original'!BB93)/('Base original'!AZ81-'Base original'!BB81)*100-100)*('Base original'!AZ81-'Base original'!BB81)/'Base original'!$BC81","v":2.0215986682110356E-2},{"$f":"+('Base original'!BC93/'Base original'!BC81*100-100)*'Base original'!BC81/'Base original'!$BC81","v":8.7612326543186043}]
["2013-03-01",{"$f":"+'Base original'!B94/'Base original'!B82*100-100","v":11.733207654473148},{"$f":"+'Base original'!C94/'Base original'!C82*100-100","v":10.897038368448577},{"$f":"+'Base original'!D94/'Base original'!D82*100-100","v":10.514497389348193},{"$f":"+'Base original'!E94/'Base original'!E82*100-100","v":9.8541480675197022},{"$f":"+'Base original'!F94/'Base original'!F82*100-100","v":11.196389610344355},{"$f":"+'Base original'!G94","v":26.561767147938347},null,null,null,null,{"$f":"+'Base original'!Q94","v":9.2852544936548362},null,null,null,{"$f":"+'Base original'!Y94","v":1.7211954079737886},null,null,{"$f":"+'Base original'!AE94","v":4.53},{"$f":"+('Base original'!AH94/'Base original'!AH82*100-100)*'Base original'!AH82/'Base original'!$AK82","v":3.1396678445679687},{"$f":"+('Base original'!AI94/'Base original'!AI82*100-100)*'Base original'!AI82/'Base original'!$AK82","v":4.8576675057760719},{"$f":"+('Base original'!AJ94/'Base original'!AJ82*100-100)*'Base original'!AJ82/'Base original'!$AK82","v":3.551088920218012},{"$f":"+('Base original'!AK94/'Base original'!AK82*100-100)*'Base original'!AK82/'Base original'!$AK82","v":11.548424270562037},{"$f":"+('Base original'!AK94/'Base original'!AK82*100-100)*'Base original'!AK82/'Base original'!$AR82","v":2.784174586812374},{"$f":"+('Base original'!AL94/'Base original'!AL82*100-100)*'Base original'!AL82/'Base original'!$AR82","v":9.8462960564727737},{"$f":"+('Base original'!AM94/'Base original'!AM82*100-100)*'Base original'!AM82/'Base original'!$AR82","v":0.24437079751867352},{"$f":"+('Base original'!AN94/'Base original'!AN82*100-100)*'Base original'!AN82/'Base original'!$AR82","v":0.49112283230350334},{"$f":"+('Base original'!AO94/'Base original'!AO82*100-100)*'Base original'!AO82/'Base original'!$AR82","v":3.7265967631900918E-2},{"$f":"+('Base original'!AP94/'Base original'!AP82*100-100)*'Base original'!AP82/'Base original'!$AR82","v":0.33754296125931388},{"$f":"+('Base original'!AQ94/'Base original'!AQ82*100-100)*'Base original'!AQ82/'Base original'!$AR82","v":4.8038864597290147E-3},{"$f":"+(('Base original'!AN94-'Base original'!AP94)/('Base original'!AN82-'Base original'!AP82)*100-100)*(('Base original'!AN82-'Base original'!AP82)/'Base original'!AR82)","v":0.15357987104418935},{"$f":"+(('Base original'!AO94-'Base original'!AQ94)/('Base original'!AO82-'Base original'!AQ82)*100-100)*(('Base original'!AO82-'Base original'!AQ82)/'Base original'!AR82)","v":3.2462081172171822E-2},{"$f":"+('Base original'!AR94/'Base original'!AR82*100-100)*'Base original'!AR82/'Base original'!$AR82","v":13.060883393020205},{"$f":"+('Base original'!AR94/'Base original'!AR82*100-100)*'Base original'!AR82/'Base original'!$BC82","v":7.7785386955675504},{"$f":"+('Base original'!AS94/'Base original'!AS82*100-100)*'Base original'!AS82/'Base original'!$BC82","v":0.42545875066120481},{"$f":"+('Base original'!AT94/'Base original'!AT82*100-100)*'Base original'!AT82/'Base original'!$BC82","v":-0.17824554228385259},{"$f":"+('Base original'!AU94/'Base original'!AU82*100-100)*'Base original'!AU82/'Base original'!$BC82","v":1.0545382770563938},{"$f":"+('Base original'!AV94/'Base original'!AV82*100-100)*'Base original'!AV82/'Base original'!$BC82","v":-0.56176442539429106},{"$f":"+('Base original'!AW94/'Base original'!AW82*100-100)*'Base original'!AW82/'Base original'!$BC82","v":-5.3295943616673176E-2},{"$f":"+('Base original'!AX94/'Base original'!AX82*100-100)*'Base original'!AX82/'Base original'!$BC82","v":0.46494624050429517},{"$f":"+('Base original'!AY94/'Base original'!AY82*100-100)*'Base original'!AY82/'Base original'!$BC82","v":-0.16333546409854591},{"$f":"+('Base original'!AZ94/'Base original'!AZ82*100-100)*'Base original'!AZ82/'Base original'!$BC82","v":1.2732333239558431E-2},{"$f":"+('Base original'!BA94/'Base original'!BA82*100-100)*'Base original'!BA82/'Base original'!$BC82","v":-0.1120964105620382},{"$f":"+('Base original'!BB94/'Base original'!BB82*100-100)*'Base original'!BB82/'Base original'!$BC82","v":-1.3881412979289513E-3},{"$f":"+(('Base original'!AY94-'Base original'!BA94)/('Base original'!AY82-'Base original'!BA82)*100-100)*('Base original'!AY82-'Base original'!BA82)/'Base original'!$BC82","v":-5.1239053536507866E-2},{"$f":"+(('Base original'!AZ94-'Base original'!BB94)/('Base original'!AZ82-'Base original'!BB82)*100-100)*('Base original'!AZ82-'Base original'!BB82)/'Base original'!$BC82","v":1.4120474537487342E-2},{"$f":"+('Base original'!BC94/'Base original'!BC82*100-100)*'Base original'!BC82/'Base original'!$BC82","v":8.8930574734956451}]
["2013-04-01",{"$f":"+'Base original'!B95/'Base original'!B83*100-100","v":10.771729540869288},{"$f":"+'Base original'!C95/'Base original'!C83*100-100","v":10.999970817742692},{"$f":"+'Base original'!D95/'Base original'!D83*100-100","v":10.638889810491037},{"$f":"+'Base original'!E95/'Base original'!E83*100-100","v":9.6686401332793253},{"$f":"+'Base original'!F95/'Base original'!F83*100-100","v":10.679277218685627},{"$f":"+'Base original'!G95","v":25.74},null,null,null,null,{"$f":"+'Base original'!Q95","v":9.2200000000000006},null,null,null,{"$f":"+'Base original'!Y95","v":1.52},null,null,{"$f":"+'Base original'!AE95","v":4.53},{"$f":"+('Base original'!AH95/'Base original'!AH83*100-100)*'Base original'!AH83/'Base original'!$AK83","v":2.8651579520819395},{"$f":"+('Base original'!AI95/'Base original'!AI83*100-100)*'Base original'!AI83/'Base original'!$AK83","v":4.0973552931275279},{"$f":"+('Base original'!AJ95/'Base original'!AJ83*100-100)*'Base original'!AJ83/'Base original'!$AK83","v":2.4636861362510971},{"$f":"+('Base original'!AK95/'Base original'!AK83*100-100)*'Base original'!AK83/'Base original'!$AK83","v":9.4261993814605631},{"$f":"+('Base original'!AK95/'Base original'!AK83*100-100)*'Base original'!AK83/'Base original'!$AR83","v":2.2722116524880933},{"$f":"+('Base original'!AL95/'Base original'!AL83*100-100)*'Base original'!AL83/'Base original'!$AR83","v":8.753409050682718},{"$f":"+('Base original'!AM95/'Base original'!AM83*100-100)*'Base original'!AM83/'Base original'!$AR83","v":0.23631067683877921},{"$f":"+('Base original'!AN95/'Base original'!AN83*100-100)*'Base original'!AN83/'Base original'!$AR83","v":1.0496038759081863},{"$f":"+('Base original'!AO95/'Base original'!AO83*100-100)*'Base original'!AO83/'Base original'!$AR83","v":7.6714974006606318E-2},{"$f":"+('Base original'!AP95/'Base original'!AP83*100-100)*'Base original'!AP83/'Base original'!$AR83","v":0.73224552332906934},{"$f":"+('Base original'!AQ95/'Base original'!AQ83*100-100)*'Base original'!AQ83/'Base original'!$AR83","v":3.7182905280502047E-3},{"$f":"+(('Base original'!AN95-'Base original'!AP95)/('Base original'!AN83-'Base original'!AP83)*100-100)*(('Base original'!AN83-'Base original'!AP83)/'Base original'!AR83)","v":0.31735835257911826},{"$f":"+(('Base original'!AO95-'Base original'!AQ95)/('Base original'!AO83-'Base original'!AQ83)*100-100)*(('Base original'!AO83-'Base original'!AQ83)/'Base original'!AR83)","v":7.2996683478556174E-2},{"$f":"+('Base original'!AR95/'Base original'!AR83*100-100)*'Base original'!AR83/'Base original'!$AR83","v":11.652286416067255},{"$f":"+('Base original'!AR95/'Base original'!AR83*100-100)*'Base original'!AR83/'Base original'!$BC83","v":6.9834831365853312},{"$f":"+('Base original'!AS95/'Base original'!AS83*100-100)*'Base original'!AS83/'Base original'!$BC83","v":0.46355324714363455},{"$f":"+('Base original'!AT95/'Base original'!AT83*100-100)*'Base original'!AT83/'Base original'!$BC83","v":0.30647874096402422},{"$f":"+('Base original'!AU95/'Base original'!AU83*100-100)*'Base original'!AU83/'Base original'!$BC83","v":1.205545253429259},{"$f":"+('Base original'!AV95/'Base original'!AV83*100-100)*'Base original'!AV83/'Base original'!$BC83","v":-0.59872161636848498},{"$f":"+('Base original'!AW95/'Base original'!AW83*100-100)*'Base original'!AW83/'Base original'!$BC83","v":-4.1294182325951286E-2},{"$f":"+('Base original'!AX95/'Base original'!AX83*100-100)*'Base original'!AX83/'Base original'!$BC83","v":0.46652062601483824},{"$f":"+('Base original'!AY95/'Base original'!AY83*100-100)*'Base original'!AY83/'Base original'!$BC83","v":-0.16197000449550472},{"$f":"+('Base original'!AZ95/'Base original'!AZ83*100-100)*'Base original'!AZ83/'Base original'!$BC83","v":1.6848542264556669E-2},{"$f":"+('Base original'!BA95/'Base original'!BA83*100-100)*'Base original'!BA83/'Base original'!$BC83","v":0.1259233535967301},{"$f":"+('Base original'!BB95/'Base original'!BB83*100-100)*'Base original'!BB83/'Base original'!$BC83","v":7.5453162996517052E-3},{"$f":"+(('Base original'!AY95-'Base original'!BA95)/('Base original'!AY83-'Base original'!BA83)*100-100)*('Base original'!AY83-'Base original'!BA83)/'Base original'!$BC83","v":-0.2878933580922351},{"$f":"+(('Base original'!AZ95-'Base original'!BB95)/('Base original'!AZ83-'Base original'!BB83)*100-100)*('Base original'!AZ83-'Base original'!BB83)/'Base original'!$BC83","v":9.3032259649050465E-3},{"$f":"+('Base original'!BC95/'Base original'!BC83*100-100)*'Base original'!BC83/'Base original'!$BC83","v":8.5069750733153313}]
["2013-05-01",{"$f":"+'Base original'!B96/'Base original'!B84*100-100","v":9.8147731043772239},{"$f":"+'Base original'!C96/'Base original'!C84*100-100","v":10.7789133143946},{"$f":"+'Base original'!D96/'Base original'!D84*100-100","v":10.285565812562993},{"$f":"+'Base original'!E96/'Base original'!E84*100-100","v":6.6982561280424022},{"$f":"+'Base original'!F96/'Base original'!F84*100-100","v":9.7660467132638047},{"$f":"+'Base original'!G96","v":26.62},null,null,null,null,{"$f":"+'Base original'!Q96","v":9.1300000000000008},null,null,null,{"$f":"+'Base original'!Y96","v":1.44},null,null,{"$f":"+'Base original'!AE96","v":4.51},{"$f":"+('Base original'!AH96/'Base original'!AH84*100-100)*'Base original'!AH84/'Base original'!$AK84","v":3.1317613663531367},{"$f":"+('Base original'!AI96/'Base original'!AI84*100-100)*'Base original'!AI84/'Base original'!$AK84","v":5.570735365564186},{"$f":"+('Base original'!AJ96/'Base original'!AJ84*100-100)*'Base original'!AJ84/'Base original'!$AK84","v":5.1932309917610006E-3},{"$f":"+('Base original'!AK96/'Base original'!AK84*100-100)*'Base original'!AK84/'Base original'!$AK84","v":8.7076899629090718},{"$f":"+('Base original'!AK96/'Base original'!AK84*100-100)*'Base original'!AK84/'Base original'!$AR84","v":2.0994157314072894},{"$f":"+('Base original'!AL96/'Base original'!AL84*100-100)*'Base original'!AL84/'Base original'!$AR84","v":7.4310474919866341},{"$f":"+('Base original'!AM96/'Base original'!AM84*100-100)*'Base original'!AM84/'Base original'!$AR84","v":0.21923257862062095},{"$f":"+('Base original'!AN96/'Base original'!AN84*100-100)*'Base original'!AN84/'Base original'!$AR84","v":3.7424407016046111},{"$f":"+('Base original'!AO96/'Base original'!AO84*100-100)*'Base original'!AO84/'Base original'!$AR84","v":5.6572758276505944E-2},{"$f":"+('Base original'!AP96/'Base original'!AP84*100-100)*'Base original'!AP84/'Base original'!$AR84","v":2.8580056939058216},{"$f":"+('Base original'!AQ96/'Base original'!AQ84*100-100)*'Base original'!AQ84/'Base original'!$AR84","v":6.2919740131342199E-3},{"$f":"+(('Base original'!AN96-'Base original'!AP96)/('Base original'!AN84-'Base original'!AP84)*100-100)*(('Base original'!AN84-'Base original'!AP84)/'Base original'!AR84)","v":0.88443500769879146},{"$f":"+(('Base original'!AO96-'Base original'!AQ96)/('Base original'!AO84-'Base original'!AQ84)*100-100)*(('Base original'!AO84-'Base original'!AQ84)/'Base original'!AR84)","v":5.0280784263371729E-2},{"$f":"+('Base original'!AR96/'Base original'!AR84*100-100)*'Base original'!AR84/'Base original'!$AR84","v":10.684411593976705},{"$f":"+('Base original'!AR96/'Base original'!AR84*100-100)*'Base original'!AR84/'Base original'!$BC84","v":6.462567942395756},{"$f":"+('Base original'!AS96/'Base original'!AS84*100-100)*'Base original'!AS84/'Base original'!$BC84","v":0.62817775286415523},{"$f":"+('Base original'!AT96/'Base original'!AT84*100-100)*'Base original'!AT84/'Base original'!$BC84","v":0.5898748387469126},{"$f":"+('Base original'!AU96/'Base original'!AU84*100-100)*'Base original'!AU84/'Base original'!$BC84","v":1.5011352364965733},{"$f":"+('Base original'!AV96/'Base original'!AV84*100-100)*'Base original'!AV84/'Base original'!$BC84","v":-0.49196963921585607},{"$f":"+('Base original'!AW96/'Base original'!AW84*100-100)*'Base original'!AW84/'Base original'!$BC84","v":-3.5722475712182213E-2},{"$f":"+('Base original'!AX96/'Base original'!AX84*100-100)*'Base original'!AX84/'Base original'!$BC84","v":0.45726198682729369},{"$f":"+('Base original'!AY96/'Base original'!AY84*100-100)*'Base original'!AY84/'Base original'!$BC84","v":-2.2119451262597296E-2},{"$f":"+('Base original'!AZ96/'Base original'!AZ84*100-100)*'Base original'!AZ84/'Base original'!$BC84","v":2.9147600110290956E-2},{"$f":"+('Base original'!BA96/'Base original'!BA84*100-100)*'Base original'!BA84/'Base original'!$BC84","v":0.3513992038510157},{"$f":"+('Base original'!BB96/'Base original'!BB84*100-100)*'Base original'!BB84/'Base original'!$BC84","v":1.1766009100960291E-2},{"$f":"+(('Base original'!AY96-'Base original'!BA96)/('Base original'!AY84-'Base original'!BA84)*100-100)*('Base original'!AY84-'Base original'!BA84)/'Base original'!$BC84","v":-0.37351865511361332},{"$f":"+(('Base original'!AZ96-'Base original'!BB96)/('Base original'!AZ84-'Base original'!BB84)*100-100)*('Base original'!AZ84-'Base original'!BB84)/'Base original'!$BC84","v":1.738159100933066E-2},{"$f":"+('Base original'!BC96/'Base original'!BC84*100-100)*'Base original'!BC84/'Base original'!$BC84","v":8.7551885782983589}]
["2013-06-01",{"$f":"+'Base original'!B97/'Base original'!B85*100-100","v":9.40134325108788},{"$f":"+'Base original'!C97/'Base original'!C85*100-100","v":10.647731451508307},{"$f":"+'Base original'!D97/'Base original'!D85*100-100","v":10.078986304374553},{"$f":"+'Base original'!E97/'Base original'!E85*100-100","v":11.627699676451769},{"$f":"+'Base original'!F97/'Base original'!F85*100-100","v":9.8922242248196284},{"$f":"+'Base original'!G97","v":26.36},null,null,null,null,{"$f":"+'Base original'!Q97","v":9.0359999999999996},null,null,null,{"$f":"+'Base original'!Y97","v":1.43},null,null,{"$f":"+'Base original'!AE97","v":4.45},{"$f":"+('Base original'!AH97/'Base original'!AH85*100-100)*'Base original'!AH85/'Base original'!$AK85","v":2.9669411335491698},{"$f":"+('Base original'!AI97/'Base original'!AI85*100-100)*'Base original'!AI85/'Base original'!$AK85","v":6.5899633952520658},{"$f":"+('Base original'!AJ97/'Base original'!AJ85*100-100)*'Base original'!AJ85/'Base original'!$AK85","v":3.1589915376750395},{"$f":"+('Base original'!AK97/'Base original'!AK85*100-100)*'Base original'!AK85/'Base original'!$AK85","v":12.715896066476276},{"$f":"+('Base original'!AK97/'Base original'!AK85*100-100)*'Base original'!AK85/'Base original'!$AR85","v":2.9635993514726784},{"$f":"+('Base original'!AL97/'Base original'!AL85*100-100)*'Base original'!AL85/'Base original'!$AR85","v":6.8847737830180344},{"$f":"+('Base original'!AM97/'Base original'!AM85*100-100)*'Base original'!AM85/'Base original'!$AR85","v":0.1298104037936347},{"$f":"+('Base original'!AN97/'Base original'!AN85*100-100)*'Base original'!AN85/'Base original'!$AR85","v":2.5406371133404915},{"$f":"+('Base original'!AO97/'Base original'!AO85*100-100)*'Base original'!AO85/'Base original'!$AR85","v":4.0043195176999368E-3},{"$f":"+('Base original'!AP97/'Base original'!AP85*100-100)*'Base original'!AP85/'Base original'!$AR85","v":1.8564454960993571},{"$f":"+('Base original'!AQ97/'Base original'!AQ85*100-100)*'Base original'!AQ85/'Base original'!$AR85","v":1.2000509821618472E-2},{"$f":"+(('Base original'!AN97-'Base original'!AP97)/('Base original'!AN85-'Base original'!AP85)*100-100)*(('Base original'!AN85-'Base original'!AP85)/'Base original'!AR85)","v":0.68419161724113231},{"$f":"+(('Base original'!AO97-'Base original'!AQ97)/('Base original'!AO85-'Base original'!AQ85)*100-100)*(('Base original'!AO85-'Base original'!AQ85)/'Base original'!AR85)","v":-7.9961903039185381E-3},{"$f":"+('Base original'!AR97/'Base original'!AR85*100-100)*'Base original'!AR85/'Base original'!$AR85","v":10.654378965221568},{"$f":"+('Base original'!AR97/'Base original'!AR85*100-100)*'Base original'!AR85/'Base original'!$BC85","v":6.5153797822846835},{"$f":"+('Base original'!AS97/'Base original'!AS85*100-100)*'Base original'!AS85/'Base original'!$BC85","v":0.91722499832176485},{"$f":"+('Base original'!AT97/'Base original'!AT85*100-100)*'Base original'!AT85/'Base original'!$BC85","v":0.42906615476575893},{"$f":"+('Base original'!AU97/'Base original'!AU85*100-100)*'Base original'!AU85/'Base original'!$BC85","v":1.7290658697204069},{"$f":"+('Base original'!AV97/'Base original'!AV85*100-100)*'Base original'!AV85/'Base original'!$BC85","v":-0.50477788897569875},{"$f":"+('Base original'!AW97/'Base original'!AW85*100-100)*'Base original'!AW85/'Base original'!$BC85","v":-3.5417562534797373E-2},{"$f":"+('Base original'!AX97/'Base original'!AX85*100-100)*'Base original'!AX85/'Base original'!$BC85","v":0.47369610864235762},{"$f":"+('Base original'!AY97/'Base original'!AY85*100-100)*'Base original'!AY85/'Base original'!$BC85","v":0.10571320596899236},{"$f":"+('Base original'!AZ97/'Base original'!AZ85*100-100)*'Base original'!AZ85/'Base original'!$BC85","v":3.2824569612776272E-2},{"$f":"+('Base original'!BA97/'Base original'!BA85*100-100)*'Base original'!BA85/'Base original'!$BC85","v":0.16437873797541017},{"$f":"+('Base original'!BB97/'Base original'!BB85*100-100)*'Base original'!BB85/'Base original'!$BC85","v":1.107465761225988E-2},{"$f":"+(('Base original'!AY97-'Base original'!BA97)/('Base original'!AY85-'Base original'!BA85)*100-100)*('Base original'!AY85-'Base original'!BA85)/'Base original'!$BC85","v":-5.8665532006417692E-2},{"$f":"+(('Base original'!AZ97-'Base original'!BB97)/('Base original'!AZ85-'Base original'!BB85)*100-100)*('Base original'!AZ85-'Base original'!BB85)/'Base original'!$BC85","v":2.1749912000516385E-2},{"$f":"+('Base original'!BC97/'Base original'!BC85*100-100)*'Base original'!BC85/'Base original'!$BC85","v":9.4873218422185488}]
["2013-07-01",{"$f":"+'Base original'!B98/'Base original'!B86*100-100","v":9.8928127275763558},{"$f":"+'Base original'!C98/'Base original'!C86*100-100","v":10.485660187884463},{"$f":"+'Base original'!D98/'Base original'!D86*100-100","v":10.80702455788385},{"$f":"+'Base original'!E98/'Base original'!E86*100-100","v":17.663241534745879},{"$f":"+'Base original'!F98/'Base original'!F86*100-100","v":10.813367315449767},{"$f":"+'Base original'!G98","v":26.99},null,null,null,null,{"$f":"+'Base original'!Q98","v":9.2200000000000006},null,null,null,{"$f":"+'Base original'!Y98","v":1.48},null,null,{"$f":"+'Base original'!AE98","v":4.46},{"$f":"+('Base original'!AH98/'Base original'!AH86*100-100)*'Base original'!AH86/'Base original'!$AK86","v":2.8628964584054168},{"$f":"+('Base original'!AI98/'Base original'!AI86*100-100)*'Base original'!AI86/'Base original'!$AK86","v":6.6558024185408913},{"$f":"+('Base original'!AJ98/'Base original'!AJ86*100-100)*'Base original'!AJ86/'Base original'!$AK86","v":4.1615053104671009},{"$f":"+('Base original'!AK98/'Base original'!AK86*100-100)*'Base original'!AK86/'Base original'!$AK86","v":13.680204187413423},{"$f":"+('Base original'!AK98/'Base original'!AK86*100-100)*'Base original'!AK86/'Base original'!$AR86","v":3.1435226009372141},{"$f":"+('Base original'!AL98/'Base original'!AL86*100-100)*'Base original'!AL86/'Base original'!$AR86","v":6.4789397859968938},{"$f":"+('Base original'!AM98/'Base original'!AM86*100-100)*'Base original'!AM86/'Base original'!$AR86","v":0.19439306436513115},{"$f":"+('Base original'!AN98/'Base original'!AN86*100-100)*'Base original'!AN86/'Base original'!$AR86","v":0.78091081166151244},{"$f":"+('Base original'!AO98/'Base original'!AO86*100-100)*'Base original'!AO86/'Base original'!$AR86","v":6.7241788634723404E-3},{"$f":"+('Base original'!AP98/'Base original'!AP86*100-100)*'Base original'!AP86/'Base original'!$AR86","v":0.26446936136224297},{"$f":"+('Base original'!AQ98/'Base original'!AQ86*100-100)*'Base original'!AQ86/'Base original'!$AR86","v":1.2665344499285918E-2},{"$f":"+(('Base original'!AN98-'Base original'!AP98)/('Base original'!AN86-'Base original'!AP86)*100-100)*(('Base original'!AN86-'Base original'!AP86)/'Base original'!AR86)","v":0.51644145029927158},{"$f":"+(('Base original'!AO98-'Base original'!AQ98)/('Base original'!AO86-'Base original'!AQ86)*100-100)*(('Base original'!AO86-'Base original'!AQ86)/'Base original'!AR86)","v":-5.9411656358135398E-3},{"$f":"+('Base original'!AR98/'Base original'!AR86*100-100)*'Base original'!AR86/'Base original'!$AR86","v":10.327355735962684},{"$f":"+('Base original'!AR98/'Base original'!AR86*100-100)*'Base original'!AR86/'Base original'!$BC86","v":6.3632009932318505},{"$f":"+('Base original'!AS98/'Base original'!AS86*100-100)*'Base original'!AS86/'Base original'!$BC86","v":1.3759280830256349},{"$f":"+('Base original'!AT98/'Base original'!AT86*100-100)*'Base original'!AT86/'Base original'!$BC86","v":0.62547796938416977},{"$f":"+('Base original'!AU98/'Base original'!AU86*100-100)*'Base original'!AU86/'Base original'!$BC86","v":1.8955454605070547},{"$f":"+('Base original'!AV98/'Base original'!AV86*100-100)*'Base original'!AV86/'Base original'!$BC86","v":-0.54874071717886319},{"$f":"+('Base original'!AW98/'Base original'!AW86*100-100)*'Base original'!AW86/'Base original'!$BC86","v":-3.0144893704220927E-2},{"$f":"+('Base original'!AX98/'Base original'!AX86*100-100)*'Base original'!AX86/'Base original'!$BC86","v":0.41958302338906184},{"$f":"+('Base original'!AY98/'Base original'!AY86*100-100)*'Base original'!AY86/'Base original'!$BC86","v":0.29372543154037689},{"$f":"+('Base original'!AZ98/'Base original'!AZ86*100-100)*'Base original'!AZ86/'Base original'!$BC86","v":3.2207781047347714E-2},{"$f":"+('Base original'!BA98/'Base original'!BA86*100-100)*'Base original'!BA86/'Base original'!$BC86","v":0.17707031613657839},{"$f":"+('Base original'!BB98/'Base original'!BB86*100-100)*'Base original'!BB86/'Base original'!$BC86","v":1.0308732060433645E-2},{"$f":"+(('Base original'!AY98-'Base original'!BA98)/('Base original'!AY86-'Base original'!BA86)*100-100)*('Base original'!AY86-'Base original'!BA86)/'Base original'!$BC86","v":0.11665511540379842},{"$f":"+(('Base original'!AZ98-'Base original'!BB98)/('Base original'!AZ86-'Base original'!BB86)*100-100)*('Base original'!AZ86-'Base original'!BB86)/'Base original'!$BC86","v":2.1899048986914017E-2},{"$f":"+('Base original'!BC98/'Base original'!BC86*100-100)*'Base original'!BC86/'Base original'!$BC86","v":10.2394040830454}]
["2013-08-01",{"$f":"+'Base original'!B99/'Base original'!B87*100-100","v":11.054962735275069},{"$f":"+'Base original'!C99/'Base original'!C87*100-100","v":10.263818164196707},{"$f":"+'Base original'!D99/'Base original'!D87*100-100","v":11.129304272929048},{"$f":"+'Base original'!E99/'Base original'!E87*100-100","v":12.924569093994293},{"$f":"+'Base original'!F99/'Base original'!F87*100-100","v":11.135056436796376},{"$f":"+'Base original'!G99","v":27.410764499772498},null,null,null,null,{"$f":"+'Base original'!Q99","v":8.8965493557184914},null,null,null,{"$f":"+'Base original'!Y99","v":1.6821505055583721},null,null,{"$f":"+'Base original'!AE99","v":4.49},{"$f":"+('Base original'!AH99/'Base original'!AH87*100-100)*'Base original'!AH87/'Base original'!$AK87","v":2.7381737871115992},{"$f":"+('Base original'!AI99/'Base original'!AI87*100-100)*'Base original'!AI87/'Base original'!$AK87","v":6.9880371920434001},{"$f":"+('Base original'!AJ99/'Base original'!AJ87*100-100)*'Base original'!AJ87/'Base original'!$AK87","v":5.0805091051211964},{"$f":"+('Base original'!AK99/'Base original'!AK87*100-100)*'Base original'!AK87/'Base original'!$AK87","v":14.806720084276193},{"$f":"+('Base original'!AK99/'Base original'!AK87*100-100)*'Base original'!AK87/'Base original'!$AR87","v":3.3202243417123452},{"$f":"+('Base original'!AL99/'Base original'!AL87*100-100)*'Base original'!AL87/'Base original'!$AR87","v":6.927415843634491},{"$f":"+('Base original'!AM99/'Base original'!AM87*100-100)*'Base original'!AM87/'Base original'!$AR87","v":0.1516805821526373},{"$f":"+('Base original'!AN99/'Base original'!AN87*100-100)*'Base original'!AN87/'Base original'!$AR87","v":1.7861165386369964},{"$f":"+('Base original'!AO99/'Base original'!AO87*100-100)*'Base original'!AO87/'Base original'!$AR87","v":-8.9475375836565296E-3},{"$f":"+('Base original'!AP99/'Base original'!AP87*100-100)*'Base original'!AP87/'Base original'!$AR87","v":0.8312262714881713},{"$f":"+('Base original'!AQ99/'Base original'!AQ87*100-100)*'Base original'!AQ87/'Base original'!$AR87","v":1.0524091232106229E-2},{"$f":"+(('Base original'!AN99-'Base original'!AP99)/('Base original'!AN87-'Base original'!AP87)*100-100)*(('Base original'!AN87-'Base original'!AP87)/'Base original'!AR87)","v":0.95489026714882608},{"$f":"+(('Base original'!AO99-'Base original'!AQ99)/('Base original'!AO87-'Base original'!AQ87)*100-100)*(('Base original'!AO87-'Base original'!AQ87)/'Base original'!AR87)","v":-1.9471628815762823E-2},{"$f":"+('Base original'!AR99/'Base original'!AR87*100-100)*'Base original'!AR87/'Base original'!$AR87","v":11.334739405832536},{"$f":"+('Base original'!AR99/'Base original'!AR87*100-100)*'Base original'!AR87/'Base original'!$BC87","v":6.9654658393731443},{"$f":"+('Base original'!AS99/'Base original'!AS87*100-100)*'Base original'!AS87/'Base original'!$BC87","v":1.7903746288005289},{"$f":"+('Base original'!AT99/'Base original'!AT87*100-100)*'Base original'!AT87/'Base original'!$BC87","v":0.62752927642309764},{"$f":"+('Base original'!AU99/'Base original'!AU87*100-100)*'Base original'!AU87/'Base original'!$BC87","v":2.1251132600524492},{"$f":"+('Base original'!AV99/'Base original'!AV87*100-100)*'Base original'!AV87/'Base original'!$BC87","v":-0.54767322647581385},{"$f":"+('Base original'!AW99/'Base original'!AW87*100-100)*'Base original'!AW87/'Base original'!$BC87","v":-2.2114614187383846E-2},{"$f":"+('Base original'!AX99/'Base original'!AX87*100-100)*'Base original'!AX87/'Base original'!$BC87","v":0.88600533571989659},{"$f":"+('Base original'!AY99/'Base original'!AY87*100-100)*'Base original'!AY87/'Base original'!$BC87","v":0.43177524095476383},{"$f":"+('Base original'!AZ99/'Base original'!AZ87*100-100)*'Base original'!AZ87/'Base original'!$BC87","v":3.3741412217340262E-2},{"$f":"+('Base original'!BA99/'Base original'!BA87*100-100)*'Base original'!BA87/'Base original'!$BC87","v":0.32807282131467175},{"$f":"+('Base original'!BB99/'Base original'!BB87*100-100)*'Base original'!BB87/'Base original'!$BC87","v":1.2999993759277703E-2},{"$f":"+(('Base original'!AY99-'Base original'!BA99)/('Base original'!AY87-'Base original'!BA87)*100-100)*('Base original'!AY87-'Base original'!BA87)/'Base original'!$BC87","v":0.10370241964009144},{"$f":"+(('Base original'!AZ99-'Base original'!BB99)/('Base original'!AZ87-'Base original'!BB87)*100-100)*('Base original'!AZ87-'Base original'!BB87)/'Base original'!$BC87","v":2.0741418458062551E-2},{"$f":"+('Base original'!BC99/'Base original'!BC87*100-100)*'Base original'!BC87/'Base original'!$BC87","v":11.949144337804071}]
["2013-09-01",{"$f":"+'Base original'!B100/'Base original'!B88*100-100","v":10.620346190305725},{"$f":"+'Base original'!C100/'Base original'!C88*100-100","v":10.103639121283152},{"$f":"+'Base original'!D100/'Base original'!D88*100-100","v":11.390851946324474},{"$f":"+'Base original'!E100/'Base original'!E88*100-100","v":9.5923379884182367},{"$f":"+'Base original'!F100/'Base original'!F88*100-100","v":10.655079012796762},{"$f":"+'Base original'!G100","v":27.456714660823657},null,null,null,null,{"$f":"+'Base original'!Q100","v":9.2435012481818664},null,null,null,{"$f":"+'Base original'!Y100","v":1.4553408483150525},null,null,{"$f":"+'Base original'!AE100","v":4.37},{"$f":"+('Base original'!AH100/'Base original'!AH88*100-100)*'Base original'!AH88/'Base original'!$AK88","v":3.0314610843228289},{"$f":"+('Base original'!AI100/'Base original'!AI88*100-100)*'Base original'!AI88/'Base original'!$AK88","v":7.411079677770009},{"$f":"+('Base original'!AJ100/'Base original'!AJ88*100-100)*'Base original'!AJ88/'Base original'!$AK88","v":2.7831832167598041},{"$f":"+('Base original'!AK100/'Base original'!AK88*100-100)*'Base original'!AK88/'Base original'!$AK88","v":13.225723978852642},{"$f":"+('Base original'!AK100/'Base original'!AK88*100-100)*'Base original'!AK88/'Base original'!$AR88","v":3.0609963655057211},{"$f":"+('Base original'!AL100/'Base original'!AL88*100-100)*'Base original'!AL88/'Base original'!$AR88","v":6.7630014873497419},{"$f":"+('Base original'!AM100/'Base original'!AM88*100-100)*'Base original'!AM88/'Base original'!$AR88","v":0.22743635412838401},{"$f":"+('Base original'!AN100/'Base original'!AN88*100-100)*'Base original'!AN88/'Base original'!$AR88","v":1.8618671233020561},{"$f":"+('Base original'!AO100/'Base original'!AO88*100-100)*'Base original'!AO88/'Base original'!$AR88","v":-2.110497479871103E-2},{"$f":"+('Base original'!AP100/'Base original'!AP88*100-100)*'Base original'!AP88/'Base original'!$AR88","v":1.0078576462317146},{"$f":"+('Base original'!AQ100/'Base original'!AQ88*100-100)*'Base original'!AQ88/'Base original'!$AR88","v":1.5228467095046352E-2},{"$f":"+(('Base original'!AN100-'Base original'!AP100)/('Base original'!AN88-'Base original'!AP88)*100-100)*(('Base original'!AN88-'Base original'!AP88)/'Base original'!AR88)","v":0.85400947707034125},{"$f":"+(('Base original'!AO100-'Base original'!AQ100)/('Base original'!AO88-'Base original'!AQ88)*100-100)*(('Base original'!AO88-'Base original'!AQ88)/'Base original'!AR88)","v":-3.6333441893757444E-2},{"$f":"+('Base original'!AR100/'Base original'!AR88*100-100)*'Base original'!AR88/'Base original'!$AR88","v":10.869110242160417},{"$f":"+('Base original'!AR100/'Base original'!AR88*100-100)*'Base original'!AR88/'Base original'!$BC88","v":6.7180865368992064},{"$f":"+('Base original'!AS100/'Base original'!AS88*100-100)*'Base original'!AS88/'Base original'!$BC88","v":1.8471862750475712},{"$f":"+('Base original'!AT100/'Base original'!AT88*100-100)*'Base original'!AT88/'Base original'!$BC88","v":0.77447337938425564},{"$f":"+('Base original'!AU100/'Base original'!AU88*100-100)*'Base original'!AU88/'Base original'!$BC88","v":2.1988233483809876},{"$f":"+('Base original'!AV100/'Base original'!AV88*100-100)*'Base original'!AV88/'Base original'!$BC88","v":-0.50136487946625741},{"$f":"+('Base original'!AW100/'Base original'!AW88*100-100)*'Base original'!AW88/'Base original'!$BC88","v":-2.0547492612517815E-2},{"$f":"+('Base original'!AX100/'Base original'!AX88*100-100)*'Base original'!AX88/'Base original'!$BC88","v":1.2084117394826597},{"$f":"+('Base original'!AY100/'Base original'!AY88*100-100)*'Base original'!AY88/'Base original'!$BC88","v":0.3614808668596971},{"$f":"+('Base original'!AZ100/'Base original'!AZ88*100-100)*'Base original'!AZ88/'Base original'!$BC88","v":3.1496875648167985E-2},{"$f":"+('Base original'!BA100/'Base original'!BA88*100-100)*'Base original'!BA88/'Base original'!$BC88","v":0.34000516496987382},{"$f":"+('Base original'!BB100/'Base original'!BB88*100-100)*'Base original'!BB88/'Base original'!$BC88","v":1.533768822234231E-2},{"$f":"+(('Base original'!AY100-'Base original'!BA100)/('Base original'!AY88-'Base original'!BA88)*100-100)*('Base original'!AY88-'Base original'!BA88)/'Base original'!$BC88","v":2.1475701889822625E-2},{"$f":"+(('Base original'!AZ100-'Base original'!BB100)/('Base original'!AZ88-'Base original'!BB88)*100-100)*('Base original'!AZ88-'Base original'!BB88)/'Base original'!$BC88","v":1.6159187425825585E-2},{"$f":"+('Base original'!BC100/'Base original'!BC88*100-100)*'Base original'!BC88/'Base original'!$BC88","v":12.262703796431566}]
["2013-10-01",{"$f":"+'Base original'!B101/'Base original'!B89*100-100","v":10.008016601017047},{"$f":"+'Base original'!C101/'Base original'!C89*100-100","v":10.243643667531344},{"$f":"+'Base original'!D101/'Base original'!D89*100-100","v":11.319330338618585},{"$f":"+'Base original'!E101/'Base original'!E89*100-100","v":9.1932362684713667},{"$f":"+'Base original'!F101/'Base original'!F89*100-100","v":10.278353984996613},{"$f":"+'Base original'!G101","v":26.863969371184837},null,null,null,null,{"$f":"+'Base original'!Q101","v":8.8171856697406028},null,null,null,{"$f":"+'Base original'!Y101","v":1.6687795377367145},null,null,{"$f":"+'Base original'!AE101","v":4.3899999999999997},{"$f":"+('Base original'!AH101/'Base original'!AH89*100-100)*'Base original'!AH89/'Base original'!$AK89","v":3.1478153330175647},{"$f":"+('Base original'!AI101/'Base original'!AI89*100-100)*'Base original'!AI89/'Base original'!$AK89","v":7.9973203984077355},{"$f":"+('Base original'!AJ101/'Base original'!AJ89*100-100)*'Base original'!AJ89/'Base original'!$AK89","v":0.25596799877157322},{"$f":"+('Base original'!AK101/'Base original'!AK89*100-100)*'Base original'!AK89/'Base original'!$AK89","v":11.401103730196866},{"$f":"+('Base original'!AK101/'Base original'!AK89*100-100)*'Base original'!AK89/'Base original'!$AR89","v":2.5873817800101548},{"$f":"+('Base original'!AL101/'Base original'!AL89*100-100)*'Base original'!AL89/'Base original'!$AR89","v":6.5685177496950855},{"$f":"+('Base original'!AM101/'Base original'!AM89*100-100)*'Base original'!AM89/'Base original'!$AR89","v":0.21594551360970862},{"$f":"+('Base original'!AN101/'Base original'!AN89*100-100)*'Base original'!AN89/'Base original'!$AR89","v":1.9374769230087026},{"$f":"+('Base original'!AO101/'Base original'!AO89*100-100)*'Base original'!AO89/'Base original'!$AR89","v":-6.2622517829797079E-3},{"$f":"+('Base original'!AP101/'Base original'!AP89*100-100)*'Base original'!AP89/'Base original'!$AR89","v":1.5175927086515859},{"$f":"+('Base original'!AQ101/'Base original'!AQ89*100-100)*'Base original'!AQ89/'Base original'!$AR89","v":1.747242071122249E-2},{"$f":"+(('Base original'!AN101-'Base original'!AP101)/('Base original'!AN89-'Base original'!AP89)*100-100)*(('Base original'!AN89-'Base original'!AP89)/'Base original'!AR89)","v":0.41988421435711809},{"$f":"+(('Base original'!AO101-'Base original'!AQ101)/('Base original'!AO89-'Base original'!AQ89)*100-100)*(('Base original'!AO89-'Base original'!AQ89)/'Base original'!AR89)","v":-2.3734672494202108E-2},{"$f":"+('Base original'!AR101/'Base original'!AR89*100-100)*'Base original'!AR89/'Base original'!$AR89","v":9.7679945851778598},{"$f":"+('Base original'!AR101/'Base original'!AR89*100-100)*'Base original'!AR89/'Base original'!$BC89","v":6.034350890478712},{"$f":"+('Base original'!AS101/'Base original'!AS89*100-100)*'Base original'!AS89/'Base original'!$BC89","v":1.6308289048106837},{"$f":"+('Base original'!AT101/'Base original'!AT89*100-100)*'Base original'!AT89/'Base original'!$BC89","v":0.67282723390222798},{"$f":"+('Base original'!AU101/'Base original'!AU89*100-100)*'Base original'!AU89/'Base original'!$BC89","v":2.3430837080142797},{"$f":"+('Base original'!AV101/'Base original'!AV89*100-100)*'Base original'!AV89/'Base original'!$BC89","v":-0.36907294514842981},{"$f":"+('Base original'!AW101/'Base original'!AW89*100-100)*'Base original'!AW89/'Base original'!$BC89","v":-1.8670070043136207E-2},{"$f":"+('Base original'!AX101/'Base original'!AX89*100-100)*'Base original'!AX89/'Base original'!$BC89","v":1.1244872254018667},{"$f":"+('Base original'!AY101/'Base original'!AY89*100-100)*'Base original'!AY89/'Base original'!$BC89","v":0.39978434590075945},{"$f":"+('Base original'!AZ101/'Base original'!AZ89*100-100)*'Base original'!AZ89/'Base original'!$BC89","v":3.8194621774334733E-2},{"$f":"+('Base original'!BA101/'Base original'!BA89*100-100)*'Base original'!BA89/'Base original'!$BC89","v":0.31698515354304568},{"$f":"+('Base original'!BB101/'Base original'!BB89*100-100)*'Base original'!BB89/'Base original'!$BC89","v":1.6189113170581203E-2},{"$f":"+(('Base original'!AY101-'Base original'!BA101)/('Base original'!AY89-'Base original'!BA89)*100-100)*('Base original'!AY89-'Base original'!BA89)/'Base original'!$BC89","v":8.2799192357713616E-2},{"$f":"+(('Base original'!AZ101-'Base original'!BB101)/('Base original'!AZ89-'Base original'!BB89)*100-100)*('Base original'!AZ89-'Base original'!BB89)/'Base original'!$BC89","v":2.2005508603753585E-2},{"$f":"+('Base original'!BC101/'Base original'!BC89*100-100)*'Base original'!BC89/'Base original'!$BC89","v":11.522639648377677}]
["2013-11-01",{"$f":"+'Base original'!B102/'Base original'!B90*100-100","v":10.472881465167958},{"$f":"+'Base original'!C102/'Base original'!C90*100-100","v":10.408234025971311},{"$f":"+'Base original'!D102/'Base original'!D90*100-100","v":10.782447771735121},{"$f":"+'Base original'!E102/'Base original'!E90*100-100","v":12.240040219752558},{"$f":"+'Base original'!F102/'Base original'!F90*100-100","v":10.678124607964335},{"$f":"+'Base original'!G102","v":26.783234874877937},null,null,null,null,{"$f":"+'Base original'!Q102","v":8.8913731545848123},null,null,null,{"$f":"+'Base original'!Y102","v":1.5710335556046542},null,null,{"$f":"+'Base original'!AE102","v":4.3600000000000003},{"$f":"+('Base original'!AH102/'Base original'!AH90*100-100)*'Base original'!AH90/'Base original'!$AK90","v":2.9160652375559266},{"$f":"+('Base original'!AI102/'Base original'!AI90*100-100)*'Base original'!AI90/'Base original'!$AK90","v":7.4383713931355535},{"$f":"+('Base original'!AJ102/'Base original'!AJ90*100-100)*'Base original'!AJ90/'Base original'!$AK90","v":3.4983075775800136},{"$f":"+('Base original'!AK102/'Base original'!AK90*100-100)*'Base original'!AK90/'Base original'!$AK90","v":13.852744208271488},{"$f":"+('Base original'!AK102/'Base original'!AK90*100-100)*'Base original'!AK90/'Base original'!$AR90","v":3.1311749714606871},{"$f":"+('Base original'!AL102/'Base original'!AL90*100-100)*'Base original'!AL90/'Base original'!$AR90","v":6.8456442352629425},{"$f":"+('Base original'!AM102/'Base original'!AM90*100-100)*'Base original'!AM90/'Base original'!$AR90","v":0.19696438392397894},{"$f":"+('Base original'!AN102/'Base original'!AN90*100-100)*'Base original'!AN90/'Base original'!$AR90","v":2.0945714993429516},{"$f":"+('Base original'!AO102/'Base original'!AO90*100-100)*'Base original'!AO90/'Base original'!$AR90","v":2.1946519306752315E-3},{"$f":"+('Base original'!AP102/'Base original'!AP90*100-100)*'Base original'!AP90/'Base original'!$AR90","v":1.685740188108543},{"$f":"+('Base original'!AQ102/'Base original'!AQ90*100-100)*'Base original'!AQ90/'Base original'!$AR90","v":1.7191632839948873E-2},{"$f":"+(('Base original'!AN102-'Base original'!AP102)/('Base original'!AN90-'Base original'!AP90)*100-100)*(('Base original'!AN90-'Base original'!AP90)/'Base original'!AR90)","v":0.40883131123440741},{"$f":"+(('Base original'!AO102-'Base original'!AQ102)/('Base original'!AO90-'Base original'!AQ90)*100-100)*(('Base original'!AO90-'Base original'!AQ90)/'Base original'!AR90)","v":-1.4996980909273627E-2},{"$f":"+('Base original'!AR102/'Base original'!AR90*100-100)*'Base original'!AR90/'Base original'!$AR90","v":10.567617920972765},{"$f":"+('Base original'!AR102/'Base original'!AR90*100-100)*'Base original'!AR90/'Base original'!$BC90","v":6.4996633637957117},{"$f":"+('Base original'!AS102/'Base original'!AS90*100-100)*'Base original'!AS90/'Base original'!$BC90","v":1.4043545169581937},{"$f":"+('Base original'!AT102/'Base original'!AT90*100-100)*'Base original'!AT90/'Base original'!$BC90","v":0.47580649756245269},{"$f":"+('Base original'!AU102/'Base original'!AU90*100-100)*'Base original'!AU90/'Base original'!$BC90","v":2.175137813612817},{"$f":"+('Base original'!AV102/'Base original'!AV90*100-100)*'Base original'!AV90/'Base original'!$BC90","v":-0.25788667419377903},{"$f":"+('Base original'!AW102/'Base original'!AW90*100-100)*'Base original'!AW90/'Base original'!$BC90","v":-2.2216915373686755E-2},{"$f":"+('Base original'!AX102/'Base original'!AX90*100-100)*'Base original'!AX90/'Base original'!$BC90","v":1.1294745155571273},{"$f":"+('Base original'!AY102/'Base original'!AY90*100-100)*'Base original'!AY90/'Base original'!$BC90","v":0.60462522348992009},{"$f":"+('Base original'!AZ102/'Base original'!AZ90*100-100)*'Base original'!AZ90/'Base original'!$BC90","v":4.564751857196428E-2},{"$f":"+('Base original'!BA102/'Base original'!BA90*100-100)*'Base original'!BA90/'Base original'!$BC90","v":0.44479146252893437},{"$f":"+('Base original'!BB102/'Base original'!BB90*100-100)*'Base original'!BB90/'Base original'!$BC90","v":1.7845926096897717E-2},{"$f":"+(('Base original'!AY102-'Base original'!BA102)/('Base original'!AY90-'Base original'!BA90)*100-100)*('Base original'!AY90-'Base original'!BA90)/'Base original'!$BC90","v":0.159833760960987},{"$f":"+(('Base original'!AZ102-'Base original'!BB102)/('Base original'!AZ90-'Base original'!BB90)*100-100)*('Base original'!AZ90-'Base original'!BB90)/'Base original'!$BC90","v":2.7801592475066451E-2},{"$f":"+('Base original'!BC102/'Base original'!BC90*100-100)*'Base original'!BC90/'Base original'!$BC90","v":11.591968471354889}]
["2013-12-01",{"$f":"+'Base original'!B103/'Base original'!B91*100-100","v":9.8351553928431628},{"$f":"+'Base original'!C103/'Base original'!C91*100-100","v":10.397704852451966},{"$f":"+'Base original'!D103/'Base original'!D91*100-100","v":11.342144201315406},{"$f":"+'Base original'!E103/'Base original'!E91*100-100","v":7.6438001478593236},{"$f":"+'Base original'!F103/'Base original'!F91*100-100","v":10.084698851076681},{"$f":"+'Base original'!G103","v":26.061785231993277},null,null,null,null,{"$f":"+'Base original'!Q103","v":8.3457161833633986},null,null,null,{"$f":"+'Base original'!Y103","v":1.6486526813059557},null,null,{"$f":"+'Base original'!AE103","v":4.3600000000000003},{"$f":"+('Base original'!AH103/'Base original'!AH91*100-100)*'Base original'!AH91/'Base original'!$AK91","v":2.5213262133021344},{"$f":"+('Base original'!AI103/'Base original'!AI91*100-100)*'Base original'!AI91/'Base original'!$AK91","v":6.8712494417916181},{"$f":"+('Base original'!AJ103/'Base original'!AJ91*100-100)*'Base original'!AJ91/'Base original'!$AK91","v":3.4323230510057745},{"$f":"+('Base original'!AK103/'Base original'!AK91*100-100)*'Base original'!AK91/'Base original'!$AK91","v":12.824898706099532},{"$f":"+('Base original'!AK103/'Base original'!AK91*100-100)*'Base original'!AK91/'Base original'!$AR91","v":3.0683119649624553},{"$f":"+('Base original'!AL103/'Base original'!AL91*100-100)*'Base original'!AL91/'Base original'!$AR91","v":7.2934125406669557},{"$f":"+('Base original'!AM103/'Base original'!AM91*100-100)*'Base original'!AM91/'Base original'!$AR91","v":0.19030056129657535},{"$f":"+('Base original'!AN103/'Base original'!AN91*100-100)*'Base original'!AN91/'Base original'!$AR91","v":1.9268712887277777},{"$f":"+('Base original'!AO103/'Base original'!AO91*100-100)*'Base original'!AO91/'Base original'!$AR91","v":1.2497226548011523E-2},{"$f":"+('Base original'!AP103/'Base original'!AP91*100-100)*'Base original'!AP91/'Base original'!$AR91","v":1.3481078877651507},{"$f":"+('Base original'!AQ103/'Base original'!AQ91*100-100)*'Base original'!AQ91/'Base original'!$AR91","v":1.8930949770201193E-2},{"$f":"+(('Base original'!AN103-'Base original'!AP103)/('Base original'!AN91-'Base original'!AP91)*100-100)*(('Base original'!AN91-'Base original'!AP91)/'Base original'!AR91)","v":0.57876340096262713},{"$f":"+(('Base original'!AO103-'Base original'!AQ103)/('Base original'!AO91-'Base original'!AQ91)*100-100)*(('Base original'!AO91-'Base original'!AQ91)/'Base original'!AR91)","v":-6.4337232221896475E-3},{"$f":"+('Base original'!AR103/'Base original'!AR91*100-100)*'Base original'!AR91/'Base original'!$AR91","v":11.124354744666391},{"$f":"+('Base original'!AR103/'Base original'!AR91*100-100)*'Base original'!AR91/'Base original'!$BC91","v":6.8998043707291759},{"$f":"+('Base original'!AS103/'Base original'!AS91*100-100)*'Base original'!AS91/'Base original'!$BC91","v":1.181321780375761},{"$f":"+('Base original'!AT103/'Base original'!AT91*100-100)*'Base original'!AT91/'Base original'!$BC91","v":0.71315581292793206},{"$f":"+('Base original'!AU103/'Base original'!AU91*100-100)*'Base original'!AU91/'Base original'!$BC91","v":2.0547959680117751},{"$f":"+('Base original'!AV103/'Base original'!AV91*100-100)*'Base original'!AV91/'Base original'!$BC91","v":-0.37626818021617281},{"$f":"+('Base original'!AW103/'Base original'!AW91*100-100)*'Base original'!AW91/'Base original'!$BC91","v":-2.5070354943897994E-2},{"$f":"+('Base original'!AX103/'Base original'!AX91*100-100)*'Base original'!AX91/'Base original'!$BC91","v":1.032228302713744},{"$f":"+('Base original'!AY103/'Base original'!AY91*100-100)*'Base original'!AY91/'Base original'!$BC91","v":0.80448948458098257},{"$f":"+('Base original'!AZ103/'Base original'!AZ91*100-100)*'Base original'!AZ91/'Base original'!$BC91","v":4.5181198194013075E-2},{"$f":"+('Base original'!BA103/'Base original'!BA91*100-100)*'Base original'!BA91/'Base original'!$BC91","v":0.67636896769640564},{"$f":"+('Base original'!BB103/'Base original'!BB91*100-100)*'Base original'!BB91/'Base original'!$BC91","v":1.7016051494807102E-2},{"$f":"+(('Base original'!AY103-'Base original'!BA103)/('Base original'!AY91-'Base original'!BA91)*100-100)*('Base original'!AY91-'Base original'!BA91)/'Base original'!$BC91","v":0.12812051688457751},{"$f":"+(('Base original'!AZ103-'Base original'!BB103)/('Base original'!AZ91-'Base original'!BB91)*100-100)*('Base original'!AZ91-'Base original'!BB91)/'Base original'!$BC91","v":2.8165146699206049E-2},{"$f":"+('Base original'!BC103/'Base original'!BC91*100-100)*'Base original'!BC91/'Base original'!$BC91","v":11.636253363182107}]
["2014-01-01",{"$f":"+'Base original'!B104/'Base original'!B92*100-100","v":11.01727310358676},{"$f":"+'Base original'!C104/'Base original'!C92*100-100","v":10.809090356488312},{"$f":"+'Base original'!D104/'Base original'!D92*100-100","v":12.220495809732938},{"$f":"+'Base original'!E104/'Base original'!E92*100-100","v":13.008616373607325},{"$f":"+'Base original'!F104/'Base original'!F92*100-100","v":11.427737634954951},{"$f":"+'Base original'!G104","v":26.41},{"$f":"+'Base original'!J104/'Base original'!$H104*'Base original'!I104","v":9.2191573341686901},{"$f":"+'Base original'!L104/'Base original'!$H104*'Base original'!K104","v":1.5372315764742734},{"$f":"+'Base original'!N104/'Base original'!$H104*'Base original'!M104","v":4.8504174171822383},{"$f":"+'Base original'!P104/'Base original'!$H104*'Base original'!O104","v":10.805070287414834},{"$f":"+'Base original'!Q104","v":8.57},{"$f":"+'Base original'!T104/'Base original'!$R104*'Base original'!S104","v":9.6852972511744434E-2},{"$f":"+'Base original'!V104/'Base original'!$R104*'Base original'!U104","v":3.367829469373941},{"$f":"+'Base original'!X104/'Base original'!$R104*'Base original'!W104","v":5.1064264314366685},{"$f":"+'Base original'!Y104","v":1.98},{"$f":"+'Base original'!AB104/'Base original'!$Z104*'Base original'!AA104","v":0.89995259439141273},{"$f":"+'Base original'!AD104/'Base original'!$Z104*'Base original'!AC104","v":1.0799467817146104},{"$f":"+'Base original'!AE104","v":4.32},{"$f":"+('Base original'!AH104/'Base original'!AH92*100-100)*'Base original'!AH92/'Base original'!$AK92","v":2.7967112523580506},{"$f":"+('Base original'!AI104/'Base original'!AI92*100-100)*'Base original'!AI92/'Base original'!$AK92","v":6.8930290436503174},{"$f":"+('Base original'!AJ104/'Base original'!AJ92*100-100)*'Base original'!AJ92/'Base original'!$AK92","v":1.4480218885246241},{"$f":"+('Base original'!AK104/'Base original'!AK92*100-100)*'Base original'!AK92/'Base original'!$AK92","v":11.137762184532988},{"$f":"+('Base original'!AK104/'Base original'!AK92*100-100)*'Base original'!AK92/'Base original'!$AR92","v":2.7116828072088168},{"$f":"+('Base original'!AL104/'Base original'!AL92*100-100)*'Base original'!AL92/'Base original'!$AR92","v":7.9318276075263681},{"$f":"+('Base original'!AM104/'Base original'!AM92*100-100)*'Base original'!AM92/'Base original'!$AR92","v":0.20179900218511615},{"$f":"+('Base original'!AN104/'Base original'!AN92*100-100)*'Base original'!AN92/'Base original'!$AR92","v":2.9195019499468069},{"$f":"+('Base original'!AO104/'Base original'!AO92*100-100)*'Base original'!AO92/'Base original'!$AR92","v":2.7157627451013817E-2},{"$f":"+('Base original'!AP104/'Base original'!AP92*100-100)*'Base original'!AP92/'Base original'!$AR92","v":2.3499221643853865},{"$f":"+('Base original'!AQ104/'Base original'!AQ92*100-100)*'Base original'!AQ92/'Base original'!$AR92","v":1.5229076941158473E-2},{"$f":"+(('Base original'!AN104-'Base original'!AP104)/('Base original'!AN92-'Base original'!AP92)*100-100)*(('Base original'!AN92-'Base original'!AP92)/'Base original'!AR92)","v":0.5695797855614223},{"$f":"+(('Base original'!AO104-'Base original'!AQ104)/('Base original'!AO92-'Base original'!AQ92)*100-100)*(('Base original'!AO92-'Base original'!AQ92)/'Base original'!AR92)","v":1.1928550509855182E-2},{"$f":"+('Base original'!AR104/'Base original'!AR92*100-100)*'Base original'!AR92/'Base original'!$AR92","v":11.426817752991596},{"$f":"+('Base original'!AR104/'Base original'!AR92*100-100)*'Base original'!AR92/'Base original'!$BC92","v":7.0774528332420026},{"$f":"+('Base original'!AS104/'Base original'!AS92*100-100)*'Base original'!AS92/'Base original'!$BC92","v":1.280358065541928},{"$f":"+('Base original'!AT104/'Base original'!AT92*100-100)*'Base original'!AT92/'Base original'!$BC92","v":0.51002958504797735},{"$f":"+('Base original'!AU104/'Base original'!AU92*100-100)*'Base original'!AU92/'Base original'!$BC92","v":1.3803512554031008},{"$f":"+('Base original'!AV104/'Base original'!AV92*100-100)*'Base original'!AV92/'Base original'!$BC92","v":-0.43333614126721864},{"$f":"+('Base original'!AW104/'Base original'!AW92*100-100)*'Base original'!AW92/'Base original'!$BC92","v":-2.7351689223719014E-2},{"$f":"+('Base original'!AX104/'Base original'!AX92*100-100)*'Base original'!AX92/'Base original'!$BC92","v":1.0171555977500053},{"$f":"+('Base original'!AY104/'Base original'!AY92*100-100)*'Base original'!AY92/'Base original'!$BC92","v":0.9851854181138866},{"$f":"+('Base original'!AZ104/'Base original'!AZ92*100-100)*'Base original'!AZ92/'Base original'!$BC92","v":3.7291793876504324E-2},{"$f":"+('Base original'!BA104/'Base original'!BA92*100-100)*'Base original'!BA92/'Base original'!$BC92","v":0.83313192088746346},{"$f":"+('Base original'!BB104/'Base original'!BB92*100-100)*'Base original'!BB92/'Base original'!$BC92","v":2.5807857982912696E-2},{"$f":"+(('Base original'!AY104-'Base original'!BA104)/('Base original'!AY92-'Base original'!BA92)*100-100)*('Base original'!AY92-'Base original'!BA92)/'Base original'!$BC92","v":0.15205349722642281},{"$f":"+(('Base original'!AZ104-'Base original'!BB104)/('Base original'!AZ92-'Base original'!BB92)*100-100)*('Base original'!AZ92-'Base original'!BB92)/'Base original'!$BC92","v":1.1483935893591675E-2},{"$f":"+('Base original'!BC104/'Base original'!BC92*100-100)*'Base original'!BC92/'Base original'!$BC92","v":10.968196939614089}]
["2014-02-01",{"$f":"+'Base original'!B105/'Base original'!B93*100-100","v":10.4818536690467},{"$f":"+'Base original'!C105/'Base original'!C93*100-100","v":10.839167082191679},{"$f":"+'Base original'!D105/'Base original'!D93*100-100","v":12.498940970695287},{"$f":"+'Base original'!E105/'Base original'!E93*100-100","v":12.306941074646957},{"$f":"+'Base original'!F105/'Base original'!F93*100-100","v":11.139751956183687},{"$f":"+'Base original'!G105","v":26.87},{"$f":"+'Base original'!J105/'Base original'!$H105*'Base original'!I105","v":9.6881758957654718},{"$f":"+'Base original'!L105/'Base original'!$H105*'Base original'!K105","v":1.479766481625912},{"$f":"+'Base original'!N105/'Base original'!$H105*'Base original'!M105","v":4.6175003440840481},{"$f":"+'Base original'!P105/'Base original'!$H105*'Base original'!O105","v":11.084792402624215},{"$f":"+'Base original'!Q105","v":8.5299999999999994},{"$f":"+'Base original'!T105/'Base original'!$R105*'Base original'!S105","v":0.10800134186237881},{"$f":"+'Base original'!V105/'Base original'!$R105*'Base original'!U105","v":2.9521021076987917},{"$f":"+'Base original'!X105/'Base original'!$R105*'Base original'!W105","v":5.4685530824127131},{"$f":"+'Base original'!Y105","v":1.57},{"$f":"+'Base original'!AB105/'Base original'!$Z105*'Base original'!AA105","v":0.81019200797158852},{"$f":"+'Base original'!AD105/'Base original'!$Z105*'Base original'!AC105","v":0.76304325608727874},{"$f":"+'Base original'!AE105","v":4.3},{"$f":"+('Base original'!AH105/'Base original'!AH93*100-100)*'Base original'!AH93/'Base original'!$AK93","v":2.6155221573075371},{"$f":"+('Base original'!AI105/'Base original'!AI93*100-100)*'Base original'!AI93/'Base original'!$AK93","v":6.6339300145680546},{"$f":"+('Base original'!AJ105/'Base original'!AJ93*100-100)*'Base original'!AJ93/'Base original'!$AK93","v":3.3426040914752559},{"$f":"+('Base original'!AK105/'Base original'!AK93*100-100)*'Base original'!AK93/'Base original'!$AK93","v":12.592056263350855},{"$f":"+('Base original'!AK105/'Base original'!AK93*100-100)*'Base original'!AK93/'Base original'!$AR93","v":2.9918280094744993},{"$f":"+('Base original'!AL105/'Base original'!AL93*100-100)*'Base original'!AL93/'Base original'!$AR93","v":7.9830755347611868},{"$f":"+('Base original'!AM105/'Base original'!AM93*100-100)*'Base original'!AM93/'Base original'!$AR93","v":0.21687204394672471},{"$f":"+('Base original'!AN105/'Base original'!AN93*100-100)*'Base original'!AN93/'Base original'!$AR93","v":4.1632063185143311},{"$f":"+('Base original'!AO105/'Base original'!AO93*100-100)*'Base original'!AO93/'Base original'!$AR93","v":3.5979198065430387E-2},{"$f":"+('Base original'!AP105/'Base original'!AP93*100-100)*'Base original'!AP93/'Base original'!$AR93","v":3.5093021305089005},{"$f":"+('Base original'!AQ105/'Base original'!AQ93*100-100)*'Base original'!AQ93/'Base original'!$AR93","v":1.2490942828370443E-2},{"$f":"+(('Base original'!AN105-'Base original'!AP105)/('Base original'!AN93-'Base original'!AP93)*100-100)*(('Base original'!AN93-'Base original'!AP93)/'Base original'!AR93)","v":0.65390418800543004},{"$f":"+(('Base original'!AO105-'Base original'!AQ105)/('Base original'!AO93-'Base original'!AQ93)*100-100)*(('Base original'!AO93-'Base original'!AQ93)/'Base original'!AR93)","v":2.3488255237060055E-2},{"$f":"+('Base original'!AR105/'Base original'!AR93*100-100)*'Base original'!AR93/'Base original'!$AR93","v":11.86916803142492},{"$f":"+('Base original'!AR105/'Base original'!AR93*100-100)*'Base original'!AR93/'Base original'!$BC93","v":7.3183106455318061},{"$f":"+('Base original'!AS105/'Base original'!AS93*100-100)*'Base original'!AS93/'Base original'!$BC93","v":1.7206669057826323},{"$f":"+('Base original'!AT105/'Base original'!AT93*100-100)*'Base original'!AT93/'Base original'!$BC93","v":0.87129847978039976},{"$f":"+('Base original'!AU105/'Base original'!AU93*100-100)*'Base original'!AU93/'Base original'!$BC93","v":1.5224227709329405},{"$f":"+('Base original'!AV105/'Base original'!AV93*100-100)*'Base original'!AV93/'Base original'!$BC93","v":-0.39724926360472884},{"$f":"+('Base original'!AW105/'Base original'!AW93*100-100)*'Base original'!AW93/'Base original'!$BC93","v":-3.3936074819335596E-2},{"$f":"+('Base original'!AX105/'Base original'!AX93*100-100)*'Base original'!AX93/'Base original'!$BC93","v":1.0160001104187184},{"$f":"+('Base original'!AY105/'Base original'!AY93*100-100)*'Base original'!AY93/'Base original'!$BC93","v":1.2667822940414815},{"$f":"+('Base original'!AZ105/'Base original'!AZ93*100-100)*'Base original'!AZ93/'Base original'!$BC93","v":3.9605328334487079E-2},{"$f":"+('Base original'!BA105/'Base original'!BA93*100-100)*'Base original'!BA93/'Base original'!$BC93","v":1.0570132435052519},{"$f":"+('Base original'!BB105/'Base original'!BB93*100-100)*'Base original'!BB93/'Base original'!$BC93","v":3.4458650031919988E-2},{"$f":"+(('Base original'!AY105-'Base original'!BA105)/('Base original'!AY93-'Base original'!BA93)*100-100)*('Base original'!AY93-'Base original'!BA93)/'Base original'!$BC93","v":0.20976905053623041},{"$f":"+(('Base original'!AZ105-'Base original'!BB105)/('Base original'!AZ93-'Base original'!BB93)*100-100)*('Base original'!AZ93-'Base original'!BB93)/'Base original'!$BC93","v":5.146678302567027E-3},{"$f":"+('Base original'!BC105/'Base original'!BC93*100-100)*'Base original'!BC93/'Base original'!$BC93","v":12.232429302861235}]
["2014-03-01",{"$f":"+'Base original'!B106/'Base original'!B94*100-100","v":8.8494460935687727},{"$f":"+'Base original'!C106/'Base original'!C94*100-100","v":10.450260864939025},{"$f":"+'Base original'!D106/'Base original'!D94*100-100","v":12.880964406179871},{"$f":"+'Base original'!E106/'Base original'!E94*100-100","v":6.7406485234794218},{"$f":"+'Base original'!F106/'Base original'!F94*100-100","v":9.8261912385824388},{"$f":"+'Base original'!G106","v":24.53},{"$f":"+'Base original'!J106/'Base original'!$H106*'Base original'!I106","v":8.1341634212242635},{"$f":"+'Base original'!L106/'Base original'!$H106*'Base original'!K106","v":1.5802981459051526},{"$f":"+'Base original'!N106/'Base original'!$H106*'Base original'!M106","v":4.8425769123264697},{"$f":"+'Base original'!P106/'Base original'!$H106*'Base original'!O106","v":9.9768089071089161},{"$f":"+'Base original'!Q106","v":8.4700000000000006},{"$f":"+'Base original'!T106/'Base original'!$R106*'Base original'!S106","v":0.120278204862392},{"$f":"+'Base original'!V106/'Base original'!$R106*'Base original'!U106","v":3.6413690522670787},{"$f":"+'Base original'!X106/'Base original'!$R106*'Base original'!W106","v":4.7092751110046018},{"$f":"+'Base original'!Y106","v":1.57},{"$f":"+'Base original'!AB106/'Base original'!$Z106*'Base original'!AA106","v":0.8787309678717552},{"$f":"+'Base original'!AD106/'Base original'!$Z106*'Base original'!AC106","v":0.68881979245518055},{"$f":"+'Base original'!AE106","v":4.3},{"$f":"+('Base original'!AH106/'Base original'!AH94*100-100)*'Base original'!AH94/'Base original'!$AK94","v":2.4324611596303938},{"$f":"+('Base original'!AI106/'Base original'!AI94*100-100)*'Base original'!AI94/'Base original'!$AK94","v":6.7918803917769344},{"$f":"+('Base original'!AJ106/'Base original'!AJ94*100-100)*'Base original'!AJ94/'Base original'!$AK94","v":2.0538432741051018},{"$f":"+('Base original'!AK106/'Base original'!AK94*100-100)*'Base original'!AK94/'Base original'!$AK94","v":11.27818482551244},{"$f":"+('Base original'!AK106/'Base original'!AK94*100-100)*'Base original'!AK94/'Base original'!$AR94","v":2.6826499521751708},{"$f":"+('Base original'!AL106/'Base original'!AL94*100-100)*'Base original'!AL94/'Base original'!$AR94","v":6.9339013241175165},{"$f":"+('Base original'!AM106/'Base original'!AM94*100-100)*'Base original'!AM94/'Base original'!$AR94","v":0.22508055750894576},{"$f":"+('Base original'!AN106/'Base original'!AN94*100-100)*'Base original'!AN94/'Base original'!$AR94","v":2.7043149505727291},{"$f":"+('Base original'!AO106/'Base original'!AO94*100-100)*'Base original'!AO94/'Base original'!$AR94","v":3.1279444095540627E-2},{"$f":"+('Base original'!AP106/'Base original'!AP94*100-100)*'Base original'!AP94/'Base original'!$AR94","v":2.1720430578794345},{"$f":"+('Base original'!AQ106/'Base original'!AQ94*100-100)*'Base original'!AQ94/'Base original'!$AR94","v":1.3238376941114766E-2},{"$f":"+(('Base original'!AN106-'Base original'!AP106)/('Base original'!AN94-'Base original'!AP94)*100-100)*(('Base original'!AN94-'Base original'!AP94)/'Base original'!AR94)","v":0.53227189269329422},{"$f":"+(('Base original'!AO106-'Base original'!AQ106)/('Base original'!AO94-'Base original'!AQ94)*100-100)*(('Base original'!AO94-'Base original'!AQ94)/'Base original'!AR94)","v":1.8041067154425838E-2},{"$f":"+('Base original'!AR106/'Base original'!AR94*100-100)*'Base original'!AR94/'Base original'!$AR94","v":10.39194479364933},{"$f":"+('Base original'!AR106/'Base original'!AR94*100-100)*'Base original'!AR94/'Base original'!$BC94","v":6.4259076204609347},{"$f":"+('Base original'!AS106/'Base original'!AS94*100-100)*'Base original'!AS94/'Base original'!$BC94","v":1.8176656153874071},{"$f":"+('Base original'!AT106/'Base original'!AT94*100-100)*'Base original'!AT94/'Base original'!$BC94","v":1.1104711972089154},{"$f":"+('Base original'!AU106/'Base original'!AU94*100-100)*'Base original'!AU94/'Base original'!$BC94","v":1.4147736769126786},{"$f":"+('Base original'!AV106/'Base original'!AV94*100-100)*'Base original'!AV94/'Base original'!$BC94","v":-0.46337623316852311},{"$f":"+('Base original'!AW106/'Base original'!AW94*100-100)*'Base original'!AW94/'Base original'!$BC94","v":-3.1169546509759505E-2},{"$f":"+('Base original'!AX106/'Base original'!AX94*100-100)*'Base original'!AX94/'Base original'!$BC94","v":0.98149963343649882},{"$f":"+('Base original'!AY106/'Base original'!AY94*100-100)*'Base original'!AY94/'Base original'!$BC94","v":1.6600686771598767},{"$f":"+('Base original'!AZ106/'Base original'!AZ94*100-100)*'Base original'!AZ94/'Base original'!$BC94","v":4.690121048155358E-2},{"$f":"+('Base original'!BA106/'Base original'!BA94*100-100)*'Base original'!BA94/'Base original'!$BC94","v":1.3128843560246828},{"$f":"+('Base original'!BB106/'Base original'!BB94*100-100)*'Base original'!BB94/'Base original'!$BC94","v":3.5986541454073158E-2},{"$f":"+(('Base original'!AY106-'Base original'!BA106)/('Base original'!AY94-'Base original'!BA94)*100-100)*('Base original'!AY94-'Base original'!BA94)/'Base original'!$BC94","v":0.34718432113519443},{"$f":"+(('Base original'!AZ106-'Base original'!BB106)/('Base original'!AZ94-'Base original'!BB94)*100-100)*('Base original'!AZ94-'Base original'!BB94)/'Base original'!$BC94","v":1.0914669027480459E-2},{"$f":"+('Base original'!BC106/'Base original'!BC94*100-100)*'Base original'!BC94/'Base original'!$BC94","v":11.613870953890796}]
["2014-04-01",{"$f":"+'Base original'!B107/'Base original'!B95*100-100","v":8.8590801887445707},{"$f":"+'Base original'!C107/'Base original'!C95*100-100","v":10.346302893740017},{"$f":"+'Base original'!D107/'Base original'!D95*100-100","v":13.473467156097541},{"$f":"+'Base original'!E107/'Base original'!E95*100-100","v":7.9554647014397943},{"$f":"+'Base original'!F107/'Base original'!F95*100-100","v":10.055393628039198},{"$f":"+'Base original'!G107","v":26.13},{"$f":"+'Base original'!J107/'Base original'!$H107*'Base original'!I107","v":11.117743889560082},{"$f":"+'Base original'!L107/'Base original'!$H107*'Base original'!K107","v":1.5606283213504217},{"$f":"+'Base original'!N107/'Base original'!$H107*'Base original'!M107","v":4.1700658144859455},{"$f":"+'Base original'!P107/'Base original'!$H107*'Base original'!O107","v":9.2799249765551739},{"$f":"+'Base original'!Q107","v":8.7200000000000006},{"$f":"+'Base original'!T107/'Base original'!$R107*'Base original'!S107","v":0.25826701637484939},{"$f":"+'Base original'!V107/'Base original'!$R107*'Base original'!U107","v":2.9449742964485712},{"$f":"+'Base original'!X107/'Base original'!$R107*'Base original'!W107","v":5.5168730417523211},{"$f":"+'Base original'!Y107","v":1.59},{"$f":"+'Base original'!AB107/'Base original'!$Z107*'Base original'!AA107","v":0.86018493531232632},{"$f":"+'Base original'!AD107/'Base original'!$Z107*'Base original'!AC107","v":0.73426711870556616},{"$f":"+'Base original'!AE107","v":4.25},{"$f":"+('Base original'!AH107/'Base original'!AH95*100-100)*'Base original'!AH95/'Base original'!$AK95","v":2.6006051832231369},{"$f":"+('Base original'!AI107/'Base original'!AI95*100-100)*'Base original'!AI95/'Base original'!$AK95","v":7.3253313006497169},{"$f":"+('Base original'!AJ107/'Base original'!AJ95*100-100)*'Base original'!AJ95/'Base original'!$AK95","v":3.1166690893070021},{"$f":"+('Base original'!AK107/'Base original'!AK95*100-100)*'Base original'!AK95/'Base original'!$AK95","v":13.04260557317987},{"$f":"+('Base original'!AK107/'Base original'!AK95*100-100)*'Base original'!AK95/'Base original'!$AR95","v":3.0812732689557585},{"$f":"+('Base original'!AL107/'Base original'!AL95*100-100)*'Base original'!AL95/'Base original'!$AR95","v":5.4178325249389232},{"$f":"+('Base original'!AM107/'Base original'!AM95*100-100)*'Base original'!AM95/'Base original'!$AR95","v":0.22843492970293494},{"$f":"+('Base original'!AN107/'Base original'!AN95*100-100)*'Base original'!AN95/'Base original'!$AR95","v":1.4685863241103612},{"$f":"+('Base original'!AO107/'Base original'!AO95*100-100)*'Base original'!AO95/'Base original'!$AR95","v":2.9810185253135977E-2},{"$f":"+('Base original'!AP107/'Base original'!AP95*100-100)*'Base original'!AP95/'Base original'!$AR95","v":0.92267835428266776},{"$f":"+('Base original'!AQ107/'Base original'!AQ95*100-100)*'Base original'!AQ95/'Base original'!$AR95","v":1.2824606200595128E-2},{"$f":"+(('Base original'!AN107-'Base original'!AP107)/('Base original'!AN95-'Base original'!AP95)*100-100)*(('Base original'!AN95-'Base original'!AP95)/'Base original'!AR95)","v":0.54590796982769141},{"$f":"+(('Base original'!AO107-'Base original'!AQ107)/('Base original'!AO95-'Base original'!AQ95)*100-100)*(('Base original'!AO95-'Base original'!AQ95)/'Base original'!AR95)","v":1.6985579052540615E-2},{"$f":"+('Base original'!AR107/'Base original'!AR95*100-100)*'Base original'!AR95/'Base original'!$AR95","v":9.2904342724778672},{"$f":"+('Base original'!AR107/'Base original'!AR95*100-100)*'Base original'!AR95/'Base original'!$BC95","v":5.7293706272863663},{"$f":"+('Base original'!AS107/'Base original'!AS95*100-100)*'Base original'!AS95/'Base original'!$BC95","v":2.0241753014999895},{"$f":"+('Base original'!AT107/'Base original'!AT95*100-100)*'Base original'!AT95/'Base original'!$BC95","v":0.54929786815157322},{"$f":"+('Base original'!AU107/'Base original'!AU95*100-100)*'Base original'!AU95/'Base original'!$BC95","v":1.1886813440930724},{"$f":"+('Base original'!AV107/'Base original'!AV95*100-100)*'Base original'!AV95/'Base original'!$BC95","v":-0.33230847744616526},{"$f":"+('Base original'!AW107/'Base original'!AW95*100-100)*'Base original'!AW95/'Base original'!$BC95","v":-2.2801962396683324E-2},{"$f":"+('Base original'!AX107/'Base original'!AX95*100-100)*'Base original'!AX95/'Base original'!$BC95","v":0.76964027755306197},{"$f":"+('Base original'!AY107/'Base original'!AY95*100-100)*'Base original'!AY95/'Base original'!$BC95","v":2.1865959588457535},{"$f":"+('Base original'!AZ107/'Base original'!AZ95*100-100)*'Base original'!AZ95/'Base original'!$BC95","v":5.4883888351236101E-2},{"$f":"+('Base original'!BA107/'Base original'!BA95*100-100)*'Base original'!BA95/'Base original'!$BC95","v":1.4933714417140707},{"$f":"+('Base original'!BB107/'Base original'!BB95*100-100)*'Base original'!BB95/'Base original'!$BC95","v":3.3181772013897291E-2},{"$f":"+(('Base original'!AY107-'Base original'!BA107)/('Base original'!AY95-'Base original'!BA95)*100-100)*('Base original'!AY95-'Base original'!BA95)/'Base original'!$BC95","v":0.69322451713168209},{"$f":"+(('Base original'!AZ107-'Base original'!BB107)/('Base original'!AZ95-'Base original'!BB95)*100-100)*('Base original'!AZ95-'Base original'!BB95)/'Base original'!$BC95","v":2.1702116337338817E-2},{"$f":"+('Base original'!BC107/'Base original'!BC95*100-100)*'Base original'!BC95/'Base original'!$BC95","v":10.620981612210215}]
["2014-05-01",{"$f":"+'Base original'!B108/'Base original'!B96*100-100","v":8.0892820022049108},{"$f":"+'Base original'!C108/'Base original'!C96*100-100","v":10.172961967836287},{"$f":"+'Base original'!D108/'Base original'!D96*100-100","v":14.460377102131616},{"$f":"+'Base original'!E108/'Base original'!E96*100-100","v":-1.2233582247140191},{"$f":"+'Base original'!F108/'Base original'!F96*100-100","v":9.0360988673035223},{"$f":"+'Base original'!G108","v":27.43},{"$f":"+'Base original'!J108/'Base original'!$H108*'Base original'!I108","v":12.194485074130709},{"$f":"+'Base original'!L108/'Base original'!$H108*'Base original'!K108","v":2.4127808157702284},{"$f":"+'Base original'!N108/'Base original'!$H108*'Base original'!M108","v":4.0933891529818505},{"$f":"+'Base original'!P108/'Base original'!$H108*'Base original'!O108","v":8.7247471910112377},{"$f":"+'Base original'!Q108","v":8.5500000000000007},{"$f":"+'Base original'!T108/'Base original'!$R108*'Base original'!S108","v":0.30978265115288095},{"$f":"+'Base original'!V108/'Base original'!$R108*'Base original'!U108","v":2.9960442213910325},{"$f":"+'Base original'!X108/'Base original'!$R108*'Base original'!W108","v":5.2474858257184795},{"$f":"+'Base original'!Y108","v":1.24},{"$f":"+'Base original'!AB108/'Base original'!$Z108*'Base original'!AA108","v":0.65312141674098623},{"$f":"+'Base original'!AD108/'Base original'!$Z108*'Base original'!AC108","v":0.58628636344332596},{"$f":"+'Base original'!AE108","v":4.1399999999999997},{"$f":"+('Base original'!AH108/'Base original'!AH96*100-100)*'Base original'!AH96/'Base original'!$AK96","v":2.1133466604262816},{"$f":"+('Base original'!AI108/'Base original'!AI96*100-100)*'Base original'!AI96/'Base original'!$AK96","v":6.5535208846267938},{"$f":"+('Base original'!AJ108/'Base original'!AJ96*100-100)*'Base original'!AJ96/'Base original'!$AK96","v":3.8258911364910566},{"$f":"+('Base original'!AK108/'Base original'!AK96*100-100)*'Base original'!AK96/'Base original'!$AK96","v":12.492758681544132},{"$f":"+('Base original'!AK108/'Base original'!AK96*100-100)*'Base original'!AK96/'Base original'!$AR96","v":2.9582007776920363},{"$f":"+('Base original'!AL108/'Base original'!AL96*100-100)*'Base original'!AL96/'Base original'!$AR96","v":3.6086593364229329},{"$f":"+('Base original'!AM108/'Base original'!AM96*100-100)*'Base original'!AM96/'Base original'!$AR96","v":0.24337219750493286},{"$f":"+('Base original'!AN108/'Base original'!AN96*100-100)*'Base original'!AN96/'Base original'!$AR96","v":1.0662012747354597},{"$f":"+('Base original'!AO108/'Base original'!AO96*100-100)*'Base original'!AO96/'Base original'!$AR96","v":3.2583201695806814E-2},{"$f":"+('Base original'!AP108/'Base original'!AP96*100-100)*'Base original'!AP96/'Base original'!$AR96","v":0.47846226777784173},{"$f":"+('Base original'!AQ108/'Base original'!AQ96*100-100)*'Base original'!AQ96/'Base original'!$AR96","v":1.1621771377023688E-2},{"$f":"+(('Base original'!AN108-'Base original'!AP108)/('Base original'!AN96-'Base original'!AP96)*100-100)*(('Base original'!AN96-'Base original'!AP96)/'Base original'!AR96)","v":0.58773900695761794},{"$f":"+(('Base original'!AO108-'Base original'!AQ108)/('Base original'!AO96-'Base original'!AQ96)*100-100)*(('Base original'!AO96-'Base original'!AQ96)/'Base original'!AR96)","v":2.0961430318783142E-2},{"$f":"+('Base original'!AR108/'Base original'!AR96*100-100)*'Base original'!AR96/'Base original'!$AR96","v":7.4189327488963102},{"$f":"+('Base original'!AR108/'Base original'!AR96*100-100)*'Base original'!AR96/'Base original'!$BC96","v":4.5670148233586731},{"$f":"+('Base original'!AS108/'Base original'!AS96*100-100)*'Base original'!AS96/'Base original'!$BC96","v":2.1567385013269105},{"$f":"+('Base original'!AT108/'Base original'!AT96*100-100)*'Base original'!AT96/'Base original'!$BC96","v":0.60171723675222377},{"$f":"+('Base original'!AU108/'Base original'!AU96*100-100)*'Base original'!AU96/'Base original'!$BC96","v":1.0999424894276302},{"$f":"+('Base original'!AV108/'Base original'!AV96*100-100)*'Base original'!AV96/'Base original'!$BC96","v":-0.11764197959093442},{"$f":"+('Base original'!AW108/'Base original'!AW96*100-100)*'Base original'!AW96/'Base original'!$BC96","v":-2.0265448373023749E-2},{"$f":"+('Base original'!AX108/'Base original'!AX96*100-100)*'Base original'!AX96/'Base original'!$BC96","v":0.663209498289838},{"$f":"+('Base original'!AY108/'Base original'!AY96*100-100)*'Base original'!AY96/'Base original'!$BC96","v":2.7329618081041223},{"$f":"+('Base original'!AZ108/'Base original'!AZ96*100-100)*'Base original'!AZ96/'Base original'!$BC96","v":6.3110911585425894E-2},{"$f":"+('Base original'!BA108/'Base original'!BA96*100-100)*'Base original'!BA96/'Base original'!$BC96","v":1.7136696066119699},{"$f":"+('Base original'!BB108/'Base original'!BB96*100-100)*'Base original'!BB96/'Base original'!$BC96","v":2.8534716028018027E-2},{"$f":"+(('Base original'!AY108-'Base original'!BA108)/('Base original'!AY96-'Base original'!BA96)*100-100)*('Base original'!AY96-'Base original'!BA96)/'Base original'!$BC96","v":1.0192922014921519},{"$f":"+(('Base original'!AZ108-'Base original'!BB108)/('Base original'!AZ96-'Base original'!BB96)*100-100)*('Base original'!AZ96-'Base original'!BB96)/'Base original'!$BC96","v":3.4576195557407825E-2},{"$f":"+('Base original'!BC108/'Base original'!BC96*100-100)*'Base original'!BC96/'Base original'!$BC96","v":10.004583518240892}]
["2014-06-01",{"$f":"+'Base original'!B109/'Base original'!B97*100-100","v":7.8021011285882764},{"$f":"+'Base original'!C109/'Base original'!C97*100-100","v":9.7965398163549509},{"$f":"+'Base original'!D109/'Base original'!D97*100-100","v":15.00664138254983},{"$f":"+'Base original'!E109/'Base original'!E97*100-100","v":-5.9011162680432108},{"$f":"+'Base original'!F109/'Base original'!F97*100-100","v":8.5507506142370033},{"$f":"+'Base original'!G109","v":26.58},{"$f":"+'Base original'!J109/'Base original'!$H109*'Base original'!I109","v":12.460167590436523},{"$f":"+'Base original'!L109/'Base original'!$H109*'Base original'!K109","v":1.7640557869535276},{"$f":"+'Base original'!N109/'Base original'!$H109*'Base original'!M109","v":3.930874438358861},{"$f":"+'Base original'!P109/'Base original'!$H109*'Base original'!O109","v":8.4250475550162349},{"$f":"+'Base original'!Q109","v":8.2200000000000006},{"$f":"+'Base original'!T109/'Base original'!$R109*'Base original'!S109","v":0.22897015599185458},{"$f":"+'Base original'!V109/'Base original'!$R109*'Base original'!U109","v":2.6821128059323005},{"$f":"+'Base original'!X109/'Base original'!$R109*'Base original'!W109","v":5.3100538863487907},{"$f":"+'Base original'!Y109","v":1.37},{"$f":"+'Base original'!AB109/'Base original'!$Z109*'Base original'!AA109","v":0.76550323687268285},{"$f":"+'Base original'!AD109/'Base original'!$Z109*'Base original'!AC109","v":0.60285674763459307},{"$f":"+'Base original'!AE109","v":3.94},{"$f":"+('Base original'!AH109/'Base original'!AH97*100-100)*'Base original'!AH97/'Base original'!$AK97","v":2.1854400017406381},{"$f":"+('Base original'!AI109/'Base original'!AI97*100-100)*'Base original'!AI97/'Base original'!$AK97","v":6.0276022617903067},{"$f":"+('Base original'!AJ109/'Base original'!AJ97*100-100)*'Base original'!AJ97/'Base original'!$AK97","v":3.1432951769583224},{"$f":"+('Base original'!AK109/'Base original'!AK97*100-100)*'Base original'!AK97/'Base original'!$AK97","v":11.35633744048927},{"$f":"+('Base original'!AK109/'Base original'!AK97*100-100)*'Base original'!AK97/'Base original'!$AR97","v":2.6960464662016492},{"$f":"+('Base original'!AL109/'Base original'!AL97*100-100)*'Base original'!AL97/'Base original'!$AR97","v":2.5057193276781686},{"$f":"+('Base original'!AM109/'Base original'!AM97*100-100)*'Base original'!AM97/'Base original'!$AR97","v":0.26071094572314379},{"$f":"+('Base original'!AN109/'Base original'!AN97*100-100)*'Base original'!AN97/'Base original'!$AR97","v":0.20702309645772549},{"$f":"+('Base original'!AO109/'Base original'!AO97*100-100)*'Base original'!AO97/'Base original'!$AR97","v":2.2537487632073829E-2},{"$f":"+('Base original'!AP109/'Base original'!AP97*100-100)*'Base original'!AP97/'Base original'!$AR97","v":-0.19937164853808717},{"$f":"+('Base original'!AQ109/'Base original'!AQ97*100-100)*'Base original'!AQ97/'Base original'!$AR97","v":6.8159579322374323E-3},{"$f":"+(('Base original'!AN109-'Base original'!AP109)/('Base original'!AN97-'Base original'!AP97)*100-100)*(('Base original'!AN97-'Base original'!AP97)/'Base original'!AR97)","v":0.4063947449958113},{"$f":"+(('Base original'!AO109-'Base original'!AQ109)/('Base original'!AO97-'Base original'!AQ97)*100-100)*(('Base original'!AO97-'Base original'!AQ97)/'Base original'!AR97)","v":1.5721529699836322E-2},{"$f":"+('Base original'!AR109/'Base original'!AR97*100-100)*'Base original'!AR97/'Base original'!$AR97","v":5.8845930142986163},{"$f":"+('Base original'!AR109/'Base original'!AR97*100-100)*'Base original'!AR97/'Base original'!$BC97","v":3.6369120602956908},{"$f":"+('Base original'!AS109/'Base original'!AS97*100-100)*'Base original'!AS97/'Base original'!$BC97","v":1.7994093975289616},{"$f":"+('Base original'!AT109/'Base original'!AT97*100-100)*'Base original'!AT97/'Base original'!$BC97","v":0.62270778139395055},{"$f":"+('Base original'!AU109/'Base original'!AU97*100-100)*'Base original'!AU97/'Base original'!$BC97","v":1.137878038513761},{"$f":"+('Base original'!AV109/'Base original'!AV97*100-100)*'Base original'!AV97/'Base original'!$BC97","v":0.12090555392116059},{"$f":"+('Base original'!AW109/'Base original'!AW97*100-100)*'Base original'!AW97/'Base original'!$BC97","v":-2.0859905854497172E-2},{"$f":"+('Base original'!AX109/'Base original'!AX97*100-100)*'Base original'!AX97/'Base original'!$BC97","v":0.75988026884181581},{"$f":"+('Base original'!AY109/'Base original'!AY97*100-100)*'Base original'!AY97/'Base original'!$BC97","v":3.2722297799833218},{"$f":"+('Base original'!AZ109/'Base original'!AZ97*100-100)*'Base original'!AZ97/'Base original'!$BC97","v":7.6534435048968993E-2},{"$f":"+('Base original'!BA109/'Base original'!BA97*100-100)*'Base original'!BA97/'Base original'!$BC97","v":1.9604670303790213},{"$f":"+('Base original'!BB109/'Base original'!BB97*100-100)*'Base original'!BB97/'Base original'!$BC97","v":2.8405436183451104E-2},{"$f":"+(('Base original'!AY109-'Base original'!BA109)/('Base original'!AY97-'Base original'!BA97)*100-100)*('Base original'!AY97-'Base original'!BA97)/'Base original'!$BC97","v":1.3117627496043001},{"$f":"+(('Base original'!AZ109-'Base original'!BB109)/('Base original'!AZ97-'Base original'!BB97)*100-100)*('Base original'!AZ97-'Base original'!BB97)/'Base original'!$BC97","v":4.812899886551792E-2},{"$f":"+('Base original'!BC109/'Base original'!BC97*100-100)*'Base original'!BC97/'Base original'!$BC97","v":9.4167249431106939}]
["2014-07-01",{"$f":"+'Base original'!B110/'Base original'!B98*100-100","v":7.8188365090886975},{"$f":"+'Base original'!C110/'Base original'!C98*100-100","v":9.8145472604617083},{"$f":"+'Base original'!D110/'Base original'!D98*100-100","v":14.798262886551768},{"$f":"+'Base original'!E110/'Base original'!E98*100-100","v":-5.3825847649971621},{"$f":"+'Base original'!F110/'Base original'!F98*100-100","v":8.5375953163018039},{"$f":"+'Base original'!G110","v":24.96},{"$f":"+'Base original'!J110/'Base original'!$H110*'Base original'!I110","v":10.997508942018074},{"$f":"+'Base original'!L110/'Base original'!$H110*'Base original'!K110","v":1.4546040411646586},{"$f":"+'Base original'!N110/'Base original'!$H110*'Base original'!M110","v":4.0925828313253012},{"$f":"+'Base original'!P110/'Base original'!$H110*'Base original'!O110","v":8.4113623242971887},{"$f":"+'Base original'!Q110","v":8.0500000000000007},{"$f":"+'Base original'!T110/'Base original'!$R110*'Base original'!S110","v":0.19428521268057786},{"$f":"+'Base original'!V110/'Base original'!$R110*'Base original'!U110","v":2.7558892025911494},{"$f":"+'Base original'!X110/'Base original'!$R110*'Base original'!W110","v":5.1021096078880994},{"$f":"+'Base original'!Y110","v":1.24},{"$f":"+'Base original'!AB110/'Base original'!$Z110*'Base original'!AA110","v":0.6816448899681542},{"$f":"+'Base original'!AD110/'Base original'!$Z110*'Base original'!AC110","v":0.55570392652779976},{"$f":"+'Base original'!AE110","v":3.86},{"$f":"+('Base original'!AH110/'Base original'!AH98*100-100)*'Base original'!AH98/'Base original'!$AK98","v":2.0224960761482476},{"$f":"+('Base original'!AI110/'Base original'!AI98*100-100)*'Base original'!AI98/'Base original'!$AK98","v":5.9964952178854585},{"$f":"+('Base original'!AJ110/'Base original'!AJ98*100-100)*'Base original'!AJ98/'Base original'!$AK98","v":1.965021005329419},{"$f":"+('Base original'!AK110/'Base original'!AK98*100-100)*'Base original'!AK98/'Base original'!$AK98","v":9.9840122993631155},{"$f":"+('Base original'!AK110/'Base original'!AK98*100-100)*'Base original'!AK98/'Base original'!$AR98","v":2.363908980195109},{"$f":"+('Base original'!AL110/'Base original'!AL98*100-100)*'Base original'!AL98/'Base original'!$AR98","v":3.072691774269245},{"$f":"+('Base original'!AM110/'Base original'!AM98*100-100)*'Base original'!AM98/'Base original'!$AR98","v":0.3015454846708806},{"$f":"+('Base original'!AN110/'Base original'!AN98*100-100)*'Base original'!AN98/'Base original'!$AR98","v":-0.34639763486621872},{"$f":"+('Base original'!AO110/'Base original'!AO98*100-100)*'Base original'!AO98/'Base original'!$AR98","v":2.1921886758845262E-2},{"$f":"+('Base original'!AP110/'Base original'!AP98*100-100)*'Base original'!AP98/'Base original'!$AR98","v":-0.67657653306657406},{"$f":"+('Base original'!AQ110/'Base original'!AQ98*100-100)*'Base original'!AQ98/'Base original'!$AR98","v":7.0422033904364734E-3},{"$f":"+(('Base original'!AN110-'Base original'!AP110)/('Base original'!AN98-'Base original'!AP98)*100-100)*(('Base original'!AN98-'Base original'!AP98)/'Base original'!AR98)","v":0.33017889820035518},{"$f":"+(('Base original'!AO110-'Base original'!AQ110)/('Base original'!AO98-'Base original'!AQ98)*100-100)*(('Base original'!AO98-'Base original'!AQ98)/'Base original'!AR98)","v":1.4879683368408697E-2},{"$f":"+('Base original'!AR110/'Base original'!AR98*100-100)*'Base original'!AR98/'Base original'!$AR98","v":6.0832048207040117},{"$f":"+('Base original'!AR110/'Base original'!AR98*100-100)*'Base original'!AR98/'Base original'!$BC98","v":3.7511574739201947},{"$f":"+('Base original'!AS110/'Base original'!AS98*100-100)*'Base original'!AS98/'Base original'!$BC98","v":1.4736474327534252},{"$f":"+('Base original'!AT110/'Base original'!AT98*100-100)*'Base original'!AT98/'Base original'!$BC98","v":0.15114419783501806},{"$f":"+('Base original'!AU110/'Base original'!AU98*100-100)*'Base original'!AU98/'Base original'!$BC98","v":1.1034784321713738},{"$f":"+('Base original'!AV110/'Base original'!AV98*100-100)*'Base original'!AV98/'Base original'!$BC98","v":-4.537186314864404E-2},{"$f":"+('Base original'!AW110/'Base original'!AW98*100-100)*'Base original'!AW98/'Base original'!$BC98","v":-4.9924084714346798E-3},{"$f":"+('Base original'!AX110/'Base original'!AX98*100-100)*'Base original'!AX98/'Base original'!$BC98","v":0.92710718450455254},{"$f":"+('Base original'!AY110/'Base original'!AY98*100-100)*'Base original'!AY98/'Base original'!$BC98","v":3.7316729793428736},{"$f":"+('Base original'!AZ110/'Base original'!AZ98*100-100)*'Base original'!AZ98/'Base original'!$BC98","v":9.5623775856008869E-2},{"$f":"+('Base original'!BA110/'Base original'!BA98*100-100)*'Base original'!BA98/'Base original'!$BC98","v":2.1384509922688011},{"$f":"+('Base original'!BB110/'Base original'!BB98*100-100)*'Base original'!BB98/'Base original'!$BC98","v":3.1462018327489641E-2},{"$f":"+(('Base original'!AY110-'Base original'!BA110)/('Base original'!AY98-'Base original'!BA98)*100-100)*('Base original'!AY98-'Base original'!BA98)/'Base original'!$BC98","v":1.5932219870740727},{"$f":"+(('Base original'!AZ110-'Base original'!BB110)/('Base original'!AZ98-'Base original'!BB98)*100-100)*('Base original'!AZ98-'Base original'!BB98)/'Base original'!$BC98","v":6.4161757528519173E-2},{"$f":"+('Base original'!BC110/'Base original'!BC98*100-100)*'Base original'!BC98/'Base original'!$BC98","v":9.0135541941670709}]
["2014-08-01",{"$f":"+'Base original'!B111/'Base original'!B99*100-100","v":8.0283115404260315},{"$f":"+'Base original'!C111/'Base original'!C99*100-100","v":9.3955426649378353},{"$f":"+'Base original'!D111/'Base original'!D99*100-100","v":14.916275364476931},{"$f":"+'Base original'!E111/'Base original'!E99*100-100","v":-4.5542669195978078},{"$f":"+'Base original'!F111/'Base original'!F99*100-100","v":8.7273621587996786},{"$f":"+'Base original'!G111","v":24.74},{"$f":"+'Base original'!J111/'Base original'!$H111*'Base original'!I111","v":11.492355439068589},{"$f":"+'Base original'!L111/'Base original'!$H111*'Base original'!K111","v":1.2003932212880797},{"$f":"+'Base original'!N111/'Base original'!$H111*'Base original'!M111","v":4.104476469719005},{"$f":"+'Base original'!P111/'Base original'!$H111*'Base original'!O111","v":7.9401952107264782},{"$f":"+'Base original'!Q111","v":7.67},{"$f":"+'Base original'!T111/'Base original'!$R111*'Base original'!S111","v":0.24312658088639616},{"$f":"+'Base original'!V111/'Base original'!$R111*'Base original'!U111","v":2.4494705503448491},{"$f":"+'Base original'!X111/'Base original'!$R111*'Base original'!W111","v":4.972970442988589},{"$f":"+'Base original'!Y111","v":1.34},{"$f":"+'Base original'!AB111/'Base original'!$Z111*'Base original'!AA111","v":0.71710536282769144},{"$f":"+'Base original'!AD111/'Base original'!$Z111*'Base original'!AC111","v":0.62618716156043042},{"$f":"+'Base original'!AE111","v":3.67},{"$f":"+('Base original'!AH111/'Base original'!AH99*100-100)*'Base original'!AH99/'Base original'!$AK99","v":1.9798524884461466},{"$f":"+('Base original'!AI111/'Base original'!AI99*100-100)*'Base original'!AI99/'Base original'!$AK99","v":7.1023098808911245},{"$f":"+('Base original'!AJ111/'Base original'!AJ99*100-100)*'Base original'!AJ99/'Base original'!$AK99","v":1.5542409535049422},{"$f":"+('Base original'!AK111/'Base original'!AK99*100-100)*'Base original'!AK99/'Base original'!$AK99","v":10.636403322842213},{"$f":"+('Base original'!AK111/'Base original'!AK99*100-100)*'Base original'!AK99/'Base original'!$AR99","v":2.4594611839892533},{"$f":"+('Base original'!AL111/'Base original'!AL99*100-100)*'Base original'!AL99/'Base original'!$AR99","v":3.1106444176373507},{"$f":"+('Base original'!AM111/'Base original'!AM99*100-100)*'Base original'!AM99/'Base original'!$AR99","v":0.25226918899797957},{"$f":"+('Base original'!AN111/'Base original'!AN99*100-100)*'Base original'!AN99/'Base original'!$AR99","v":-1.6660461905039756},{"$f":"+('Base original'!AO111/'Base original'!AO99*100-100)*'Base original'!AO99/'Base original'!$AR99","v":3.9478096198936947E-2},{"$f":"+('Base original'!AP111/'Base original'!AP99*100-100)*'Base original'!AP99/'Base original'!$AR99","v":-1.8867288933978774},{"$f":"+('Base original'!AQ111/'Base original'!AQ99*100-100)*'Base original'!AQ99/'Base original'!$AR99","v":6.7865400147273554E-3},{"$f":"+(('Base original'!AN111-'Base original'!AP111)/('Base original'!AN99-'Base original'!AP99)*100-100)*(('Base original'!AN99-'Base original'!AP99)/'Base original'!AR99)","v":0.22068270289389968},{"$f":"+(('Base original'!AO111-'Base original'!AQ111)/('Base original'!AO99-'Base original'!AQ99)*100-100)*(('Base original'!AO99-'Base original'!AQ99)/'Base original'!AR99)","v":3.2691556184209686E-2},{"$f":"+('Base original'!AR111/'Base original'!AR99*100-100)*'Base original'!AR99/'Base original'!$AR99","v":6.0757490497026927},{"$f":"+('Base original'!AR111/'Base original'!AR99*100-100)*'Base original'!AR99/'Base original'!$BC99","v":3.7132002663230943},{"$f":"+('Base original'!AS111/'Base original'!AS99*100-100)*'Base original'!AS99/'Base original'!$BC99","v":1.4754131658154037},{"$f":"+('Base original'!AT111/'Base original'!AT99*100-100)*'Base original'!AT99/'Base original'!$BC99","v":-0.10057255738733901},{"$f":"+('Base original'!AU111/'Base original'!AU99*100-100)*'Base original'!AU99/'Base original'!$BC99","v":0.95553433665315335},{"$f":"+('Base original'!AV111/'Base original'!AV99*100-100)*'Base original'!AV99/'Base original'!$BC99","v":-6.8784154093355449E-2},{"$f":"+('Base original'!AW111/'Base original'!AW99*100-100)*'Base original'!AW99/'Base original'!$BC99","v":5.8350114318682731E-3},{"$f":"+('Base original'!AX111/'Base original'!AX99*100-100)*'Base original'!AX99/'Base original'!$BC99","v":0.54769648466203247},{"$f":"+('Base original'!AY111/'Base original'!AY99*100-100)*'Base original'!AY99/'Base original'!$BC99","v":4.3327136568264244},{"$f":"+('Base original'!AZ111/'Base original'!AZ99*100-100)*'Base original'!AZ99/'Base original'!$BC99","v":0.12064579576575166},{"$f":"+('Base original'!BA111/'Base original'!BA99*100-100)*'Base original'!BA99/'Base original'!$BC99","v":2.3386807818255098},{"$f":"+('Base original'!BB111/'Base original'!BB99*100-100)*'Base original'!BB99/'Base original'!$BC99","v":3.3590749235896743E-2},{"$f":"+(('Base original'!AY111-'Base original'!BA111)/('Base original'!AY99-'Base original'!BA99)*100-100)*('Base original'!AY99-'Base original'!BA99)/'Base original'!$BC99","v":1.9940328750009144},{"$f":"+(('Base original'!AZ111-'Base original'!BB111)/('Base original'!AZ99-'Base original'!BB99)*100-100)*('Base original'!AZ99-'Base original'!BB99)/'Base original'!$BC99","v":8.7055046529854949E-2},{"$f":"+('Base original'!BC111/'Base original'!BC99*100-100)*'Base original'!BC99/'Base original'!$BC99","v":8.6094104749356148}]
["2014-09-01",{"$f":"+'Base original'!B112/'Base original'!B100*100-100","v":8.0629015418861769},{"$f":"+'Base original'!C112/'Base original'!C100*100-100","v":9.4204846839571559},{"$f":"+'Base original'!D112/'Base original'!D100*100-100","v":15.251453669224574},{"$f":"+'Base original'!E112/'Base original'!E100*100-100","v":0.56806621214791164},{"$f":"+'Base original'!F112/'Base original'!F100*100-100","v":9.3119428795189805},{"$f":"+'Base original'!G112","v":24.96},{"$f":"+'Base original'!J112/'Base original'!$H112*'Base original'!I112","v":11.990747906991563},{"$f":"+'Base original'!L112/'Base original'!$H112*'Base original'!K112","v":1.1053832734572278},{"$f":"+'Base original'!N112/'Base original'!$H112*'Base original'!M112","v":3.8175562583142826},{"$f":"+'Base original'!P112/'Base original'!$H112*'Base original'!O112","v":8.0494834192309845},{"$f":"+'Base original'!Q112","v":7.35},{"$f":"+'Base original'!T112/'Base original'!$R112*'Base original'!S112","v":0.21541894888902266},{"$f":"+'Base original'!V112/'Base original'!$R112*'Base original'!U112","v":2.3977603122496882},{"$f":"+'Base original'!X112/'Base original'!$R112*'Base original'!W112","v":4.7388155902602547},{"$f":"+'Base original'!Y112","v":1.28},{"$f":"+'Base original'!AB112/'Base original'!$Z112*'Base original'!AA112","v":0.62183298950375199},{"$f":"+'Base original'!AD112/'Base original'!$Z112*'Base original'!AC112","v":0.66060053047992573},{"$f":"+'Base original'!AE112","v":3.58},{"$f":"+('Base original'!AH112/'Base original'!AH100*100-100)*'Base original'!AH100/'Base original'!$AK100","v":1.5001860684838508},{"$f":"+('Base original'!AI112/'Base original'!AI100*100-100)*'Base original'!AI100/'Base original'!$AK100","v":7.0252162883564955},{"$f":"+('Base original'!AJ112/'Base original'!AJ100*100-100)*'Base original'!AJ100/'Base original'!$AK100","v":1.6432095738913599},{"$f":"+('Base original'!AK112/'Base original'!AK100*100-100)*'Base original'!AK100/'Base original'!$AK100","v":10.168611930731686},{"$f":"+('Base original'!AK112/'Base original'!AK100*100-100)*'Base original'!AK100/'Base original'!$AR100","v":2.403474820980493},{"$f":"+('Base original'!AL112/'Base original'!AL100*100-100)*'Base original'!AL100/'Base original'!$AR100","v":2.7347458975148493},{"$f":"+('Base original'!AM112/'Base original'!AM100*100-100)*'Base original'!AM100/'Base original'!$AR100","v":0.24965933930130091},{"$f":"+('Base original'!AN112/'Base original'!AN100*100-100)*'Base original'!AN100/'Base original'!$AR100","v":-1.338126819218344},{"$f":"+('Base original'!AO112/'Base original'!AO100*100-100)*'Base original'!AO100/'Base original'!$AR100","v":5.6677730629900419E-2},{"$f":"+('Base original'!AP112/'Base original'!AP100*100-100)*'Base original'!AP100/'Base original'!$AR100","v":-1.5989593447999662},{"$f":"+('Base original'!AQ112/'Base original'!AQ100*100-100)*'Base original'!AQ100/'Base original'!$AR100","v":4.8218067743425169E-3},{"$f":"+(('Base original'!AN112-'Base original'!AP112)/('Base original'!AN100-'Base original'!AP100)*100-100)*(('Base original'!AN100-'Base original'!AP100)/'Base original'!AR100)","v":0.26083252558162351},{"$f":"+(('Base original'!AO112-'Base original'!AQ112)/('Base original'!AO100-'Base original'!AQ100)*100-100)*(('Base original'!AO100-'Base original'!AQ100)/'Base original'!AR100)","v":5.185592385555781E-2},{"$f":"+('Base original'!AR112/'Base original'!AR100*100-100)*'Base original'!AR100/'Base original'!$AR100","v":5.7005685072338395},{"$f":"+('Base original'!AR112/'Base original'!AR100*100-100)*'Base original'!AR100/'Base original'!$BC100","v":3.4797242817420244},{"$f":"+('Base original'!AS112/'Base original'!AS100*100-100)*'Base original'!AS100/'Base original'!$BC100","v":1.8401376030846013},{"$f":"+('Base original'!AT112/'Base original'!AT100*100-100)*'Base original'!AT100/'Base original'!$BC100","v":-0.33001754469677569},{"$f":"+('Base original'!AU112/'Base original'!AU100*100-100)*'Base original'!AU100/'Base original'!$BC100","v":1.0505004394242703},{"$f":"+('Base original'!AV112/'Base original'!AV100*100-100)*'Base original'!AV100/'Base original'!$BC100","v":-2.4160017089072838E-2},{"$f":"+('Base original'!AW112/'Base original'!AW100*100-100)*'Base original'!AW100/'Base original'!$BC100","v":-5.2087165307048563E-3},{"$f":"+('Base original'!AX112/'Base original'!AX100*100-100)*'Base original'!AX100/'Base original'!$BC100","v":0.31926812315792585},{"$f":"+('Base original'!AY112/'Base original'!AY100*100-100)*'Base original'!AY100/'Base original'!$BC100","v":4.4104984887609024},{"$f":"+('Base original'!AZ112/'Base original'!AZ100*100-100)*'Base original'!AZ100/'Base original'!$BC100","v":0.13211792130330829},{"$f":"+('Base original'!BA112/'Base original'!BA100*100-100)*'Base original'!BA100/'Base original'!$BC100","v":2.4265535571746994},{"$f":"+('Base original'!BB112/'Base original'!BB100*100-100)*'Base original'!BB100/'Base original'!$BC100","v":3.1134798462145313E-2},{"$f":"+(('Base original'!AY112-'Base original'!BA112)/('Base original'!AY100-'Base original'!BA100)*100-100)*('Base original'!AY100-'Base original'!BA100)/'Base original'!$BC100","v":1.9839449315862032},{"$f":"+(('Base original'!AZ112-'Base original'!BB112)/('Base original'!AZ100-'Base original'!BB100)*100-100)*('Base original'!AZ100-'Base original'!BB100)/'Base original'!$BC100","v":0.10098312284116306},{"$f":"+('Base original'!BC112/'Base original'!BC100*100-100)*'Base original'!BC100/'Base original'!$BC100","v":8.4151722235195905}]
["2014-10-01",{"$f":"+'Base original'!B113/'Base original'!B101*100-100","v":7.8623673037180026},{"$f":"+'Base original'!C113/'Base original'!C101*100-100","v":8.9854273997387963},{"$f":"+'Base original'!D113/'Base original'!D101*100-100","v":15.735572064263991},{"$f":"+'Base original'!E113/'Base original'!E101*100-100","v":-2.3486572880015189},{"$f":"+'Base original'!F113/'Base original'!F101*100-100","v":9.0484553388988189},{"$f":"+'Base original'!G113","v":24.14},{"$f":"+'Base original'!J113/'Base original'!$H113*'Base original'!I113","v":11.359546363216976},{"$f":"+'Base original'!L113/'Base original'!$H113*'Base original'!K113","v":1.1209883130862679},{"$f":"+'Base original'!N113/'Base original'!$H113*'Base original'!M113","v":4.028258957404276},{"$f":"+'Base original'!P113/'Base original'!$H113*'Base original'!O113","v":7.6314731662309709},{"$f":"+'Base original'!Q113","v":7.31},{"$f":"+'Base original'!T113/'Base original'!$R113*'Base original'!S113","v":0.20938344825117566},{"$f":"+'Base original'!V113/'Base original'!$R113*'Base original'!U113","v":2.5516804553162742},{"$f":"+'Base original'!X113/'Base original'!$R113*'Base original'!W113","v":4.5507303360731655},{"$f":"+'Base original'!Y113","v":1.42},{"$f":"+'Base original'!AB113/'Base original'!$Z113*'Base original'!AA113","v":0.75216468018865734},{"$f":"+'Base original'!AD113/'Base original'!$Z113*'Base original'!AC113","v":0.66340582235542855},{"$f":"+'Base original'!AE113","v":3.57},{"$f":"+('Base original'!AH113/'Base original'!AH101*100-100)*'Base original'!AH101/'Base original'!$AK101","v":1.5074218116048488},{"$f":"+('Base original'!AI113/'Base original'!AI101*100-100)*'Base original'!AI101/'Base original'!$AK101","v":6.3076428767324559},{"$f":"+('Base original'!AJ113/'Base original'!AJ101*100-100)*'Base original'!AJ101/'Base original'!$AK101","v":4.0471067194681929},{"$f":"+('Base original'!AK113/'Base original'!AK101*100-100)*'Base original'!AK101/'Base original'!$AK101","v":11.862171407805505},{"$f":"+('Base original'!AK113/'Base original'!AK101*100-100)*'Base original'!AK101/'Base original'!$AR101","v":2.7320684599727016},{"$f":"+('Base original'!AL113/'Base original'!AL101*100-100)*'Base original'!AL101/'Base original'!$AR101","v":3.1668553502240742},{"$f":"+('Base original'!AM113/'Base original'!AM101*100-100)*'Base original'!AM101/'Base original'!$AR101","v":0.2730610936530482},{"$f":"+('Base original'!AN113/'Base original'!AN101*100-100)*'Base original'!AN101/'Base original'!$AR101","v":0.33202974244210348},{"$f":"+('Base original'!AO113/'Base original'!AO101*100-100)*'Base original'!AO101/'Base original'!$AR101","v":7.0491037431489836E-2},{"$f":"+('Base original'!AP113/'Base original'!AP101*100-100)*'Base original'!AP101/'Base original'!$AR101","v":-0.31308975370855285},{"$f":"+('Base original'!AQ113/'Base original'!AQ101*100-100)*'Base original'!AQ101/'Base original'!$AR101","v":7.0649375546736242E-3},{"$f":"+(('Base original'!AN113-'Base original'!AP113)/('Base original'!AN101-'Base original'!AP101)*100-100)*(('Base original'!AN101-'Base original'!AP101)/'Base original'!AR101)","v":0.64511949615065634},{"$f":"+(('Base original'!AO113-'Base original'!AQ113)/('Base original'!AO101-'Base original'!AQ101)*100-100)*(('Base original'!AO101-'Base original'!AQ101)/'Base original'!AR101)","v":6.3426099876816161E-2},{"$f":"+('Base original'!AR113/'Base original'!AR101*100-100)*'Base original'!AR101/'Base original'!$AR101","v":6.880530499877338},{"$f":"+('Base original'!AR113/'Base original'!AR101*100-100)*'Base original'!AR101/'Base original'!$BC101","v":4.1836925725424621},{"$f":"+('Base original'!AS113/'Base original'!AS101*100-100)*'Base original'!AS101/'Base original'!$BC101","v":1.8842664153870481},{"$f":"+('Base original'!AT113/'Base original'!AT101*100-100)*'Base original'!AT101/'Base original'!$BC101","v":-0.14724183719656392},{"$f":"+('Base original'!AU113/'Base original'!AU101*100-100)*'Base original'!AU101/'Base original'!$BC101","v":0.93396407264727599},{"$f":"+('Base original'!AV113/'Base original'!AV101*100-100)*'Base original'!AV101/'Base original'!$BC101","v":-7.3654024782249625E-2},{"$f":"+('Base original'!AW113/'Base original'!AW101*100-100)*'Base original'!AW101/'Base original'!$BC101","v":-1.2052379647160192E-2},{"$f":"+('Base original'!AX113/'Base original'!AX101*100-100)*'Base original'!AX101/'Base original'!$BC101","v":0.45897606865910429},{"$f":"+('Base original'!AY113/'Base original'!AY101*100-100)*'Base original'!AY101/'Base original'!$BC101","v":3.6218131656514307},{"$f":"+('Base original'!AZ113/'Base original'!AZ101*100-100)*'Base original'!AZ101/'Base original'!$BC101","v":0.1184066064013113},{"$f":"+('Base original'!BA113/'Base original'!BA101*100-100)*'Base original'!BA101/'Base original'!$BC101","v":2.1360385485950615},{"$f":"+('Base original'!BB113/'Base original'!BB101*100-100)*'Base original'!BB101/'Base original'!$BC101","v":2.9769390788655252E-2},{"$f":"+(('Base original'!AY113-'Base original'!BA113)/('Base original'!AY101-'Base original'!BA101)*100-100)*('Base original'!AY101-'Base original'!BA101)/'Base original'!$BC101","v":1.485774617056369},{"$f":"+(('Base original'!AZ113-'Base original'!BB113)/('Base original'!AZ101-'Base original'!BB101)*100-100)*('Base original'!AZ101-'Base original'!BB101)/'Base original'!$BC101","v":8.8637215612656028E-2},{"$f":"+('Base original'!BC113/'Base original'!BC101*100-100)*'Base original'!BC101/'Base original'!$BC101","v":8.8023627202789214}]
["2014-11-01",{"$f":"+'Base original'!B114/'Base original'!B102*100-100","v":8.3552506663502726},{"$f":"+'Base original'!C114/'Base original'!C102*100-100","v":8.6654794085740434},{"$f":"+'Base original'!D114/'Base original'!D102*100-100","v":16.773846500890116},{"$f":"+'Base original'!E114/'Base original'!E102*100-100","v":-1.3262774396251586},{"$f":"+'Base original'!F114/'Base original'!F102*100-100","v":9.5876245531855204},{"$f":"+'Base original'!G114","v":23.93},{"$f":"+'Base original'!J114/'Base original'!$H114*'Base original'!I114","v":11.193467569221353},{"$f":"+'Base original'!L114/'Base original'!$H114*'Base original'!K114","v":1.2174506654428634},{"$f":"+'Base original'!N114/'Base original'!$H114*'Base original'!M114","v":4.0265424506654428},{"$f":"+'Base original'!P114/'Base original'!$H114*'Base original'!O114","v":7.4966088419764416},{"$f":"+'Base original'!Q114","v":6.9},{"$f":"+'Base original'!T114/'Base original'!$R114*'Base original'!S114","v":0.18350355586327238},{"$f":"+'Base original'!V114/'Base original'!$R114*'Base original'!U114","v":2.5067673861103215},{"$f":"+'Base original'!X114/'Base original'!$R114*'Base original'!W114","v":4.2089202742236935},{"$f":"+'Base original'!Y114","v":1.51},{"$f":"+'Base original'!AB114/'Base original'!$Z114*'Base original'!AA114","v":0.8152555124717864},{"$f":"+'Base original'!AD114/'Base original'!$Z114*'Base original'!AC114","v":0.69751663869436875},{"$f":"+'Base original'!AE114","v":3.65},{"$f":"+('Base original'!AH114/'Base original'!AH102*100-100)*'Base original'!AH102/'Base original'!$AK102","v":1.8697332213398221},{"$f":"+('Base original'!AI114/'Base original'!AI102*100-100)*'Base original'!AI102/'Base original'!$AK102","v":7.1340610315690434},{"$f":"+('Base original'!AJ114/'Base original'!AJ102*100-100)*'Base original'!AJ102/'Base original'!$AK102","v":6.1793688006627265},{"$f":"+('Base original'!AK114/'Base original'!AK102*100-100)*'Base original'!AK102/'Base original'!$AK102","v":15.183163053571592},{"$f":"+('Base original'!AK114/'Base original'!AK102*100-100)*'Base original'!AK102/'Base original'!$AR102","v":3.5338598972548247},{"$f":"+('Base original'!AL114/'Base original'!AL102*100-100)*'Base original'!AL102/'Base original'!$AR102","v":4.2625608582497412},{"$f":"+('Base original'!AM114/'Base original'!AM102*100-100)*'Base original'!AM102/'Base original'!$AR102","v":0.30402678235683256},{"$f":"+('Base original'!AN114/'Base original'!AN102*100-100)*'Base original'!AN102/'Base original'!$AR102","v":-0.21258116276907449},{"$f":"+('Base original'!AO114/'Base original'!AO102*100-100)*'Base original'!AO102/'Base original'!$AR102","v":7.5303583901382684E-2},{"$f":"+('Base original'!AP114/'Base original'!AP102*100-100)*'Base original'!AP102/'Base original'!$AR102","v":-0.90758480604165492},{"$f":"+('Base original'!AQ114/'Base original'!AQ102*100-100)*'Base original'!AQ102/'Base original'!$AR102","v":5.744123846092259E-3},{"$f":"+(('Base original'!AN114-'Base original'!AP114)/('Base original'!AN102-'Base original'!AP102)*100-100)*(('Base original'!AN102-'Base original'!AP102)/'Base original'!AR102)","v":0.69500364327258124},{"$f":"+(('Base original'!AO114-'Base original'!AQ114)/('Base original'!AO102-'Base original'!AQ102)*100-100)*(('Base original'!AO102-'Base original'!AQ102)/'Base original'!AR102)","v":6.9559460055290429E-2},{"$f":"+('Base original'!AR114/'Base original'!AR102*100-100)*'Base original'!AR102/'Base original'!$AR102","v":8.8650106411892722},{"$f":"+('Base original'!AR114/'Base original'!AR102*100-100)*'Base original'!AR102/'Base original'!$BC102","v":5.40241617583884},{"$f":"+('Base original'!AS114/'Base original'!AS102*100-100)*'Base original'!AS102/'Base original'!$BC102","v":1.8483062719812209},{"$f":"+('Base original'!AT114/'Base original'!AT102*100-100)*'Base original'!AT102/'Base original'!$BC102","v":-0.71250844853542239},{"$f":"+('Base original'!AU114/'Base original'!AU102*100-100)*'Base original'!AU102/'Base original'!$BC102","v":1.195365542908166},{"$f":"+('Base original'!AV114/'Base original'!AV102*100-100)*'Base original'!AV102/'Base original'!$BC102","v":-0.13726537483424778},{"$f":"+('Base original'!AW114/'Base original'!AW102*100-100)*'Base original'!AW102/'Base original'!$BC102","v":-1.5958158680490116E-2},{"$f":"+('Base original'!AX114/'Base original'!AX102*100-100)*'Base original'!AX102/'Base original'!$BC102","v":0.43982163080058401},{"$f":"+('Base original'!AY114/'Base original'!AY102*100-100)*'Base original'!AY102/'Base original'!$BC102","v":3.2124789735113954},{"$f":"+('Base original'!AZ114/'Base original'!AZ102*100-100)*'Base original'!AZ102/'Base original'!$BC102","v":0.11927656678307887},{"$f":"+('Base original'!BA114/'Base original'!BA102*100-100)*'Base original'!BA102/'Base original'!$BC102","v":1.7160799543050074},{"$f":"+('Base original'!BB114/'Base original'!BB102*100-100)*'Base original'!BB102/'Base original'!$BC102","v":3.1882448986101965E-2},{"$f":"+(('Base original'!AY114-'Base original'!BA114)/('Base original'!AY102-'Base original'!BA102)*100-100)*('Base original'!AY102-'Base original'!BA102)/'Base original'!$BC102","v":1.4963990192063883},{"$f":"+(('Base original'!AZ114-'Base original'!BB114)/('Base original'!AZ102-'Base original'!BB102)*100-100)*('Base original'!AZ102-'Base original'!BB102)/'Base original'!$BC102","v":8.7394117796976867E-2},{"$f":"+('Base original'!BC114/'Base original'!BC102*100-100)*'Base original'!BC102/'Base original'!$BC102","v":9.6039707764820008}]
["2014-12-01",{"$f":"+'Base original'!B115/'Base original'!B103*100-100","v":8.1868146153407224},{"$f":"+'Base original'!C115/'Base original'!C103*100-100","v":8.4139552614156656},{"$f":"+'Base original'!D115/'Base original'!D103*100-100","v":16.747055315979082},{"$f":"+'Base original'!E115/'Base original'!E103*100-100","v":1.7593315736509965},{"$f":"+'Base original'!F115/'Base original'!F103*100-100","v":9.7526474114466595},{"$f":"+'Base original'!G115","v":23.7},{"$f":"+'Base original'!J115/'Base original'!$H115*'Base original'!I115","v":10.079869176362914},{"$f":"+'Base original'!L115/'Base original'!$H115*'Base original'!K115","v":1.2733703237615832},{"$f":"+'Base original'!N115/'Base original'!$H115*'Base original'!M115","v":3.5436840582245939},{"$f":"+'Base original'!P115/'Base original'!$H115*'Base original'!O115","v":8.8055583221733951},{"$f":"+'Base original'!Q115","v":6.88},{"$f":"+'Base original'!T115/'Base original'!$R115*'Base original'!S115","v":0.15750663682517538},{"$f":"+'Base original'!V115/'Base original'!$R115*'Base original'!U115","v":2.3491578660104118},{"$f":"+'Base original'!X115/'Base original'!$R115*'Base original'!W115","v":4.3685760053740514},{"$f":"+'Base original'!Y115","v":1.39},{"$f":"+'Base original'!AB115/'Base original'!$Z115*'Base original'!AA115","v":0.81166476761619188},{"$f":"+'Base original'!AD115/'Base original'!$Z115*'Base original'!AC115","v":0.58158800599700144},{"$f":"+'Base original'!AE115","v":3.73},{"$f":"+('Base original'!AH115/'Base original'!AH103*100-100)*'Base original'!AH103/'Base original'!$AK103","v":2.1137177174292625},{"$f":"+('Base original'!AI115/'Base original'!AI103*100-100)*'Base original'!AI103/'Base original'!$AK103","v":7.1640153106746594},{"$f":"+('Base original'!AJ115/'Base original'!AJ103*100-100)*'Base original'!AJ103/'Base original'!$AK103","v":6.0032983155263926},{"$f":"+('Base original'!AK115/'Base original'!AK103*100-100)*'Base original'!AK103/'Base original'!$AK103","v":15.281031343630332},{"$f":"+('Base original'!AK115/'Base original'!AK103*100-100)*'Base original'!AK103/'Base original'!$AR103","v":3.7118800764353761},{"$f":"+('Base original'!AL115/'Base original'!AL103*100-100)*'Base original'!AL103/'Base original'!$AR103","v":5.2020452441472518},{"$f":"+('Base original'!AM115/'Base original'!AM103*100-100)*'Base original'!AM103/'Base original'!$AR103","v":0.31984722107194635},{"$f":"+('Base original'!AN115/'Base original'!AN103*100-100)*'Base original'!AN103/'Base original'!$AR103","v":0.16344764890049604},{"$f":"+('Base original'!AO115/'Base original'!AO103*100-100)*'Base original'!AO103/'Base original'!$AR103","v":7.2077233798892568E-2},{"$f":"+('Base original'!AP115/'Base original'!AP103*100-100)*'Base original'!AP103/'Base original'!$AR103","v":-8.4981595787362182E-2},{"$f":"+('Base original'!AQ115/'Base original'!AQ103*100-100)*'Base original'!AQ103/'Base original'!$AR103","v":6.4832402749745418E-3},{"$f":"+(('Base original'!AN115-'Base original'!AP115)/('Base original'!AN103-'Base original'!AP103)*100-100)*(('Base original'!AN103-'Base original'!AP103)/'Base original'!AR103)","v":0.24842924468785685},{"$f":"+(('Base original'!AO115-'Base original'!AQ115)/('Base original'!AO103-'Base original'!AQ103)*100-100)*(('Base original'!AO103-'Base original'!AQ103)/'Base original'!AR103)","v":6.5593993523918107E-2},{"$f":"+('Base original'!AR115/'Base original'!AR103*100-100)*'Base original'!AR103/'Base original'!$AR103","v":9.5477957798663482},{"$f":"+('Base original'!AR115/'Base original'!AR103*100-100)*'Base original'!AR103/'Base original'!$BC103","v":5.8947999143633218},{"$f":"+('Base original'!AS115/'Base original'!AS103*100-100)*'Base original'!AS103/'Base original'!$BC103","v":2.072048072990992},{"$f":"+('Base original'!AT115/'Base original'!AT103*100-100)*'Base original'!AT103/'Base original'!$BC103","v":-0.59507702913952609},{"$f":"+('Base original'!AU115/'Base original'!AU103*100-100)*'Base original'!AU103/'Base original'!$BC103","v":1.5150783620045658},{"$f":"+('Base original'!AV115/'Base original'!AV103*100-100)*'Base original'!AV103/'Base original'!$BC103","v":9.6668400194239931E-2},{"$f":"+('Base original'!AW115/'Base original'!AW103*100-100)*'Base original'!AW103/'Base original'!$BC103","v":1.3988682240345374E-2},{"$f":"+('Base original'!AX115/'Base original'!AX103*100-100)*'Base original'!AX103/'Base original'!$BC103","v":0.42044038492297214},{"$f":"+('Base original'!AY115/'Base original'!AY103*100-100)*'Base original'!AY103/'Base original'!$BC103","v":3.1980503911382052},{"$f":"+('Base original'!AZ115/'Base original'!AZ103*100-100)*'Base original'!AZ103/'Base original'!$BC103","v":0.13126465153513356},{"$f":"+('Base original'!BA115/'Base original'!BA103*100-100)*'Base original'!BA103/'Base original'!$BC103","v":1.5705505049909485},{"$f":"+('Base original'!BB115/'Base original'!BB103*100-100)*'Base original'!BB103/'Base original'!$BC103","v":4.0879977671925291E-2},{"$f":"+(('Base original'!AY115-'Base original'!BA115)/('Base original'!AY103-'Base original'!BA103)*100-100)*('Base original'!AY103-'Base original'!BA103)/'Base original'!$BC103","v":1.627499886147256},{"$f":"+(('Base original'!AZ115-'Base original'!BB115)/('Base original'!AZ103-'Base original'!BB103)*100-100)*('Base original'!AZ103-'Base original'!BB103)/'Base original'!$BC103","v":9.0384673863208267E-2},{"$f":"+('Base original'!BC115/'Base original'!BC103*100-100)*'Base original'!BC103/'Base original'!$BC103","v":11.135831347587384}]
["2015-01-01",{"$f":"+'Base original'!B116/'Base original'!B104*100-100","v":7.4772718984927451},{"$f":"+'Base original'!C116/'Base original'!C104*100-100","v":7.6602146829355462},{"$f":"+'Base original'!D116/'Base original'!D104*100-100","v":15.709729845180377},{"$f":"+'Base original'!E116/'Base original'!E104*100-100","v":6.1127170983521211},{"$f":"+'Base original'!F116/'Base original'!F104*100-100","v":9.3441361670302854},{"$f":"+'Base original'!G116","v":24.09},{"$f":"+'Base original'!J116/'Base original'!$H116*'Base original'!I116","v":10.898067720637227},{"$f":"+'Base original'!L116/'Base original'!$H116*'Base original'!K116","v":1.2287852080683264},{"$f":"+'Base original'!N116/'Base original'!$H116*'Base original'!M116","v":3.6299525258949665},{"$f":"+'Base original'!P116/'Base original'!$H116*'Base original'!O116","v":8.3375380852868126},{"$f":"+'Base original'!Q116","v":7.07},{"$f":"+'Base original'!T116/'Base original'!$R116*'Base original'!S116","v":0.23583847368681968},{"$f":"+'Base original'!V116/'Base original'!$R116*'Base original'!U116","v":2.4517949335354063},{"$f":"+'Base original'!X116/'Base original'!$R116*'Base original'!W116","v":4.378886378712445},{"$f":"+'Base original'!Y116","v":1.6},{"$f":"+'Base original'!AB116/'Base original'!$Z116*'Base original'!AA116","v":0.84945726571842961},{"$f":"+'Base original'!AD116/'Base original'!$Z116*'Base original'!AC116","v":0.7499491107096512},{"$f":"+'Base original'!AE116","v":3.75},{"$f":"+('Base original'!AH116/'Base original'!AH104*100-100)*'Base original'!AH104/'Base original'!$AK104","v":1.7884133655867087},{"$f":"+('Base original'!AI116/'Base original'!AI104*100-100)*'Base original'!AI104/'Base original'!$AK104","v":7.6472991937501291},{"$f":"+('Base original'!AJ116/'Base original'!AJ104*100-100)*'Base original'!AJ104/'Base original'!$AK104","v":4.257861589387625},{"$f":"+('Base original'!AK116/'Base original'!AK104*100-100)*'Base original'!AK104/'Base original'!$AK104","v":13.693574148724482},{"$f":"+('Base original'!AK116/'Base original'!AK104*100-100)*'Base original'!AK104/'Base original'!$AR104","v":3.3252912150335567},{"$f":"+('Base original'!AL116/'Base original'!AL104*100-100)*'Base original'!AL104/'Base original'!$AR104","v":4.6035817722365584},{"$f":"+('Base original'!AM116/'Base original'!AM104*100-100)*'Base original'!AM104/'Base original'!$AR104","v":0.3230174514900776},{"$f":"+('Base original'!AN116/'Base original'!AN104*100-100)*'Base original'!AN104/'Base original'!$AR104","v":1.2262907437820163},{"$f":"+('Base original'!AO116/'Base original'!AO104*100-100)*'Base original'!AO104/'Base original'!$AR104","v":7.2696107316974026E-2},{"$f":"+('Base original'!AP116/'Base original'!AP104*100-100)*'Base original'!AP104/'Base original'!$AR104","v":0.96325330456134295},{"$f":"+('Base original'!AQ116/'Base original'!AQ104*100-100)*'Base original'!AQ104/'Base original'!$AR104","v":8.2103042931271422E-3},{"$f":"+(('Base original'!AN116-'Base original'!AP116)/('Base original'!AN104-'Base original'!AP104)*100-100)*(('Base original'!AN104-'Base original'!AP104)/'Base original'!AR104)","v":0.26303743922067452},{"$f":"+(('Base original'!AO116-'Base original'!AQ116)/('Base original'!AO104-'Base original'!AQ104)*100-100)*(('Base original'!AO104-'Base original'!AQ104)/'Base original'!AR104)","v":6.4485803023846835E-2},{"$f":"+('Base original'!AR116/'Base original'!AR104*100-100)*'Base original'!AR104/'Base original'!$AR104","v":8.5794136810047235},{"$f":"+('Base original'!AR116/'Base original'!AR104*100-100)*'Base original'!AR104/'Base original'!$BC104","v":5.3358116404897089},{"$f":"+('Base original'!AS116/'Base original'!AS104*100-100)*'Base original'!AS104/'Base original'!$BC104","v":2.2566454755487615},{"$f":"+('Base original'!AT116/'Base original'!AT104*100-100)*'Base original'!AT104/'Base original'!$BC104","v":-0.13761079216546224},{"$f":"+('Base original'!AU116/'Base original'!AU104*100-100)*'Base original'!AU104/'Base original'!$BC104","v":1.6654403921734322},{"$f":"+('Base original'!AV116/'Base original'!AV104*100-100)*'Base original'!AV104/'Base original'!$BC104","v":0.12361155909060398},{"$f":"+('Base original'!AW116/'Base original'!AW104*100-100)*'Base original'!AW104/'Base original'!$BC104","v":2.7628008617061675E-2},{"$f":"+('Base original'!AX116/'Base original'!AX104*100-100)*'Base original'!AX104/'Base original'!$BC104","v":0.20793239318263423},{"$f":"+('Base original'!AY116/'Base original'!AY104*100-100)*'Base original'!AY104/'Base original'!$BC104","v":3.0554733649856307},{"$f":"+('Base original'!AZ116/'Base original'!AZ104*100-100)*'Base original'!AZ104/'Base original'!$BC104","v":0.14168486129638264},{"$f":"+('Base original'!BA116/'Base original'!BA104*100-100)*'Base original'!BA104/'Base original'!$BC104","v":1.4369635624150943},{"$f":"+('Base original'!BB116/'Base original'!BB104*100-100)*'Base original'!BB104/'Base original'!$BC104","v":4.5876039504396185E-2},{"$f":"+(('Base original'!AY116-'Base original'!BA116)/('Base original'!AY104-'Base original'!BA104)*100-100)*('Base original'!AY104-'Base original'!BA104)/'Base original'!$BC104","v":1.6185098025705369},{"$f":"+(('Base original'!AZ116-'Base original'!BB116)/('Base original'!AZ104-'Base original'!BB104)*100-100)*('Base original'!AZ104-'Base original'!BB104)/'Base original'!$BC104","v":9.5808821791986479E-2},{"$f":"+('Base original'!BC116/'Base original'!BC104*100-100)*'Base original'!BC104/'Base original'!$BC104","v":11.193777301299264}]
["2015-02-01",{"$f":"+'Base original'!B117/'Base original'!B105*100-100","v":6.7473255790444711},{"$f":"+'Base original'!C117/'Base original'!C105*100-100","v":7.5092392543177908},{"$f":"+'Base original'!D117/'Base original'!D105*100-100","v":15.189970443244533},{"$f":"+'Base original'!E117/'Base original'!E105*100-100","v":1.1701802740905549},{"$f":"+'Base original'!F117/'Base original'!F105*100-100","v":8.4184642830764886},{"$f":"+'Base original'!G117","v":25.23},{"$f":"+'Base original'!J117/'Base original'!$H117*'Base original'!I117","v":12.459132375170958},{"$f":"+'Base original'!L117/'Base original'!$H117*'Base original'!K117","v":1.1847685773928065},{"$f":"+'Base original'!N117/'Base original'!$H117*'Base original'!M117","v":3.3084547032335978},{"$f":"+'Base original'!P117/'Base original'!$H117*'Base original'!O117","v":8.2825999152210237},{"$f":"+'Base original'!Q117","v":7.13},{"$f":"+'Base original'!T117/'Base original'!$R117*'Base original'!S117","v":0.25839510231145507},{"$f":"+'Base original'!V117/'Base original'!$R117*'Base original'!U117","v":2.0511546598562047},{"$f":"+'Base original'!X117/'Base original'!$R117*'Base original'!W117","v":4.8167311469053695},{"$f":"+'Base original'!Y117","v":1.68},{"$f":"+'Base original'!AB117/'Base original'!$Z117*'Base original'!AA117","v":1.0944280008311591},{"$f":"+'Base original'!AD117/'Base original'!$Z117*'Base original'!AC117","v":0.59282848105649566},{"$f":"+'Base original'!AE117","v":3.73},{"$f":"+('Base original'!AH117/'Base original'!AH105*100-100)*'Base original'!AH105/'Base original'!$AK105","v":2.0926092380845498},{"$f":"+('Base original'!AI117/'Base original'!AI105*100-100)*'Base original'!AI105/'Base original'!$AK105","v":9.1372597417506167},{"$f":"+('Base original'!AJ117/'Base original'!AJ105*100-100)*'Base original'!AJ105/'Base original'!$AK105","v":3.3710841463954284},{"$f":"+('Base original'!AK117/'Base original'!AK105*100-100)*'Base original'!AK105/'Base original'!$AK105","v":14.600953126230593},{"$f":"+('Base original'!AK117/'Base original'!AK105*100-100)*'Base original'!AK105/'Base original'!$AR105","v":3.4915520239897608},{"$f":"+('Base original'!AL117/'Base original'!AL105*100-100)*'Base original'!AL105/'Base original'!$AR105","v":3.6279802355357695},{"$f":"+('Base original'!AM117/'Base original'!AM105*100-100)*'Base original'!AM105/'Base original'!$AR105","v":0.32104065186039621},{"$f":"+('Base original'!AN117/'Base original'!AN105*100-100)*'Base original'!AN105/'Base original'!$AR105","v":0.89916425177465753},{"$f":"+('Base original'!AO117/'Base original'!AO105*100-100)*'Base original'!AO105/'Base original'!$AR105","v":7.8253983746743971E-2},{"$f":"+('Base original'!AP117/'Base original'!AP105*100-100)*'Base original'!AP105/'Base original'!$AR105","v":0.62573386375584861},{"$f":"+('Base original'!AQ117/'Base original'!AQ105*100-100)*'Base original'!AQ105/'Base original'!$AR105","v":7.2488778060770271E-3},{"$f":"+(('Base original'!AN117-'Base original'!AP117)/('Base original'!AN105-'Base original'!AP105)*100-100)*(('Base original'!AN105-'Base original'!AP105)/'Base original'!AR105)","v":0.27343038801880992},{"$f":"+(('Base original'!AO117-'Base original'!AQ117)/('Base original'!AO105-'Base original'!AQ105)*100-100)*(('Base original'!AO105-'Base original'!AQ105)/'Base original'!AR105)","v":7.1005105940666946E-2},{"$f":"+('Base original'!AR117/'Base original'!AR105*100-100)*'Base original'!AR105/'Base original'!$AR105","v":7.7850084053453941},{"$f":"+('Base original'!AR117/'Base original'!AR105*100-100)*'Base original'!AR105/'Base original'!$BC105","v":4.7845565586774832},{"$f":"+('Base original'!AS117/'Base original'!AS105*100-100)*'Base original'!AS105/'Base original'!$BC105","v":2.0138585136822211},{"$f":"+('Base original'!AT117/'Base original'!AT105*100-100)*'Base original'!AT105/'Base original'!$BC105","v":-0.47389233394217167},{"$f":"+('Base original'!AU117/'Base original'!AU105*100-100)*'Base original'!AU105/'Base original'!$BC105","v":1.7587238761749129},{"$f":"+('Base original'!AV117/'Base original'!AV105*100-100)*'Base original'!AV105/'Base original'!$BC105","v":1.4990925586079427E-2},{"$f":"+('Base original'!AW117/'Base original'!AW105*100-100)*'Base original'!AW105/'Base original'!$BC105","v":1.3067426835072591E-2},{"$f":"+('Base original'!AX117/'Base original'!AX105*100-100)*'Base original'!AX105/'Base original'!$BC105","v":6.9842946747640688E-2},{"$f":"+('Base original'!AY117/'Base original'!AY105*100-100)*'Base original'!AY105/'Base original'!$BC105","v":3.0874574114738871},{"$f":"+('Base original'!AZ117/'Base original'!AZ105*100-100)*'Base original'!AZ105/'Base original'!$BC105","v":0.14868430791773843},{"$f":"+('Base original'!BA117/'Base original'!BA105*100-100)*'Base original'!BA105/'Base original'!$BC105","v":1.2708699296840253},{"$f":"+('Base original'!BB117/'Base original'!BB105*100-100)*'Base original'!BB105/'Base original'!$BC105","v":4.1627577060096593E-2},{"$f":"+(('Base original'!AY117-'Base original'!BA117)/('Base original'!AY105-'Base original'!BA105)*100-100)*('Base original'!AY105-'Base original'!BA105)/'Base original'!$BC105","v":1.8165874817898611},{"$f":"+(('Base original'!AZ117-'Base original'!BB117)/('Base original'!AZ105-'Base original'!BB105)*100-100)*('Base original'!AZ105-'Base original'!BB105)/'Base original'!$BC105","v":0.10705673085764184},{"$f":"+('Base original'!BC117/'Base original'!BC105*100-100)*'Base original'!BC105/'Base original'!$BC105","v":10.104792126408739}]
["2015-03-01",{"$f":"+'Base original'!B118/'Base original'!B106*100-100","v":7.4085891490645537},{"$f":"+'Base original'!C118/'Base original'!C106*100-100","v":7.305032885386936},{"$f":"+'Base original'!D118/'Base original'!D106*100-100","v":15.085529859651743},{"$f":"+'Base original'!E118/'Base original'!E106*100-100","v":4.3772653567467614},{"$f":"+'Base original'!F118/'Base original'!F106*100-100","v":9.0248332251138237},{"$f":"+'Base original'!G118","v":23.3},{"$f":"+'Base original'!J118/'Base original'!$H118*'Base original'!I118","v":10.247025177979937},{"$f":"+'Base original'!L118/'Base original'!$H118*'Base original'!K118","v":1.299838107688869},{"$f":"+'Base original'!N118/'Base original'!$H118*'Base original'!M118","v":3.7468282654492007},{"$f":"+'Base original'!P118/'Base original'!$H118*'Base original'!O118","v":8.0065387559354875},{"$f":"+'Base original'!Q118","v":7.15},{"$f":"+'Base original'!T118/'Base original'!$R118*'Base original'!S118","v":0.21648958002798746},{"$f":"+'Base original'!V118/'Base original'!$R118*'Base original'!U118","v":2.3360999696383771},{"$f":"+'Base original'!X118/'Base original'!$R118*'Base original'!W118","v":4.5924392253905344},{"$f":"+'Base original'!Y118","v":1.46},{"$f":"+'Base original'!AB118/'Base original'!$Z118*'Base original'!AA118","v":0.72944024649695538},{"$f":"+'Base original'!AD118/'Base original'!$Z118*'Base original'!AC118","v":0.7277976670823858},{"$f":"+'Base original'!AE118","v":3.67},{"$f":"+('Base original'!AH118/'Base original'!AH106*100-100)*'Base original'!AH106/'Base original'!$AK106","v":2.2324104741300896},{"$f":"+('Base original'!AI118/'Base original'!AI106*100-100)*'Base original'!AI106/'Base original'!$AK106","v":9.0661792878278096},{"$f":"+('Base original'!AJ118/'Base original'!AJ106*100-100)*'Base original'!AJ106/'Base original'!$AK106","v":1.835223249851389},{"$f":"+('Base original'!AK118/'Base original'!AK106*100-100)*'Base original'!AK106/'Base original'!$AK106","v":13.133813011809295},{"$f":"+('Base original'!AK118/'Base original'!AK106*100-100)*'Base original'!AK106/'Base original'!$AR106","v":3.1491132327197904},{"$f":"+('Base original'!AL118/'Base original'!AL106*100-100)*'Base original'!AL106/'Base original'!$AR106","v":4.061167519132356},{"$f":"+('Base original'!AM118/'Base original'!AM106*100-100)*'Base original'!AM106/'Base original'!$AR106","v":0.3273882142800279},{"$f":"+('Base original'!AN118/'Base original'!AN106*100-100)*'Base original'!AN106/'Base original'!$AR106","v":0.35153262779152489},{"$f":"+('Base original'!AO118/'Base original'!AO106*100-100)*'Base original'!AO106/'Base original'!$AR106","v":8.1289749611183182E-2},{"$f":"+('Base original'!AP118/'Base original'!AP106*100-100)*'Base original'!AP106/'Base original'!$AR106","v":0.41023612548402943},{"$f":"+('Base original'!AQ118/'Base original'!AQ106*100-100)*'Base original'!AQ106/'Base original'!$AR106","v":1.9481096202866151E-2},{"$f":"+(('Base original'!AN118-'Base original'!AP118)/('Base original'!AN106-'Base original'!AP106)*100-100)*(('Base original'!AN106-'Base original'!AP106)/'Base original'!AR106)","v":-5.8703497692504616E-2},{"$f":"+(('Base original'!AO118-'Base original'!AQ118)/('Base original'!AO106-'Base original'!AQ106)*100-100)*(('Base original'!AO106-'Base original'!AQ106)/'Base original'!AR106)","v":6.1808653408317142E-2},{"$f":"+('Base original'!AR118/'Base original'!AR106*100-100)*'Base original'!AR106/'Base original'!$AR106","v":7.5407741218479885},{"$f":"+('Base original'!AR118/'Base original'!AR106*100-100)*'Base original'!AR106/'Base original'!$BC106","v":4.6118247204795573},{"$f":"+('Base original'!AS118/'Base original'!AS106*100-100)*'Base original'!AS106/'Base original'!$BC106","v":1.7068924313222049},{"$f":"+('Base original'!AT118/'Base original'!AT106*100-100)*'Base original'!AT106/'Base original'!$BC106","v":-0.75007608117182278},{"$f":"+('Base original'!AU118/'Base original'!AU106*100-100)*'Base original'!AU106/'Base original'!$BC106","v":1.7973333280698309},{"$f":"+('Base original'!AV118/'Base original'!AV106*100-100)*'Base original'!AV106/'Base original'!$BC106","v":8.599251773212354E-3},{"$f":"+('Base original'!AW118/'Base original'!AW106*100-100)*'Base original'!AW106/'Base original'!$BC106","v":1.9613474414848325E-2},{"$f":"+('Base original'!AX118/'Base original'!AX106*100-100)*'Base original'!AX106/'Base original'!$BC106","v":-1.2198003589902777E-2},{"$f":"+('Base original'!AY118/'Base original'!AY106*100-100)*'Base original'!AY106/'Base original'!$BC106","v":3.205644735436247},{"$f":"+('Base original'!AZ118/'Base original'!AZ106*100-100)*'Base original'!AZ106/'Base original'!$BC106","v":0.15179101103280807},{"$f":"+('Base original'!BA118/'Base original'!BA106*100-100)*'Base original'!BA106/'Base original'!$BC106","v":1.2199651115748558},{"$f":"+('Base original'!BB118/'Base original'!BB106*100-100)*'Base original'!BB106/'Base original'!$BC106","v":3.8654838201126765E-2},{"$f":"+(('Base original'!AY118-'Base original'!BA118)/('Base original'!AY106-'Base original'!BA106)*100-100)*('Base original'!AY106-'Base original'!BA106)/'Base original'!$BC106","v":1.9856796238613901},{"$f":"+(('Base original'!AZ118-'Base original'!BB118)/('Base original'!AZ106-'Base original'!BB106)*100-100)*('Base original'!AZ106-'Base original'!BB106)/'Base original'!$BC106","v":0.11313617283168127},{"$f":"+('Base original'!BC118/'Base original'!BC106*100-100)*'Base original'!BC106/'Base original'!$BC106","v":9.4808049179909943}]
["2015-04-01",{"$f":"+'Base original'!B119/'Base original'!B107*100-100","v":7.3291480235368738},{"$f":"+'Base original'!C119/'Base original'!C107*100-100","v":7.0734290537052971},{"$f":"+'Base original'!D119/'Base original'!D107*100-100","v":15.096306100914461},{"$f":"+'Base original'!E119/'Base original'!E107*100-100","v":0.2377839180454373},{"$f":"+'Base original'!F119/'Base original'!F107*100-100","v":8.6371621800236369},{"$f":"+'Base original'!G119","v":23.62},{"$f":"+'Base original'!J119/'Base original'!$H119*'Base original'!I119","v":10.574117041334301},{"$f":"+'Base original'!L119/'Base original'!$H119*'Base original'!K119","v":1.2411150108774474},{"$f":"+'Base original'!N119/'Base original'!$H119*'Base original'!M119","v":3.7157868020304572},{"$f":"+'Base original'!P119/'Base original'!$H119*'Base original'!O119","v":8.0889815808556911},{"$f":"+'Base original'!Q119","v":7.04},{"$f":"+'Base original'!T119/'Base original'!$R119*'Base original'!S119","v":0.18728129341413818},{"$f":"+'Base original'!V119/'Base original'!$R119*'Base original'!U119","v":2.3510351160954177},{"$f":"+'Base original'!X119/'Base original'!$R119*'Base original'!W119","v":4.4990349058060009},{"$f":"+'Base original'!Y119","v":1.59},{"$f":"+'Base original'!AB119/'Base original'!$Z119*'Base original'!AA119","v":0.91907471371447413},{"$f":"+'Base original'!AD119/'Base original'!$Z119*'Base original'!AC119","v":0.67570062918320828},{"$f":"+'Base original'!AE119","v":3.6},{"$f":"+('Base original'!AH119/'Base original'!AH107*100-100)*'Base original'!AH107/'Base original'!$AK107","v":2.1033840857624111},{"$f":"+('Base original'!AI119/'Base original'!AI107*100-100)*'Base original'!AI107/'Base original'!$AK107","v":8.4964461334591608},{"$f":"+('Base original'!AJ119/'Base original'!AJ107*100-100)*'Base original'!AJ107/'Base original'!$AK107","v":2.1352677858458358},{"$f":"+('Base original'!AK119/'Base original'!AK107*100-100)*'Base original'!AK107/'Base original'!$AK107","v":12.7350980050674},{"$f":"+('Base original'!AK119/'Base original'!AK107*100-100)*'Base original'!AK107/'Base original'!$AR107","v":3.1119180708671079},{"$f":"+('Base original'!AL119/'Base original'!AL107*100-100)*'Base original'!AL107/'Base original'!$AR107","v":5.6913196690186583},{"$f":"+('Base original'!AM119/'Base original'!AM107*100-100)*'Base original'!AM107/'Base original'!$AR107","v":0.33888165868777903},{"$f":"+('Base original'!AN119/'Base original'!AN107*100-100)*'Base original'!AN107/'Base original'!$AR107","v":0.13048327335192986},{"$f":"+('Base original'!AO119/'Base original'!AO107*100-100)*'Base original'!AO107/'Base original'!$AR107","v":7.5068654071821797E-2},{"$f":"+('Base original'!AP119/'Base original'!AP107*100-100)*'Base original'!AP107/'Base original'!$AR107","v":0.46553094553026569},{"$f":"+('Base original'!AQ119/'Base original'!AQ107*100-100)*'Base original'!AQ107/'Base original'!$AR107","v":3.4508818460911687E-2},{"$f":"+(('Base original'!AN119-'Base original'!AP119)/('Base original'!AN107-'Base original'!AP107)*100-100)*(('Base original'!AN107-'Base original'!AP107)/'Base original'!AR107)","v":-0.33504767217833625},{"$f":"+(('Base original'!AO119-'Base original'!AQ119)/('Base original'!AO107-'Base original'!AQ107)*100-100)*(('Base original'!AO107-'Base original'!AQ107)/'Base original'!AR107)","v":4.0559835610910137E-2},{"$f":"+('Base original'!AR119/'Base original'!AR107*100-100)*'Base original'!AR107/'Base original'!$AR107","v":8.8476315620061143},{"$f":"+('Base original'!AR119/'Base original'!AR107*100-100)*'Base original'!AR107/'Base original'!$BC107","v":5.3906678717085397},{"$f":"+('Base original'!AS119/'Base original'!AS107*100-100)*'Base original'!AS107/'Base original'!$BC107","v":1.3180843261260322},{"$f":"+('Base original'!AT119/'Base original'!AT107*100-100)*'Base original'!AT107/'Base original'!$BC107","v":-0.84606476956828458},{"$f":"+('Base original'!AU119/'Base original'!AU107*100-100)*'Base original'!AU107/'Base original'!$BC107","v":1.8617847446652358},{"$f":"+('Base original'!AV119/'Base original'!AV107*100-100)*'Base original'!AV107/'Base original'!$BC107","v":-0.10729700384409285},{"$f":"+('Base original'!AW119/'Base original'!AW107*100-100)*'Base original'!AW107/'Base original'!$BC107","v":1.2819294892771983E-2},{"$f":"+('Base original'!AX119/'Base original'!AX107*100-100)*'Base original'!AX107/'Base original'!$BC107","v":9.1944018118569046E-2},{"$f":"+('Base original'!AY119/'Base original'!AY107*100-100)*'Base original'!AY107/'Base original'!$BC107","v":2.840441136494265},{"$f":"+('Base original'!AZ119/'Base original'!AZ107*100-100)*'Base original'!AZ107/'Base original'!$BC107","v":0.15353079800048577},{"$f":"+('Base original'!BA119/'Base original'!BA107*100-100)*'Base original'!BA107/'Base original'!$BC107","v":0.84808098626830897},{"$f":"+('Base original'!BB119/'Base original'!BB107*100-100)*'Base original'!BB107/'Base original'!$BC107","v":3.5604566601988352E-2},{"$f":"+(('Base original'!AY119-'Base original'!BA119)/('Base original'!AY107-'Base original'!BA107)*100-100)*('Base original'!AY107-'Base original'!BA107)/'Base original'!$BC107","v":1.9923601502259547},{"$f":"+(('Base original'!AZ119-'Base original'!BB119)/('Base original'!AZ107-'Base original'!BB107)*100-100)*('Base original'!AZ107-'Base original'!BB107)/'Base original'!$BC107","v":0.11792623139849748},{"$f":"+('Base original'!BC119/'Base original'!BC107*100-100)*'Base original'!BC107/'Base original'!$BC107","v":9.8322248637232121}]
["2015-05-01",{"$f":"+'Base original'!B120/'Base original'!B108*100-100","v":8.4477951045304422},{"$f":"+'Base original'!C120/'Base original'!C108*100-100","v":5.759415355364311},{"$f":"+'Base original'!D120/'Base original'!D108*100-100","v":15.187539778684894},{"$f":"+'Base original'!E120/'Base original'!E108*100-100","v":4.4985089494463466},{"$f":"+'Base original'!F120/'Base original'!F108*100-100","v":9.4753771805579277},{"$f":"+'Base original'!G120","v":23.78},{"$f":"+'Base original'!J120/'Base original'!$H120*'Base original'!I120","v":11.400741774143279},{"$f":"+'Base original'!L120/'Base original'!$H120*'Base original'!K120","v":1.0729493610768932},{"$f":"+'Base original'!N120/'Base original'!$H120*'Base original'!M120","v":3.6061985188263406},{"$f":"+'Base original'!P120/'Base original'!$H120*'Base original'!O120","v":7.6990957865210241},{"$f":"+'Base original'!Q120","v":6.88},{"$f":"+'Base original'!T120/'Base original'!$R120*'Base original'!S120","v":0.18199577162111716},{"$f":"+'Base original'!V120/'Base original'!$R120*'Base original'!U120","v":2.5119430232715585},{"$f":"+'Base original'!X120/'Base original'!$R120*'Base original'!W120","v":4.1820610735749533},{"$f":"+'Base original'!Y120","v":1.38},{"$f":"+'Base original'!AB120/'Base original'!$Z120*'Base original'!AA120","v":0.91197990026266695},{"$f":"+'Base original'!AD120/'Base original'!$Z120*'Base original'!AC120","v":0.46822223914119304},{"$f":"+'Base original'!AE120","v":3.61},{"$f":"+('Base original'!AH120/'Base original'!AH108*100-100)*'Base original'!AH108/'Base original'!$AK108","v":2.4764212904905842},{"$f":"+('Base original'!AI120/'Base original'!AI108*100-100)*'Base original'!AI108/'Base original'!$AK108","v":8.8222620936170042},{"$f":"+('Base original'!AJ120/'Base original'!AJ108*100-100)*'Base original'!AJ108/'Base original'!$AK108","v":1.9738493579707495},{"$f":"+('Base original'!AK120/'Base original'!AK108*100-100)*'Base original'!AK108/'Base original'!$AK108","v":13.272532742078338},{"$f":"+('Base original'!AK120/'Base original'!AK108*100-100)*'Base original'!AK108/'Base original'!$AR108","v":3.2912951921852551},{"$f":"+('Base original'!AL120/'Base original'!AL108*100-100)*'Base original'!AL108/'Base original'!$AR108","v":6.908812124965114},{"$f":"+('Base original'!AM120/'Base original'!AM108*100-100)*'Base original'!AM108/'Base original'!$AR108","v":0.35729013719786312},{"$f":"+('Base original'!AN120/'Base original'!AN108*100-100)*'Base original'!AN108/'Base original'!$AR108","v":-0.9389960884208739},{"$f":"+('Base original'!AO120/'Base original'!AO108*100-100)*'Base original'!AO108/'Base original'!$AR108","v":6.3427458901453349E-2},{"$f":"+('Base original'!AP120/'Base original'!AP108*100-100)*'Base original'!AP108/'Base original'!$AR108","v":-0.20909146066305015},{"$f":"+('Base original'!AQ120/'Base original'!AQ108*100-100)*'Base original'!AQ108/'Base original'!$AR108","v":2.5784853987595828E-2},{"$f":"+(('Base original'!AN120-'Base original'!AP120)/('Base original'!AN108-'Base original'!AP108)*100-100)*(('Base original'!AN108-'Base original'!AP108)/'Base original'!AR108)","v":-0.72990462775782539},{"$f":"+(('Base original'!AO120-'Base original'!AQ120)/('Base original'!AO108-'Base original'!AQ108)*100-100)*(('Base original'!AO108-'Base original'!AQ108)/'Base original'!AR108)","v":3.7642604913857472E-2},{"$f":"+('Base original'!AR120/'Base original'!AR108*100-100)*'Base original'!AR108/'Base original'!$AR108","v":9.865135431504271},{"$f":"+('Base original'!AR120/'Base original'!AR108*100-100)*'Base original'!AR108/'Base original'!$BC108","v":5.9301283159069422},{"$f":"+('Base original'!AS120/'Base original'!AS108*100-100)*'Base original'!AS108/'Base original'!$BC108","v":1.0914487874849013},{"$f":"+('Base original'!AT120/'Base original'!AT108*100-100)*'Base original'!AT108/'Base original'!$BC108","v":-0.81627524087912473},{"$f":"+('Base original'!AU120/'Base original'!AU108*100-100)*'Base original'!AU108/'Base original'!$BC108","v":2.113977120600163},{"$f":"+('Base original'!AV120/'Base original'!AV108*100-100)*'Base original'!AV108/'Base original'!$BC108","v":-0.36169408508679241},{"$f":"+('Base original'!AW120/'Base original'!AW108*100-100)*'Base original'!AW108/'Base original'!$BC108","v":2.5923996251617939E-3},{"$f":"+('Base original'!AX120/'Base original'!AX108*100-100)*'Base original'!AX108/'Base original'!$BC108","v":0.22340444833822448},{"$f":"+('Base original'!AY120/'Base original'!AY108*100-100)*'Base original'!AY108/'Base original'!$BC108","v":2.1423614793857535},{"$f":"+('Base original'!AZ120/'Base original'!AZ108*100-100)*'Base original'!AZ108/'Base original'!$BC108","v":0.148288870328633},{"$f":"+('Base original'!BA120/'Base original'!BA108*100-100)*'Base original'!BA108/'Base original'!$BC108","v":0.21679694514593875},{"$f":"+('Base original'!BB120/'Base original'!BB108*100-100)*'Base original'!BB108/'Base original'!$BC108","v":3.3870731124217533E-2},{"$f":"+(('Base original'!AY120-'Base original'!BA120)/('Base original'!AY108-'Base original'!BA108)*100-100)*('Base original'!AY108-'Base original'!BA108)/'Base original'!$BC108","v":1.925564534239814},{"$f":"+(('Base original'!AZ120-'Base original'!BB120)/('Base original'!AZ108-'Base original'!BB108)*100-100)*('Base original'!AZ108-'Base original'!BB108)/'Base original'!$BC108","v":0.11441813920441551},{"$f":"+('Base original'!BC120/'Base original'!BC108*100-100)*'Base original'!BC108/'Base original'!$BC108","v":10.2235644194337}]
["2015-06-01",{"$f":"+'Base original'!B121/'Base original'!B109*100-100","v":8.1518512910184739},{"$f":"+'Base original'!C121/'Base original'!C109*100-100","v":5.808109526190421},{"$f":"+'Base original'!D121/'Base original'!D109*100-100","v":15.179103059860878},{"$f":"+'Base original'!E121/'Base original'!E109*100-100","v":8.3034370190418798},{"$f":"+'Base original'!F121/'Base original'!F109*100-100","v":9.6190034568770244},{"$f":"+'Base original'!G121","v":23.48},{"$f":"+'Base original'!J121/'Base original'!$H121*'Base original'!I121","v":11.906611772205695},{"$f":"+'Base original'!L121/'Base original'!$H121*'Base original'!K121","v":0.95328304292392696},{"$f":"+'Base original'!N121/'Base original'!$H121*'Base original'!M121","v":3.4702358691032722},{"$f":"+'Base original'!P121/'Base original'!$H121*'Base original'!O121","v":7.1460064279643003},{"$f":"+'Base original'!Q121","v":7.06},{"$f":"+'Base original'!T121/'Base original'!$R121*'Base original'!S121","v":0.21129825391696896},{"$f":"+'Base original'!V121/'Base original'!$R121*'Base original'!U121","v":2.8125938001993185},{"$f":"+'Base original'!X121/'Base original'!$R121*'Base original'!W121","v":4.0367275391469359},{"$f":"+'Base original'!Y121","v":1.68},{"$f":"+'Base original'!AB121/'Base original'!$Z121*'Base original'!AA121","v":0.93002732414056044},{"$f":"+'Base original'!AD121/'Base original'!$Z121*'Base original'!AC121","v":0.74953193111774796},{"$f":"+'Base original'!AE121","v":3.66},{"$f":"+('Base original'!AH121/'Base original'!AH109*100-100)*'Base original'!AH109/'Base original'!$AK109","v":2.5556578401332244},{"$f":"+('Base original'!AI121/'Base original'!AI109*100-100)*'Base original'!AI109/'Base original'!$AK109","v":9.4795927261950688},{"$f":"+('Base original'!AJ121/'Base original'!AJ109*100-100)*'Base original'!AJ109/'Base original'!$AK109","v":2.3663400841786477},{"$f":"+('Base original'!AK121/'Base original'!AK109*100-100)*'Base original'!AK109/'Base original'!$AK109","v":14.401590650506947},{"$f":"+('Base original'!AK121/'Base original'!AK109*100-100)*'Base original'!AK109/'Base original'!$AR109","v":3.5956856218754472},{"$f":"+('Base original'!AL121/'Base original'!AL109*100-100)*'Base original'!AL109/'Base original'!$AR109","v":7.3120131446746797},{"$f":"+('Base original'!AM121/'Base original'!AM109*100-100)*'Base original'!AM109/'Base original'!$AR109","v":0.37735934151840922},{"$f":"+('Base original'!AN121/'Base original'!AN109*100-100)*'Base original'!AN109/'Base original'!$AR109","v":-0.78199083094442257},{"$f":"+('Base original'!AO121/'Base original'!AO109*100-100)*'Base original'!AO109/'Base original'!$AR109","v":5.5109662375644297E-2},{"$f":"+('Base original'!AP121/'Base original'!AP109*100-100)*'Base original'!AP109/'Base original'!$AR109","v":-2.4219292929692535E-2},{"$f":"+('Base original'!AQ121/'Base original'!AQ109*100-100)*'Base original'!AQ109/'Base original'!$AR109","v":1.0565974517909582E-2},{"$f":"+(('Base original'!AN121-'Base original'!AP121)/('Base original'!AN109-'Base original'!AP109)*100-100)*(('Base original'!AN109-'Base original'!AP109)/'Base original'!AR109)","v":-0.75777153801473018},{"$f":"+(('Base original'!AO121-'Base original'!AQ121)/('Base original'!AO109-'Base original'!AQ109)*100-100)*(('Base original'!AO109-'Base original'!AQ109)/'Base original'!AR109)","v":4.4543687857734805E-2},{"$f":"+('Base original'!AR121/'Base original'!AR109*100-100)*'Base original'!AR109/'Base original'!$AR109","v":10.5718302579115},{"$f":"+('Base original'!AR121/'Base original'!AR109*100-100)*'Base original'!AR109/'Base original'!$BC109","v":6.3228897600830365},{"$f":"+('Base original'!AS121/'Base original'!AS109*100-100)*'Base original'!AS109/'Base original'!$BC109","v":1.1494996845943937},{"$f":"+('Base original'!AT121/'Base original'!AT109*100-100)*'Base original'!AT109/'Base original'!$BC109","v":-1.051501834248304},{"$f":"+('Base original'!AU121/'Base original'!AU109*100-100)*'Base original'!AU109/'Base original'!$BC109","v":2.3759242581694258},{"$f":"+('Base original'!AV121/'Base original'!AV109*100-100)*'Base original'!AV109/'Base original'!$BC109","v":-0.53855089614722107},{"$f":"+('Base original'!AW121/'Base original'!AW109*100-100)*'Base original'!AW109/'Base original'!$BC109","v":3.6052806757043837E-3},{"$f":"+('Base original'!AX121/'Base original'!AX109*100-100)*'Base original'!AX109/'Base original'!$BC109","v":0.1330208155117466},{"$f":"+('Base original'!AY121/'Base original'!AY109*100-100)*'Base original'!AY109/'Base original'!$BC109","v":1.7402549160352763},{"$f":"+('Base original'!AZ121/'Base original'!AZ109*100-100)*'Base original'!AZ109/'Base original'!$BC109","v":0.13943532136483799},{"$f":"+('Base original'!BA121/'Base original'!BA109*100-100)*'Base original'!BA109/'Base original'!$BC109","v":-3.7331774290941255E-2},{"$f":"+('Base original'!BB121/'Base original'!BB109*100-100)*'Base original'!BB109/'Base original'!$BC109","v":3.2478617469348173E-2},{"$f":"+(('Base original'!AY121-'Base original'!BA121)/('Base original'!AY109-'Base original'!BA109)*100-100)*('Base original'!AY109-'Base original'!BA109)/'Base original'!$BC109","v":1.7775866903262181},{"$f":"+(('Base original'!AZ121-'Base original'!BB121)/('Base original'!AZ109-'Base original'!BB109)*100-100)*('Base original'!AZ109-'Base original'!BB109)/'Base original'!$BC109","v":0.10695670389548978},{"$f":"+('Base original'!BC121/'Base original'!BC109*100-100)*'Base original'!BC109/'Base original'!$BC109","v":10.279430462860461}]
["2015-07-01",{"$f":"+'Base original'!B122/'Base original'!B110*100-100","v":8.949761494478679},{"$f":"+'Base original'!C122/'Base original'!C110*100-100","v":6.1702024163684968},{"$f":"+'Base original'!D122/'Base original'!D110*100-100","v":15.539106339178119},{"$f":"+'Base original'!E122/'Base original'!E110*100-100","v":9.1659769078739259},{"$f":"+'Base original'!F122/'Base original'!F110*100-100","v":10.263362880610472},{"$f":"+'Base original'!G122","v":22.91},{"$f":"+'Base original'!J122/'Base original'!$H122*'Base original'!I122","v":10.68797402630867},{"$f":"+'Base original'!L122/'Base original'!$H122*'Base original'!K122","v":0.96998608552250143},{"$f":"+'Base original'!N122/'Base original'!$H122*'Base original'!M122","v":3.8022276047773036},{"$f":"+'Base original'!P122/'Base original'!$H122*'Base original'!O122","v":7.4531236713606539},{"$f":"+'Base original'!Q122","v":6.83},{"$f":"+'Base original'!T122/'Base original'!$R122*'Base original'!S122","v":0.19832979750079036},{"$f":"+'Base original'!V122/'Base original'!$R122*'Base original'!U122","v":2.3640338233581253},{"$f":"+'Base original'!X122/'Base original'!$R122*'Base original'!W122","v":4.2698829431438119},{"$f":"+'Base original'!Y122","v":1.55},{"$f":"+'Base original'!AB122/'Base original'!$Z122*'Base original'!AA122","v":0.87723438783483243},{"$f":"+'Base original'!AD122/'Base original'!$Z122*'Base original'!AC122","v":0.67457115380762522},{"$f":"+'Base original'!AE122","v":3.67},{"$f":"+('Base original'!AH122/'Base original'!AH110*100-100)*'Base original'!AH110/'Base original'!$AK110","v":2.4527925940404791},{"$f":"+('Base original'!AI122/'Base original'!AI110*100-100)*'Base original'!AI110/'Base original'!$AK110","v":9.6906420418766324},{"$f":"+('Base original'!AJ122/'Base original'!AJ110*100-100)*'Base original'!AJ110/'Base original'!$AK110","v":2.5649383172185214},{"$f":"+('Base original'!AK122/'Base original'!AK110*100-100)*'Base original'!AK110/'Base original'!$AK110","v":14.708372953135651},{"$f":"+('Base original'!AK122/'Base original'!AK110*100-100)*'Base original'!AK110/'Base original'!$AR110","v":3.6105486747131974},{"$f":"+('Base original'!AL122/'Base original'!AL110*100-100)*'Base original'!AL110/'Base original'!$AR110","v":7.8593828366912035},{"$f":"+('Base original'!AM122/'Base original'!AM110*100-100)*'Base original'!AM110/'Base original'!$AR110","v":0.35147344313999557},{"$f":"+('Base original'!AN122/'Base original'!AN110*100-100)*'Base original'!AN110/'Base original'!$AR110","v":2.2788724986840179},{"$f":"+('Base original'!AO122/'Base original'!AO110*100-100)*'Base original'!AO110/'Base original'!$AR110","v":5.4095104814365538E-2},{"$f":"+('Base original'!AP122/'Base original'!AP110*100-100)*'Base original'!AP110/'Base original'!$AR110","v":2.6844295446530086},{"$f":"+('Base original'!AQ122/'Base original'!AQ110*100-100)*'Base original'!AQ110/'Base original'!$AR110","v":3.3945307898622995E-3},{"$f":"+(('Base original'!AN122-'Base original'!AP122)/('Base original'!AN110-'Base original'!AP110)*100-100)*(('Base original'!AN110-'Base original'!AP110)/'Base original'!AR110)","v":-0.405557045968992},{"$f":"+(('Base original'!AO122-'Base original'!AQ122)/('Base original'!AO110-'Base original'!AQ110)*100-100)*(('Base original'!AO110-'Base original'!AQ110)/'Base original'!AR110)","v":5.0700574024503307E-2},{"$f":"+('Base original'!AR122/'Base original'!AR110*100-100)*'Base original'!AR110/'Base original'!$AR110","v":11.46654848259989},{"$f":"+('Base original'!AR122/'Base original'!AR110*100-100)*'Base original'!AR110/'Base original'!$BC110","v":6.8806853901008784},{"$f":"+('Base original'!AS122/'Base original'!AS110*100-100)*'Base original'!AS110/'Base original'!$BC110","v":1.3645977676722707},{"$f":"+('Base original'!AT122/'Base original'!AT110*100-100)*'Base original'!AT110/'Base original'!$BC110","v":-0.67943531868937246},{"$f":"+('Base original'!AU122/'Base original'!AU110*100-100)*'Base original'!AU110/'Base original'!$BC110","v":2.8116970851539529},{"$f":"+('Base original'!AV122/'Base original'!AV110*100-100)*'Base original'!AV110/'Base original'!$BC110","v":-0.13741858231735674},{"$f":"+('Base original'!AW122/'Base original'!AW110*100-100)*'Base original'!AW110/'Base original'!$BC110","v":8.8223384442192212E-3},{"$f":"+('Base original'!AX122/'Base original'!AX110*100-100)*'Base original'!AX110/'Base original'!$BC110","v":0.1268635031374343},{"$f":"+('Base original'!AY122/'Base original'!AY110*100-100)*'Base original'!AY110/'Base original'!$BC110","v":1.6417090220368189},{"$f":"+('Base original'!AZ122/'Base original'!AZ110*100-100)*'Base original'!AZ110/'Base original'!$BC110","v":0.14280643777412111},{"$f":"+('Base original'!BA122/'Base original'!BA110*100-100)*'Base original'!BA110/'Base original'!$BC110","v":-1.8181389804134147E-2},{"$f":"+('Base original'!BB122/'Base original'!BB110*100-100)*'Base original'!BB110/'Base original'!$BC110","v":3.3375693959432802E-2},{"$f":"+(('Base original'!AY122-'Base original'!BA122)/('Base original'!AY110-'Base original'!BA110)*100-100)*('Base original'!AY110-'Base original'!BA110)/'Base original'!$BC110","v":1.6598904118409532},{"$f":"+(('Base original'!AZ122-'Base original'!BB122)/('Base original'!AZ110-'Base original'!BB110)*100-100)*('Base original'!AZ110-'Base original'!BB110)/'Base original'!$BC110","v":0.10943074381468827},{"$f":"+('Base original'!BC122/'Base original'!BC110*100-100)*'Base original'!BC110/'Base original'!$BC110","v":12.145133339157653}]
["2015-08-01",{"$f":"+'Base original'!B123/'Base original'!B111*100-100","v":8.359442782416366},{"$f":"+'Base original'!C123/'Base original'!C111*100-100","v":5.9827984892422563},{"$f":"+'Base original'!D123/'Base original'!D111*100-100","v":15.605291474528357},{"$f":"+'Base original'!E123/'Base original'!E111*100-100","v":12.263534554135916},{"$f":"+'Base original'!F123/'Base original'!F111*100-100","v":10.160685472514672},{"$f":"+'Base original'!G123","v":23.52},{"$f":"+'Base original'!J123/'Base original'!$H123*'Base original'!I123","v":12.081118992288044},{"$f":"+'Base original'!L123/'Base original'!$H123*'Base original'!K123","v":0.95229210783391671},{"$f":"+'Base original'!N123/'Base original'!$H123*'Base original'!M123","v":3.5760382017972323},{"$f":"+'Base original'!P123/'Base original'!$H123*'Base original'!O123","v":6.9125409413320869},{"$f":"+'Base original'!Q123","v":7.07},{"$f":"+'Base original'!T123/'Base original'!$R123*'Base original'!S123","v":0.25053554899281527},{"$f":"+'Base original'!V123/'Base original'!$R123*'Base original'!U123","v":2.4857642409015446},{"$f":"+'Base original'!X123/'Base original'!$R123*'Base original'!W123","v":4.3318057820680469},{"$f":"+'Base original'!Y123","v":1.59},{"$f":"+'Base original'!AB123/'Base original'!$Z123*'Base original'!AA123","v":0.94313211916665918},{"$f":"+'Base original'!AD123/'Base original'!$Z123*'Base original'!AC123","v":0.64518118251097323},{"$f":"+'Base original'!AE123","v":3.63},{"$f":"+('Base original'!AH123/'Base original'!AH111*100-100)*'Base original'!AH111/'Base original'!$AK111","v":2.6604006780928997},{"$f":"+('Base original'!AI123/'Base original'!AI111*100-100)*'Base original'!AI111/'Base original'!$AK111","v":9.0858697696132449},{"$f":"+('Base original'!AJ123/'Base original'!AJ111*100-100)*'Base original'!AJ111/'Base original'!$AK111","v":4.1139831369689892},{"$f":"+('Base original'!AK123/'Base original'!AK111*100-100)*'Base original'!AK111/'Base original'!$AK111","v":15.860253584675133},{"$f":"+('Base original'!AK123/'Base original'!AK111*100-100)*'Base original'!AK111/'Base original'!$AR111","v":3.8250511250132084},{"$f":"+('Base original'!AL123/'Base original'!AL111*100-100)*'Base original'!AL111/'Base original'!$AR111","v":8.8266700761584662},{"$f":"+('Base original'!AM123/'Base original'!AM111*100-100)*'Base original'!AM111/'Base original'!$AR111","v":0.42045267630711136},{"$f":"+('Base original'!AN123/'Base original'!AN111*100-100)*'Base original'!AN111/'Base original'!$AR111","v":2.4629204143015868},{"$f":"+('Base original'!AO123/'Base original'!AO111*100-100)*'Base original'!AO111/'Base original'!$AR111","v":6.1388159386466828E-2},{"$f":"+('Base original'!AP123/'Base original'!AP111*100-100)*'Base original'!AP111/'Base original'!$AR111","v":2.8552731612450817},{"$f":"+('Base original'!AQ123/'Base original'!AQ111*100-100)*'Base original'!AQ111/'Base original'!$AR111","v":8.2066745076140733E-4},{"$f":"+(('Base original'!AN123-'Base original'!AP123)/('Base original'!AN111-'Base original'!AP111)*100-100)*(('Base original'!AN111-'Base original'!AP111)/'Base original'!AR111)","v":-0.39235274694349542},{"$f":"+(('Base original'!AO123-'Base original'!AQ123)/('Base original'!AO111-'Base original'!AQ111)*100-100)*(('Base original'!AO111-'Base original'!AQ111)/'Base original'!AR111)","v":6.0567491935705355E-2},{"$f":"+('Base original'!AR123/'Base original'!AR111*100-100)*'Base original'!AR111/'Base original'!$AR111","v":12.740388622471002},{"$f":"+('Base original'!AR123/'Base original'!AR111*100-100)*'Base original'!AR111/'Base original'!$BC111","v":7.6046612243336353},{"$f":"+('Base original'!AS123/'Base original'!AS111*100-100)*'Base original'!AS111/'Base original'!$BC111","v":1.4900865158494263},{"$f":"+('Base original'!AT123/'Base original'!AT111*100-100)*'Base original'!AT111/'Base original'!$BC111","v":-0.40353759702996977},{"$f":"+('Base original'!AU123/'Base original'!AU111*100-100)*'Base original'!AU111/'Base original'!$BC111","v":2.9255524361810736},{"$f":"+('Base original'!AV123/'Base original'!AV111*100-100)*'Base original'!AV111/'Base original'!$BC111","v":-0.26887732684380483},{"$f":"+('Base original'!AW123/'Base original'!AW111*100-100)*'Base original'!AW111/'Base original'!$BC111","v":2.1395461244092601E-2},{"$f":"+('Base original'!AX123/'Base original'!AX111*100-100)*'Base original'!AX111/'Base original'!$BC111","v":0.20906656931098597},{"$f":"+('Base original'!AY123/'Base original'!AY111*100-100)*'Base original'!AY111/'Base original'!$BC111","v":1.4140637750090834},{"$f":"+('Base original'!AZ123/'Base original'!AZ111*100-100)*'Base original'!AZ111/'Base original'!$BC111","v":0.11514668474107637},{"$f":"+('Base original'!BA123/'Base original'!BA111*100-100)*'Base original'!BA111/'Base original'!$BC111","v":-0.15635656383203939},{"$f":"+('Base original'!BB123/'Base original'!BB111*100-100)*'Base original'!BB111/'Base original'!$BC111","v":3.8432500373588224E-2},{"$f":"+(('Base original'!AY123-'Base original'!BA123)/('Base original'!AY111-'Base original'!BA111)*100-100)*('Base original'!AY111-'Base original'!BA111)/'Base original'!$BC111","v":1.5704203388411218},{"$f":"+(('Base original'!AZ123-'Base original'!BB123)/('Base original'!AZ111-'Base original'!BB111)*100-100)*('Base original'!AZ111-'Base original'!BB111)/'Base original'!$BC111","v":7.67141843674881E-2},{"$f":"+('Base original'!BC123/'Base original'!BC111*100-100)*'Base original'!BC111/'Base original'!$BC111","v":13.225481806254066}]
["2015-09-01",{"$f":"+'Base original'!B124/'Base original'!B112*100-100","v":9.8101796476738343},{"$f":"+'Base original'!C124/'Base original'!C112*100-100","v":6.1866904417473734},{"$f":"+'Base original'!D124/'Base original'!D112*100-100","v":15.896184602003686},{"$f":"+'Base original'!E124/'Base original'!E112*100-100","v":10.014899714591394},{"$f":"+'Base original'!F124/'Base original'!F112*100-100","v":10.907684968931619},{"$f":"+'Base original'!G124","v":23.23},{"$f":"+'Base original'!J124/'Base original'!$H124*'Base original'!I124","v":11.641118229470004},{"$f":"+'Base original'!L124/'Base original'!$H124*'Base original'!K124","v":0.9358854890013889},{"$f":"+'Base original'!N124/'Base original'!$H124*'Base original'!M124","v":3.7065655660588681},{"$f":"+'Base original'!P124/'Base original'!$H124*'Base original'!O124","v":6.9431020115586213},{"$f":"+'Base original'!Q124","v":6.34},{"$f":"+'Base original'!T124/'Base original'!$R124*'Base original'!S124","v":0.14425763944109962},{"$f":"+'Base original'!V124/'Base original'!$R124*'Base original'!U124","v":2.3882553325352371},{"$f":"+'Base original'!X124/'Base original'!$R124*'Base original'!W124","v":3.8082438679121631},{"$f":"+'Base original'!Y124","v":1.58},{"$f":"+'Base original'!AB124/'Base original'!$Z124*'Base original'!AA124","v":0.68959422538536774},{"$f":"+'Base original'!AD124/'Base original'!$Z124*'Base original'!AC124","v":0.88895672412048421},{"$f":"+'Base original'!AE124","v":3.65},{"$f":"+('Base original'!AH124/'Base original'!AH112*100-100)*'Base original'!AH112/'Base original'!$AK112","v":2.3599333550897823},{"$f":"+('Base original'!AI124/'Base original'!AI112*100-100)*'Base original'!AI112/'Base original'!$AK112","v":8.6012459541072381},{"$f":"+('Base original'!AJ124/'Base original'!AJ112*100-100)*'Base original'!AJ112/'Base original'!$AK112","v":2.9284409728370742},{"$f":"+('Base original'!AK124/'Base original'!AK112*100-100)*'Base original'!AK112/'Base original'!$AK112","v":13.889620282034116},{"$f":"+('Base original'!AK124/'Base original'!AK112*100-100)*'Base original'!AK112/'Base original'!$AR112","v":3.421754371543813},{"$f":"+('Base original'!AL124/'Base original'!AL112*100-100)*'Base original'!AL112/'Base original'!$AR112","v":9.5437893248305894},{"$f":"+('Base original'!AM124/'Base original'!AM112*100-100)*'Base original'!AM112/'Base original'!$AR112","v":0.44795980449740974},{"$f":"+('Base original'!AN124/'Base original'!AN112*100-100)*'Base original'!AN112/'Base original'!$AR112","v":1.0177438375334253},{"$f":"+('Base original'!AO124/'Base original'!AO112*100-100)*'Base original'!AO112/'Base original'!$AR112","v":6.8446509552537213E-2},{"$f":"+('Base original'!AP124/'Base original'!AP112*100-100)*'Base original'!AP112/'Base original'!$AR112","v":1.524738009636037},{"$f":"+('Base original'!AQ124/'Base original'!AQ112*100-100)*'Base original'!AQ112/'Base original'!$AR112","v":4.8610478035300358E-4},{"$f":"+(('Base original'!AN124-'Base original'!AP124)/('Base original'!AN112-'Base original'!AP112)*100-100)*(('Base original'!AN112-'Base original'!AP112)/'Base original'!AR112)","v":-0.50699417210261033},{"$f":"+(('Base original'!AO124-'Base original'!AQ124)/('Base original'!AO112-'Base original'!AQ112)*100-100)*(('Base original'!AO112-'Base original'!AQ112)/'Base original'!AR112)","v":6.7960404772184235E-2},{"$f":"+('Base original'!AR124/'Base original'!AR112*100-100)*'Base original'!AR112/'Base original'!$AR112","v":12.974469733541397},{"$f":"+('Base original'!AR124/'Base original'!AR112*100-100)*'Base original'!AR112/'Base original'!$BC112","v":7.7215331599527488},{"$f":"+('Base original'!AS124/'Base original'!AS112*100-100)*'Base original'!AS112/'Base original'!$BC112","v":1.1396475339113168},{"$f":"+('Base original'!AT124/'Base original'!AT112*100-100)*'Base original'!AT112/'Base original'!$BC112","v":-0.40929184281531644},{"$f":"+('Base original'!AU124/'Base original'!AU112*100-100)*'Base original'!AU112/'Base original'!$BC112","v":3.0493822096425558},{"$f":"+('Base original'!AV124/'Base original'!AV112*100-100)*'Base original'!AV112/'Base original'!$BC112","v":-0.26323639740390026},{"$f":"+('Base original'!AW124/'Base original'!AW112*100-100)*'Base original'!AW112/'Base original'!$BC112","v":2.952944159196615E-2},{"$f":"+('Base original'!AX124/'Base original'!AX112*100-100)*'Base original'!AX112/'Base original'!$BC112","v":0.15703665563361802},{"$f":"+('Base original'!AY124/'Base original'!AY112*100-100)*'Base original'!AY112/'Base original'!$BC112","v":1.242711527307552},{"$f":"+('Base original'!AZ124/'Base original'!AZ112*100-100)*'Base original'!AZ112/'Base original'!$BC112","v":9.4175703163932104E-2},{"$f":"+('Base original'!BA124/'Base original'!BA112*100-100)*'Base original'!BA112/'Base original'!$BC112","v":-0.30358005016403533},{"$f":"+('Base original'!BB124/'Base original'!BB112*100-100)*'Base original'!BB112/'Base original'!$BC112","v":4.2108370534032442E-2},{"$f":"+(('Base original'!AY124-'Base original'!BA124)/('Base original'!AY112-'Base original'!BA112)*100-100)*('Base original'!AY112-'Base original'!BA112)/'Base original'!$BC112","v":1.5462915774715882},{"$f":"+(('Base original'!AZ124-'Base original'!BB124)/('Base original'!AZ112-'Base original'!BB112)*100-100)*('Base original'!AZ112-'Base original'!BB112)/'Base original'!$BC112","v":5.206733262989971E-2},{"$f":"+('Base original'!BC124/'Base original'!BC112*100-100)*'Base original'!BC112/'Base original'!$BC112","v":13.022959670614483}]
["2015-10-01",{"$f":"+'Base original'!B125/'Base original'!B113*100-100","v":10.029031480422816},{"$f":"+'Base original'!C125/'Base original'!C113*100-100","v":6.2737506097104898},{"$f":"+'Base original'!D125/'Base original'!D113*100-100","v":15.665974403011404},{"$f":"+'Base original'!E125/'Base original'!E113*100-100","v":11.863925406383117},{"$f":"+'Base original'!F125/'Base original'!F113*100-100","v":11.12910981217658},{"$f":"+'Base original'!G125","v":23.14},{"$f":"+'Base original'!J125/'Base original'!$H125*'Base original'!I125","v":11.801500352988121},{"$f":"+'Base original'!L125/'Base original'!$H125*'Base original'!K125","v":1.0343052272936553},{"$f":"+'Base original'!N125/'Base original'!$H125*'Base original'!M125","v":3.5799379968691487},{"$f":"+'Base original'!P125/'Base original'!$H125*'Base original'!O125","v":6.7232929187513415},{"$f":"+'Base original'!Q125","v":6.24},{"$f":"+'Base original'!T125/'Base original'!$R125*'Base original'!S125","v":0.16870971667477946},{"$f":"+'Base original'!V125/'Base original'!$R125*'Base original'!U125","v":1.9132914135588019},{"$f":"+'Base original'!X125/'Base original'!$R125*'Base original'!W125","v":4.1532466709786693},{"$f":"+'Base original'!Y125","v":1.52},{"$f":"+'Base original'!AB125/'Base original'!$Z125*'Base original'!AA125","v":0.84315341512077102},{"$f":"+'Base original'!AD125/'Base original'!$Z125*'Base original'!AC125","v":0.67892133972916757},{"$f":"+'Base original'!AE125","v":3.64},{"$f":"+('Base original'!AH125/'Base original'!AH113*100-100)*'Base original'!AH113/'Base original'!$AK113","v":2.6515051163659487},{"$f":"+('Base original'!AI125/'Base original'!AI113*100-100)*'Base original'!AI113/'Base original'!$AK113","v":9.821269309127862},{"$f":"+('Base original'!AJ125/'Base original'!AJ113*100-100)*'Base original'!AJ113/'Base original'!$AK113","v":2.4527518293873172},{"$f":"+('Base original'!AK125/'Base original'!AK113*100-100)*'Base original'!AK113/'Base original'!$AK113","v":14.925526254881134},{"$f":"+('Base original'!AK125/'Base original'!AK113*100-100)*'Base original'!AK113/'Base original'!$AR113","v":3.5978386236706599},{"$f":"+('Base original'!AL125/'Base original'!AL113*100-100)*'Base original'!AL113/'Base original'!$AR113","v":9.9935320521465911},{"$f":"+('Base original'!AM125/'Base original'!AM113*100-100)*'Base original'!AM113/'Base original'!$AR113","v":0.47197622986676957},{"$f":"+('Base original'!AN125/'Base original'!AN113*100-100)*'Base original'!AN113/'Base original'!$AR113","v":1.0004973181273009},{"$f":"+('Base original'!AO125/'Base original'!AO113*100-100)*'Base original'!AO113/'Base original'!$AR113","v":6.632740378573769E-2},{"$f":"+('Base original'!AP125/'Base original'!AP113*100-100)*'Base original'!AP113/'Base original'!$AR113","v":1.5818793945794103},{"$f":"+('Base original'!AQ125/'Base original'!AQ113*100-100)*'Base original'!AQ113/'Base original'!$AR113","v":-1.017190290610532E-3},{"$f":"+(('Base original'!AN125-'Base original'!AP125)/('Base original'!AN113-'Base original'!AP113)*100-100)*(('Base original'!AN113-'Base original'!AP113)/'Base original'!AR113)","v":-0.58138207645210793},{"$f":"+(('Base original'!AO125-'Base original'!AQ125)/('Base original'!AO113-'Base original'!AQ113)*100-100)*(('Base original'!AO113-'Base original'!AQ113)/'Base original'!AR113)","v":6.7344594076348033E-2},{"$f":"+('Base original'!AR125/'Base original'!AR113*100-100)*'Base original'!AR113/'Base original'!$AR113","v":13.549309423308273},{"$f":"+('Base original'!AR125/'Base original'!AR113*100-100)*'Base original'!AR113/'Base original'!$BC113","v":8.0931068605842569},{"$f":"+('Base original'!AS125/'Base original'!AS113*100-100)*'Base original'!AS113/'Base original'!$BC113","v":1.2664433498266972},{"$f":"+('Base original'!AT125/'Base original'!AT113*100-100)*'Base original'!AT113/'Base original'!$BC113","v":-0.43375413632226878},{"$f":"+('Base original'!AU125/'Base original'!AU113*100-100)*'Base original'!AU113/'Base original'!$BC113","v":3.1916327197939403},{"$f":"+('Base original'!AV125/'Base original'!AV113*100-100)*'Base original'!AV113/'Base original'!$BC113","v":3.1585098919679588E-2},{"$f":"+('Base original'!AW125/'Base original'!AW113*100-100)*'Base original'!AW113/'Base original'!$BC113","v":2.0840806463999047E-2},{"$f":"+('Base original'!AX125/'Base original'!AX113*100-100)*'Base original'!AX113/'Base original'!$BC113","v":0.17844613575853574},{"$f":"+('Base original'!AY125/'Base original'!AY113*100-100)*'Base original'!AY113/'Base original'!$BC113","v":1.6377129831924715},{"$f":"+('Base original'!AZ125/'Base original'!AZ113*100-100)*'Base original'!AZ113/'Base original'!$BC113","v":0.10107546426392509},{"$f":"+('Base original'!BA125/'Base original'!BA113*100-100)*'Base original'!BA113/'Base original'!$BC113","v":-0.27665339093253999},{"$f":"+('Base original'!BB125/'Base original'!BB113*100-100)*'Base original'!BB113/'Base original'!$BC113","v":4.4652126347453608E-2},{"$f":"+(('Base original'!AY125-'Base original'!BA125)/('Base original'!AY113-'Base original'!BA113)*100-100)*('Base original'!AY113-'Base original'!BA113)/'Base original'!$BC113","v":1.9143663741250119},{"$f":"+(('Base original'!AZ125-'Base original'!BB125)/('Base original'!AZ113-'Base original'!BB113)*100-100)*('Base original'!AZ113-'Base original'!BB113)/'Base original'!$BC113","v":5.6423337916471625E-2},{"$f":"+('Base original'!BC125/'Base original'!BC113*100-100)*'Base original'!BC113/'Base original'!$BC113","v":14.319090547066352}]
["2015-11-01",{"$f":"+'Base original'!B126/'Base original'!B114*100-100","v":8.6745288118679014},{"$f":"+'Base original'!C126/'Base original'!C114*100-100","v":6.3237493409313572},{"$f":"+'Base original'!D126/'Base original'!D114*100-100","v":15.182902675053626},{"$f":"+'Base original'!E126/'Base original'!E114*100-100","v":8.7290657837155976},{"$f":"+'Base original'!F126/'Base original'!F114*100-100","v":10.028988239702443},{"$f":"+'Base original'!G126","v":22.71},{"$f":"+'Base original'!J126/'Base original'!$H126*'Base original'!I126","v":11.249295774647887},{"$f":"+'Base original'!L126/'Base original'!$H126*'Base original'!K126","v":1.2685259834871296},{"$f":"+'Base original'!N126/'Base original'!$H126*'Base original'!M126","v":3.6468285575522099},{"$f":"+'Base original'!P126/'Base original'!$H126*'Base original'!O126","v":6.5502393672379098},{"$f":"+'Base original'!Q126","v":6.93},{"$f":"+'Base original'!T126/'Base original'!$R126*'Base original'!S126","v":0.22745909910613726},{"$f":"+'Base original'!V126/'Base original'!$R126*'Base original'!U126","v":2.3572374888511294},{"$f":"+'Base original'!X126/'Base original'!$R126*'Base original'!W126","v":4.3450137475613539},{"$f":"+'Base original'!Y126","v":1.57},{"$f":"+'Base original'!AB126/'Base original'!$Z126*'Base original'!AA126","v":0.97036840127747515},{"$f":"+'Base original'!AD126/'Base original'!$Z126*'Base original'!AC126","v":0.59663732857411234},{"$f":"+'Base original'!AE126","v":3.72},{"$f":"+('Base original'!AH126/'Base original'!AH114*100-100)*'Base original'!AH114/'Base original'!$AK114","v":2.3580626134143912},{"$f":"+('Base original'!AI126/'Base original'!AI114*100-100)*'Base original'!AI114/'Base original'!$AK114","v":9.2485975932252487},{"$f":"+('Base original'!AJ126/'Base original'!AJ114*100-100)*'Base original'!AJ114/'Base original'!$AK114","v":-0.29387966101164464},{"$f":"+('Base original'!AK126/'Base original'!AK114*100-100)*'Base original'!AK114/'Base original'!$AK114","v":11.312780545627987},{"$f":"+('Base original'!AK126/'Base original'!AK114*100-100)*'Base original'!AK114/'Base original'!$AR114","v":2.7858460640019298},{"$f":"+('Base original'!AL126/'Base original'!AL114*100-100)*'Base original'!AL114/'Base original'!$AR114","v":9.0493419638602255},{"$f":"+('Base original'!AM126/'Base original'!AM114*100-100)*'Base original'!AM114/'Base original'!$AR114","v":0.59120050502653765},{"$f":"+('Base original'!AN126/'Base original'!AN114*100-100)*'Base original'!AN114/'Base original'!$AR114","v":0.46772953805069312},{"$f":"+('Base original'!AO126/'Base original'!AO114*100-100)*'Base original'!AO114/'Base original'!$AR114","v":6.4706375476074593E-2},{"$f":"+('Base original'!AP126/'Base original'!AP114*100-100)*'Base original'!AP114/'Base original'!$AR114","v":1.0068871646643989},{"$f":"+('Base original'!AQ126/'Base original'!AQ114*100-100)*'Base original'!AQ114/'Base original'!$AR114","v":-3.0705189579344305E-3},{"$f":"+(('Base original'!AN126-'Base original'!AP126)/('Base original'!AN114-'Base original'!AP114)*100-100)*(('Base original'!AN114-'Base original'!AP114)/'Base original'!AR114)","v":-0.53915762661370525},{"$f":"+(('Base original'!AO126-'Base original'!AQ126)/('Base original'!AO114-'Base original'!AQ114)*100-100)*(('Base original'!AO114-'Base original'!AQ114)/'Base original'!AR114)","v":6.7776894434008972E-2},{"$f":"+('Base original'!AR126/'Base original'!AR114*100-100)*'Base original'!AR114/'Base original'!$AR114","v":11.955007800708998},{"$f":"+('Base original'!AR126/'Base original'!AR114*100-100)*'Base original'!AR114/'Base original'!$BC114","v":7.2363684386239395},{"$f":"+('Base original'!AS126/'Base original'!AS114*100-100)*'Base original'!AS114/'Base original'!$BC114","v":1.3955960626175057},{"$f":"+('Base original'!AT126/'Base original'!AT114*100-100)*'Base original'!AT114/'Base original'!$BC114","v":-0.17152329440769262},{"$f":"+('Base original'!AU126/'Base original'!AU114*100-100)*'Base original'!AU114/'Base original'!$BC114","v":3.3367628272119196},{"$f":"+('Base original'!AV126/'Base original'!AV114*100-100)*'Base original'!AV114/'Base original'!$BC114","v":2.5218712226412341E-2},{"$f":"+('Base original'!AW126/'Base original'!AW114*100-100)*'Base original'!AW114/'Base original'!$BC114","v":9.8786271114695949E-3},{"$f":"+('Base original'!AX126/'Base original'!AX114*100-100)*'Base original'!AX114/'Base original'!$BC114","v":0.17002161990368769},{"$f":"+('Base original'!AY126/'Base original'!AY114*100-100)*'Base original'!AY114/'Base original'!$BC114","v":1.4972229212577017},{"$f":"+('Base original'!AZ126/'Base original'!AZ114*100-100)*'Base original'!AZ114/'Base original'!$BC114","v":0.10240656885196762},{"$f":"+('Base original'!BA126/'Base original'!BA114*100-100)*'Base original'!BA114/'Base original'!$BC114","v":-0.45261987210451365},{"$f":"+('Base original'!BB126/'Base original'!BB114*100-100)*'Base original'!BB114/'Base original'!$BC114","v":4.6160425353636562E-2},{"$f":"+(('Base original'!AY126-'Base original'!BA126)/('Base original'!AY114-'Base original'!BA114)*100-100)*('Base original'!AY114-'Base original'!BA114)/'Base original'!$BC114","v":1.9498427933622144},{"$f":"+(('Base original'!AZ126-'Base original'!BB126)/('Base original'!AZ114-'Base original'!BB114)*100-100)*('Base original'!AZ114-'Base original'!BB114)/'Base original'!$BC114","v":5.6246143498331007E-2},{"$f":"+('Base original'!BC126/'Base original'!BC114*100-100)*'Base original'!BC114/'Base original'!$BC114","v":14.008411930147814}]
["2015-12-01",{"$f":"+'Base original'!B127/'Base original'!B115*100-100","v":9.0718105425074356},{"$f":"+'Base original'!C127/'Base original'!C115*100-100","v":6.9886518372827169},{"$f":"+'Base original'!D127/'Base original'!D115*100-100","v":15.068682758886993},{"$f":"+'Base original'!E127/'Base original'!E115*100-100","v":9.1393722359512282},{"$f":"+'Base original'!F127/'Base original'!F115*100-100","v":10.341370536615969},{"$f":"+'Base original'!G127","v":22.83},{"$f":"+'Base original'!J127/'Base original'!$H127*'Base original'!I127","v":11.559097400742642},{"$f":"+'Base original'!L127/'Base original'!$H127*'Base original'!K127","v":1.3129569702773995},{"$f":"+'Base original'!N127/'Base original'!$H127*'Base original'!M127","v":3.4159579615908058},{"$f":"+'Base original'!P127/'Base original'!$H127*'Base original'!O127","v":6.5375321336760921},{"$f":"+'Base original'!Q127","v":6.86},{"$f":"+'Base original'!T127/'Base original'!$R127*'Base original'!S127","v":0.18441421988508835},{"$f":"+'Base original'!V127/'Base original'!$R127*'Base original'!U127","v":2.6074754867735854},{"$f":"+'Base original'!X127/'Base original'!$R127*'Base original'!W127","v":4.0653889590861558},{"$f":"+'Base original'!Y127","v":1.83},{"$f":"+'Base original'!AB127/'Base original'!$Z127*'Base original'!AA127","v":1.0693544315900181},{"$f":"+'Base original'!AD127/'Base original'!$Z127*'Base original'!AC127","v":0.76295860024858975},{"$f":"+'Base original'!AE127","v":3.77},{"$f":"+('Base original'!AH127/'Base original'!AH115*100-100)*'Base original'!AH115/'Base original'!$AK115","v":2.0347305996394773},{"$f":"+('Base original'!AI127/'Base original'!AI115*100-100)*'Base original'!AI115/'Base original'!$AK115","v":8.2827409663816187},{"$f":"+('Base original'!AJ127/'Base original'!AJ115*100-100)*'Base original'!AJ115/'Base original'!$AK115","v":0.34998209531787355},{"$f":"+('Base original'!AK127/'Base original'!AK115*100-100)*'Base original'!AK115/'Base original'!$AK115","v":10.667453661338968},{"$f":"+('Base original'!AK127/'Base original'!AK115*100-100)*'Base original'!AK115/'Base original'!$AR115","v":2.7268185810281866},{"$f":"+('Base original'!AL127/'Base original'!AL115*100-100)*'Base original'!AL115/'Base original'!$AR115","v":8.087691095853085},{"$f":"+('Base original'!AM127/'Base original'!AM115*100-100)*'Base original'!AM115/'Base original'!$AR115","v":0.43573502720327251},{"$f":"+('Base original'!AN127/'Base original'!AN115*100-100)*'Base original'!AN115/'Base original'!$AR115","v":0.36762786323662555},{"$f":"+('Base original'!AO127/'Base original'!AO115*100-100)*'Base original'!AO115/'Base original'!$AR115","v":6.4022221610325405E-2},{"$f":"+('Base original'!AP127/'Base original'!AP115*100-100)*'Base original'!AP115/'Base original'!$AR115","v":0.65689965084715096},{"$f":"+('Base original'!AQ127/'Base original'!AQ115*100-100)*'Base original'!AQ115/'Base original'!$AR115","v":-5.4344548066244495E-3},{"$f":"+(('Base original'!AN127-'Base original'!AP127)/('Base original'!AN115-'Base original'!AP115)*100-100)*(('Base original'!AN115-'Base original'!AP115)/'Base original'!AR115)","v":-0.28927178761052635},{"$f":"+(('Base original'!AO127-'Base original'!AQ127)/('Base original'!AO115-'Base original'!AQ115)*100-100)*(('Base original'!AO115-'Base original'!AQ115)/'Base original'!AR115)","v":6.9456676416949928E-2},{"$f":"+('Base original'!AR127/'Base original'!AR115*100-100)*'Base original'!AR115/'Base original'!$AR115","v":11.030429592890982},{"$f":"+('Base original'!AR127/'Base original'!AR115*100-100)*'Base original'!AR115/'Base original'!$BC115","v":6.7128650279688138},{"$f":"+('Base original'!AS127/'Base original'!AS115*100-100)*'Base original'!AS115/'Base original'!$BC115","v":1.1231425689273731},{"$f":"+('Base original'!AT127/'Base original'!AT115*100-100)*'Base original'!AT115/'Base original'!$BC115","v":-0.28792898432500386},{"$f":"+('Base original'!AU127/'Base original'!AU115*100-100)*'Base original'!AU115/'Base original'!$BC115","v":3.0632946935716392},{"$f":"+('Base original'!AV127/'Base original'!AV115*100-100)*'Base original'!AV115/'Base original'!$BC115","v":-0.18431044683587688},{"$f":"+('Base original'!AW127/'Base original'!AW115*100-100)*'Base original'!AW115/'Base original'!$BC115","v":-3.0517393559824024E-2},{"$f":"+('Base original'!AX127/'Base original'!AX115*100-100)*'Base original'!AX115/'Base original'!$BC115","v":9.8101594180011159E-2},{"$f":"+('Base original'!AY127/'Base original'!AY115*100-100)*'Base original'!AY115/'Base original'!$BC115","v":0.84899249066858617},{"$f":"+('Base original'!AZ127/'Base original'!AZ115*100-100)*'Base original'!AZ115/'Base original'!$BC115","v":8.4680635060902829E-2},{"$f":"+('Base original'!BA127/'Base original'!BA115*100-100)*'Base original'!BA115/'Base original'!$BC115","v":-0.80711968930893552},{"$f":"+('Base original'!BB127/'Base original'!BB115*100-100)*'Base original'!BB115/'Base original'!$BC115","v":3.9851657522341405E-2},{"$f":"+(('Base original'!AY127-'Base original'!BA127)/('Base original'!AY115-'Base original'!BA115)*100-100)*('Base original'!AY115-'Base original'!BA115)/'Base original'!$BC115","v":1.6561121799775222},{"$f":"+(('Base original'!AZ127-'Base original'!BB127)/('Base original'!AZ115-'Base original'!BB115)*100-100)*('Base original'!AZ115-'Base original'!BB115)/'Base original'!$BC115","v":4.4828977538561347E-2},{"$f":"+('Base original'!BC127/'Base original'!BC115*100-100)*'Base original'!BC115/'Base original'!$BC115","v":12.195588217443202}]
["2016-01-01",{"$f":"+'Base original'!B128/'Base original'!B116*100-100","v":9.1413208492857621},{"$f":"+'Base original'!C128/'Base original'!C116*100-100","v":7.1630125773033342},{"$f":"+'Base original'!D128/'Base original'!D116*100-100","v":15.271367091105191},{"$f":"+'Base original'!E128/'Base original'!E116*100-100","v":2.0991100033026271},{"$f":"+'Base original'!F128/'Base original'!F116*100-100","v":9.9168344194184215},{"$f":"+'Base original'!G128","v":23.39},{"$f":"+'Base original'!J128/'Base original'!$H128*'Base original'!I128","v":12.270253623841361},{"$f":"+'Base original'!L128/'Base original'!$H128*'Base original'!K128","v":1.1968708512798332},{"$f":"+'Base original'!N128/'Base original'!$H128*'Base original'!M128","v":3.3449152084196863},{"$f":"+'Base original'!P128/'Base original'!$H128*'Base original'!O128","v":6.5829349961253572},{"$f":"+'Base original'!Q128","v":7.28},{"$f":"+'Base original'!T128/'Base original'!$R128*'Base original'!S128","v":0.23956560741283422},{"$f":"+'Base original'!V128/'Base original'!$R128*'Base original'!U128","v":2.3971690698990975},{"$f":"+'Base original'!X128/'Base original'!$R128*'Base original'!W128","v":4.642269847480768},{"$f":"+'Base original'!Y128","v":1.89},{"$f":"+'Base original'!AB128/'Base original'!$Z128*'Base original'!AA128","v":0.97249686495360121},{"$f":"+'Base original'!AD128/'Base original'!$Z128*'Base original'!AC128","v":0.91891515994436712},{"$f":"+'Base original'!AE128","v":3.8323364446336301},{"$f":"+('Base original'!AH128/'Base original'!AH116*100-100)*'Base original'!AH116/'Base original'!$AK116","v":2.0264190281514187},{"$f":"+('Base original'!AI128/'Base original'!AI116*100-100)*'Base original'!AI116/'Base original'!$AK116","v":8.885666782749027},{"$f":"+('Base original'!AJ128/'Base original'!AJ116*100-100)*'Base original'!AJ116/'Base original'!$AK116","v":2.4810601943083204},{"$f":"+('Base original'!AK128/'Base original'!AK116*100-100)*'Base original'!AK116/'Base original'!$AK116","v":13.393146005208763},{"$f":"+('Base original'!AK128/'Base original'!AK116*100-100)*'Base original'!AK116/'Base original'!$AR116","v":3.4055236280096768},{"$f":"+('Base original'!AL128/'Base original'!AL116*100-100)*'Base original'!AL116/'Base original'!$AR116","v":8.4427778102178532},{"$f":"+('Base original'!AM128/'Base original'!AM116*100-100)*'Base original'!AM116/'Base original'!$AR116","v":0.43058004201644878},{"$f":"+('Base original'!AN128/'Base original'!AN116*100-100)*'Base original'!AN116/'Base original'!$AR116","v":-0.42655058940500995},{"$f":"+('Base original'!AO128/'Base original'!AO116*100-100)*'Base original'!AO116/'Base original'!$AR116","v":5.1990755737699033E-2},{"$f":"+('Base original'!AP128/'Base original'!AP116*100-100)*'Base original'!AP116/'Base original'!$AR116","v":-4.2365358064196154E-2},{"$f":"+('Base original'!AQ128/'Base original'!AQ116*100-100)*'Base original'!AQ116/'Base original'!$AR116","v":-5.6972537442941283E-3},{"$f":"+(('Base original'!AN128-'Base original'!AP128)/('Base original'!AN116-'Base original'!AP116)*100-100)*(('Base original'!AN116-'Base original'!AP116)/'Base original'!AR116)","v":-0.38418523134081461},{"$f":"+(('Base original'!AO128-'Base original'!AQ128)/('Base original'!AO116-'Base original'!AQ116)*100-100)*(('Base original'!AO116-'Base original'!AQ116)/'Base original'!AR116)","v":5.7688009481993187E-2},{"$f":"+('Base original'!AR128/'Base original'!AR116*100-100)*'Base original'!AR116/'Base original'!$AR116","v":11.952384258385138},{"$f":"+('Base original'!AR128/'Base original'!AR116*100-100)*'Base original'!AR116/'Base original'!$BC116","v":7.258793413036595},{"$f":"+('Base original'!AS128/'Base original'!AS116*100-100)*'Base original'!AS116/'Base original'!$BC116","v":0.73592659418218553},{"$f":"+('Base original'!AT128/'Base original'!AT116*100-100)*'Base original'!AT116/'Base original'!$BC116","v":-0.38862664867772767},{"$f":"+('Base original'!AU128/'Base original'!AU116*100-100)*'Base original'!AU116/'Base original'!$BC116","v":2.8934340913462404},{"$f":"+('Base original'!AV128/'Base original'!AV116*100-100)*'Base original'!AV116/'Base original'!$BC116","v":-0.19372061039167288},{"$f":"+('Base original'!AW128/'Base original'!AW116*100-100)*'Base original'!AW116/'Base original'!$BC116","v":-6.8342669149084156E-2},{"$f":"+('Base original'!AX128/'Base original'!AX116*100-100)*'Base original'!AX116/'Base original'!$BC116","v":0.18372573379811602},{"$f":"+('Base original'!AY128/'Base original'!AY116*100-100)*'Base original'!AY116/'Base original'!$BC116","v":0.52516225646611225},{"$f":"+('Base original'!AZ128/'Base original'!AZ116*100-100)*'Base original'!AZ116/'Base original'!$BC116","v":6.0142608528647015E-2},{"$f":"+('Base original'!BA128/'Base original'!BA116*100-100)*'Base original'!BA116/'Base original'!$BC116","v":-0.95864120917546658},{"$f":"+('Base original'!BB128/'Base original'!BB116*100-100)*'Base original'!BB116/'Base original'!$BC116","v":3.1046494577178788E-2},{"$f":"+(('Base original'!AY128-'Base original'!BA128)/('Base original'!AY116-'Base original'!BA116)*100-100)*('Base original'!AY116-'Base original'!BA116)/'Base original'!$BC116","v":1.4838034656415782},{"$f":"+(('Base original'!AZ128-'Base original'!BB128)/('Base original'!AZ116-'Base original'!BB116)*100-100)*('Base original'!AZ116-'Base original'!BB116)/'Base original'!$BC116","v":2.9096113951468244E-2},{"$f":"+('Base original'!BC128/'Base original'!BC116*100-100)*'Base original'!BC116/'Base original'!$BC116","v":11.934089483737708}]
["2016-02-01",{"$f":"+'Base original'!B129/'Base original'!B117*100-100","v":9.7405958543755702},{"$f":"+'Base original'!C129/'Base original'!C117*100-100","v":7.3509443150262825},{"$f":"+'Base original'!D129/'Base original'!D117*100-100","v":15.52334117920195},{"$f":"+'Base original'!E129/'Base original'!E117*100-100","v":6.9432715838034085},{"$f":"+'Base original'!F129/'Base original'!F117*100-100","v":10.720961365930194},{"$f":"+'Base original'!G129","v":23.87},{"$f":"+'Base original'!J129/'Base original'!$H129*'Base original'!I129","v":12.987294337178275},{"$f":"+'Base original'!L129/'Base original'!$H129*'Base original'!K129","v":1.1711932395571483},{"$f":"+'Base original'!N129/'Base original'!$H129*'Base original'!M129","v":3.2542113113809106},{"$f":"+'Base original'!P129/'Base original'!$H129*'Base original'!O129","v":6.4592804549749507},{"$f":"+'Base original'!Q129","v":7.75},{"$f":"+'Base original'!T129/'Base original'!$R129*'Base original'!S129","v":0.32281619180903592},{"$f":"+'Base original'!V129/'Base original'!$R129*'Base original'!U129","v":2.1591016873069102},{"$f":"+'Base original'!X129/'Base original'!$R129*'Base original'!W129","v":5.2725962081804019},{"$f":"+'Base original'!Y129","v":1.67},{"$f":"+'Base original'!AB129/'Base original'!$Z129*'Base original'!AA129","v":0.98536156447891088},{"$f":"+'Base original'!AD129/'Base original'!$Z129*'Base original'!AC129","v":0.68094977188194761},{"$f":"+'Base original'!AE129","v":3.8285425470190502},{"$f":"+('Base original'!AH129/'Base original'!AH117*100-100)*'Base original'!AH117/'Base original'!$AK117","v":2.0245761019297692},{"$f":"+('Base original'!AI129/'Base original'!AI117*100-100)*'Base original'!AI117/'Base original'!$AK117","v":8.7339075720012627},{"$f":"+('Base original'!AJ129/'Base original'!AJ117*100-100)*'Base original'!AJ117/'Base original'!$AK117","v":1.0797699117773856},{"$f":"+('Base original'!AK129/'Base original'!AK117*100-100)*'Base original'!AK117/'Base original'!$AK117","v":11.838253585708431},{"$f":"+('Base original'!AK129/'Base original'!AK117*100-100)*'Base original'!AK117/'Base original'!$AR117","v":3.0099190736372723},{"$f":"+('Base original'!AL129/'Base original'!AL117*100-100)*'Base original'!AL117/'Base original'!$AR117","v":9.1243879931528067},{"$f":"+('Base original'!AM129/'Base original'!AM117*100-100)*'Base original'!AM117/'Base original'!$AR117","v":0.43710183293804861},{"$f":"+('Base original'!AN129/'Base original'!AN117*100-100)*'Base original'!AN117/'Base original'!$AR117","v":-1.3187232877246233},{"$f":"+('Base original'!AO129/'Base original'!AO117*100-100)*'Base original'!AO117/'Base original'!$AR117","v":3.7575529888960117E-2},{"$f":"+('Base original'!AP129/'Base original'!AP117*100-100)*'Base original'!AP117/'Base original'!$AR117","v":-0.979066009229968},{"$f":"+('Base original'!AQ129/'Base original'!AQ117*100-100)*'Base original'!AQ117/'Base original'!$AR117","v":-5.8407618195728036E-3},{"$f":"+(('Base original'!AN129-'Base original'!AP129)/('Base original'!AN117-'Base original'!AP117)*100-100)*(('Base original'!AN117-'Base original'!AP117)/'Base original'!AR117)","v":-0.33965727849465466},{"$f":"+(('Base original'!AO129-'Base original'!AQ129)/('Base original'!AO117-'Base original'!AQ117)*100-100)*(('Base original'!AO117-'Base original'!AQ117)/'Base original'!AR117)","v":4.3416291708532895E-2},{"$f":"+('Base original'!AR129/'Base original'!AR117*100-100)*'Base original'!AR117/'Base original'!$AR117","v":12.275167912942038},{"$f":"+('Base original'!AR129/'Base original'!AR117*100-100)*'Base original'!AR117/'Base original'!$BC117","v":7.38519874412271},{"$f":"+('Base original'!AS129/'Base original'!AS117*100-100)*'Base original'!AS117/'Base original'!$BC117","v":0.63948972982890528},{"$f":"+('Base original'!AT129/'Base original'!AT117*100-100)*'Base original'!AT117/'Base original'!$BC117","v":-0.31059898167165323},{"$f":"+('Base original'!AU129/'Base original'!AU117*100-100)*'Base original'!AU117/'Base original'!$BC117","v":2.7709119492196912},{"$f":"+('Base original'!AV129/'Base original'!AV117*100-100)*'Base original'!AV117/'Base original'!$BC117","v":4.1861540436648116E-2},{"$f":"+('Base original'!AW129/'Base original'!AW117*100-100)*'Base original'!AW117/'Base original'!$BC117","v":-6.5168820058311427E-2},{"$f":"+('Base original'!AX129/'Base original'!AX117*100-100)*'Base original'!AX117/'Base original'!$BC117","v":0.27990527405341797},{"$f":"+('Base original'!AY129/'Base original'!AY117*100-100)*'Base original'!AY117/'Base original'!$BC117","v":0.19651169691974707},{"$f":"+('Base original'!AZ129/'Base original'!AZ117*100-100)*'Base original'!AZ117/'Base original'!$BC117","v":3.0460185596582534E-2},{"$f":"+('Base original'!BA129/'Base original'!BA117*100-100)*'Base original'!BA117/'Base original'!$BC117","v":-0.90775901367905931},{"$f":"+('Base original'!BB129/'Base original'!BB117*100-100)*'Base original'!BB117/'Base original'!$BC117","v":3.0728844568880687E-2},{"$f":"+(('Base original'!AY129-'Base original'!BA129)/('Base original'!AY117-'Base original'!BA117)*100-100)*('Base original'!AY117-'Base original'!BA117)/'Base original'!$BC117","v":1.1042707105988079},{"$f":"+(('Base original'!AZ129-'Base original'!BB129)/('Base original'!AZ117-'Base original'!BB117)*100-100)*('Base original'!AZ117-'Base original'!BB117)/'Base original'!$BC117","v":-2.6865897229817119E-4},{"$f":"+('Base original'!BC129/'Base original'!BC117*100-100)*'Base original'!BC117/'Base original'!$BC117","v":11.845601487557929}]
["2016-03-01",{"$f":"+'Base original'!B130/'Base original'!B118*100-100","v":9.1380105613118303},{"$f":"+'Base original'!C130/'Base original'!C118*100-100","v":7.6086444033754788},{"$f":"+'Base original'!D130/'Base original'!D118*100-100","v":15.224785489099318},{"$f":"+'Base original'!E130/'Base original'!E118*100-100","v":4.2149406403624567},{"$f":"+'Base original'!F130/'Base original'!F118*100-100","v":10.155670823664039},{"$f":"+'Base original'!G130","v":22.69},{"$f":"+'Base original'!J130/'Base original'!$H130*'Base original'!I130","v":11.657191315639009},{"$f":"+'Base original'!L130/'Base original'!$H130*'Base original'!K130","v":1.1514333042999665},{"$f":"+'Base original'!N130/'Base original'!$H130*'Base original'!M130","v":3.5670883451515176},{"$f":"+'Base original'!P130/'Base original'!$H130*'Base original'!O130","v":6.3123457179346056},{"$f":"+'Base original'!Q130","v":7.71},{"$f":"+'Base original'!T130/'Base original'!$R130*'Base original'!S130","v":0.29113548941606349},{"$f":"+'Base original'!V130/'Base original'!$R130*'Base original'!U130","v":2.4954857996308419},{"$f":"+'Base original'!X130/'Base original'!$R130*'Base original'!W130","v":4.9252948331979134},{"$f":"+'Base original'!Y130","v":1.85},{"$f":"+'Base original'!AB130/'Base original'!$Z130*'Base original'!AA130","v":1.0902456912357903},{"$f":"+'Base original'!AD130/'Base original'!$Z130*'Base original'!AC130","v":0.7550735698569857},{"$f":"+'Base original'!AE130","v":3.80562225618633},{"$f":"+('Base original'!AH130/'Base original'!AH118*100-100)*'Base original'!AH118/'Base original'!$AK118","v":1.9938396492314852},{"$f":"+('Base original'!AI130/'Base original'!AI118*100-100)*'Base original'!AI118/'Base original'!$AK118","v":6.8714734948726708},{"$f":"+('Base original'!AJ130/'Base original'!AJ118*100-100)*'Base original'!AJ118/'Base original'!$AK118","v":0.88607196990327075},{"$f":"+('Base original'!AK130/'Base original'!AK118*100-100)*'Base original'!AK118/'Base original'!$AK118","v":9.7513851140074337},{"$f":"+('Base original'!AK130/'Base original'!AK118*100-100)*'Base original'!AK118/'Base original'!$AR118","v":2.4597049930260635},{"$f":"+('Base original'!AL130/'Base original'!AL118*100-100)*'Base original'!AL118/'Base original'!$AR118","v":9.7136577825936143},{"$f":"+('Base original'!AM130/'Base original'!AM118*100-100)*'Base original'!AM118/'Base original'!$AR118","v":0.44096208224083916},{"$f":"+('Base original'!AN130/'Base original'!AN118*100-100)*'Base original'!AN118/'Base original'!$AR118","v":0.34505370032287391},{"$f":"+('Base original'!AO130/'Base original'!AO118*100-100)*'Base original'!AO118/'Base original'!$AR118","v":4.5118169705888146E-2},{"$f":"+('Base original'!AP130/'Base original'!AP118*100-100)*'Base original'!AP118/'Base original'!$AR118","v":0.25349155673778978},{"$f":"+('Base original'!AQ130/'Base original'!AQ118*100-100)*'Base original'!AQ118/'Base original'!$AR118","v":-1.8465983915346484E-2},{"$f":"+(('Base original'!AN130-'Base original'!AP130)/('Base original'!AN118-'Base original'!AP118)*100-100)*(('Base original'!AN118-'Base original'!AP118)/'Base original'!AR118)","v":9.1562143585082967E-2},{"$f":"+(('Base original'!AO130-'Base original'!AQ130)/('Base original'!AO118-'Base original'!AQ118)*100-100)*(('Base original'!AO118-'Base original'!AQ118)/'Base original'!AR118)","v":6.3584153621234568E-2},{"$f":"+('Base original'!AR130/'Base original'!AR118*100-100)*'Base original'!AR118/'Base original'!$AR118","v":12.769471155066796},{"$f":"+('Base original'!AR130/'Base original'!AR118*100-100)*'Base original'!AR118/'Base original'!$BC118","v":7.6712290269949523},{"$f":"+('Base original'!AS130/'Base original'!AS118*100-100)*'Base original'!AS118/'Base original'!$BC118","v":0.83728713772283314},{"$f":"+('Base original'!AT130/'Base original'!AT118*100-100)*'Base original'!AT118/'Base original'!$BC118","v":-0.46668909342811343},{"$f":"+('Base original'!AU130/'Base original'!AU118*100-100)*'Base original'!AU118/'Base original'!$BC118","v":2.7655924895789763},{"$f":"+('Base original'!AV130/'Base original'!AV118*100-100)*'Base original'!AV118/'Base original'!$BC118","v":-0.10037340849344552},{"$f":"+('Base original'!AW130/'Base original'!AW118*100-100)*'Base original'!AW118/'Base original'!$BC118","v":-5.8374115728724786E-2},{"$f":"+('Base original'!AX130/'Base original'!AX118*100-100)*'Base original'!AX118/'Base original'!$BC118","v":0.39224229516874404},{"$f":"+('Base original'!AY130/'Base original'!AY118*100-100)*'Base original'!AY118/'Base original'!$BC118","v":-0.16001440817388968},{"$f":"+('Base original'!AZ130/'Base original'!AZ118*100-100)*'Base original'!AZ118/'Base original'!$BC118","v":2.5745015446383579E-2},{"$f":"+('Base original'!BA130/'Base original'!BA118*100-100)*'Base original'!BA118/'Base original'!$BC118","v":-0.84763357998046129},{"$f":"+('Base original'!BB130/'Base original'!BB118*100-100)*'Base original'!BB118/'Base original'!$BC118","v":3.0489925818255974E-2},{"$f":"+(('Base original'!AY130-'Base original'!BA130)/('Base original'!AY118-'Base original'!BA118)*100-100)*('Base original'!AY118-'Base original'!BA118)/'Base original'!$BC118","v":0.68761917180657095},{"$f":"+(('Base original'!AZ130-'Base original'!BB130)/('Base original'!AZ118-'Base original'!BB118)*100-100)*('Base original'!AZ118-'Base original'!BB118)/'Base original'!$BC118","v":-4.7449103718724458E-3},{"$f":"+('Base original'!BC130/'Base original'!BC118*100-100)*'Base original'!BC118/'Base original'!$BC118","v":11.723788593249921}]
["2016-04-01",{"$f":"+'Base original'!B131/'Base original'!B119*100-100","v":9.5840127943295386},{"$f":"+'Base original'!C131/'Base original'!C119*100-100","v":7.70898164950124},{"$f":"+'Base original'!D131/'Base original'!D119*100-100","v":14.426758661032665},{"$f":"+'Base original'!E131/'Base original'!E119*100-100","v":3.3293792230718537},{"$f":"+'Base original'!F131/'Base original'!F119*100-100","v":10.161387047543684},{"$f":"+'Base original'!G131","v":23.31},{"$f":"+'Base original'!J131/'Base original'!$H131*'Base original'!I131","v":12.567245569475757},{"$f":"+'Base original'!L131/'Base original'!$H131*'Base original'!K131","v":1.0970383836077737},{"$f":"+'Base original'!N131/'Base original'!$H131*'Base original'!M131","v":3.3924693929967749},{"$f":"+'Base original'!P131/'Base original'!$H131*'Base original'!O131","v":6.249059273422561},{"$f":"+'Base original'!Q131","v":7.47},{"$f":"+'Base original'!T131/'Base original'!$R131*'Base original'!S131","v":0.29092832076268355},{"$f":"+'Base original'!V131/'Base original'!$R131*'Base original'!U131","v":2.6933441004852137},{"$f":"+'Base original'!X131/'Base original'!$R131*'Base original'!W131","v":4.4822407289054187},{"$f":"+'Base original'!Y131","v":1.92},{"$f":"+'Base original'!AB131/'Base original'!$Z131*'Base original'!AA131","v":1.1043002763439178},{"$f":"+'Base original'!AD131/'Base original'!$Z131*'Base original'!AC131","v":0.81542650815996653},{"$f":"+'Base original'!AE131","v":3.7853394200906099},{"$f":"+('Base original'!AH131/'Base original'!AH119*100-100)*'Base original'!AH119/'Base original'!$AK119","v":1.7793010449771129},{"$f":"+('Base original'!AI131/'Base original'!AI119*100-100)*'Base original'!AI119/'Base original'!$AK119","v":6.5315856430034422},{"$f":"+('Base original'!AJ131/'Base original'!AJ119*100-100)*'Base original'!AJ119/'Base original'!$AK119","v":-1.2463548754389719E-2},{"$f":"+('Base original'!AK131/'Base original'!AK119*100-100)*'Base original'!AK119/'Base original'!$AK119","v":8.2984231392261734},{"$f":"+('Base original'!AK131/'Base original'!AK119*100-100)*'Base original'!AK119/'Base original'!$AR119","v":2.1002045841207568},{"$f":"+('Base original'!AL131/'Base original'!AL119*100-100)*'Base original'!AL119/'Base original'!$AR119","v":9.2034070930551639},{"$f":"+('Base original'!AM131/'Base original'!AM119*100-100)*'Base original'!AM119/'Base original'!$AR119","v":0.43616218785403266},{"$f":"+('Base original'!AN131/'Base original'!AN119*100-100)*'Base original'!AN119/'Base original'!$AR119","v":1.6728366988166061},{"$f":"+('Base original'!AO131/'Base original'!AO119*100-100)*'Base original'!AO119/'Base original'!$AR119","v":6.4084395077529915E-2},{"$f":"+('Base original'!AP131/'Base original'!AP119*100-100)*'Base original'!AP119/'Base original'!$AR119","v":1.250055171640406},{"$f":"+('Base original'!AQ131/'Base original'!AQ119*100-100)*'Base original'!AQ119/'Base original'!$AR119","v":-3.2545774057460355E-2},{"$f":"+(('Base original'!AN131-'Base original'!AP131)/('Base original'!AN119-'Base original'!AP119)*100-100)*(('Base original'!AN119-'Base original'!AP119)/'Base original'!AR119)","v":0.42278152717619993},{"$f":"+(('Base original'!AO131-'Base original'!AQ131)/('Base original'!AO119-'Base original'!AQ119)*100-100)*(('Base original'!AO119-'Base original'!AQ119)/'Base original'!AR119)","v":9.6630169134990188E-2},{"$f":"+('Base original'!AR131/'Base original'!AR119*100-100)*'Base original'!AR119/'Base original'!$AR119","v":12.259185561341141},{"$f":"+('Base original'!AR131/'Base original'!AR119*100-100)*'Base original'!AR119/'Base original'!$BC119","v":7.4022946285265823},{"$f":"+('Base original'!AS131/'Base original'!AS119*100-100)*'Base original'!AS119/'Base original'!$BC119","v":0.90584081102001113},{"$f":"+('Base original'!AT131/'Base original'!AT119*100-100)*'Base original'!AT119/'Base original'!$BC119","v":-0.22276552931722257},{"$f":"+('Base original'!AU131/'Base original'!AU119*100-100)*'Base original'!AU119/'Base original'!$BC119","v":2.7013392955729656},{"$f":"+('Base original'!AV131/'Base original'!AV119*100-100)*'Base original'!AV119/'Base original'!$BC119","v":-0.22327645280359398},{"$f":"+('Base original'!AW131/'Base original'!AW119*100-100)*'Base original'!AW119/'Base original'!$BC119","v":-4.0810684415707101E-2},{"$f":"+('Base original'!AX131/'Base original'!AX119*100-100)*'Base original'!AX119/'Base original'!$BC119","v":0.3729021948392226},{"$f":"+('Base original'!AY131/'Base original'!AY119*100-100)*'Base original'!AY119/'Base original'!$BC119","v":-0.16659916975299388},{"$f":"+('Base original'!AZ131/'Base original'!AZ119*100-100)*'Base original'!AZ119/'Base original'!$BC119","v":2.1814681958016082E-2},{"$f":"+('Base original'!BA131/'Base original'!BA119*100-100)*'Base original'!BA119/'Base original'!$BC119","v":-0.62044528207000771},{"$f":"+('Base original'!BB131/'Base original'!BB119*100-100)*'Base original'!BB119/'Base original'!$BC119","v":2.7016198950832009E-2},{"$f":"+(('Base original'!AY131-'Base original'!BA131)/('Base original'!AY119-'Base original'!BA119)*100-100)*('Base original'!AY119-'Base original'!BA119)/'Base original'!$BC119","v":0.45384611231701361},{"$f":"+(('Base original'!AZ131-'Base original'!BB131)/('Base original'!AZ119-'Base original'!BB119)*100-100)*('Base original'!AZ119-'Base original'!BB119)/'Base original'!$BC119","v":-5.2015169928160054E-3},{"$f":"+('Base original'!BC131/'Base original'!BC119*100-100)*'Base original'!BC119/'Base original'!$BC119","v":11.344168858746471}]
["2016-05-01",{"$f":"+'Base original'!B132/'Base original'!B120*100-100","v":9.0855802607023008},{"$f":"+'Base original'!C132/'Base original'!C120*100-100","v":9.0663501596525577},{"$f":"+'Base original'!D132/'Base original'!D120*100-100","v":13.747466871740286},{"$f":"+'Base original'!E132/'Base original'!E120*100-100","v":6.2150055851810606},{"$f":"+'Base original'!F132/'Base original'!F120*100-100","v":10.07598243169376},{"$f":"+'Base original'!G132","v":22.87},{"$f":"+'Base original'!J132/'Base original'!$H132*'Base original'!I132","v":11.923997444218385},{"$f":"+'Base original'!L132/'Base original'!$H132*'Base original'!K132","v":1.1208951961394247},{"$f":"+'Base original'!N132/'Base original'!$H132*'Base original'!M132","v":3.5015006809812856},{"$f":"+'Base original'!P132/'Base original'!$H132*'Base original'!O132","v":6.3230817345686283},{"$f":"+'Base original'!Q132","v":7.45},{"$f":"+'Base original'!T132/'Base original'!$R132*'Base original'!S132","v":0.30548396174667902},{"$f":"+'Base original'!V132/'Base original'!$R132*'Base original'!U132","v":2.8196091435930453},{"$f":"+'Base original'!X132/'Base original'!$R132*'Base original'!W132","v":4.3268607474183778},{"$f":"+'Base original'!Y132","v":1.63},{"$f":"+'Base original'!AB132/'Base original'!$Z132*'Base original'!AA132","v":1.0036804829681438},{"$f":"+'Base original'!AD132/'Base original'!$Z132*'Base original'!AC132","v":0.62719919505309318},{"$f":"+'Base original'!AE132","v":3.7880666525968398},{"$f":"+('Base original'!AH132/'Base original'!AH120*100-100)*'Base original'!AH120/'Base original'!$AK120","v":1.462109231088885},{"$f":"+('Base original'!AI132/'Base original'!AI120*100-100)*'Base original'!AI120/'Base original'!$AK120","v":6.2954525925190197},{"$f":"+('Base original'!AJ132/'Base original'!AJ120*100-100)*'Base original'!AJ120/'Base original'!$AK120","v":-1.4730238752340608},{"$f":"+('Base original'!AK132/'Base original'!AK120*100-100)*'Base original'!AK120/'Base original'!$AK120","v":6.2845379483738526},{"$f":"+('Base original'!AK132/'Base original'!AK120*100-100)*'Base original'!AK120/'Base original'!$AR120","v":1.6067603233832628},{"$f":"+('Base original'!AL132/'Base original'!AL120*100-100)*'Base original'!AL120/'Base original'!$AR120","v":8.9675535247087055},{"$f":"+('Base original'!AM132/'Base original'!AM120*100-100)*'Base original'!AM120/'Base original'!$AR120","v":0.42766033182340307},{"$f":"+('Base original'!AN132/'Base original'!AN120*100-100)*'Base original'!AN120/'Base original'!$AR120","v":1.7200969703286331},{"$f":"+('Base original'!AO132/'Base original'!AO120*100-100)*'Base original'!AO120/'Base original'!$AR120","v":7.1959465363787001E-2},{"$f":"+('Base original'!AP132/'Base original'!AP120*100-100)*'Base original'!AP120/'Base original'!$AR120","v":1.2944832960259018},{"$f":"+('Base original'!AQ132/'Base original'!AQ120*100-100)*'Base original'!AQ120/'Base original'!$AR120","v":-2.4419141637209176E-2},{"$f":"+(('Base original'!AN132-'Base original'!AP132)/('Base original'!AN120-'Base original'!AP120)*100-100)*(('Base original'!AN120-'Base original'!AP120)/'Base original'!AR120)","v":0.42561367430272901},{"$f":"+(('Base original'!AO132-'Base original'!AQ132)/('Base original'!AO120-'Base original'!AQ120)*100-100)*(('Base original'!AO120-'Base original'!AQ120)/'Base original'!AR120)","v":9.6378607000996097E-2},{"$f":"+('Base original'!AR132/'Base original'!AR120*100-100)*'Base original'!AR120/'Base original'!$AR120","v":11.523966461219075},{"$f":"+('Base original'!AR132/'Base original'!AR120*100-100)*'Base original'!AR120/'Base original'!$BC120","v":6.9047581106783138},{"$f":"+('Base original'!AS132/'Base original'!AS120*100-100)*'Base original'!AS120/'Base original'!$BC120","v":1.0084323182106634},{"$f":"+('Base original'!AT132/'Base original'!AT120*100-100)*'Base original'!AT120/'Base original'!$BC120","v":-9.1474806470859413E-2},{"$f":"+('Base original'!AU132/'Base original'!AU120*100-100)*'Base original'!AU120/'Base original'!$BC120","v":2.9149675174986749},{"$f":"+('Base original'!AV132/'Base original'!AV120*100-100)*'Base original'!AV120/'Base original'!$BC120","v":-0.1935914624590771},{"$f":"+('Base original'!AW132/'Base original'!AW120*100-100)*'Base original'!AW120/'Base original'!$BC120","v":-1.7354715363605409E-2},{"$f":"+('Base original'!AX132/'Base original'!AX120*100-100)*'Base original'!AX120/'Base original'!$BC120","v":0.26056826643752135},{"$f":"+('Base original'!AY132/'Base original'!AY120*100-100)*'Base original'!AY120/'Base original'!$BC120","v":0.15624330488458127},{"$f":"+('Base original'!AZ132/'Base original'!AZ120*100-100)*'Base original'!AZ120/'Base original'!$BC120","v":2.0076769312654747E-2},{"$f":"+('Base original'!BA132/'Base original'!BA120*100-100)*'Base original'!BA120/'Base original'!$BC120","v":-0.26585676361547761},{"$f":"+('Base original'!BB132/'Base original'!BB120*100-100)*'Base original'!BB120/'Base original'!$BC120","v":2.5265492345280152E-2},{"$f":"+(('Base original'!AY132-'Base original'!BA132)/('Base original'!AY120-'Base original'!BA120)*100-100)*('Base original'!AY120-'Base original'!BA120)/'Base original'!$BC120","v":0.42210006850005743},{"$f":"+(('Base original'!AZ132-'Base original'!BB132)/('Base original'!AZ120-'Base original'!BB120)*100-100)*('Base original'!AZ120-'Base original'!BB120)/'Base original'!$BC120","v":-5.1887230326254016E-3},{"$f":"+('Base original'!BC132/'Base original'!BC120*100-100)*'Base original'!BC120/'Base original'!$BC120","v":11.203216573999057}]
["2016-06-01",{"$f":"+'Base original'!B133/'Base original'!B121*100-100","v":8.941329153156147},{"$f":"+'Base original'!C133/'Base original'!C121*100-100","v":9.2591530059643219},{"$f":"+'Base original'!D133/'Base original'!D121*100-100","v":13.260327356400154},{"$f":"+'Base original'!E133/'Base original'!E121*100-100","v":0.82564735573036785},{"$f":"+'Base original'!F133/'Base original'!F121*100-100","v":9.5071516980104462},{"$f":"+'Base original'!G133","v":23.12},{"$f":"+'Base original'!J133/'Base original'!$H133*'Base original'!I133","v":12.337760869946914},{"$f":"+'Base original'!L133/'Base original'!$H133*'Base original'!K133","v":1.1543158473847159},{"$f":"+'Base original'!N133/'Base original'!$H133*'Base original'!M133","v":3.475415571722043},{"$f":"+'Base original'!P133/'Base original'!$H133*'Base original'!O133","v":6.1574126336612798},{"$f":"+'Base original'!Q133","v":7.16},{"$f":"+'Base original'!T133/'Base original'!$R133*'Base original'!S133","v":0.28275597418454562},{"$f":"+'Base original'!V133/'Base original'!$R133*'Base original'!U133","v":2.6120475251244484},{"$f":"+'Base original'!X133/'Base original'!$R133*'Base original'!W133","v":4.2615056107913247},{"$f":"+'Base original'!Y133","v":1.7},{"$f":"+'Base original'!AB133/'Base original'!$Z133*'Base original'!AA133","v":1.0705753554416038},{"$f":"+'Base original'!AD133/'Base original'!$Z133*'Base original'!AC133","v":0.63214822438588991},{"$f":"+'Base original'!AE133","v":3.7565380192537399},{"$f":"+('Base original'!AH133/'Base original'!AH121*100-100)*'Base original'!AH121/'Base original'!$AK121","v":1.4201425916071022},{"$f":"+('Base original'!AI133/'Base original'!AI121*100-100)*'Base original'!AI121/'Base original'!$AK121","v":4.0326801073118039},{"$f":"+('Base original'!AJ133/'Base original'!AJ121*100-100)*'Base original'!AJ121/'Base original'!$AK121","v":-0.45352408492268065},{"$f":"+('Base original'!AK133/'Base original'!AK121*100-100)*'Base original'!AK121/'Base original'!$AK121","v":4.999298613996217},{"$f":"+('Base original'!AK133/'Base original'!AK121*100-100)*'Base original'!AK121/'Base original'!$AR121","v":1.2914211481900184},{"$f":"+('Base original'!AL133/'Base original'!AL121*100-100)*'Base original'!AL121/'Base original'!$AR121","v":9.2103051805399154},{"$f":"+('Base original'!AM133/'Base original'!AM121*100-100)*'Base original'!AM121/'Base original'!$AR121","v":0.41534100804749025},{"$f":"+('Base original'!AN133/'Base original'!AN121*100-100)*'Base original'!AN121/'Base original'!$AR121","v":1.8780033926431314},{"$f":"+('Base original'!AO133/'Base original'!AO121*100-100)*'Base original'!AO121/'Base original'!$AR121","v":8.648737788957872E-2},{"$f":"+('Base original'!AP133/'Base original'!AP121*100-100)*'Base original'!AP121/'Base original'!$AR121","v":1.5870381744607389},{"$f":"+('Base original'!AQ133/'Base original'!AQ121*100-100)*'Base original'!AQ121/'Base original'!$AR121","v":-1.0380146751777621E-2},{"$f":"+(('Base original'!AN133-'Base original'!AP133)/('Base original'!AN121-'Base original'!AP121)*100-100)*(('Base original'!AN121-'Base original'!AP121)/'Base original'!AR121)","v":0.29096521818239385},{"$f":"+(('Base original'!AO133-'Base original'!AQ133)/('Base original'!AO121-'Base original'!AQ121)*100-100)*(('Base original'!AO121-'Base original'!AQ121)/'Base original'!AR121)","v":9.6867524641356492E-2},{"$f":"+('Base original'!AR133/'Base original'!AR121*100-100)*'Base original'!AR121/'Base original'!$AR121","v":11.304900079601182},{"$f":"+('Base original'!AR133/'Base original'!AR121*100-100)*'Base original'!AR121/'Base original'!$BC121","v":6.7792576590399696},{"$f":"+('Base original'!AS133/'Base original'!AS121*100-100)*'Base original'!AS121/'Base original'!$BC121","v":1.2435981584148288},{"$f":"+('Base original'!AT133/'Base original'!AT121*100-100)*'Base original'!AT121/'Base original'!$BC121","v":0.15102023555050328},{"$f":"+('Base original'!AU133/'Base original'!AU121*100-100)*'Base original'!AU121/'Base original'!$BC121","v":3.0270548858876207},{"$f":"+('Base original'!AV133/'Base original'!AV121*100-100)*'Base original'!AV121/'Base original'!$BC121","v":-0.24138849706593329},{"$f":"+('Base original'!AW133/'Base original'!AW121*100-100)*'Base original'!AW121/'Base original'!$BC121","v":-2.2435996392743737E-3},{"$f":"+('Base original'!AX133/'Base original'!AX121*100-100)*'Base original'!AX121/'Base original'!$BC121","v":0.25495282480639542},{"$f":"+('Base original'!AY133/'Base original'!AY121*100-100)*'Base original'!AY121/'Base original'!$BC121","v":0.23287951318031602},{"$f":"+('Base original'!AZ133/'Base original'!AZ121*100-100)*'Base original'!AZ121/'Base original'!$BC121","v":1.4933601679444766E-2},{"$f":"+('Base original'!BA133/'Base original'!BA121*100-100)*'Base original'!BA121/'Base original'!$BC121","v":-7.8987902012092021E-2},{"$f":"+('Base original'!BB133/'Base original'!BB121*100-100)*'Base original'!BB121/'Base original'!$BC121","v":2.1373150532241172E-2},{"$f":"+(('Base original'!AY133-'Base original'!BA133)/('Base original'!AY121-'Base original'!BA121)*100-100)*('Base original'!AY121-'Base original'!BA121)/'Base original'!$BC121","v":0.31186741519240929},{"$f":"+(('Base original'!AZ133-'Base original'!BB133)/('Base original'!AZ121-'Base original'!BB121)*100-100)*('Base original'!AZ121-'Base original'!BB121)/'Base original'!$BC121","v":-6.4395488527963854E-3},{"$f":"+('Base original'!BC133/'Base original'!BC121*100-100)*'Base original'!BC121/'Base original'!$BC121","v":11.517679533333734}]
["2016-07-01",{"$f":"+'Base original'!B134/'Base original'!B122*100-100","v":8.7204598090556971},{"$f":"+'Base original'!C134/'Base original'!C122*100-100","v":8.8746993251915995},{"$f":"+'Base original'!D134/'Base original'!D122*100-100","v":12.718726849327709},{"$f":"+'Base original'!E134/'Base original'!E122*100-100","v":-2.2382751310946531},{"$f":"+'Base original'!F134/'Base original'!F122*100-100","v":8.9512841895549116},{"$f":"+'Base original'!G134","v":23.19},{"$f":"+'Base original'!J134/'Base original'!$H134*'Base original'!I134","v":12.265229654249179},{"$f":"+'Base original'!L134/'Base original'!$H134*'Base original'!K134","v":1.1301412546738681},{"$f":"+'Base original'!N134/'Base original'!$H134*'Base original'!M134","v":3.5629736186123808},{"$f":"+'Base original'!P134/'Base original'!$H134*'Base original'!O134","v":6.2338202234224251},{"$f":"+'Base original'!Q134","v":6.81},{"$f":"+'Base original'!T134/'Base original'!$R134*'Base original'!S134","v":0.23540828402366865},{"$f":"+'Base original'!V134/'Base original'!$R134*'Base original'!U134","v":2.034424365629651},{"$f":"+'Base original'!X134/'Base original'!$R134*'Base original'!W134","v":4.5371781863723815},{"$f":"+'Base original'!Y134","v":1.7},{"$f":"+'Base original'!AB134/'Base original'!$Z134*'Base original'!AA134","v":0.90323165565158448},{"$f":"+'Base original'!AD134/'Base original'!$Z134*'Base original'!AC134","v":0.8006270123707846},{"$f":"+'Base original'!AE134","v":3.7261514037301402},{"$f":"+('Base original'!AH134/'Base original'!AH122*100-100)*'Base original'!AH122/'Base original'!$AK122","v":1.6122356305284029},{"$f":"+('Base original'!AI134/'Base original'!AI122*100-100)*'Base original'!AI122/'Base original'!$AK122","v":3.0188311315082559},{"$f":"+('Base original'!AJ134/'Base original'!AJ122*100-100)*'Base original'!AJ122/'Base original'!$AK122","v":-0.89830552585618995},{"$f":"+('Base original'!AK134/'Base original'!AK122*100-100)*'Base original'!AK122/'Base original'!$AK122","v":3.7327612361804654},{"$f":"+('Base original'!AK134/'Base original'!AK122*100-100)*'Base original'!AK122/'Base original'!$AR122","v":0.94295148372320969},{"$f":"+('Base original'!AL134/'Base original'!AL122*100-100)*'Base original'!AL122/'Base original'!$AR122","v":7.8441346036974444},{"$f":"+('Base original'!AM134/'Base original'!AM122*100-100)*'Base original'!AM122/'Base original'!$AR122","v":0.40111619495454859},{"$f":"+('Base original'!AN134/'Base original'!AN122*100-100)*'Base original'!AN122/'Base original'!$AR122","v":0.51783392661733596},{"$f":"+('Base original'!AO134/'Base original'!AO122*100-100)*'Base original'!AO122/'Base original'!$AR122","v":0.12161793426083196},{"$f":"+('Base original'!AP134/'Base original'!AP122*100-100)*'Base original'!AP122/'Base original'!$AR122","v":0.31425749587293106},{"$f":"+('Base original'!AQ134/'Base original'!AQ122*100-100)*'Base original'!AQ122/'Base original'!$AR122","v":-4.9942511128158815E-3},{"$f":"+(('Base original'!AN134-'Base original'!AP134)/('Base original'!AN122-'Base original'!AP122)*100-100)*(('Base original'!AN122-'Base original'!AP122)/'Base original'!AR122)","v":0.2035764307444054},{"$f":"+(('Base original'!AO134-'Base original'!AQ134)/('Base original'!AO122-'Base original'!AQ122)*100-100)*(('Base original'!AO122-'Base original'!AQ122)/'Base original'!AR122)","v":0.12661218537364791},{"$f":"+('Base original'!AR134/'Base original'!AR122*100-100)*'Base original'!AR122/'Base original'!$AR122","v":9.5183908984932941},{"$f":"+('Base original'!AR134/'Base original'!AR122*100-100)*'Base original'!AR122/'Base original'!$BC122","v":5.6771013481608943},{"$f":"+('Base original'!AS134/'Base original'!AS122*100-100)*'Base original'!AS122/'Base original'!$BC122","v":0.95741248843639115},{"$f":"+('Base original'!AT134/'Base original'!AT122*100-100)*'Base original'!AT122/'Base original'!$BC122","v":0.6277667036424176},{"$f":"+('Base original'!AU134/'Base original'!AU122*100-100)*'Base original'!AU122/'Base original'!$BC122","v":3.1067529288798337},{"$f":"+('Base original'!AV134/'Base original'!AV122*100-100)*'Base original'!AV122/'Base original'!$BC122","v":-0.35734706898256569},{"$f":"+('Base original'!AW134/'Base original'!AW122*100-100)*'Base original'!AW122/'Base original'!$BC122","v":1.2440095182675602E-2},{"$f":"+('Base original'!AX134/'Base original'!AX122*100-100)*'Base original'!AX122/'Base original'!$BC122","v":0.16832561540800636},{"$f":"+('Base original'!AY134/'Base original'!AY122*100-100)*'Base original'!AY122/'Base original'!$BC122","v":7.8932293705011772E-2},{"$f":"+('Base original'!AZ134/'Base original'!AZ122*100-100)*'Base original'!AZ122/'Base original'!$BC122","v":-4.9197978644288801E-3},{"$f":"+('Base original'!BA134/'Base original'!BA122*100-100)*'Base original'!BA122/'Base original'!$BC122","v":-3.8924261437813933E-2},{"$f":"+('Base original'!BB134/'Base original'!BB122*100-100)*'Base original'!BB122/'Base original'!$BC122","v":1.5992559612056471E-2},{"$f":"+(('Base original'!AY134-'Base original'!BA134)/('Base original'!AY122-'Base original'!BA122)*100-100)*('Base original'!AY122-'Base original'!BA122)/'Base original'!$BC122","v":0.11785655514282557},{"$f":"+(('Base original'!AZ134-'Base original'!BB134)/('Base original'!AZ122-'Base original'!BB122)*100-100)*('Base original'!AZ122-'Base original'!BB122)/'Base original'!$BC122","v":-2.0912357476485354E-2},{"$f":"+('Base original'!BC134/'Base original'!BC122*100-100)*'Base original'!BC122/'Base original'!$BC122","v":10.289396308393989}]
["2016-08-01",{"$f":"+'Base original'!B135/'Base original'!B123*100-100","v":8.6323254085719014},{"$f":"+'Base original'!C135/'Base original'!C123*100-100","v":9.1225132894529111},{"$f":"+'Base original'!D135/'Base original'!D123*100-100","v":12.243448675735792},{"$f":"+'Base original'!E135/'Base original'!E123*100-100","v":-3.7365164112959377},{"$f":"+'Base original'!F135/'Base original'!F123*100-100","v":8.6808317541124325},{"$f":"+'Base original'!G135","v":22.78},{"$f":"+'Base original'!J135/'Base original'!$H135*'Base original'!I135","v":11.54202720510324},{"$f":"+'Base original'!L135/'Base original'!$H135*'Base original'!K135","v":1.1972694854266059},{"$f":"+'Base original'!N135/'Base original'!$H135*'Base original'!M135","v":3.6751097509157122},{"$f":"+'Base original'!P135/'Base original'!$H135*'Base original'!O135","v":6.3639584016867383},{"$f":"+'Base original'!Q135","v":6.75},{"$f":"+'Base original'!T135/'Base original'!$R135*'Base original'!S135","v":0.25120992378189899},{"$f":"+'Base original'!V135/'Base original'!$R135*'Base original'!U135","v":1.9254179845403774},{"$f":"+'Base original'!X135/'Base original'!$R135*'Base original'!W135","v":4.5750638750887163},{"$f":"+'Base original'!Y135","v":1.66},{"$f":"+'Base original'!AB135/'Base original'!$Z135*'Base original'!AA135","v":0.87733472109030575},{"$f":"+'Base original'!AD135/'Base original'!$Z135*'Base original'!AC135","v":0.78016397788753278},{"$f":"+'Base original'!AE135","v":3.7205523920438099},{"$f":"+('Base original'!AH135/'Base original'!AH123*100-100)*'Base original'!AH123/'Base original'!$AK123","v":1.5273101410060401},{"$f":"+('Base original'!AI135/'Base original'!AI123*100-100)*'Base original'!AI123/'Base original'!$AK123","v":3.0456992366320037},{"$f":"+('Base original'!AJ135/'Base original'!AJ123*100-100)*'Base original'!AJ123/'Base original'!$AK123","v":-1.6697671540681513},{"$f":"+('Base original'!AK135/'Base original'!AK123*100-100)*'Base original'!AK123/'Base original'!$AK123","v":2.9032422235698756},{"$f":"+('Base original'!AK135/'Base original'!AK123*100-100)*'Base original'!AK123/'Base original'!$AR123","v":0.7195572213165119},{"$f":"+('Base original'!AL135/'Base original'!AL123*100-100)*'Base original'!AL123/'Base original'!$AR123","v":6.5534335729624784},{"$f":"+('Base original'!AM135/'Base original'!AM123*100-100)*'Base original'!AM123/'Base original'!$AR123","v":0.38151910463800365},{"$f":"+('Base original'!AN135/'Base original'!AN123*100-100)*'Base original'!AN123/'Base original'!$AR123","v":0.3442044962286136},{"$f":"+('Base original'!AO135/'Base original'!AO123*100-100)*'Base original'!AO123/'Base original'!$AR123","v":0.13332548318213044},{"$f":"+('Base original'!AP135/'Base original'!AP123*100-100)*'Base original'!AP123/'Base original'!$AR123","v":0.12939097979915365},{"$f":"+('Base original'!AQ135/'Base original'!AQ123*100-100)*'Base original'!AQ123/'Base original'!$AR123","v":-5.7429372168264995E-3},{"$f":"+(('Base original'!AN135-'Base original'!AP135)/('Base original'!AN123-'Base original'!AP123)*100-100)*(('Base original'!AN123-'Base original'!AP123)/'Base original'!AR123)","v":0.2148135164294602},{"$f":"+(('Base original'!AO135-'Base original'!AQ135)/('Base original'!AO123-'Base original'!AQ123)*100-100)*(('Base original'!AO123-'Base original'!AQ123)/'Base original'!AR123)","v":0.13906842039895695},{"$f":"+('Base original'!AR135/'Base original'!AR123*100-100)*'Base original'!AR123/'Base original'!$AR123","v":8.0083918357454138},{"$f":"+('Base original'!AR135/'Base original'!AR123*100-100)*'Base original'!AR123/'Base original'!$BC123","v":4.7596811505431509},{"$f":"+('Base original'!AS135/'Base original'!AS123*100-100)*'Base original'!AS123/'Base original'!$BC123","v":0.62349671185062483},{"$f":"+('Base original'!AT135/'Base original'!AT123*100-100)*'Base original'!AT123/'Base original'!$BC123","v":0.30516182284267018},{"$f":"+('Base original'!AU135/'Base original'!AU123*100-100)*'Base original'!AU123/'Base original'!$BC123","v":3.6066342273491143},{"$f":"+('Base original'!AV135/'Base original'!AV123*100-100)*'Base original'!AV123/'Base original'!$BC123","v":-8.8296553351119259E-2},{"$f":"+('Base original'!AW135/'Base original'!AW123*100-100)*'Base original'!AW123/'Base original'!$BC123","v":2.4906528463312531E-2},{"$f":"+('Base original'!AX135/'Base original'!AX123*100-100)*'Base original'!AX123/'Base original'!$BC123","v":0.14400651574104631},{"$f":"+('Base original'!AY135/'Base original'!AY123*100-100)*'Base original'!AY123/'Base original'!$BC123","v":4.6827375699484343E-2},{"$f":"+('Base original'!AZ135/'Base original'!AZ123*100-100)*'Base original'!AZ123/'Base original'!$BC123","v":8.4611813141013889E-3},{"$f":"+('Base original'!BA135/'Base original'!BA123*100-100)*'Base original'!BA123/'Base original'!$BC123","v":-1.7608443444503807E-2},{"$f":"+('Base original'!BB135/'Base original'!BB123*100-100)*'Base original'!BB123/'Base original'!$BC123","v":1.2349098347417511E-2},{"$f":"+(('Base original'!AY135-'Base original'!BA135)/('Base original'!AY123-'Base original'!BA123)*100-100)*('Base original'!AY123-'Base original'!BA123)/'Base original'!$BC123","v":6.4435819143989076E-2},{"$f":"+(('Base original'!AZ135-'Base original'!BB135)/('Base original'!AZ123-'Base original'!BB123)*100-100)*('Base original'!AZ123-'Base original'!BB123)/'Base original'!$BC123","v":-3.8879170333162016E-3},{"$f":"+('Base original'!BC135/'Base original'!BC123*100-100)*'Base original'!BC123/'Base original'!$BC123","v":9.436138305549477}]
["2016-09-01",{"$f":"+'Base original'!B136/'Base original'!B124*100-100","v":6.1040102781377783},{"$f":"+'Base original'!C136/'Base original'!C124*100-100","v":8.9724646027561192},{"$f":"+'Base original'!D136/'Base original'!D124*100-100","v":11.175996016254786},{"$f":"+'Base original'!E136/'Base original'!E124*100-100","v":-3.6211999240542667},{"$f":"+'Base original'!F136/'Base original'!F124*100-100","v":7.0291087231270097},{"$f":"+'Base original'!G136","v":23.16},{"$f":"+'Base original'!J136/'Base original'!$H136*'Base original'!I136","v":12.331333613990374},{"$f":"+'Base original'!L136/'Base original'!$H136*'Base original'!K136","v":1.1060432477329358},{"$f":"+'Base original'!N136/'Base original'!$H136*'Base original'!M136","v":3.3969182719111601},{"$f":"+'Base original'!P136/'Base original'!$H136*'Base original'!O136","v":6.3227707676728597},{"$f":"+'Base original'!Q136","v":6.88},{"$f":"+'Base original'!T136/'Base original'!$R136*'Base original'!S136","v":0.29146400127218036},{"$f":"+'Base original'!V136/'Base original'!$R136*'Base original'!U136","v":2.1200219539453053},{"$f":"+'Base original'!X136/'Base original'!$R136*'Base original'!W136","v":4.4656194148853938},{"$f":"+'Base original'!Y136","v":1.79},{"$f":"+'Base original'!AB136/'Base original'!$Z136*'Base original'!AA136","v":0.93297716668642172},{"$f":"+'Base original'!AD136/'Base original'!$Z136*'Base original'!AC136","v":0.85743456569291943},{"$f":"+'Base original'!AE136","v":3.6637135539514301},{"$f":"+('Base original'!AH136/'Base original'!AH124*100-100)*'Base original'!AH124/'Base original'!$AK124","v":1.6072628007169814},{"$f":"+('Base original'!AI136/'Base original'!AI124*100-100)*'Base original'!AI124/'Base original'!$AK124","v":2.7455321297031614},{"$f":"+('Base original'!AJ136/'Base original'!AJ124*100-100)*'Base original'!AJ124/'Base original'!$AK124","v":-1.4594248048597231},{"$f":"+('Base original'!AK136/'Base original'!AK124*100-100)*'Base original'!AK124/'Base original'!$AK124","v":2.8933701255604092},{"$f":"+('Base original'!AK136/'Base original'!AK124*100-100)*'Base original'!AK124/'Base original'!$AR124","v":0.71856537136475662},{"$f":"+('Base original'!AL136/'Base original'!AL124*100-100)*'Base original'!AL124/'Base original'!$AR124","v":6.8535051223427494},{"$f":"+('Base original'!AM136/'Base original'!AM124*100-100)*'Base original'!AM124/'Base original'!$AR124","v":0.36421087938973207},{"$f":"+('Base original'!AN136/'Base original'!AN124*100-100)*'Base original'!AN124/'Base original'!$AR124","v":2.2916624510876704},{"$f":"+('Base original'!AO136/'Base original'!AO124*100-100)*'Base original'!AO124/'Base original'!$AR124","v":0.12105905702723579},{"$f":"+('Base original'!AP136/'Base original'!AP124*100-100)*'Base original'!AP124/'Base original'!$AR124","v":1.8517896252833175},{"$f":"+('Base original'!AQ136/'Base original'!AQ124*100-100)*'Base original'!AQ124/'Base original'!$AR124","v":-5.2878250253413474E-3},{"$f":"+(('Base original'!AN136-'Base original'!AP136)/('Base original'!AN124-'Base original'!AP124)*100-100)*(('Base original'!AN124-'Base original'!AP124)/'Base original'!AR124)","v":0.43987282580435266},{"$f":"+(('Base original'!AO136-'Base original'!AQ136)/('Base original'!AO124-'Base original'!AQ124)*100-100)*(('Base original'!AO124-'Base original'!AQ124)/'Base original'!AR124)","v":0.1263468820525771},{"$f":"+('Base original'!AR136/'Base original'!AR124*100-100)*'Base original'!AR124/'Base original'!$AR124","v":8.5025010809541897},{"$f":"+('Base original'!AR136/'Base original'!AR124*100-100)*'Base original'!AR124/'Base original'!$BC124","v":5.0579467783948244},{"$f":"+('Base original'!AS136/'Base original'!AS124*100-100)*'Base original'!AS124/'Base original'!$BC124","v":0.5242433950745844},{"$f":"+('Base original'!AT136/'Base original'!AT124*100-100)*'Base original'!AT124/'Base original'!$BC124","v":0.19919543357580294},{"$f":"+('Base original'!AU136/'Base original'!AU124*100-100)*'Base original'!AU124/'Base original'!$BC124","v":3.56681287964535},{"$f":"+('Base original'!AV136/'Base original'!AV124*100-100)*'Base original'!AV124/'Base original'!$BC124","v":-0.26040658266561284},{"$f":"+('Base original'!AW136/'Base original'!AW124*100-100)*'Base original'!AW124/'Base original'!$BC124","v":3.4228496691583454E-2},{"$f":"+('Base original'!AX136/'Base original'!AX124*100-100)*'Base original'!AX124/'Base original'!$BC124","v":0.28923960984806096},{"$f":"+('Base original'!AY136/'Base original'!AY124*100-100)*'Base original'!AY124/'Base original'!$BC124","v":0.42367093541388551},{"$f":"+('Base original'!AZ136/'Base original'!AZ124*100-100)*'Base original'!AZ124/'Base original'!$BC124","v":2.0923418123877772E-2},{"$f":"+('Base original'!BA136/'Base original'!BA124*100-100)*'Base original'!BA124/'Base original'!$BC124","v":0.20874596760267633},{"$f":"+('Base original'!BB136/'Base original'!BB124*100-100)*'Base original'!BB124/'Base original'!$BC124","v":1.2532497919767429E-2},{"$f":"+(('Base original'!AY136-'Base original'!BA136)/('Base original'!AY124-'Base original'!BA124)*100-100)*('Base original'!AY124-'Base original'!BA124)/'Base original'!$BC124","v":0.21492496781120796},{"$f":"+(('Base original'!AZ136-'Base original'!BB136)/('Base original'!AZ124-'Base original'!BB124)*100-100)*('Base original'!AZ124-'Base original'!BB124)/'Base original'!$BC124","v":8.3909202041102353E-3},{"$f":"+('Base original'!BC136/'Base original'!BC124*100-100)*'Base original'!BC124/'Base original'!$BC124","v":9.634575898579925}]
["2016-10-01",{"$f":"+'Base original'!B137/'Base original'!B125*100-100","v":5.7408479710687033},{"$f":"+'Base original'!C137/'Base original'!C125*100-100","v":8.72508332322613},{"$f":"+'Base original'!D137/'Base original'!D125*100-100","v":10.188025979777663},{"$f":"+'Base original'!E137/'Base original'!E125*100-100","v":-6.1322414344908935},{"$f":"+'Base original'!F137/'Base original'!F125*100-100","v":6.3928531279302945},{"$f":"+'Base original'!G137","v":23.2},{"$f":"+'Base original'!J137/'Base original'!$H137*'Base original'!I137","v":12.279540295184983},{"$f":"+'Base original'!L137/'Base original'!$H137*'Base original'!K137","v":1.1192553709522208},{"$f":"+'Base original'!N137/'Base original'!$H137*'Base original'!M137","v":3.375760165099535},{"$f":"+'Base original'!P137/'Base original'!$H137*'Base original'!O137","v":6.4228568364424756},{"$f":"+'Base original'!Q137","v":7.68},{"$f":"+'Base original'!T137/'Base original'!$R137*'Base original'!S137","v":0.36261808514711757},{"$f":"+'Base original'!V137/'Base original'!$R137*'Base original'!U137","v":2.8158870539841261},{"$f":"+'Base original'!X137/'Base original'!$R137*'Base original'!W137","v":4.497379699474326},{"$f":"+'Base original'!Y137","v":1.96},{"$f":"+'Base original'!AB137/'Base original'!$Z137*'Base original'!AA137","v":1.0751806134764061},{"$f":"+'Base original'!AD137/'Base original'!$Z137*'Base original'!AC137","v":0.88779810484304622},{"$f":"+'Base original'!AE137","v":3.55804410875675},{"$f":"+('Base original'!AH137/'Base original'!AH125*100-100)*'Base original'!AH125/'Base original'!$AK125","v":1.6743359657417971},{"$f":"+('Base original'!AI137/'Base original'!AI125*100-100)*'Base original'!AI125/'Base original'!$AK125","v":2.4542727278946246},{"$f":"+('Base original'!AJ137/'Base original'!AJ125*100-100)*'Base original'!AJ125/'Base original'!$AK125","v":-0.72235729601074394},{"$f":"+('Base original'!AK137/'Base original'!AK125*100-100)*'Base original'!AK125/'Base original'!$AK125","v":3.4062513976256668},{"$f":"+('Base original'!AK137/'Base original'!AK125*100-100)*'Base original'!AK125/'Base original'!$AR125","v":0.83103770503787933},{"$f":"+('Base original'!AL137/'Base original'!AL125*100-100)*'Base original'!AL125/'Base original'!$AR125","v":7.0538714185627702},{"$f":"+('Base original'!AM137/'Base original'!AM125*100-100)*'Base original'!AM125/'Base original'!$AR125","v":0.33740014911033617},{"$f":"+('Base original'!AN137/'Base original'!AN125*100-100)*'Base original'!AN125/'Base original'!$AR125","v":1.8950137444709796},{"$f":"+('Base original'!AO137/'Base original'!AO125*100-100)*'Base original'!AO125/'Base original'!$AR125","v":5.4735478301932587E-2},{"$f":"+('Base original'!AP137/'Base original'!AP125*100-100)*'Base original'!AP125/'Base original'!$AR125","v":1.5048240602104266},{"$f":"+('Base original'!AQ137/'Base original'!AQ125*100-100)*'Base original'!AQ125/'Base original'!$AR125","v":-1.9088814559470443E-3},{"$f":"+(('Base original'!AN137-'Base original'!AP137)/('Base original'!AN125-'Base original'!AP125)*100-100)*(('Base original'!AN125-'Base original'!AP125)/'Base original'!AR125)","v":0.39018968426055223},{"$f":"+(('Base original'!AO137-'Base original'!AQ137)/('Base original'!AO125-'Base original'!AQ125)*100-100)*(('Base original'!AO125-'Base original'!AQ125)/'Base original'!AR125)","v":5.6644359757879556E-2},{"$f":"+('Base original'!AR137/'Base original'!AR125*100-100)*'Base original'!AR125/'Base original'!$AR125","v":8.6691433167294178},{"$f":"+('Base original'!AR137/'Base original'!AR125*100-100)*'Base original'!AR125/'Base original'!$BC125","v":5.1432784041378996},{"$f":"+('Base original'!AS137/'Base original'!AS125*100-100)*'Base original'!AS125/'Base original'!$BC125","v":0.29868283842275839},{"$f":"+('Base original'!AT137/'Base original'!AT125*100-100)*'Base original'!AT125/'Base original'!$BC125","v":-3.9086076859062589E-2},{"$f":"+('Base original'!AU137/'Base original'!AU125*100-100)*'Base original'!AU125/'Base original'!$BC125","v":3.4324459989982152},{"$f":"+('Base original'!AV137/'Base original'!AV125*100-100)*'Base original'!AV125/'Base original'!$BC125","v":-0.41030404154105016},{"$f":"+('Base original'!AW137/'Base original'!AW125*100-100)*'Base original'!AW125/'Base original'!$BC125","v":4.7516169585359896E-2},{"$f":"+('Base original'!AX137/'Base original'!AX125*100-100)*'Base original'!AX125/'Base original'!$BC125","v":0.35339183252409917},{"$f":"+('Base original'!AY137/'Base original'!AY125*100-100)*'Base original'!AY125/'Base original'!$BC125","v":0.59096831765827107},{"$f":"+('Base original'!AZ137/'Base original'!AZ125*100-100)*'Base original'!AZ125/'Base original'!$BC125","v":1.7135640894088255E-2},{"$f":"+('Base original'!BA137/'Base original'!BA125*100-100)*'Base original'!BA125/'Base original'!$BC125","v":0.37077717905152785},{"$f":"+('Base original'!BB137/'Base original'!BB125*100-100)*'Base original'!BB125/'Base original'!$BC125","v":1.2056365829248079E-2},{"$f":"+(('Base original'!AY137-'Base original'!BA137)/('Base original'!AY125-'Base original'!BA125)*100-100)*('Base original'!AY125-'Base original'!BA125)/'Base original'!$BC125","v":0.22019113860674153},{"$f":"+(('Base original'!AZ137-'Base original'!BB137)/('Base original'!AZ125-'Base original'!BB125)*100-100)*('Base original'!AZ125-'Base original'!BB125)/'Base original'!$BC125","v":5.0792750648402168E-3},{"$f":"+('Base original'!BC137/'Base original'!BC125*100-100)*'Base original'!BC125/'Base original'!$BC125","v":9.0511955389397798}]
["2016-11-01",{"$f":"+'Base original'!B138/'Base original'!B126*100-100","v":5.5258135345470691},{"$f":"+'Base original'!C138/'Base original'!C126*100-100","v":8.8134863149416987},{"$f":"+'Base original'!D138/'Base original'!D126*100-100","v":9.6501692532513061},{"$f":"+'Base original'!E138/'Base original'!E126*100-100","v":-3.8834686447134885},{"$f":"+'Base original'!F138/'Base original'!F126*100-100","v":6.3050593156710306},{"$f":"+'Base original'!G138","v":22.64},{"$f":"+'Base original'!J138/'Base original'!$H138*'Base original'!I138","v":11.394149579646136},{"$f":"+'Base original'!L138/'Base original'!$H138*'Base original'!K138","v":1.2196487663127307},{"$f":"+'Base original'!N138/'Base original'!$H138*'Base original'!M138","v":3.586055833100827},{"$f":"+'Base original'!P138/'Base original'!$H138*'Base original'!O138","v":6.4413491858769527},{"$f":"+'Base original'!Q138","v":7.57},{"$f":"+'Base original'!T138/'Base original'!$R138*'Base original'!S138","v":0.31604861439734072},{"$f":"+'Base original'!V138/'Base original'!$R138*'Base original'!U138","v":2.6481691577890376},{"$f":"+'Base original'!X138/'Base original'!$R138*'Base original'!W138","v":4.600809593610415},{"$f":"+'Base original'!Y138","v":1.84},{"$f":"+'Base original'!AB138/'Base original'!$Z138*'Base original'!AA138","v":1.0541191910755832},{"$f":"+'Base original'!AD138/'Base original'!$Z138*'Base original'!AC138","v":0.7886547753981985},{"$f":"+'Base original'!AE138","v":3.5103017051701402},{"$f":"+('Base original'!AH138/'Base original'!AH126*100-100)*'Base original'!AH126/'Base original'!$AK126","v":1.5489181643896506},{"$f":"+('Base original'!AI138/'Base original'!AI126*100-100)*'Base original'!AI126/'Base original'!$AK126","v":3.3486864693491074},{"$f":"+('Base original'!AJ138/'Base original'!AJ126*100-100)*'Base original'!AJ126/'Base original'!$AK126","v":-0.40484028315694803},{"$f":"+('Base original'!AK138/'Base original'!AK126*100-100)*'Base original'!AK126/'Base original'!$AK126","v":4.492764350581794},{"$f":"+('Base original'!AK138/'Base original'!AK126*100-100)*'Base original'!AK126/'Base original'!$AR126","v":1.1000258720220595},{"$f":"+('Base original'!AL138/'Base original'!AL126*100-100)*'Base original'!AL126/'Base original'!$AR126","v":6.3012069469531813},{"$f":"+('Base original'!AM138/'Base original'!AM126*100-100)*'Base original'!AM126/'Base original'!$AR126","v":0.19170723993671965},{"$f":"+('Base original'!AN138/'Base original'!AN126*100-100)*'Base original'!AN126/'Base original'!$AR126","v":1.1111747113830559},{"$f":"+('Base original'!AO138/'Base original'!AO126*100-100)*'Base original'!AO126/'Base original'!$AR126","v":5.18909041131791E-2},{"$f":"+('Base original'!AP138/'Base original'!AP126*100-100)*'Base original'!AP126/'Base original'!$AR126","v":0.98997029903762579},{"$f":"+('Base original'!AQ138/'Base original'!AQ126*100-100)*'Base original'!AQ126/'Base original'!$AR126","v":-3.0546129762691774E-3},{"$f":"+(('Base original'!AN138-'Base original'!AP138)/('Base original'!AN126-'Base original'!AP126)*100-100)*(('Base original'!AN126-'Base original'!AP126)/'Base original'!AR126)","v":0.12120441234542961},{"$f":"+(('Base original'!AO138-'Base original'!AQ138)/('Base original'!AO126-'Base original'!AQ126)*100-100)*(('Base original'!AO126-'Base original'!AQ126)/'Base original'!AR126)","v":5.4945517089448295E-2},{"$f":"+('Base original'!AR138/'Base original'!AR126*100-100)*'Base original'!AR126/'Base original'!$AR126","v":7.7690899883468489},{"$f":"+('Base original'!AR138/'Base original'!AR126*100-100)*'Base original'!AR126/'Base original'!$BC126","v":4.6179325694878939},{"$f":"+('Base original'!AS138/'Base original'!AS126*100-100)*'Base original'!AS126/'Base original'!$BC126","v":0.22698059844541635},{"$f":"+('Base original'!AT138/'Base original'!AT126*100-100)*'Base original'!AT126/'Base original'!$BC126","v":-0.29525961020360558},{"$f":"+('Base original'!AU138/'Base original'!AU126*100-100)*'Base original'!AU126/'Base original'!$BC126","v":3.3905002349778366},{"$f":"+('Base original'!AV138/'Base original'!AV126*100-100)*'Base original'!AV126/'Base original'!$BC126","v":-0.28588548769991873},{"$f":"+('Base original'!AW138/'Base original'!AW126*100-100)*'Base original'!AW126/'Base original'!$BC126","v":5.874466886201396E-2},{"$f":"+('Base original'!AX138/'Base original'!AX126*100-100)*'Base original'!AX126/'Base original'!$BC126","v":0.43938208258831107},{"$f":"+('Base original'!AY138/'Base original'!AY126*100-100)*'Base original'!AY126/'Base original'!$BC126","v":0.16631706719169184},{"$f":"+('Base original'!AZ138/'Base original'!AZ126*100-100)*'Base original'!AZ126/'Base original'!$BC126","v":-5.912247748762722E-4},{"$f":"+('Base original'!BA138/'Base original'!BA126*100-100)*'Base original'!BA126/'Base original'!$BC126","v":0.20772970310725869},{"$f":"+('Base original'!BB138/'Base original'!BB126*100-100)*'Base original'!BB126/'Base original'!$BC126","v":2.988447135645762E-3},{"$f":"+(('Base original'!AY138-'Base original'!BA138)/('Base original'!AY126-'Base original'!BA126)*100-100)*('Base original'!AY126-'Base original'!BA126)/'Base original'!$BC126","v":-4.1412635915565266E-2},{"$f":"+(('Base original'!AZ138-'Base original'!BB138)/('Base original'!AZ126-'Base original'!BB126)*100-100)*('Base original'!AZ126-'Base original'!BB126)/'Base original'!$BC126","v":-3.579671910522008E-3},{"$f":"+('Base original'!BC138/'Base original'!BC126*100-100)*'Base original'!BC126/'Base original'!$BC126","v":8.1074027486318414}]
["2016-12-01",{"$f":"+'Base original'!B139/'Base original'!B127*100-100","v":4.8990916341074637},{"$f":"+'Base original'!C139/'Base original'!C127*100-100","v":8.1792116555709811},{"$f":"+'Base original'!D139/'Base original'!D127*100-100","v":9.5796474632733322},{"$f":"+'Base original'!E139/'Base original'!E127*100-100","v":-7.3138879363379203},{"$f":"+'Base original'!F139/'Base original'!F127*100-100","v":5.6529129099853037},{"$f":"+'Base original'!G139","v":22.38},{"$f":"+'Base original'!J139/'Base original'!$H139*'Base original'!I139","v":11.595589565951402},{"$f":"+'Base original'!L139/'Base original'!$H139*'Base original'!K139","v":1.000750539150844},{"$f":"+'Base original'!N139/'Base original'!$H139*'Base original'!M139","v":3.3340379953367956},{"$f":"+'Base original'!P139/'Base original'!$H139*'Base original'!O139","v":6.4476199128094009},{"$f":"+'Base original'!Q139","v":7.64},{"$f":"+'Base original'!T139/'Base original'!$R139*'Base original'!S139","v":0.29619108612826645},{"$f":"+'Base original'!V139/'Base original'!$R139*'Base original'!U139","v":2.949163396506572},{"$f":"+'Base original'!X139/'Base original'!$R139*'Base original'!W139","v":4.3970956899153979},{"$f":"+'Base original'!Y139","v":2.35},{"$f":"+'Base original'!AB139/'Base original'!$Z139*'Base original'!AA139","v":1.4524078379275989},{"$f":"+'Base original'!AD139/'Base original'!$Z139*'Base original'!AC139","v":0.89371244829564322},{"$f":"+'Base original'!AE139","v":3.58876586633213},{"$f":"+('Base original'!AH139/'Base original'!AH127*100-100)*'Base original'!AH127/'Base original'!$AK127","v":1.3413333235474496},{"$f":"+('Base original'!AI139/'Base original'!AI127*100-100)*'Base original'!AI127/'Base original'!$AK127","v":3.100953471079694},{"$f":"+('Base original'!AJ139/'Base original'!AJ127*100-100)*'Base original'!AJ127/'Base original'!$AK127","v":-0.33050680379480846},{"$f":"+('Base original'!AK139/'Base original'!AK127*100-100)*'Base original'!AK127/'Base original'!$AK127","v":4.1117799908323462},{"$f":"+('Base original'!AK139/'Base original'!AK127*100-100)*'Base original'!AK127/'Base original'!$AR127","v":1.047618709092212},{"$f":"+('Base original'!AL139/'Base original'!AL127*100-100)*'Base original'!AL127/'Base original'!$AR127","v":5.7254742596772523},{"$f":"+('Base original'!AM139/'Base original'!AM127*100-100)*'Base original'!AM127/'Base original'!$AR127","v":0.29372997146320479},{"$f":"+('Base original'!AN139/'Base original'!AN127*100-100)*'Base original'!AN127/'Base original'!$AR127","v":1.8568770213299179},{"$f":"+('Base original'!AO139/'Base original'!AO127*100-100)*'Base original'!AO127/'Base original'!$AR127","v":7.2869383248916966E-2},{"$f":"+('Base original'!AP139/'Base original'!AP127*100-100)*'Base original'!AP127/'Base original'!$AR127","v":1.6497600743006402},{"$f":"+('Base original'!AQ139/'Base original'!AQ127*100-100)*'Base original'!AQ127/'Base original'!$AR127","v":5.6789943170606552E-3},{"$f":"+(('Base original'!AN139-'Base original'!AP139)/('Base original'!AN127-'Base original'!AP127)*100-100)*(('Base original'!AN127-'Base original'!AP127)/'Base original'!AR127)","v":0.20711694702927894},{"$f":"+(('Base original'!AO139-'Base original'!AQ139)/('Base original'!AO127-'Base original'!AQ127)*100-100)*(('Base original'!AO127-'Base original'!AQ127)/'Base original'!AR127)","v":6.7190388931856221E-2},{"$f":"+('Base original'!AR139/'Base original'!AR127*100-100)*'Base original'!AR127/'Base original'!$AR127","v":7.3411302761937796},{"$f":"+('Base original'!AR139/'Base original'!AR127*100-100)*'Base original'!AR127/'Base original'!$BC127","v":4.4212457950470636},{"$f":"+('Base original'!AS139/'Base original'!AS127*100-100)*'Base original'!AS127/'Base original'!$BC127","v":3.5176308049654471E-2},{"$f":"+('Base original'!AT139/'Base original'!AT127*100-100)*'Base original'!AT127/'Base original'!$BC127","v":-0.41544817099057268},{"$f":"+('Base original'!AU139/'Base original'!AU127*100-100)*'Base original'!AU127/'Base original'!$BC127","v":3.3893504613197054},{"$f":"+('Base original'!AV139/'Base original'!AV127*100-100)*'Base original'!AV127/'Base original'!$BC127","v":-0.15937946736110609},{"$f":"+('Base original'!AW139/'Base original'!AW127*100-100)*'Base original'!AW127/'Base original'!$BC127","v":7.2014685914821824E-2},{"$f":"+('Base original'!AX139/'Base original'!AX127*100-100)*'Base original'!AX127/'Base original'!$BC127","v":0.81179348052203182},{"$f":"+('Base original'!AY139/'Base original'!AY127*100-100)*'Base original'!AY127/'Base original'!$BC127","v":0.70936912138944896},{"$f":"+('Base original'!AZ139/'Base original'!AZ127*100-100)*'Base original'!AZ127/'Base original'!$BC127","v":-4.3263318142028112E-3},{"$f":"+('Base original'!BA139/'Base original'!BA127*100-100)*'Base original'!BA127/'Base original'!$BC127","v":0.68078907490667973},{"$f":"+('Base original'!BB139/'Base original'!BB127*100-100)*'Base original'!BB127/'Base original'!$BC127","v":5.9705239986906043E-3},{"$f":"+(('Base original'!AY139-'Base original'!BA139)/('Base original'!AY127-'Base original'!BA127)*100-100)*('Base original'!AY127-'Base original'!BA127)/'Base original'!$BC127","v":2.8580046482770217E-2},{"$f":"+(('Base original'!AZ139-'Base original'!BB139)/('Base original'!AZ127-'Base original'!BB127)*100-100)*('Base original'!AZ127-'Base original'!BB127)/'Base original'!$BC127","v":-1.0296855812893468E-2},{"$f":"+('Base original'!BC139/'Base original'!BC127*100-100)*'Base original'!BC127/'Base original'!$BC127","v":8.17303628317147}]
["2017-01-01",{"$f":"+'Base original'!B140/'Base original'!B128*100-100","v":3.9595359126907823},{"$f":"+'Base original'!C140/'Base original'!C128*100-100","v":8.0800817832740393},{"$f":"+'Base original'!D140/'Base original'!D128*100-100","v":9.2862953261291921},{"$f":"+'Base original'!E140/'Base original'!E128*100-100","v":-9.1092774480824801},{"$f":"+'Base original'!F140/'Base original'!F128*100-100","v":4.917625619018807},{"$f":"+'Base original'!G140","v":23.04},{"$f":"+'Base original'!J140/'Base original'!$H140*'Base original'!I140","v":12.455422476723344},{"$f":"+'Base original'!L140/'Base original'!$H140*'Base original'!K140","v":1.0295269812475412},{"$f":"+'Base original'!N140/'Base original'!$H140*'Base original'!M140","v":3.1517695174192419},{"$f":"+'Base original'!P140/'Base original'!$H140*'Base original'!O140","v":6.4011168422433009},{"$f":"+'Base original'!Q140","v":7.88},{"$f":"+'Base original'!T140/'Base original'!$R140*'Base original'!S140","v":0.3671154196133114},{"$f":"+'Base original'!V140/'Base original'!$R140*'Base original'!U140","v":2.7273252198609192},{"$f":"+'Base original'!X140/'Base original'!$R140*'Base original'!W140","v":4.7867237070434951},{"$f":"+'Base original'!Y140","v":2.21},{"$f":"+'Base original'!AB140/'Base original'!$Z140*'Base original'!AA140","v":1.1194983554577507},{"$f":"+'Base original'!AD140/'Base original'!$Z140*'Base original'!AC140","v":1.092032133645678},{"$f":"+'Base original'!AE140","v":3.61618699249872},{"$f":"+('Base original'!AH140/'Base original'!AH128*100-100)*'Base original'!AH128/'Base original'!$AK128","v":1.2578188642744725},{"$f":"+('Base original'!AI140/'Base original'!AI128*100-100)*'Base original'!AI128/'Base original'!$AK128","v":1.5494890205916363},{"$f":"+('Base original'!AJ140/'Base original'!AJ128*100-100)*'Base original'!AJ128/'Base original'!$AK128","v":-0.39495764121743149},{"$f":"+('Base original'!AK140/'Base original'!AK128*100-100)*'Base original'!AK128/'Base original'!$AK128","v":2.4123502436486746},{"$f":"+('Base original'!AK140/'Base original'!AK128*100-100)*'Base original'!AK128/'Base original'!$AR128","v":0.62129107397666794},{"$f":"+('Base original'!AL140/'Base original'!AL128*100-100)*'Base original'!AL128/'Base original'!$AR128","v":3.6142056891499394},{"$f":"+('Base original'!AM140/'Base original'!AM128*100-100)*'Base original'!AM128/'Base original'!$AR128","v":0.27514057242956186},{"$f":"+('Base original'!AN140/'Base original'!AN128*100-100)*'Base original'!AN128/'Base original'!$AR128","v":0.97736434293785024},{"$f":"+('Base original'!AO140/'Base original'!AO128*100-100)*'Base original'!AO128/'Base original'!$AR128","v":9.4778168603929569E-2},{"$f":"+('Base original'!AP140/'Base original'!AP128*100-100)*'Base original'!AP128/'Base original'!$AR128","v":0.88797891297935549},{"$f":"+('Base original'!AQ140/'Base original'!AQ128*100-100)*'Base original'!AQ128/'Base original'!$AR128","v":4.0631046692835397E-3},{"$f":"+(('Base original'!AN140-'Base original'!AP140)/('Base original'!AN128-'Base original'!AP128)*100-100)*(('Base original'!AN128-'Base original'!AP128)/'Base original'!AR128)","v":8.9385429958495827E-2},{"$f":"+(('Base original'!AO140-'Base original'!AQ140)/('Base original'!AO128-'Base original'!AQ128)*100-100)*(('Base original'!AO128-'Base original'!AQ128)/'Base original'!AR128)","v":9.0715063934646081E-2},{"$f":"+('Base original'!AR140/'Base original'!AR128*100-100)*'Base original'!AR128/'Base original'!$AR128","v":4.6907378294493043},{"$f":"+('Base original'!AR140/'Base original'!AR128*100-100)*'Base original'!AR128/'Base original'!$BC128","v":2.8491940342718833},{"$f":"+('Base original'!AS140/'Base original'!AS128*100-100)*'Base original'!AS128/'Base original'!$BC128","v":1.2836078354348881},{"$f":"+('Base original'!AT140/'Base original'!AT128*100-100)*'Base original'!AT128/'Base original'!$BC128","v":-0.50546437074988748},{"$f":"+('Base original'!AU140/'Base original'!AU128*100-100)*'Base original'!AU128/'Base original'!$BC128","v":3.7882687109523823},{"$f":"+('Base original'!AV140/'Base original'!AV128*100-100)*'Base original'!AV128/'Base original'!$BC128","v":-0.30181794256557171},{"$f":"+('Base original'!AW140/'Base original'!AW128*100-100)*'Base original'!AW128/'Base original'!$BC128","v":9.2623474567374173E-2},{"$f":"+('Base original'!AX140/'Base original'!AX128*100-100)*'Base original'!AX128/'Base original'!$BC128","v":0.91315778808479031},{"$f":"+('Base original'!AY140/'Base original'!AY128*100-100)*'Base original'!AY128/'Base original'!$BC128","v":1.1096621671116056},{"$f":"+('Base original'!AZ140/'Base original'!AZ128*100-100)*'Base original'!AZ128/'Base original'!$BC128","v":1.0760627423240956E-2},{"$f":"+('Base original'!BA140/'Base original'!BA128*100-100)*'Base original'!BA128/'Base original'!$BC128","v":0.90902270972174204},{"$f":"+('Base original'!BB140/'Base original'!BB128*100-100)*'Base original'!BB128/'Base original'!$BC128","v":6.1390391241699423E-3},{"$f":"+(('Base original'!AY140-'Base original'!BA140)/('Base original'!AY128-'Base original'!BA128)*100-100)*('Base original'!AY128-'Base original'!BA128)/'Base original'!$BC128","v":0.20063945738986572},{"$f":"+(('Base original'!AZ140-'Base original'!BB140)/('Base original'!AZ128-'Base original'!BB128)*100-100)*('Base original'!AZ128-'Base original'!BB128)/'Base original'!$BC128","v":4.6215882990710494E-3},{"$f":"+('Base original'!BC140/'Base original'!BC128*100-100)*'Base original'!BC128/'Base original'!$BC128","v":8.3248305756847856}]
["2017-02-01",{"$f":"+'Base original'!B141/'Base original'!B129*100-100","v":4.1627048365235026},{"$f":"+'Base original'!C141/'Base original'!C129*100-100","v":7.902873019190011},{"$f":"+'Base original'!D141/'Base original'!D129*100-100","v":9.2343427141317278},{"$f":"+'Base original'!E141/'Base original'!E129*100-100","v":-8.5333596315009146},{"$f":"+'Base original'!F141/'Base original'!F129*100-100","v":5.0436800117595482},{"$f":"+'Base original'!G141","v":23.34},{"$f":"+'Base original'!J141/'Base original'!$H141*'Base original'!I141","v":13.171846612885401},{"$f":"+'Base original'!L141/'Base original'!$H141*'Base original'!K141","v":0.97384561248407786},{"$f":"+'Base original'!N141/'Base original'!$H141*'Base original'!M141","v":2.9966323699623683},{"$f":"+'Base original'!P141/'Base original'!$H141*'Base original'!O141","v":6.1931958750894252},{"$f":"+'Base original'!Q141","v":8.84},{"$f":"+'Base original'!T141/'Base original'!$R141*'Base original'!S141","v":0.5775951203003884},{"$f":"+'Base original'!V141/'Base original'!$R141*'Base original'!U141","v":2.5236027267013683},{"$f":"+'Base original'!X141/'Base original'!$R141*'Base original'!W141","v":5.7398220472821624},{"$f":"+'Base original'!Y141","v":2.16},{"$f":"+'Base original'!AB141/'Base original'!$Z141*'Base original'!AA141","v":1.1008892548373816},{"$f":"+'Base original'!AD141/'Base original'!$Z141*'Base original'!AC141","v":1.0611225470015095},{"$f":"+'Base original'!AE141","v":3.55},{"$f":"+('Base original'!AH141/'Base original'!AH129*100-100)*'Base original'!AH129/'Base original'!$AK129","v":1.1372003740279972},{"$f":"+('Base original'!AI141/'Base original'!AI129*100-100)*'Base original'!AI129/'Base original'!$AK129","v":0.13925677482963161},{"$f":"+('Base original'!AJ141/'Base original'!AJ129*100-100)*'Base original'!AJ129/'Base original'!$AK129","v":1.3629148805560802},{"$f":"+('Base original'!AK141/'Base original'!AK129*100-100)*'Base original'!AK129/'Base original'!$AK129","v":2.6393720294137069},{"$f":"+('Base original'!AK141/'Base original'!AK129*100-100)*'Base original'!AK129/'Base original'!$AR129","v":0.66845850575486254},{"$f":"+('Base original'!AL141/'Base original'!AL129*100-100)*'Base original'!AL129/'Base original'!$AR129","v":2.7218188529280591},{"$f":"+('Base original'!AM141/'Base original'!AM129*100-100)*'Base original'!AM129/'Base original'!$AR129","v":0.26022715147935727},{"$f":"+('Base original'!AN141/'Base original'!AN129*100-100)*'Base original'!AN129/'Base original'!$AR129","v":0.93756528030995978},{"$f":"+('Base original'!AO141/'Base original'!AO129*100-100)*'Base original'!AO129/'Base original'!$AR129","v":0.11890939582674463},{"$f":"+('Base original'!AP141/'Base original'!AP129*100-100)*'Base original'!AP129/'Base original'!$AR129","v":0.96561133400121124},{"$f":"+('Base original'!AQ141/'Base original'!AQ129*100-100)*'Base original'!AQ129/'Base original'!$AR129","v":4.9669196732297189E-4},{"$f":"+(('Base original'!AN141-'Base original'!AP141)/('Base original'!AN129-'Base original'!AP129)*100-100)*(('Base original'!AN129-'Base original'!AP129)/'Base original'!AR129)","v":-2.8046053691252692E-2},{"$f":"+(('Base original'!AO141-'Base original'!AQ141)/('Base original'!AO129-'Base original'!AQ129)*100-100)*(('Base original'!AO129-'Base original'!AQ129)/'Base original'!AR129)","v":0.11841270385942167},{"$f":"+('Base original'!AR141/'Base original'!AR129*100-100)*'Base original'!AR129/'Base original'!$AR129","v":3.7408711603304425},{"$f":"+('Base original'!AR141/'Base original'!AR129*100-100)*'Base original'!AR129/'Base original'!$BC129","v":2.2592916658557827},{"$f":"+('Base original'!AS141/'Base original'!AS129*100-100)*'Base original'!AS129/'Base original'!$BC129","v":1.2450412197360461},{"$f":"+('Base original'!AT141/'Base original'!AT129*100-100)*'Base original'!AT129/'Base original'!$BC129","v":-0.55624238016905003},{"$f":"+('Base original'!AU141/'Base original'!AU129*100-100)*'Base original'!AU129/'Base original'!$BC129","v":3.8409176457928034},{"$f":"+('Base original'!AV141/'Base original'!AV129*100-100)*'Base original'!AV129/'Base original'!$BC129","v":-0.40518240293195457},{"$f":"+('Base original'!AW141/'Base original'!AW129*100-100)*'Base original'!AW129/'Base original'!$BC129","v":9.6508075530187712E-2},{"$f":"+('Base original'!AX141/'Base original'!AX129*100-100)*'Base original'!AX129/'Base original'!$BC129","v":1.1097459931244309},{"$f":"+('Base original'!AY141/'Base original'!AY129*100-100)*'Base original'!AY129/'Base original'!$BC129","v":1.6917893791941596},{"$f":"+('Base original'!AZ141/'Base original'!AZ129*100-100)*'Base original'!AZ129/'Base original'!$BC129","v":3.3781635601459838E-2},{"$f":"+('Base original'!BA141/'Base original'!BA129*100-100)*'Base original'!BA129/'Base original'!$BC129","v":1.0542511104098997},{"$f":"+('Base original'!BB141/'Base original'!BB129*100-100)*'Base original'!BB129/'Base original'!$BC129","v":4.0523089150253299E-3},{"$f":"+(('Base original'!AY141-'Base original'!BA141)/('Base original'!AY129-'Base original'!BA129)*100-100)*('Base original'!AY129-'Base original'!BA129)/'Base original'!$BC129","v":0.63753826878426012},{"$f":"+(('Base original'!AZ141-'Base original'!BB141)/('Base original'!AZ129-'Base original'!BB129)*100-100)*('Base original'!AZ129-'Base original'!BB129)/'Base original'!$BC129","v":2.9729326686434458E-2},{"$f":"+('Base original'!BC141/'Base original'!BC129*100-100)*'Base original'!BC129/'Base original'!$BC129","v":8.2573474124089046}]
["2017-03-01",{"$f":"+'Base original'!B142/'Base original'!B130*100-100","v":5.0410777204568973},{"$f":"+'Base original'!C142/'Base original'!C130*100-100","v":7.9428669372631617},{"$f":"+'Base original'!D142/'Base original'!D130*100-100","v":9.395772786014561},{"$f":"+'Base original'!E142/'Base original'!E130*100-100","v":-4.0225457335502881},{"$f":"+'Base original'!F142/'Base original'!F130*100-100","v":5.9201182728318997},{"$f":"+'Base original'!G142","v":22.02},{"$f":"+'Base original'!J142/'Base original'!$H142*'Base original'!I142","v":11.186461115381492},{"$f":"+'Base original'!L142/'Base original'!$H142*'Base original'!K142","v":0.90665395100571478},{"$f":"+'Base original'!N142/'Base original'!$H142*'Base original'!M142","v":3.3035327734623037},{"$f":"+'Base original'!P142/'Base original'!$H142*'Base original'!O142","v":6.6234983504652583},{"$f":"+'Base original'!Q142","v":8.18},{"$f":"+'Base original'!T142/'Base original'!$R142*'Base original'!S142","v":0.44305864560084574},{"$f":"+'Base original'!V142/'Base original'!$R142*'Base original'!U142","v":2.8640385293081172},{"$f":"+'Base original'!X142/'Base original'!$R142*'Base original'!W142","v":4.8733672324679898},{"$f":"+'Base original'!Y142","v":2.33},{"$f":"+'Base original'!AB142/'Base original'!$Z142*'Base original'!AA142","v":1.3074280398380211},{"$f":"+'Base original'!AD142/'Base original'!$Z142*'Base original'!AC142","v":1.0204465360621651},{"$f":"+'Base original'!AE142","v":3.47},{"$f":"+('Base original'!AH142/'Base original'!AH130*100-100)*'Base original'!AH130/'Base original'!$AK130","v":1.2036704715152995},{"$f":"+('Base original'!AI142/'Base original'!AI130*100-100)*'Base original'!AI130/'Base original'!$AK130","v":2.032335187002059},{"$f":"+('Base original'!AJ142/'Base original'!AJ130*100-100)*'Base original'!AJ130/'Base original'!$AK130","v":2.3371034209759642},{"$f":"+('Base original'!AK142/'Base original'!AK130*100-100)*'Base original'!AK130/'Base original'!$AK130","v":5.5731090794933067},{"$f":"+('Base original'!AK142/'Base original'!AK130*100-100)*'Base original'!AK130/'Base original'!$AR130","v":1.3681468780465775},{"$f":"+('Base original'!AL142/'Base original'!AL130*100-100)*'Base original'!AL130/'Base original'!$AR130","v":3.0603889358432816},{"$f":"+('Base original'!AM142/'Base original'!AM130*100-100)*'Base original'!AM130/'Base original'!$AR130","v":0.25174521943831435},{"$f":"+('Base original'!AN142/'Base original'!AN130*100-100)*'Base original'!AN130/'Base original'!$AR130","v":2.2799118823043769},{"$f":"+('Base original'!AO142/'Base original'!AO130*100-100)*'Base original'!AO130/'Base original'!$AR130","v":0.11755231112312517},{"$f":"+('Base original'!AP142/'Base original'!AP130*100-100)*'Base original'!AP130/'Base original'!$AR130","v":2.1036624905513208},{"$f":"+('Base original'!AQ142/'Base original'!AQ130*100-100)*'Base original'!AQ130/'Base original'!$AR130","v":-3.9930501606231058E-4},{"$f":"+(('Base original'!AN142-'Base original'!AP142)/('Base original'!AN130-'Base original'!AP130)*100-100)*(('Base original'!AN130-'Base original'!AP130)/'Base original'!AR130)","v":0.17624939175305707},{"$f":"+(('Base original'!AO142-'Base original'!AQ142)/('Base original'!AO130-'Base original'!AQ130)*100-100)*(('Base original'!AO130-'Base original'!AQ130)/'Base original'!AR130)","v":0.11795161613918757},{"$f":"+('Base original'!AR142/'Base original'!AR130*100-100)*'Base original'!AR130/'Base original'!$AR130","v":4.9744820412204405},{"$f":"+('Base original'!AR142/'Base original'!AR130*100-100)*'Base original'!AR130/'Base original'!$BC130","v":3.0163782059634712},{"$f":"+('Base original'!AS142/'Base original'!AS130*100-100)*'Base original'!AS130/'Base original'!$BC130","v":1.151297553854109},{"$f":"+('Base original'!AT142/'Base original'!AT130*100-100)*'Base original'!AT130/'Base original'!$BC130","v":-0.29994210721990999},{"$f":"+('Base original'!AU142/'Base original'!AU130*100-100)*'Base original'!AU130/'Base original'!$BC130","v":3.8186362182530513},{"$f":"+('Base original'!AV142/'Base original'!AV130*100-100)*'Base original'!AV130/'Base original'!$BC130","v":-0.38812859533507738},{"$f":"+('Base original'!AW142/'Base original'!AW130*100-100)*'Base original'!AW130/'Base original'!$BC130","v":9.0273937740459803E-2},{"$f":"+('Base original'!AX142/'Base original'!AX130*100-100)*'Base original'!AX130/'Base original'!$BC130","v":1.0764382094811258},{"$f":"+('Base original'!AY142/'Base original'!AY130*100-100)*'Base original'!AY130/'Base original'!$BC130","v":1.5315086097195176},{"$f":"+('Base original'!AZ142/'Base original'!AZ130*100-100)*'Base original'!AZ130/'Base original'!$BC130","v":3.3308597539135093E-2},{"$f":"+('Base original'!BA142/'Base original'!BA130*100-100)*'Base original'!BA130/'Base original'!$BC130","v":0.88578043512229454},{"$f":"+('Base original'!BB142/'Base original'!BB130*100-100)*'Base original'!BB130/'Base original'!$BC130","v":3.547684915764271E-3},{"$f":"+(('Base original'!AY142-'Base original'!BA142)/('Base original'!AY130-'Base original'!BA130)*100-100)*('Base original'!AY130-'Base original'!BA130)/'Base original'!$BC130","v":0.64572817459722287},{"$f":"+(('Base original'!AZ142-'Base original'!BB142)/('Base original'!AZ130-'Base original'!BB130)*100-100)*('Base original'!AZ130-'Base original'!BB130)/'Base original'!$BC130","v":2.9760912623370925E-2},{"$f":"+('Base original'!BC142/'Base original'!BC130*100-100)*'Base original'!BC130/'Base original'!$BC130","v":9.1404425099578219}]
["2017-04-01",{"$f":"+'Base original'!B143/'Base original'!B131*100-100","v":5.7908928305995744},{"$f":"+'Base original'!C143/'Base original'!C131*100-100","v":7.4634305043416589},{"$f":"+'Base original'!D143/'Base original'!D131*100-100","v":9.3590182470187244},{"$f":"+'Base original'!E143/'Base original'!E131*100-100","v":-0.67391102079936616},{"$f":"+'Base original'!F143/'Base original'!F131*100-100","v":6.5050836527385911},{"$f":"+'Base original'!G143","v":22.83},{"$f":"+'Base original'!J143/'Base original'!$H143*'Base original'!I143","v":13.059544231483333},{"$f":"+'Base original'!L143/'Base original'!$H143*'Base original'!K143","v":0.8803068925133537},{"$f":"+'Base original'!N143/'Base original'!$H143*'Base original'!M143","v":2.9125286640578136},{"$f":"+'Base original'!P143/'Base original'!$H143*'Base original'!O143","v":5.9813739324173776},{"$f":"+'Base original'!Q143","v":7.48},{"$f":"+'Base original'!T143/'Base original'!$R143*'Base original'!S143","v":0.44784772411039803},{"$f":"+'Base original'!V143/'Base original'!$R143*'Base original'!U143","v":2.4543534571329597},{"$f":"+'Base original'!X143/'Base original'!$R143*'Base original'!W143","v":4.5827849338632873},{"$f":"+'Base original'!Y143","v":2.35},{"$f":"+'Base original'!AB143/'Base original'!$Z143*'Base original'!AA143","v":1.430074814305955},{"$f":"+'Base original'!AD143/'Base original'!$Z143*'Base original'!AC143","v":0.92064424026447989},{"$f":"+'Base original'!AE143","v":3.42},{"$f":"+('Base original'!AH143/'Base original'!AH131*100-100)*'Base original'!AH131/'Base original'!$AK131","v":1.3002927578584675},{"$f":"+('Base original'!AI143/'Base original'!AI131*100-100)*'Base original'!AI131/'Base original'!$AK131","v":3.6262465921667579},{"$f":"+('Base original'!AJ143/'Base original'!AJ131*100-100)*'Base original'!AJ131/'Base original'!$AK131","v":3.3077342765764906},{"$f":"+('Base original'!AK143/'Base original'!AK131*100-100)*'Base original'!AK131/'Base original'!$AK131","v":8.2342736266017198},{"$f":"+('Base original'!AK143/'Base original'!AK131*100-100)*'Base original'!AK131/'Base original'!$AR131","v":2.0104420852521914},{"$f":"+('Base original'!AL143/'Base original'!AL131*100-100)*'Base original'!AL131/'Base original'!$AR131","v":1.5583794068062413},{"$f":"+('Base original'!AM143/'Base original'!AM131*100-100)*'Base original'!AM131/'Base original'!$AR131","v":0.24364603646698771},{"$f":"+('Base original'!AN143/'Base original'!AN131*100-100)*'Base original'!AN131/'Base original'!$AR131","v":2.4606129519174536},{"$f":"+('Base original'!AO143/'Base original'!AO131*100-100)*'Base original'!AO131/'Base original'!$AR131","v":0.12703508076349071},{"$f":"+('Base original'!AP143/'Base original'!AP131*100-100)*'Base original'!AP131/'Base original'!$AR131","v":2.1223651230695317},{"$f":"+('Base original'!AQ143/'Base original'!AQ131*100-100)*'Base original'!AQ131/'Base original'!$AR131","v":1.1922159166257908E-2},{"$f":"+(('Base original'!AN143-'Base original'!AP143)/('Base original'!AN131-'Base original'!AP131)*100-100)*(('Base original'!AN131-'Base original'!AP131)/'Base original'!AR131)","v":0.33824782884791965},{"$f":"+(('Base original'!AO143-'Base original'!AQ143)/('Base original'!AO131-'Base original'!AQ131)*100-100)*(('Base original'!AO131-'Base original'!AQ131)/'Base original'!AR131)","v":0.1151129215972327},{"$f":"+('Base original'!AR143/'Base original'!AR131*100-100)*'Base original'!AR131/'Base original'!$AR131","v":4.2658282789706021},{"$f":"+('Base original'!AR143/'Base original'!AR131*100-100)*'Base original'!AR131/'Base original'!$BC131","v":2.596943651930268},{"$f":"+('Base original'!AS143/'Base original'!AS131*100-100)*'Base original'!AS131/'Base original'!$BC131","v":1.1221079145756125},{"$f":"+('Base original'!AT143/'Base original'!AT131*100-100)*'Base original'!AT131/'Base original'!$BC131","v":0.17198980476877038},{"$f":"+('Base original'!AU143/'Base original'!AU131*100-100)*'Base original'!AU131/'Base original'!$BC131","v":3.7727956947971637},{"$f":"+('Base original'!AV143/'Base original'!AV131*100-100)*'Base original'!AV131/'Base original'!$BC131","v":4.8481877673322994E-2},{"$f":"+('Base original'!AW143/'Base original'!AW131*100-100)*'Base original'!AW131/'Base original'!$BC131","v":7.7212018162178223E-2},{"$f":"+('Base original'!AX143/'Base original'!AX131*100-100)*'Base original'!AX131/'Base original'!$BC131","v":1.1320134066546594},{"$f":"+('Base original'!AY143/'Base original'!AY131*100-100)*'Base original'!AY131/'Base original'!$BC131","v":1.6734751343460628},{"$f":"+('Base original'!AZ143/'Base original'!AZ131*100-100)*'Base original'!AZ131/'Base original'!$BC131","v":3.990385738591274E-2},{"$f":"+('Base original'!BA143/'Base original'!BA131*100-100)*'Base original'!BA131/'Base original'!$BC131","v":0.94370388467792143},{"$f":"+('Base original'!BB143/'Base original'!BB131*100-100)*'Base original'!BB131/'Base original'!$BC131","v":9.9993850290155031E-3},{"$f":"+(('Base original'!AY143-'Base original'!BA143)/('Base original'!AY131-'Base original'!BA131)*100-100)*('Base original'!AY131-'Base original'!BA131)/'Base original'!$BC131","v":0.72977124966814055},{"$f":"+(('Base original'!AZ143-'Base original'!BB143)/('Base original'!AZ131-'Base original'!BB131)*100-100)*('Base original'!AZ131-'Base original'!BB131)/'Base original'!$BC131","v":2.9904472356897218E-2},{"$f":"+('Base original'!BC143/'Base original'!BC131*100-100)*'Base original'!BC131/'Base original'!$BC131","v":9.6812200905870043}]
["2017-05-01",{"$f":"+'Base original'!B144/'Base original'!B132*100-100","v":3.5829515642111147},{"$f":"+'Base original'!C144/'Base original'!C132*100-100","v":7.1792231092464363},{"$f":"+'Base original'!D144/'Base original'!D132*100-100","v":9.5526342864884555},{"$f":"+'Base original'!E144/'Base original'!E132*100-100","v":-7.4424931934107406},{"$f":"+'Base original'!F144/'Base original'!F132*100-100","v":4.80809519697209},{"$f":"+'Base original'!G144","v":21.88},{"$f":"+'Base original'!J144/'Base original'!$H144*'Base original'!I144","v":11.617662821833163},{"$f":"+'Base original'!L144/'Base original'!$H144*'Base original'!K144","v":1.045763954685891},{"$f":"+'Base original'!N144/'Base original'!$H144*'Base original'!M144","v":3.1392094747682799},{"$f":"+'Base original'!P144/'Base original'!$H144*'Base original'!O144","v":6.0727754891864061},{"$f":"+'Base original'!Q144","v":7.03},{"$f":"+'Base original'!T144/'Base original'!$R144*'Base original'!S144","v":0.37477037411600533},{"$f":"+'Base original'!V144/'Base original'!$R144*'Base original'!U144","v":2.3095658854046377},{"$f":"+'Base original'!X144/'Base original'!$R144*'Base original'!W144","v":4.342739344051072},{"$f":"+'Base original'!Y144","v":2.23},{"$f":"+'Base original'!AB144/'Base original'!$Z144*'Base original'!AA144","v":1.2626778857013778},{"$f":"+'Base original'!AD144/'Base original'!$Z144*'Base original'!AC144","v":0.96583578043821983},{"$f":"+'Base original'!AE144","v":3.36},{"$f":"+('Base original'!AH144/'Base original'!AH132*100-100)*'Base original'!AH132/'Base original'!$AK132","v":1.1822085353169516},{"$f":"+('Base original'!AI144/'Base original'!AI132*100-100)*'Base original'!AI132/'Base original'!$AK132","v":3.7166599078911546},{"$f":"+('Base original'!AJ144/'Base original'!AJ132*100-100)*'Base original'!AJ132/'Base original'!$AK132","v":4.3357370095024557},{"$f":"+('Base original'!AK144/'Base original'!AK132*100-100)*'Base original'!AK132/'Base original'!$AK132","v":9.2346054527105537},{"$f":"+('Base original'!AK144/'Base original'!AK132*100-100)*'Base original'!AK132/'Base original'!$AR132","v":2.2500800684604494},{"$f":"+('Base original'!AL144/'Base original'!AL132*100-100)*'Base original'!AL132/'Base original'!$AR132","v":2.1524025843291206},{"$f":"+('Base original'!AM144/'Base original'!AM132*100-100)*'Base original'!AM132/'Base original'!$AR132","v":0.24156345517523889},{"$f":"+('Base original'!AN144/'Base original'!AN132*100-100)*'Base original'!AN132/'Base original'!$AR132","v":1.0782558162631866},{"$f":"+('Base original'!AO144/'Base original'!AO132*100-100)*'Base original'!AO132/'Base original'!$AR132","v":0.14580807631688231},{"$f":"+('Base original'!AP144/'Base original'!AP132*100-100)*'Base original'!AP132/'Base original'!$AR132","v":0.93316702733861834},{"$f":"+('Base original'!AQ144/'Base original'!AQ132*100-100)*'Base original'!AQ132/'Base original'!$AR132","v":1.9923010788222714E-2},{"$f":"+(('Base original'!AN144-'Base original'!AP144)/('Base original'!AN132-'Base original'!AP132)*100-100)*(('Base original'!AN132-'Base original'!AP132)/'Base original'!AR132)","v":0.14508878892456967},{"$f":"+(('Base original'!AO144-'Base original'!AQ144)/('Base original'!AO132-'Base original'!AQ132)*100-100)*(('Base original'!AO132-'Base original'!AQ132)/'Base original'!AR132)","v":0.1258850655286595},{"$f":"+('Base original'!AR144/'Base original'!AR132*100-100)*'Base original'!AR132/'Base original'!$AR132","v":4.9150199624180573},{"$f":"+('Base original'!AR144/'Base original'!AR132*100-100)*'Base original'!AR132/'Base original'!$BC132","v":2.9534024236076166},{"$f":"+('Base original'!AS144/'Base original'!AS132*100-100)*'Base original'!AS132/'Base original'!$BC132","v":0.43273067799428355},{"$f":"+('Base original'!AT144/'Base original'!AT132*100-100)*'Base original'!AT132/'Base original'!$BC132","v":-0.47362792741536963},{"$f":"+('Base original'!AU144/'Base original'!AU132*100-100)*'Base original'!AU132/'Base original'!$BC132","v":2.9790294948649874},{"$f":"+('Base original'!AV144/'Base original'!AV132*100-100)*'Base original'!AV132/'Base original'!$BC132","v":4.1941819719334784E-2},{"$f":"+('Base original'!AW144/'Base original'!AW132*100-100)*'Base original'!AW132/'Base original'!$BC132","v":6.3360809434890586E-2},{"$f":"+('Base original'!AX144/'Base original'!AX132*100-100)*'Base original'!AX132/'Base original'!$BC132","v":1.2051679520402456},{"$f":"+('Base original'!AY144/'Base original'!AY132*100-100)*'Base original'!AY132/'Base original'!$BC132","v":1.6792607748006454},{"$f":"+('Base original'!AZ144/'Base original'!AZ132*100-100)*'Base original'!AZ132/'Base original'!$BC132","v":4.4206877795581107E-2},{"$f":"+('Base original'!BA144/'Base original'!BA132*100-100)*'Base original'!BA132/'Base original'!$BC132","v":0.69752763413287122},{"$f":"+('Base original'!BB144/'Base original'!BB132*100-100)*'Base original'!BB132/'Base original'!$BC132","v":1.438204127204286E-2},{"$f":"+(('Base original'!AY144-'Base original'!BA144)/('Base original'!AY132-'Base original'!BA132)*100-100)*('Base original'!AY132-'Base original'!BA132)/'Base original'!$BC132","v":0.98173314066777551},{"$f":"+(('Base original'!AZ144-'Base original'!BB144)/('Base original'!AZ132-'Base original'!BB132)*100-100)*('Base original'!AZ132-'Base original'!BB132)/'Base original'!$BC132","v":2.9824836523538286E-2},{"$f":"+('Base original'!BC144/'Base original'!BC132*100-100)*'Base original'!BC132/'Base original'!$BC132","v":8.2135632274373194}]
["2017-06-01",{"$f":"+'Base original'!B145/'Base original'!B133*100-100","v":3.7565482340687453},{"$f":"+'Base original'!C145/'Base original'!C133*100-100","v":6.9516875220204213},{"$f":"+'Base original'!D145/'Base original'!D133*100-100","v":9.7276527776044759},{"$f":"+'Base original'!E145/'Base original'!E133*100-100","v":-6.5988880324402004},{"$f":"+'Base original'!F145/'Base original'!F133*100-100","v":5.0322742146195196},{"$f":"+'Base original'!G145","v":22.2},{"$f":"+'Base original'!J145/'Base original'!$H145*'Base original'!I145","v":12.208039231792869},{"$f":"+'Base original'!L145/'Base original'!$H145*'Base original'!K145","v":0.93390790057336259},{"$f":"+'Base original'!N145/'Base original'!$H145*'Base original'!M145","v":3.106964628957269},{"$f":"+'Base original'!P145/'Base original'!$H145*'Base original'!O145","v":5.9505832197013255},{"$f":"+'Base original'!Q145","v":7.25},{"$f":"+'Base original'!T145/'Base original'!$R145*'Base original'!S145","v":0.43056288317718316},{"$f":"+'Base original'!V145/'Base original'!$R145*'Base original'!U145","v":2.1979034657635559},{"$f":"+'Base original'!X145/'Base original'!$R145*'Base original'!W145","v":4.6222959077319334},{"$f":"+'Base original'!Y145","v":2.4900000000000002},{"$f":"+'Base original'!AB145/'Base original'!$Z145*'Base original'!AA145","v":1.4043222916037981},{"$f":"+'Base original'!AD145/'Base original'!$Z145*'Base original'!AC145","v":1.0856348801039952},{"$f":"+'Base original'!AE145","v":3.29},{"$f":"+('Base original'!AH145/'Base original'!AH133*100-100)*'Base original'!AH133/'Base original'!$AK133","v":1.4543290009605707},{"$f":"+('Base original'!AI145/'Base original'!AI133*100-100)*'Base original'!AI133/'Base original'!$AK133","v":5.490220402405245},{"$f":"+('Base original'!AJ145/'Base original'!AJ133*100-100)*'Base original'!AJ133/'Base original'!$AK133","v":2.8596107250233311},{"$f":"+('Base original'!AK145/'Base original'!AK133*100-100)*'Base original'!AK133/'Base original'!$AK133","v":9.8041601283891424},{"$f":"+('Base original'!AK145/'Base original'!AK133*100-100)*'Base original'!AK133/'Base original'!$AR133","v":2.38913849217789},{"$f":"+('Base original'!AL145/'Base original'!AL133*100-100)*'Base original'!AL133/'Base original'!$AR133","v":1.7619556652647521},{"$f":"+('Base original'!AM145/'Base original'!AM133*100-100)*'Base original'!AM133/'Base original'!$AR133","v":0.23103389143938363},{"$f":"+('Base original'!AN145/'Base original'!AN133*100-100)*'Base original'!AN133/'Base original'!$AR133","v":2.115003121716196},{"$f":"+('Base original'!AO145/'Base original'!AO133*100-100)*'Base original'!AO133/'Base original'!$AR133","v":0.13868428827413956},{"$f":"+('Base original'!AP145/'Base original'!AP133*100-100)*'Base original'!AP133/'Base original'!$AR133","v":1.8319306336506072},{"$f":"+('Base original'!AQ145/'Base original'!AQ133*100-100)*'Base original'!AQ133/'Base original'!$AR133","v":1.0783251742873742E-2},{"$f":"+(('Base original'!AN145-'Base original'!AP145)/('Base original'!AN133-'Base original'!AP133)*100-100)*(('Base original'!AN133-'Base original'!AP133)/'Base original'!AR133)","v":0.28307248806558866},{"$f":"+(('Base original'!AO145-'Base original'!AQ145)/('Base original'!AO133-'Base original'!AQ133)*100-100)*(('Base original'!AO133-'Base original'!AQ133)/'Base original'!AR133)","v":0.12790103653126592},{"$f":"+('Base original'!AR145/'Base original'!AR133*100-100)*'Base original'!AR133/'Base original'!$AR133","v":4.7931015734788929},{"$f":"+('Base original'!AR145/'Base original'!AR133*100-100)*'Base original'!AR133/'Base original'!$BC133","v":2.8688154089396054},{"$f":"+('Base original'!AS145/'Base original'!AS133*100-100)*'Base original'!AS133/'Base original'!$BC133","v":0.30730965168295604},{"$f":"+('Base original'!AT145/'Base original'!AT133*100-100)*'Base original'!AT133/'Base original'!$BC133","v":-0.52741469798071738},{"$f":"+('Base original'!AU145/'Base original'!AU133*100-100)*'Base original'!AU133/'Base original'!$BC133","v":2.8923435874756667},{"$f":"+('Base original'!AV145/'Base original'!AV133*100-100)*'Base original'!AV133/'Base original'!$BC133","v":7.9764583216968027E-2},{"$f":"+('Base original'!AW145/'Base original'!AW133*100-100)*'Base original'!AW133/'Base original'!$BC133","v":5.036526165141246E-2},{"$f":"+('Base original'!AX145/'Base original'!AX133*100-100)*'Base original'!AX133/'Base original'!$BC133","v":1.2632110559795848},{"$f":"+('Base original'!AY145/'Base original'!AY133*100-100)*'Base original'!AY133/'Base original'!$BC133","v":1.6239238678648618},{"$f":"+('Base original'!AZ145/'Base original'!AZ133*100-100)*'Base original'!AZ133/'Base original'!$BC133","v":5.2719702288695165E-2},{"$f":"+('Base original'!BA145/'Base original'!BA133*100-100)*'Base original'!BA133/'Base original'!$BC133","v":0.46089342906646968},{"$f":"+('Base original'!BB145/'Base original'!BB133*100-100)*'Base original'!BB133/'Base original'!$BC133","v":2.0467161330540377E-2},{"$f":"+(('Base original'!AY145-'Base original'!BA145)/('Base original'!AY133-'Base original'!BA133)*100-100)*('Base original'!AY133-'Base original'!BA133)/'Base original'!$BC133","v":1.1630304387983927},{"$f":"+(('Base original'!AZ145-'Base original'!BB145)/('Base original'!AZ133-'Base original'!BB133)*100-100)*('Base original'!AZ133-'Base original'!BB133)/'Base original'!$BC133","v":3.2252540958154892E-2},{"$f":"+('Base original'!BC145/'Base original'!BC133*100-100)*'Base original'!BC133/'Base original'!$BC133","v":8.1296778307220308}]
["2017-07-01",{"$f":"+'Base original'!B146/'Base original'!B134*100-100","v":2.5730259354161973},{"$f":"+'Base original'!C146/'Base original'!C134*100-100","v":6.3655507140583296},{"$f":"+'Base original'!D146/'Base original'!D134*100-100","v":9.3927034802604226},{"$f":"+'Base original'!E146/'Base original'!E134*100-100","v":-8.7737905513542387},{"$f":"+'Base original'!F146/'Base original'!F134*100-100","v":4.0724575208073759},{"$f":"+'Base original'!G146","v":22.01},{"$f":"+'Base original'!J146/'Base original'!$H146*'Base original'!I146","v":11.908732195204196},{"$f":"+'Base original'!L146/'Base original'!$H146*'Base original'!K146","v":1.0063014972616373},{"$f":"+'Base original'!N146/'Base original'!$H146*'Base original'!M146","v":3.0868890351282707},{"$f":"+'Base original'!P146/'Base original'!$H146*'Base original'!O146","v":6.0048390974008674},{"$f":"+'Base original'!Q146","v":7.08},{"$f":"+'Base original'!T146/'Base original'!$R146*'Base original'!S146","v":0.40339414535104462},{"$f":"+'Base original'!V146/'Base original'!$R146*'Base original'!U146","v":2.3488324092599422},{"$f":"+'Base original'!X146/'Base original'!$R146*'Base original'!W146","v":4.3311396127239385},{"$f":"+'Base original'!Y146","v":2.39},{"$f":"+'Base original'!AB146/'Base original'!$Z146*'Base original'!AA146","v":1.2521590987788267},{"$f":"+'Base original'!AD146/'Base original'!$Z146*'Base original'!AC146","v":1.1339146794709019},{"$f":"+'Base original'!AE146","v":3.2},{"$f":"+('Base original'!AH146/'Base original'!AH134*100-100)*'Base original'!AH134/'Base original'!$AK134","v":1.1398960380756495},{"$f":"+('Base original'!AI146/'Base original'!AI134*100-100)*'Base original'!AI134/'Base original'!$AK134","v":5.4634196793581928},{"$f":"+('Base original'!AJ146/'Base original'!AJ134*100-100)*'Base original'!AJ134/'Base original'!$AK134","v":3.5606588982074423},{"$f":"+('Base original'!AK146/'Base original'!AK134*100-100)*'Base original'!AK134/'Base original'!$AK134","v":10.163974615641296},{"$f":"+('Base original'!AK146/'Base original'!AK134*100-100)*'Base original'!AK134/'Base original'!$AR134","v":2.4319329257290905},{"$f":"+('Base original'!AL146/'Base original'!AL134*100-100)*'Base original'!AL134/'Base original'!$AR134","v":2.3187769498948811},{"$f":"+('Base original'!AM146/'Base original'!AM134*100-100)*'Base original'!AM134/'Base original'!$AR134","v":0.21933709716900138},{"$f":"+('Base original'!AN146/'Base original'!AN134*100-100)*'Base original'!AN134/'Base original'!$AR134","v":2.274225276772099},{"$f":"+('Base original'!AO146/'Base original'!AO134*100-100)*'Base original'!AO134/'Base original'!$AR134","v":0.11690930716572903},{"$f":"+('Base original'!AP146/'Base original'!AP134*100-100)*'Base original'!AP134/'Base original'!$AR134","v":2.068603811058944},{"$f":"+('Base original'!AQ146/'Base original'!AQ134*100-100)*'Base original'!AQ134/'Base original'!$AR134","v":1.5006466954512456E-2},{"$f":"+(('Base original'!AN146-'Base original'!AP146)/('Base original'!AN134-'Base original'!AP134)*100-100)*(('Base original'!AN134-'Base original'!AP134)/'Base original'!AR134)","v":0.20562146571315479},{"$f":"+(('Base original'!AO146-'Base original'!AQ146)/('Base original'!AO134-'Base original'!AQ134)*100-100)*(('Base original'!AO134-'Base original'!AQ134)/'Base original'!AR134)","v":0.10190284021121659},{"$f":"+('Base original'!AR146/'Base original'!AR134*100-100)*'Base original'!AR134/'Base original'!$AR134","v":5.2775712787173461},{"$f":"+('Base original'!AR146/'Base original'!AR134*100-100)*'Base original'!AR134/'Base original'!$BC134","v":3.1257231797408673},{"$f":"+('Base original'!AS146/'Base original'!AS134*100-100)*'Base original'!AS134/'Base original'!$BC134","v":0.12266220359552545},{"$f":"+('Base original'!AT146/'Base original'!AT134*100-100)*'Base original'!AT134/'Base original'!$BC134","v":-0.80200757178857152},{"$f":"+('Base original'!AU146/'Base original'!AU134*100-100)*'Base original'!AU134/'Base original'!$BC134","v":2.498432056791684},{"$f":"+('Base original'!AV146/'Base original'!AV134*100-100)*'Base original'!AV134/'Base original'!$BC134","v":0.12877281831619994},{"$f":"+('Base original'!AW146/'Base original'!AW134*100-100)*'Base original'!AW134/'Base original'!$BC134","v":2.4492313393089073E-2},{"$f":"+('Base original'!AX146/'Base original'!AX134*100-100)*'Base original'!AX134/'Base original'!$BC134","v":1.2449882641902354},{"$f":"+('Base original'!AY146/'Base original'!AY134*100-100)*'Base original'!AY134/'Base original'!$BC134","v":1.4414794236379735},{"$f":"+('Base original'!AZ146/'Base original'!AZ134*100-100)*'Base original'!AZ134/'Base original'!$BC134","v":5.687284701552215E-2},{"$f":"+('Base original'!BA146/'Base original'!BA134*100-100)*'Base original'!BA134/'Base original'!$BC134","v":0.15093574161751483},{"$f":"+('Base original'!BB146/'Base original'!BB134*100-100)*'Base original'!BB134/'Base original'!$BC134","v":2.1717763545572824E-2},{"$f":"+(('Base original'!AY146-'Base original'!BA146)/('Base original'!AY134-'Base original'!BA134)*100-100)*('Base original'!AY134-'Base original'!BA134)/'Base original'!$BC134","v":1.2905436820204597},{"$f":"+(('Base original'!AZ146-'Base original'!BB146)/('Base original'!AZ134-'Base original'!BB134)*100-100)*('Base original'!AZ134-'Base original'!BB134)/'Base original'!$BC134","v":3.515508346994934E-2},{"$f":"+('Base original'!BC146/'Base original'!BC134*100-100)*'Base original'!BC134/'Base original'!$BC134","v":7.6687620297294643}]
["2017-08-01",{"$f":"+'Base original'!B147/'Base original'!B135*100-100","v":2.0810097835228305},{"$f":"+'Base original'!C147/'Base original'!C135*100-100","v":6.323338915858173},{"$f":"+'Base original'!D147/'Base original'!D135*100-100","v":9.3653809765656035},{"$f":"+'Base original'!E147/'Base original'!E135*100-100","v":-13.828486074997954},{"$f":"+'Base original'!F147/'Base original'!F135*100-100","v":3.4450051833298403},{"$f":"+'Base original'!G147","v":21.45},{"$f":"+'Base original'!J147/'Base original'!$H147*'Base original'!I147","v":11.214192914788164},{"$f":"+'Base original'!L147/'Base original'!$H147*'Base original'!K147","v":0.91358931824426781},{"$f":"+'Base original'!N147/'Base original'!$H147*'Base original'!M147","v":3.3719263492128104},{"$f":"+'Base original'!P147/'Base original'!$H147*'Base original'!O147","v":5.9489089262270891},{"$f":"+'Base original'!Q147","v":6.79},{"$f":"+'Base original'!T147/'Base original'!$R147*'Base original'!S147","v":0.37132651985575493},{"$f":"+'Base original'!V147/'Base original'!$R147*'Base original'!U147","v":2.3258767347278981},{"$f":"+'Base original'!X147/'Base original'!$R147*'Base original'!W147","v":4.0935804097402171},{"$f":"+'Base original'!Y147","v":2.52},{"$f":"+'Base original'!AB147/'Base original'!$Z147*'Base original'!AA147","v":1.1157283776144715},{"$f":"+'Base original'!AD147/'Base original'!$Z147*'Base original'!AC147","v":1.404076031656303},{"$f":"+'Base original'!AE147","v":3.19},{"$f":"+('Base original'!AH147/'Base original'!AH135*100-100)*'Base original'!AH135/'Base original'!$AK135","v":1.0177173716114005},{"$f":"+('Base original'!AI147/'Base original'!AI135*100-100)*'Base original'!AI135/'Base original'!$AK135","v":5.4323994737513184},{"$f":"+('Base original'!AJ147/'Base original'!AJ135*100-100)*'Base original'!AJ135/'Base original'!$AK135","v":4.1432158130149785},{"$f":"+('Base original'!AK147/'Base original'!AK135*100-100)*'Base original'!AK135/'Base original'!$AK135","v":10.59333265837769},{"$f":"+('Base original'!AK147/'Base original'!AK135*100-100)*'Base original'!AK135/'Base original'!$AR135","v":2.5014177874822701},{"$f":"+('Base original'!AL147/'Base original'!AL135*100-100)*'Base original'!AL135/'Base original'!$AR135","v":1.964104552161418},{"$f":"+('Base original'!AM147/'Base original'!AM135*100-100)*'Base original'!AM135/'Base original'!$AR135","v":0.20277750985628282},{"$f":"+('Base original'!AN147/'Base original'!AN135*100-100)*'Base original'!AN135/'Base original'!$AR135","v":1.2336520265239763},{"$f":"+('Base original'!AO147/'Base original'!AO135*100-100)*'Base original'!AO135/'Base original'!$AR135","v":0.11002293292654843},{"$f":"+('Base original'!AP147/'Base original'!AP135*100-100)*'Base original'!AP135/'Base original'!$AR135","v":1.3282393574470466},{"$f":"+('Base original'!AQ147/'Base original'!AQ135*100-100)*'Base original'!AQ135/'Base original'!$AR135","v":2.420803444933119E-2},{"$f":"+(('Base original'!AN147-'Base original'!AP147)/('Base original'!AN135-'Base original'!AP135)*100-100)*(('Base original'!AN135-'Base original'!AP135)/'Base original'!AR135)","v":-9.4587330923071741E-2},{"$f":"+(('Base original'!AO147-'Base original'!AQ147)/('Base original'!AO135-'Base original'!AQ135)*100-100)*(('Base original'!AO135-'Base original'!AQ135)/'Base original'!AR135)","v":8.5814898477217294E-2},{"$f":"+('Base original'!AR147/'Base original'!AR135*100-100)*'Base original'!AR135/'Base original'!$AR135","v":4.6595274170541368},{"$f":"+('Base original'!AR147/'Base original'!AR135*100-100)*'Base original'!AR135/'Base original'!$BC135","v":2.7331984007362986},{"$f":"+('Base original'!AS147/'Base original'!AS135*100-100)*'Base original'!AS135/'Base original'!$BC135","v":-0.35700185934419787},{"$f":"+('Base original'!AT147/'Base original'!AT135*100-100)*'Base original'!AT135/'Base original'!$BC135","v":-0.92003257116004722},{"$f":"+('Base original'!AU147/'Base original'!AU135*100-100)*'Base original'!AU135/'Base original'!$BC135","v":1.8679950727831962},{"$f":"+('Base original'!AV147/'Base original'!AV135*100-100)*'Base original'!AV135/'Base original'!$BC135","v":-4.9673425587828104E-3},{"$f":"+('Base original'!AW147/'Base original'!AW135*100-100)*'Base original'!AW135/'Base original'!$BC135","v":-6.9278836460596599E-3},{"$f":"+('Base original'!AX147/'Base original'!AX135*100-100)*'Base original'!AX135/'Base original'!$BC135","v":1.1962142918491181},{"$f":"+('Base original'!AY147/'Base original'!AY135*100-100)*'Base original'!AY135/'Base original'!$BC135","v":1.2612887761834901},{"$f":"+('Base original'!AZ147/'Base original'!AZ135*100-100)*'Base original'!AZ135/'Base original'!$BC135","v":5.4180550566189783E-2},{"$f":"+('Base original'!BA147/'Base original'!BA135*100-100)*'Base original'!BA135/'Base original'!$BC135","v":-0.11371159499479985},{"$f":"+('Base original'!BB147/'Base original'!BB135*100-100)*'Base original'!BB135/'Base original'!$BC135","v":1.5350490065997858E-2},{"$f":"+(('Base original'!AY147-'Base original'!BA147)/('Base original'!AY135-'Base original'!BA135)*100-100)*('Base original'!AY135-'Base original'!BA135)/'Base original'!$BC135","v":1.3750003711782892},{"$f":"+(('Base original'!AZ147-'Base original'!BB147)/('Base original'!AZ135-'Base original'!BB135)*100-100)*('Base original'!AZ135-'Base original'!BB135)/'Base original'!$BC135","v":3.8830060500191922E-2},{"$f":"+('Base original'!BC147/'Base original'!BC135*100-100)*'Base original'!BC135/'Base original'!$BC135","v":5.922308540337994}]
["2017-09-01",{"$f":"+'Base original'!B148/'Base original'!B136*100-100","v":3.4978126810606653},{"$f":"+'Base original'!C148/'Base original'!C136*100-100","v":6.1150548045610549},{"$f":"+'Base original'!D148/'Base original'!D136*100-100","v":9.8430199518480492},{"$f":"+'Base original'!E148/'Base original'!E136*100-100","v":-13.603442693316907},{"$f":"+'Base original'!F148/'Base original'!F136*100-100","v":4.3748937187162937},{"$f":"+'Base original'!G148","v":22.06},{"$f":"+'Base original'!J148/'Base original'!$H148*'Base original'!I148","v":12.195213173960685},{"$f":"+'Base original'!L148/'Base original'!$H148*'Base original'!K148","v":0.82351751011919394},{"$f":"+'Base original'!N148/'Base original'!$H148*'Base original'!M148","v":2.9710020797459578},{"$f":"+'Base original'!P148/'Base original'!$H148*'Base original'!O148","v":6.0751302636581164},{"$f":"+'Base original'!Q148","v":6.9},{"$f":"+'Base original'!T148/'Base original'!$R148*'Base original'!S148","v":0.43919645055102335},{"$f":"+'Base original'!V148/'Base original'!$R148*'Base original'!U148","v":2.2101935594675823},{"$f":"+'Base original'!X148/'Base original'!$R148*'Base original'!W148","v":4.2534873336195798},{"$f":"+'Base original'!Y148","v":2.59},{"$f":"+'Base original'!AB148/'Base original'!$Z148*'Base original'!AA148","v":1.4151399720194477},{"$f":"+'Base original'!AD148/'Base original'!$Z148*'Base original'!AC148","v":1.1777284501267435},{"$f":"+'Base original'!AE148","v":3.2},{"$f":"+('Base original'!AH148/'Base original'!AH136*100-100)*'Base original'!AH136/'Base original'!$AK136","v":0.95541218820267915},{"$f":"+('Base original'!AI148/'Base original'!AI136*100-100)*'Base original'!AI136/'Base original'!$AK136","v":5.7541983712517677},{"$f":"+('Base original'!AJ148/'Base original'!AJ136*100-100)*'Base original'!AJ136/'Base original'!$AK136","v":3.9889582244070247},{"$f":"+('Base original'!AK148/'Base original'!AK136*100-100)*'Base original'!AK136/'Base original'!$AK136","v":10.698568783861461},{"$f":"+('Base original'!AK148/'Base original'!AK136*100-100)*'Base original'!AK136/'Base original'!$AR136","v":2.5196233088298632},{"$f":"+('Base original'!AL148/'Base original'!AL136*100-100)*'Base original'!AL136/'Base original'!$AR136","v":2.5484282001805667},{"$f":"+('Base original'!AM148/'Base original'!AM136*100-100)*'Base original'!AM136/'Base original'!$AR136","v":0.19446591189662654},{"$f":"+('Base original'!AN148/'Base original'!AN136*100-100)*'Base original'!AN136/'Base original'!$AR136","v":1.321677201285407},{"$f":"+('Base original'!AO148/'Base original'!AO136*100-100)*'Base original'!AO136/'Base original'!$AR136","v":0.10854499352124262},{"$f":"+('Base original'!AP148/'Base original'!AP136*100-100)*'Base original'!AP136/'Base original'!$AR136","v":1.3891226789439211},{"$f":"+('Base original'!AQ148/'Base original'!AQ136*100-100)*'Base original'!AQ136/'Base original'!$AR136","v":2.6532461542543656E-2},{"$f":"+(('Base original'!AN148-'Base original'!AP148)/('Base original'!AN136-'Base original'!AP136)*100-100)*(('Base original'!AN136-'Base original'!AP136)/'Base original'!AR136)","v":-6.744547765851315E-2},{"$f":"+(('Base original'!AO148-'Base original'!AQ148)/('Base original'!AO136-'Base original'!AQ136)*100-100)*(('Base original'!AO136-'Base original'!AQ136)/'Base original'!AR136)","v":8.2012531978699066E-2},{"$f":"+('Base original'!AR148/'Base original'!AR136*100-100)*'Base original'!AR136/'Base original'!$AR136","v":5.277084475227241},{"$f":"+('Base original'!AR148/'Base original'!AR136*100-100)*'Base original'!AR136/'Base original'!$BC136","v":3.1068037023223787},{"$f":"+('Base original'!AS148/'Base original'!AS136*100-100)*'Base original'!AS136/'Base original'!$BC136","v":-0.14686242624954945},{"$f":"+('Base original'!AT148/'Base original'!AT136*100-100)*'Base original'!AT136/'Base original'!$BC136","v":-1.1653380976438104},{"$f":"+('Base original'!AU148/'Base original'!AU136*100-100)*'Base original'!AU136/'Base original'!$BC136","v":1.5449912350185944},{"$f":"+('Base original'!AV148/'Base original'!AV136*100-100)*'Base original'!AV136/'Base original'!$BC136","v":6.1582594830024748E-2},{"$f":"+('Base original'!AW148/'Base original'!AW136*100-100)*'Base original'!AW136/'Base original'!$BC136","v":-2.109817312570594E-2},{"$f":"+('Base original'!AX148/'Base original'!AX136*100-100)*'Base original'!AX136/'Base original'!$BC136","v":1.1627039920104807},{"$f":"+('Base original'!AY148/'Base original'!AY136*100-100)*'Base original'!AY136/'Base original'!$BC136","v":1.2968795997054898},{"$f":"+('Base original'!AZ148/'Base original'!AZ136*100-100)*'Base original'!AZ136/'Base original'!$BC136","v":5.4212867946581512E-2},{"$f":"+('Base original'!BA148/'Base original'!BA136*100-100)*'Base original'!BA136/'Base original'!$BC136","v":-9.4843887712396199E-2},{"$f":"+('Base original'!BB148/'Base original'!BB136*100-100)*'Base original'!BB136/'Base original'!$BC136","v":1.1781599923828457E-2},{"$f":"+(('Base original'!AY148-'Base original'!BA148)/('Base original'!AY136-'Base original'!BA136)*100-100)*('Base original'!AY136-'Base original'!BA136)/'Base original'!$BC136","v":1.3917234874178865},{"$f":"+(('Base original'!AZ148-'Base original'!BB148)/('Base original'!AZ136-'Base original'!BB136)*100-100)*('Base original'!AZ136-'Base original'!BB136)/'Base original'!$BC136","v":4.2431268022753169E-2},{"$f":"+('Base original'!BC148/'Base original'!BC136*100-100)*'Base original'!BC136/'Base original'!$BC136","v":5.9769375826030426}]
["2017-10-01",{"$f":"+'Base original'!B149/'Base original'!B137*100-100","v":3.230132712948361},{"$f":"+'Base original'!C149/'Base original'!C137*100-100","v":5.9046568706891094},{"$f":"+'Base original'!D149/'Base original'!D137*100-100","v":9.9504691249803727},{"$f":"+'Base original'!E149/'Base original'!E137*100-100","v":-9.1576753867270213},{"$f":"+'Base original'!F149/'Base original'!F137*100-100","v":4.5787711438196084},{"$f":"+'Base original'!G149","v":21.65},{"$f":"+'Base original'!J149/'Base original'!$H149*'Base original'!I149","v":11.582431174247359},{"$f":"+'Base original'!L149/'Base original'!$H149*'Base original'!K149","v":0.92864016681871497},{"$f":"+'Base original'!N149/'Base original'!$H149*'Base original'!M149","v":3.1172268995177892},{"$f":"+'Base original'!P149/'Base original'!$H149*'Base original'!O149","v":6.0189797992962344},{"$f":"+'Base original'!Q149","v":6.67},{"$f":"+'Base original'!T149/'Base original'!$R149*'Base original'!S149","v":0.39929607199975553},{"$f":"+'Base original'!V149/'Base original'!$R149*'Base original'!U149","v":2.1679866961402503},{"$f":"+'Base original'!X149/'Base original'!$R149*'Base original'!W149","v":4.1025475974614691},{"$f":"+'Base original'!Y149","v":2.4},{"$f":"+'Base original'!AB149/'Base original'!$Z149*'Base original'!AA149","v":1.2744765552460535},{"$f":"+'Base original'!AD149/'Base original'!$Z149*'Base original'!AC149","v":1.1260307696275662},{"$f":"+'Base original'!AE149","v":3.26},{"$f":"+('Base original'!AH149/'Base original'!AH137*100-100)*'Base original'!AH137/'Base original'!$AK137","v":0.91734703382819238},{"$f":"+('Base original'!AI149/'Base original'!AI137*100-100)*'Base original'!AI137/'Base original'!$AK137","v":6.7034046944361867},{"$f":"+('Base original'!AJ149/'Base original'!AJ137*100-100)*'Base original'!AJ137/'Base original'!$AK137","v":4.3884414997331094},{"$f":"+('Base original'!AK149/'Base original'!AK137*100-100)*'Base original'!AK137/'Base original'!$AK137","v":12.009193227997471},{"$f":"+('Base original'!AK149/'Base original'!AK137*100-100)*'Base original'!AK137/'Base original'!$AR137","v":2.788036241585591},{"$f":"+('Base original'!AL149/'Base original'!AL137*100-100)*'Base original'!AL137/'Base original'!$AR137","v":1.2611715634048757},{"$f":"+('Base original'!AM149/'Base original'!AM137*100-100)*'Base original'!AM137/'Base original'!$AR137","v":0.19088971118784209},{"$f":"+('Base original'!AN149/'Base original'!AN137*100-100)*'Base original'!AN137/'Base original'!$AR137","v":1.4243785921193528},{"$f":"+('Base original'!AO149/'Base original'!AO137*100-100)*'Base original'!AO137/'Base original'!$AR137","v":0.15954825745910484},{"$f":"+('Base original'!AP149/'Base original'!AP137*100-100)*'Base original'!AP137/'Base original'!$AR137","v":1.4878980642477369},{"$f":"+('Base original'!AQ149/'Base original'!AQ137*100-100)*'Base original'!AQ137/'Base original'!$AR137","v":2.9826524559734158E-2},{"$f":"+(('Base original'!AN149-'Base original'!AP149)/('Base original'!AN137-'Base original'!AP137)*100-100)*(('Base original'!AN137-'Base original'!AP137)/'Base original'!AR137)","v":-6.3519472128384796E-2},{"$f":"+(('Base original'!AO149-'Base original'!AQ149)/('Base original'!AO137-'Base original'!AQ137)*100-100)*(('Base original'!AO137-'Base original'!AQ137)/'Base original'!AR137)","v":0.12972173289937067},{"$f":"+('Base original'!AR149/'Base original'!AR137*100-100)*'Base original'!AR137/'Base original'!$AR137","v":4.3062997769493023},{"$f":"+('Base original'!AR149/'Base original'!AR137*100-100)*'Base original'!AR137/'Base original'!$BC137","v":2.5459151300464273},{"$f":"+('Base original'!AS149/'Base original'!AS137*100-100)*'Base original'!AS137/'Base original'!$BC137","v":-6.789771779091211E-2},{"$f":"+('Base original'!AT149/'Base original'!AT137*100-100)*'Base original'!AT137/'Base original'!$BC137","v":-0.76213596013969775},{"$f":"+('Base original'!AU149/'Base original'!AU137*100-100)*'Base original'!AU137/'Base original'!$BC137","v":1.2580050027421643},{"$f":"+('Base original'!AV149/'Base original'!AV137*100-100)*'Base original'!AV137/'Base original'!$BC137","v":4.4698200887678521E-2},{"$f":"+('Base original'!AW149/'Base original'!AW137*100-100)*'Base original'!AW137/'Base original'!$BC137","v":-2.1701382099140971E-2},{"$f":"+('Base original'!AX149/'Base original'!AX137*100-100)*'Base original'!AX137/'Base original'!$BC137","v":1.1660757715884902},{"$f":"+('Base original'!AY149/'Base original'!AY137*100-100)*'Base original'!AY137/'Base original'!$BC137","v":1.2851697203810217},{"$f":"+('Base original'!AZ149/'Base original'!AZ137*100-100)*'Base original'!AZ137/'Base original'!$BC137","v":5.3896544087091734E-2},{"$f":"+('Base original'!BA149/'Base original'!BA137*100-100)*'Base original'!BA137/'Base original'!$BC137","v":-9.3608687684379438E-2},{"$f":"+('Base original'!BB149/'Base original'!BB137*100-100)*'Base original'!BB137/'Base original'!$BC137","v":9.9653480084811001E-3},{"$f":"+(('Base original'!AY149-'Base original'!BA149)/('Base original'!AY137-'Base original'!BA137)*100-100)*('Base original'!AY137-'Base original'!BA137)/'Base original'!$BC137","v":1.3787784080654013},{"$f":"+(('Base original'!AZ149-'Base original'!BB149)/('Base original'!AZ137-'Base original'!BB137)*100-100)*('Base original'!AZ137-'Base original'!BB137)/'Base original'!$BC137","v":4.3931196078610631E-2},{"$f":"+('Base original'!BC149/'Base original'!BC137*100-100)*'Base original'!BC137/'Base original'!$BC137","v":5.5856686493790173}]
["2017-11-01",{"$f":"+'Base original'!B150/'Base original'!B138*100-100","v":3.4020111860313023},{"$f":"+'Base original'!C150/'Base original'!C138*100-100","v":5.8142155173460424},{"$f":"+'Base original'!D150/'Base original'!D138*100-100","v":10.215569072959198},{"$f":"+'Base original'!E150/'Base original'!E138*100-100","v":-10.217272832597288},{"$f":"+'Base original'!F150/'Base original'!F138*100-100","v":4.6399342373316443},{"$f":"+'Base original'!G150","v":21.15},{"$f":"+'Base original'!J150/'Base original'!$H150*'Base original'!I150","v":11.048990236851324},{"$f":"+'Base original'!L150/'Base original'!$H150*'Base original'!K150","v":0.94182574333624403},{"$f":"+'Base original'!N150/'Base original'!$H150*'Base original'!M150","v":3.3327612591945779},{"$f":"+'Base original'!P150/'Base original'!$H150*'Base original'!O150","v":5.8281701126289462},{"$f":"+'Base original'!Q150","v":6.57},{"$f":"+'Base original'!T150/'Base original'!$R150*'Base original'!S150","v":0.3753310698895217},{"$f":"+'Base original'!V150/'Base original'!$R150*'Base original'!U150","v":2.460814415671011},{"$f":"+'Base original'!X150/'Base original'!$R150*'Base original'!W150","v":3.7289651459497164},{"$f":"+'Base original'!Y150","v":2.57},{"$f":"+'Base original'!AB150/'Base original'!$Z150*'Base original'!AA150","v":1.2980689170888298},{"$f":"+'Base original'!AD150/'Base original'!$Z150*'Base original'!AC150","v":1.2676606309876108},{"$f":"+'Base original'!AE150","v":3.35},{"$f":"+('Base original'!AH150/'Base original'!AH138*100-100)*'Base original'!AH138/'Base original'!$AK138","v":0.91485502162947763},{"$f":"+('Base original'!AI150/'Base original'!AI138*100-100)*'Base original'!AI138/'Base original'!$AK138","v":4.880645622027755},{"$f":"+('Base original'!AJ150/'Base original'!AJ138*100-100)*'Base original'!AJ138/'Base original'!$AK138","v":4.2222510116508776},{"$f":"+('Base original'!AK150/'Base original'!AK138*100-100)*'Base original'!AK138/'Base original'!$AK138","v":10.017751655308118},{"$f":"+('Base original'!AK150/'Base original'!AK138*100-100)*'Base original'!AK138/'Base original'!$AR138","v":2.3782172432125668},{"$f":"+('Base original'!AL150/'Base original'!AL138*100-100)*'Base original'!AL138/'Base original'!$AR138","v":1.4694004555615112},{"$f":"+('Base original'!AM150/'Base original'!AM138*100-100)*'Base original'!AM138/'Base original'!$AR138","v":0.18567202975427052},{"$f":"+('Base original'!AN150/'Base original'!AN138*100-100)*'Base original'!AN138/'Base original'!$AR138","v":1.4131871934318778},{"$f":"+('Base original'!AO150/'Base original'!AO138*100-100)*'Base original'!AO138/'Base original'!$AR138","v":8.3153031614531789E-2},{"$f":"+('Base original'!AP150/'Base original'!AP138*100-100)*'Base original'!AP138/'Base original'!$AR138","v":1.053543150165686},{"$f":"+('Base original'!AQ150/'Base original'!AQ138*100-100)*'Base original'!AQ138/'Base original'!$AR138","v":1.1803305907873247E-2},{"$f":"+(('Base original'!AN150-'Base original'!AP150)/('Base original'!AN138-'Base original'!AP138)*100-100)*(('Base original'!AN138-'Base original'!AP138)/'Base original'!AR138)","v":0.35964404326619154},{"$f":"+(('Base original'!AO150-'Base original'!AQ150)/('Base original'!AO138-'Base original'!AQ138)*100-100)*(('Base original'!AO138-'Base original'!AQ138)/'Base original'!AR138)","v":7.1349725706658498E-2},{"$f":"+('Base original'!AR150/'Base original'!AR138*100-100)*'Base original'!AR138/'Base original'!$AR138","v":4.4642834975011851},{"$f":"+('Base original'!AR150/'Base original'!AR138*100-100)*'Base original'!AR138/'Base original'!$BC138","v":2.6452576757656279},{"$f":"+('Base original'!AS150/'Base original'!AS138*100-100)*'Base original'!AS138/'Base original'!$BC138","v":-0.42731277014155117},{"$f":"+('Base original'!AT150/'Base original'!AT138*100-100)*'Base original'!AT138/'Base original'!$BC138","v":-0.3449836514413489},{"$f":"+('Base original'!AU150/'Base original'!AU138*100-100)*'Base original'!AU138/'Base original'!$BC138","v":1.3277494179573133},{"$f":"+('Base original'!AV150/'Base original'!AV138*100-100)*'Base original'!AV138/'Base original'!$BC138","v":4.0822025885981338E-3},{"$f":"+('Base original'!AW150/'Base original'!AW138*100-100)*'Base original'!AW138/'Base original'!$BC138","v":-1.5002458255370514E-2},{"$f":"+('Base original'!AX150/'Base original'!AX138*100-100)*'Base original'!AX138/'Base original'!$BC138","v":0.94511153216832577},{"$f":"+('Base original'!AY150/'Base original'!AY138*100-100)*'Base original'!AY138/'Base original'!$BC138","v":1.2691863420548741},{"$f":"+('Base original'!AZ150/'Base original'!AZ138*100-100)*'Base original'!AZ138/'Base original'!$BC138","v":5.5746628541464539E-2},{"$f":"+('Base original'!BA150/'Base original'!BA138*100-100)*'Base original'!BA138/'Base original'!$BC138","v":5.1935123690029242E-2},{"$f":"+('Base original'!BB150/'Base original'!BB138*100-100)*'Base original'!BB138/'Base original'!$BC138","v":5.3598382597082016E-3},{"$f":"+(('Base original'!AY150-'Base original'!BA150)/('Base original'!AY138-'Base original'!BA138)*100-100)*('Base original'!AY138-'Base original'!BA138)/'Base original'!$BC138","v":1.2172512183648441},{"$f":"+(('Base original'!AZ150-'Base original'!BB150)/('Base original'!AZ138-'Base original'!BB138)*100-100)*('Base original'!AZ138-'Base original'!BB138)/'Base original'!$BC138","v":5.0386790281756313E-2},{"$f":"+('Base original'!BC150/'Base original'!BC138*100-100)*'Base original'!BC138/'Base original'!$BC138","v":5.4025399572881838}]
["2017-12-01",{"$f":"+'Base original'!B151/'Base original'!B139*100-100","v":3.3791568366994511},{"$f":"+'Base original'!C151/'Base original'!C139*100-100","v":5.6446315220618999},{"$f":"+'Base original'!D151/'Base original'!D139*100-100","v":10.105638192712689},{"$f":"+'Base original'!E151/'Base original'!E139*100-100","v":-9.1920882378427535},{"$f":"+'Base original'!F151/'Base original'!F139*100-100","v":4.7086423358442033},{"$f":"+'Base original'!G151","v":21.34},{"$f":"+'Base original'!J151/'Base original'!$H151*'Base original'!I151","v":11.654092431895254},{"$f":"+'Base original'!L151/'Base original'!$H151*'Base original'!K151","v":0.86519962707592701},{"$f":"+'Base original'!N151/'Base original'!$H151*'Base original'!M151","v":3.0803923898900694},{"$f":"+'Base original'!P151/'Base original'!$H151*'Base original'!O151","v":5.7448662493468712},{"$f":"+'Base original'!Q151","v":6.5},{"$f":"+'Base original'!T151/'Base original'!$R151*'Base original'!S151","v":0.35649388504187168},{"$f":"+'Base original'!V151/'Base original'!$R151*'Base original'!U151","v":2.2359292731450782},{"$f":"+'Base original'!X151/'Base original'!$R151*'Base original'!W151","v":3.9071078484292343},{"$f":"+'Base original'!Y151","v":2.73},{"$f":"+'Base original'!AB151/'Base original'!$Z151*'Base original'!AA151","v":1.7331948657684491},{"$f":"+'Base original'!AD151/'Base original'!$Z151*'Base original'!AC151","v":0.99963369863263274},{"$f":"+'Base original'!AE151","v":3.48},{"$f":"+('Base original'!AH151/'Base original'!AH139*100-100)*'Base original'!AH139/'Base original'!$AK139","v":1.0459807833063526},{"$f":"+('Base original'!AI151/'Base original'!AI139*100-100)*'Base original'!AI139/'Base original'!$AK139","v":5.7178930286027878},{"$f":"+('Base original'!AJ151/'Base original'!AJ139*100-100)*'Base original'!AJ139/'Base original'!$AK139","v":3.2839941767830068},{"$f":"+('Base original'!AK151/'Base original'!AK139*100-100)*'Base original'!AK139/'Base original'!$AK139","v":10.047867988692147},{"$f":"+('Base original'!AK151/'Base original'!AK139*100-100)*'Base original'!AK139/'Base original'!$AR139","v":2.4830245023281634},{"$f":"+('Base original'!AL151/'Base original'!AL139*100-100)*'Base original'!AL139/'Base original'!$AR139","v":2.1504767888265315},{"$f":"+('Base original'!AM151/'Base original'!AM139*100-100)*'Base original'!AM139/'Base original'!$AR139","v":0.1914255310043779},{"$f":"+('Base original'!AN151/'Base original'!AN139*100-100)*'Base original'!AN139/'Base original'!$AR139","v":-0.11698171896647179},{"$f":"+('Base original'!AO151/'Base original'!AO139*100-100)*'Base original'!AO139/'Base original'!$AR139","v":5.238607417416296E-2},{"$f":"+('Base original'!AP151/'Base original'!AP139*100-100)*'Base original'!AP139/'Base original'!$AR139","v":0.13954566097426269},{"$f":"+('Base original'!AQ151/'Base original'!AQ139*100-100)*'Base original'!AQ139/'Base original'!$AR139","v":-1.8362121563066307E-3},{"$f":"+(('Base original'!AN151-'Base original'!AP151)/('Base original'!AN139-'Base original'!AP139)*100-100)*(('Base original'!AN139-'Base original'!AP139)/'Base original'!AR139)","v":-0.25652737994073427},{"$f":"+(('Base original'!AO151-'Base original'!AQ151)/('Base original'!AO139-'Base original'!AQ139)*100-100)*(('Base original'!AO139-'Base original'!AQ139)/'Base original'!AR139)","v":5.4222286330469618E-2},{"$f":"+('Base original'!AR151/'Base original'!AR139*100-100)*'Base original'!AR139/'Base original'!$AR139","v":4.6226217285488076},{"$f":"+('Base original'!AR151/'Base original'!AR139*100-100)*'Base original'!AR139/'Base original'!$BC139","v":2.7625950478783161},{"$f":"+('Base original'!AS151/'Base original'!AS139*100-100)*'Base original'!AS139/'Base original'!$BC139","v":-0.14133511711990682},{"$f":"+('Base original'!AT151/'Base original'!AT139*100-100)*'Base original'!AT139/'Base original'!$BC139","v":-0.42063012102670116},{"$f":"+('Base original'!AU151/'Base original'!AU139*100-100)*'Base original'!AU139/'Base original'!$BC139","v":0.75176099656192041},{"$f":"+('Base original'!AV151/'Base original'!AV139*100-100)*'Base original'!AV139/'Base original'!$BC139","v":-7.0939580404231081E-2},{"$f":"+('Base original'!AW151/'Base original'!AW139*100-100)*'Base original'!AW139/'Base original'!$BC139","v":-2.1214629007353287E-2},{"$f":"+('Base original'!AX151/'Base original'!AX139*100-100)*'Base original'!AX139/'Base original'!$BC139","v":0.66762172192721714},{"$f":"+('Base original'!AY151/'Base original'!AY139*100-100)*'Base original'!AY139/'Base original'!$BC139","v":1.1319358966827699},{"$f":"+('Base original'!AZ151/'Base original'!AZ139*100-100)*'Base original'!AZ139/'Base original'!$BC139","v":5.7944346898200806E-2},{"$f":"+('Base original'!BA151/'Base original'!BA139*100-100)*'Base original'!BA139/'Base original'!$BC139","v":-5.2751898318489122E-2},{"$f":"+('Base original'!BB151/'Base original'!BB139*100-100)*'Base original'!BB139/'Base original'!$BC139","v":2.8459314696463517E-3},{"$f":"+(('Base original'!AY151-'Base original'!BA151)/('Base original'!AY139-'Base original'!BA139)*100-100)*('Base original'!AY139-'Base original'!BA139)/'Base original'!$BC139","v":1.1846877950012589},{"$f":"+(('Base original'!AZ151-'Base original'!BB151)/('Base original'!AZ139-'Base original'!BB139)*100-100)*('Base original'!AZ139-'Base original'!BB139)/'Base original'!$BC139","v":5.5098415428554467E-2},{"$f":"+('Base original'!BC151/'Base original'!BC139*100-100)*'Base original'!BC139/'Base original'!$BC139","v":4.7676445292390781}]
["2018-01-01",{"$f":"+'Base original'!B152/'Base original'!B140*100-100","v":3.398307221926018},{"$f":"+'Base original'!C152/'Base original'!C140*100-100","v":5.9456673451268216},{"$f":"+'Base original'!D152/'Base original'!D140*100-100","v":10.332246832338598},{"$f":"+'Base original'!E152/'Base original'!E140*100-100","v":-9.2646290112351295},{"$f":"+'Base original'!F152/'Base original'!F140*100-100","v":4.8307655045326356},{"$f":"+'Base original'!G152","v":21.67},{"$f":"+'Base original'!J152/'Base original'!$H152*'Base original'!I152","v":11.538682009760993},{"$f":"+'Base original'!L152/'Base original'!$H152*'Base original'!K152","v":0.97282428674584043},{"$f":"+'Base original'!N152/'Base original'!$H152*'Base original'!M152","v":3.2486931227498763},{"$f":"+'Base original'!P152/'Base original'!$H152*'Base original'!O152","v":5.9146016992118486},{"$f":"+'Base original'!Q152","v":6.38},{"$f":"+'Base original'!T152/'Base original'!$R152*'Base original'!S152","v":0.34733457748092855},{"$f":"+'Base original'!V152/'Base original'!$R152*'Base original'!U152","v":2.4392002095406475},{"$f":"+'Base original'!X152/'Base original'!$R152*'Base original'!W152","v":3.5889877222276794},{"$f":"+'Base original'!Y152","v":2.87},{"$f":"+'Base original'!AB152/'Base original'!$Z152*'Base original'!AA152","v":1.5300205748791684},{"$f":"+'Base original'!AD152/'Base original'!$Z152*'Base original'!AC152","v":1.3381335297483534},{"$f":"+'Base original'!AE152","v":3.52},{"$f":"+('Base original'!AH152/'Base original'!AH140*100-100)*'Base original'!AH140/'Base original'!$AK140","v":0.98242256283061447},{"$f":"+('Base original'!AI152/'Base original'!AI140*100-100)*'Base original'!AI140/'Base original'!$AK140","v":5.5830650906552224},{"$f":"+('Base original'!AJ152/'Base original'!AJ140*100-100)*'Base original'!AJ140/'Base original'!$AK140","v":3.5828226625974673},{"$f":"+('Base original'!AK152/'Base original'!AK140*100-100)*'Base original'!AK140/'Base original'!$AK140","v":10.148310316083323},{"$f":"+('Base original'!AK152/'Base original'!AK140*100-100)*'Base original'!AK140/'Base original'!$AR140","v":2.5567753039918597},{"$f":"+('Base original'!AL152/'Base original'!AL140*100-100)*'Base original'!AL140/'Base original'!$AR140","v":3.8463033853785498},{"$f":"+('Base original'!AM152/'Base original'!AM140*100-100)*'Base original'!AM140/'Base original'!$AR140","v":0.21416517312611144},{"$f":"+('Base original'!AN152/'Base original'!AN140*100-100)*'Base original'!AN140/'Base original'!$AR140","v":0.75304544977988697},{"$f":"+('Base original'!AO152/'Base original'!AO140*100-100)*'Base original'!AO140/'Base original'!$AR140","v":5.4813307686067958E-2},{"$f":"+('Base original'!AP152/'Base original'!AP140*100-100)*'Base original'!AP140/'Base original'!$AR140","v":0.56673202464399441},{"$f":"+('Base original'!AQ152/'Base original'!AQ140*100-100)*'Base original'!AQ140/'Base original'!$AR140","v":1.9460228388930995E-2},{"$f":"+(('Base original'!AN152-'Base original'!AP152)/('Base original'!AN140-'Base original'!AP140)*100-100)*(('Base original'!AN140-'Base original'!AP140)/'Base original'!AR140)","v":0.18631342513589338},{"$f":"+(('Base original'!AO152-'Base original'!AQ152)/('Base original'!AO140-'Base original'!AQ140)*100-100)*(('Base original'!AO140-'Base original'!AQ140)/'Base original'!AR140)","v":3.535307929713688E-2},{"$f":"+('Base original'!AR152/'Base original'!AR140*100-100)*'Base original'!AR140/'Base original'!$AR140","v":6.8389103669295395},{"$f":"+('Base original'!AR152/'Base original'!AR140*100-100)*'Base original'!AR140/'Base original'!$BC140","v":4.0146530565020591},{"$f":"+('Base original'!AS152/'Base original'!AS140*100-100)*'Base original'!AS140/'Base original'!$BC140","v":-1.1193176697869081},{"$f":"+('Base original'!AT152/'Base original'!AT140*100-100)*'Base original'!AT140/'Base original'!$BC140","v":-0.83298982912725217},{"$f":"+('Base original'!AU152/'Base original'!AU140*100-100)*'Base original'!AU140/'Base original'!$BC140","v":0.44917392190212785},{"$f":"+('Base original'!AV152/'Base original'!AV140*100-100)*'Base original'!AV140/'Base original'!$BC140","v":9.4289867948500361E-2},{"$f":"+('Base original'!AW152/'Base original'!AW140*100-100)*'Base original'!AW140/'Base original'!$BC140","v":-1.6963184754143039E-2},{"$f":"+('Base original'!AX152/'Base original'!AX140*100-100)*'Base original'!AX140/'Base original'!$BC140","v":0.53629499533447489},{"$f":"+('Base original'!AY152/'Base original'!AY140*100-100)*'Base original'!AY140/'Base original'!$BC140","v":1.1837142719946485},{"$f":"+('Base original'!AZ152/'Base original'!AZ140*100-100)*'Base original'!AZ140/'Base original'!$BC140","v":6.2600547522507197E-2},{"$f":"+('Base original'!BA152/'Base original'!BA140*100-100)*'Base original'!BA140/'Base original'!$BC140","v":-3.7953680038085823E-2},{"$f":"+('Base original'!BB152/'Base original'!BB140*100-100)*'Base original'!BB140/'Base original'!$BC140","v":3.6538310821264369E-3},{"$f":"+(('Base original'!AY152-'Base original'!BA152)/('Base original'!AY140-'Base original'!BA140)*100-100)*('Base original'!AY140-'Base original'!BA140)/'Base original'!$BC140","v":1.2216679520327347},{"$f":"+(('Base original'!AZ152-'Base original'!BB152)/('Base original'!AZ140-'Base original'!BB140)*100-100)*('Base original'!AZ140-'Base original'!BB140)/'Base original'!$BC140","v":5.8946716440380881E-2},{"$f":"+('Base original'!BC152/'Base original'!BC140*100-100)*'Base original'!BC140/'Base original'!$BC140","v":4.4057558264919834}]
["2018-02-01",{"$f":"+'Base original'!B153/'Base original'!B141*100-100","v":3.335797254721399},{"$f":"+'Base original'!C153/'Base original'!C141*100-100","v":5.8250212927093798},{"$f":"+'Base original'!D153/'Base original'!D141*100-100","v":10.276790223352819},{"$f":"+'Base original'!E153/'Base original'!E141*100-100","v":-11.771938101696634},{"$f":"+'Base original'!F153/'Base original'!F141*100-100","v":4.6165561107607971},{"$f":"+'Base original'!G153","v":22.45},{"$f":"+'Base original'!J153/'Base original'!$H153*'Base original'!I153","v":12.761383804938449},{"$f":"+'Base original'!L153/'Base original'!$H153*'Base original'!K153","v":0.92628781639184754},{"$f":"+'Base original'!N153/'Base original'!$H153*'Base original'!M153","v":3.038211898931495},{"$f":"+'Base original'!P153/'Base original'!$H153*'Base original'!O153","v":5.7197375447052901},{"$f":"+'Base original'!Q153","v":6.94},{"$f":"+'Base original'!T153/'Base original'!$R153*'Base original'!S153","v":0.46373765539343365},{"$f":"+'Base original'!V153/'Base original'!$R153*'Base original'!U153","v":1.8088763428663319},{"$f":"+'Base original'!X153/'Base original'!$R153*'Base original'!W153","v":4.6720910665108315},{"$f":"+'Base original'!Y153","v":2.93},{"$f":"+'Base original'!AB153/'Base original'!$Z153*'Base original'!AA153","v":1.551367391167787},{"$f":"+'Base original'!AD153/'Base original'!$Z153*'Base original'!AC153","v":1.3799042025252839},{"$f":"+'Base original'!AE153","v":3.54},{"$f":"+('Base original'!AH153/'Base original'!AH141*100-100)*'Base original'!AH141/'Base original'!$AK141","v":0.97071088086924084},{"$f":"+('Base original'!AI153/'Base original'!AI141*100-100)*'Base original'!AI141/'Base original'!$AK141","v":6.9151133796740085},{"$f":"+('Base original'!AJ153/'Base original'!AJ141*100-100)*'Base original'!AJ141/'Base original'!$AK141","v":3.1260612846062856},{"$f":"+('Base original'!AK153/'Base original'!AK141*100-100)*'Base original'!AK141/'Base original'!$AK141","v":11.011885545149539},{"$f":"+('Base original'!AK153/'Base original'!AK141*100-100)*'Base original'!AK141/'Base original'!$AR141","v":2.7593044938774045},{"$f":"+('Base original'!AL153/'Base original'!AL141*100-100)*'Base original'!AL141/'Base original'!$AR141","v":4.3368053346034134},{"$f":"+('Base original'!AM153/'Base original'!AM141*100-100)*'Base original'!AM141/'Base original'!$AR141","v":0.23209930325270964},{"$f":"+('Base original'!AN153/'Base original'!AN141*100-100)*'Base original'!AN141/'Base original'!$AR141","v":0.97325606257638786},{"$f":"+('Base original'!AO153/'Base original'!AO141*100-100)*'Base original'!AO141/'Base original'!$AR141","v":4.7250811973807857E-2},{"$f":"+('Base original'!AP153/'Base original'!AP141*100-100)*'Base original'!AP141/'Base original'!$AR141","v":1.0286170168050459},{"$f":"+('Base original'!AQ153/'Base original'!AQ141*100-100)*'Base original'!AQ141/'Base original'!$AR141","v":2.660254401318795E-2},{"$f":"+(('Base original'!AN153-'Base original'!AP153)/('Base original'!AN141-'Base original'!AP141)*100-100)*(('Base original'!AN141-'Base original'!AP141)/'Base original'!AR141)","v":-5.5360954228658527E-2},{"$f":"+(('Base original'!AO153-'Base original'!AQ153)/('Base original'!AO141-'Base original'!AQ141)*100-100)*(('Base original'!AO141-'Base original'!AQ141)/'Base original'!AR141)","v":2.0648267960619974E-2},{"$f":"+('Base original'!AR153/'Base original'!AR141*100-100)*'Base original'!AR141/'Base original'!$AR141","v":7.2934964454655065},{"$f":"+('Base original'!AR153/'Base original'!AR141*100-100)*'Base original'!AR141/'Base original'!$BC141","v":4.2211213168687145},{"$f":"+('Base original'!AS153/'Base original'!AS141*100-100)*'Base original'!AS141/'Base original'!$BC141","v":-1.0705152327766969},{"$f":"+('Base original'!AT153/'Base original'!AT141*100-100)*'Base original'!AT141/'Base original'!$BC141","v":-0.99785731693997859},{"$f":"+('Base original'!AU153/'Base original'!AU141*100-100)*'Base original'!AU141/'Base original'!$BC141","v":0.28507412859716563},{"$f":"+('Base original'!AV153/'Base original'!AV141*100-100)*'Base original'!AV141/'Base original'!$BC141","v":7.1003333805306129E-2},{"$f":"+('Base original'!AW153/'Base original'!AW141*100-100)*'Base original'!AW141/'Base original'!$BC141","v":2.5344887761613575E-3},{"$f":"+('Base original'!AX153/'Base original'!AX141*100-100)*'Base original'!AX141/'Base original'!$BC141","v":0.31966971450642639},{"$f":"+('Base original'!AY153/'Base original'!AY141*100-100)*'Base original'!AY141/'Base original'!$BC141","v":0.73689578387212362},{"$f":"+('Base original'!AZ153/'Base original'!AZ141*100-100)*'Base original'!AZ141/'Base original'!$BC141","v":6.5016724443358404E-2},{"$f":"+('Base original'!BA153/'Base original'!BA141*100-100)*'Base original'!BA141/'Base original'!$BC141","v":-0.29095812371852159},{"$f":"+('Base original'!BB153/'Base original'!BB141*100-100)*'Base original'!BB141/'Base original'!$BC141","v":2.1405004172873818E-3},{"$f":"+(('Base original'!AY153-'Base original'!BA153)/('Base original'!AY141-'Base original'!BA141)*100-100)*('Base original'!AY141-'Base original'!BA141)/'Base original'!$BC141","v":1.0278539075906441},{"$f":"+(('Base original'!AZ153-'Base original'!BB153)/('Base original'!AZ141-'Base original'!BB141)*100-100)*('Base original'!AZ141-'Base original'!BB141)/'Base original'!$BC141","v":6.287622402607089E-2},{"$f":"+('Base original'!BC153/'Base original'!BC141*100-100)*'Base original'!BC141/'Base original'!$BC141","v":3.9217605644538338}]
["2018-03-01",{"$f":"+'Base original'!B154/'Base original'!B142*100-100","v":5.0264011829913073},{"$f":"+'Base original'!C154/'Base original'!C142*100-100","v":5.728573712140971},{"$f":"+'Base original'!D154/'Base original'!D142*100-100","v":9.7461126185270217},{"$f":"+'Base original'!E154/'Base original'!E142*100-100","v":-12.896404791443473},{"$f":"+'Base original'!F154/'Base original'!F142*100-100","v":5.300459350475478},{"$f":"+'Base original'!G154","v":20.91},{"$f":"+'Base original'!J154/'Base original'!$H154*'Base original'!I154","v":11.249018130925595},{"$f":"+'Base original'!L154/'Base original'!$H154*'Base original'!K154","v":0.90652173913043499},{"$f":"+'Base original'!N154/'Base original'!$H154*'Base original'!M154","v":3.4474647805190957},{"$f":"+'Base original'!P154/'Base original'!$H154*'Base original'!O154","v":5.3060976474990404},{"$f":"+'Base original'!Q154","v":6.19},{"$f":"+'Base original'!T154/'Base original'!$R154*'Base original'!S154","v":0.34925531621421463},{"$f":"+'Base original'!V154/'Base original'!$R154*'Base original'!U154","v":2.3243702347176747},{"$f":"+'Base original'!X154/'Base original'!$R154*'Base original'!W154","v":3.5124675170345903},{"$f":"+'Base original'!Y154","v":3.02},{"$f":"+'Base original'!AB154/'Base original'!$Z154*'Base original'!AA154","v":1.7435355508576629},{"$f":"+'Base original'!AD154/'Base original'!$Z154*'Base original'!AC154","v":1.275538280392839},{"$f":"+'Base original'!AE154","v":3.5},{"$f":"+('Base original'!AH154/'Base original'!AH142*100-100)*'Base original'!AH142/'Base original'!$AK142","v":1.0185588794180427},{"$f":"+('Base original'!AI154/'Base original'!AI142*100-100)*'Base original'!AI142/'Base original'!$AK142","v":7.5021930348235681},{"$f":"+('Base original'!AJ154/'Base original'!AJ142*100-100)*'Base original'!AJ142/'Base original'!$AK142","v":3.4786565656756849},{"$f":"+('Base original'!AK154/'Base original'!AK142*100-100)*'Base original'!AK142/'Base original'!$AK142","v":11.999408479917292},{"$f":"+('Base original'!AK154/'Base original'!AK142*100-100)*'Base original'!AK142/'Base original'!$AR142","v":2.9625424988141513},{"$f":"+('Base original'!AL154/'Base original'!AL142*100-100)*'Base original'!AL142/'Base original'!$AR142","v":3.918234133931485},{"$f":"+('Base original'!AM154/'Base original'!AM142*100-100)*'Base original'!AM142/'Base original'!$AR142","v":0.22188310647973017},{"$f":"+('Base original'!AN154/'Base original'!AN142*100-100)*'Base original'!AN142/'Base original'!$AR142","v":1.0307409805360457},{"$f":"+('Base original'!AO154/'Base original'!AO142*100-100)*'Base original'!AO142/'Base original'!$AR142","v":3.5210990463136631E-2},{"$f":"+('Base original'!AP154/'Base original'!AP142*100-100)*'Base original'!AP142/'Base original'!$AR142","v":0.73202363767935341},{"$f":"+('Base original'!AQ154/'Base original'!AQ142*100-100)*'Base original'!AQ142/'Base original'!$AR142","v":3.1016232987327221E-2},{"$f":"+(('Base original'!AN154-'Base original'!AP154)/('Base original'!AN142-'Base original'!AP142)*100-100)*(('Base original'!AN142-'Base original'!AP142)/'Base original'!AR142)","v":0.29871734285669072},{"$f":"+(('Base original'!AO154-'Base original'!AQ154)/('Base original'!AO142-'Base original'!AQ142)*100-100)*(('Base original'!AO142-'Base original'!AQ142)/'Base original'!AR142)","v":4.1947574758093211E-3},{"$f":"+('Base original'!AR154/'Base original'!AR142*100-100)*'Base original'!AR142/'Base original'!$AR142","v":7.4055718395578509},{"$f":"+('Base original'!AR154/'Base original'!AR142*100-100)*'Base original'!AR142/'Base original'!$BC142","v":4.3191128985787586},{"$f":"+('Base original'!AS154/'Base original'!AS142*100-100)*'Base original'!AS142/'Base original'!$BC142","v":-1.0030708871367158},{"$f":"+('Base original'!AT154/'Base original'!AT142*100-100)*'Base original'!AT142/'Base original'!$BC142","v":-1.5084870481418631},{"$f":"+('Base original'!AU154/'Base original'!AU142*100-100)*'Base original'!AU142/'Base original'!$BC142","v":0.28565052993437212},{"$f":"+('Base original'!AV154/'Base original'!AV142*100-100)*'Base original'!AV142/'Base original'!$BC142","v":0.18058207963276635},{"$f":"+('Base original'!AW154/'Base original'!AW142*100-100)*'Base original'!AW142/'Base original'!$BC142","v":1.523065325317997E-2},{"$f":"+('Base original'!AX154/'Base original'!AX142*100-100)*'Base original'!AX142/'Base original'!$BC142","v":0.35320489908835057},{"$f":"+('Base original'!AY154/'Base original'!AY142*100-100)*'Base original'!AY142/'Base original'!$BC142","v":0.69661742267911675},{"$f":"+('Base original'!AZ154/'Base original'!AZ142*100-100)*'Base original'!AZ142/'Base original'!$BC142","v":4.3530041276464829E-2},{"$f":"+('Base original'!BA154/'Base original'!BA142*100-100)*'Base original'!BA142/'Base original'!$BC142","v":-0.58867115513513968},{"$f":"+('Base original'!BB154/'Base original'!BB142*100-100)*'Base original'!BB142/'Base original'!$BC142","v":6.9156331821170697E-3},{"$f":"+(('Base original'!AY154-'Base original'!BA154)/('Base original'!AY142-'Base original'!BA142)*100-100)*('Base original'!AY142-'Base original'!BA142)/'Base original'!$BC142","v":1.2852885778142553},{"$f":"+(('Base original'!AZ154-'Base original'!BB154)/('Base original'!AZ142-'Base original'!BB142)*100-100)*('Base original'!AZ142-'Base original'!BB142)/'Base original'!$BC142","v":3.6614408094347649E-2},{"$f":"+('Base original'!BC154/'Base original'!BC142*100-100)*'Base original'!BC142/'Base original'!$BC142","v":3.9641261111174657}]
["2018-04-01",{"$f":"+'Base original'!B155/'Base original'!B143*100-100","v":4.3869941881677192},{"$f":"+'Base original'!C155/'Base original'!C143*100-100","v":5.9726325514644998},{"$f":"+'Base original'!D155/'Base original'!D143*100-100","v":9.5325769322150506},{"$f":"+'Base original'!E155/'Base original'!E143*100-100","v":-12.201324382502349},{"$f":"+'Base original'!F155/'Base original'!F143*100-100","v":4.9454039320786052},{"$f":"+'Base original'!G155","v":21.2},{"$f":"+'Base original'!J155/'Base original'!$H155*'Base original'!I155","v":11.30545947403103},{"$f":"+'Base original'!L155/'Base original'!$H155*'Base original'!K155","v":1.0358437668483795},{"$f":"+'Base original'!N155/'Base original'!$H155*'Base original'!M155","v":3.2908949859222423},{"$f":"+'Base original'!P155/'Base original'!$H155*'Base original'!O155","v":5.5691359651750227},{"$f":"+'Base original'!Q155","v":6.27},{"$f":"+'Base original'!T155/'Base original'!$R155*'Base original'!S155","v":0.39087211621684037},{"$f":"+'Base original'!V155/'Base original'!$R155*'Base original'!U155","v":2.3870596551474752},{"$f":"+'Base original'!X155/'Base original'!$R155*'Base original'!W155","v":3.4966563629280039},{"$f":"+'Base original'!Y155","v":3.15},{"$f":"+'Base original'!AB155/'Base original'!$Z155*'Base original'!AA155","v":1.7532478623048491},{"$f":"+'Base original'!AD155/'Base original'!$Z155*'Base original'!AC155","v":1.3976441771942405},{"$f":"+'Base original'!AE155","v":3.45},{"$f":"+('Base original'!AH155/'Base original'!AH143*100-100)*'Base original'!AH143/'Base original'!$AK143","v":0.82957843594359282},{"$f":"+('Base original'!AI155/'Base original'!AI143*100-100)*'Base original'!AI143/'Base original'!$AK143","v":6.5674496520024617},{"$f":"+('Base original'!AJ155/'Base original'!AJ143*100-100)*'Base original'!AJ143/'Base original'!$AK143","v":2.5550893763668809},{"$f":"+('Base original'!AK155/'Base original'!AK143*100-100)*'Base original'!AK143/'Base original'!$AK143","v":9.9521174643129218},{"$f":"+('Base original'!AK155/'Base original'!AK143*100-100)*'Base original'!AK143/'Base original'!$AR143","v":2.5223455050010761},{"$f":"+('Base original'!AL155/'Base original'!AL143*100-100)*'Base original'!AL143/'Base original'!$AR143","v":6.5804825891056833},{"$f":"+('Base original'!AM155/'Base original'!AM143*100-100)*'Base original'!AM143/'Base original'!$AR143","v":0.22283196780373621},{"$f":"+('Base original'!AN155/'Base original'!AN143*100-100)*'Base original'!AN143/'Base original'!$AR143","v":1.1991030283926045},{"$f":"+('Base original'!AO155/'Base original'!AO143*100-100)*'Base original'!AO143/'Base original'!$AR143","v":6.0820855301809106E-3},{"$f":"+('Base original'!AP155/'Base original'!AP143*100-100)*'Base original'!AP143/'Base original'!$AR143","v":0.90898505799272356},{"$f":"+('Base original'!AQ155/'Base original'!AQ143*100-100)*'Base original'!AQ143/'Base original'!$AR143","v":3.3883662149232524E-2},{"$f":"+(('Base original'!AN155-'Base original'!AP155)/('Base original'!AN143-'Base original'!AP143)*100-100)*(('Base original'!AN143-'Base original'!AP143)/'Base original'!AR143)","v":0.2901179703998798},{"$f":"+(('Base original'!AO155-'Base original'!AQ155)/('Base original'!AO143-'Base original'!AQ143)*100-100)*(('Base original'!AO143-'Base original'!AQ143)/'Base original'!AR143)","v":-2.7801576619051461E-2},{"$f":"+('Base original'!AR155/'Base original'!AR143*100-100)*'Base original'!AR143/'Base original'!$AR143","v":9.5879764556913187},{"$f":"+('Base original'!AR155/'Base original'!AR143*100-100)*'Base original'!AR143/'Base original'!$BC143","v":5.5487587277785764},{"$f":"+('Base original'!AS155/'Base original'!AS143*100-100)*'Base original'!AS143/'Base original'!$BC143","v":-0.93883168685139606},{"$f":"+('Base original'!AT155/'Base original'!AT143*100-100)*'Base original'!AT143/'Base original'!$BC143","v":-1.5433670219574001},{"$f":"+('Base original'!AU155/'Base original'!AU143*100-100)*'Base original'!AU143/'Base original'!$BC143","v":0.38830055025801452},{"$f":"+('Base original'!AV155/'Base original'!AV143*100-100)*'Base original'!AV143/'Base original'!$BC143","v":-2.3134814475564574E-2},{"$f":"+('Base original'!AW155/'Base original'!AW143*100-100)*'Base original'!AW143/'Base original'!$BC143","v":3.4452790906528689E-2},{"$f":"+('Base original'!AX155/'Base original'!AX143*100-100)*'Base original'!AX143/'Base original'!$BC143","v":0.46103222981173242},{"$f":"+('Base original'!AY155/'Base original'!AY143*100-100)*'Base original'!AY143/'Base original'!$BC143","v":0.49418451179583195},{"$f":"+('Base original'!AZ155/'Base original'!AZ143*100-100)*'Base original'!AZ143/'Base original'!$BC143","v":3.4423159325519495E-2},{"$f":"+('Base original'!BA155/'Base original'!BA143*100-100)*'Base original'!BA143/'Base original'!$BC143","v":-1.0895825833633865},{"$f":"+('Base original'!BB155/'Base original'!BB143*100-100)*'Base original'!BB143/'Base original'!$BC143","v":3.7181085724837595E-3},{"$f":"+(('Base original'!AY155-'Base original'!BA155)/('Base original'!AY143-'Base original'!BA143)*100-100)*('Base original'!AY143-'Base original'!BA143)/'Base original'!$BC143","v":1.5837670951592189},{"$f":"+(('Base original'!AZ155-'Base original'!BB155)/('Base original'!AZ143-'Base original'!BB143)*100-100)*('Base original'!AZ143-'Base original'!BB143)/'Base original'!$BC143","v":3.0705050753035815E-2},{"$f":"+('Base original'!BC155/'Base original'!BC143*100-100)*'Base original'!BC143/'Base original'!$BC143","v":5.5416829213827725}]
["2018-05-01",{"$f":"+'Base original'!B156/'Base original'!B144*100-100","v":7.0719508551358956},{"$f":"+'Base original'!C156/'Base original'!C144*100-100","v":6.5110112265640083},{"$f":"+'Base original'!D156/'Base original'!D144*100-100","v":9.2424239040149132},{"$f":"+'Base original'!E156/'Base original'!E144*100-100","v":-3.2187664493391992},{"$f":"+'Base original'!F156/'Base original'!F144*100-100","v":6.9689391033528807},{"$f":"+'Base original'!G156","v":20.98},{"$f":"+'Base original'!J156/'Base original'!$H156*'Base original'!I156","v":11.350877961767678},{"$f":"+'Base original'!L156/'Base original'!$H156*'Base original'!K156","v":1.0005555440991483},{"$f":"+'Base original'!N156/'Base original'!$H156*'Base original'!M156","v":3.1812513661765611},{"$f":"+'Base original'!P156/'Base original'!$H156*'Base original'!O156","v":5.4471341224506631},{"$f":"+'Base original'!Q156","v":6.14},{"$f":"+'Base original'!T156/'Base original'!$R156*'Base original'!S156","v":0.27179259707793635},{"$f":"+'Base original'!V156/'Base original'!$R156*'Base original'!U156","v":1.8893109234032333},{"$f":"+'Base original'!X156/'Base original'!$R156*'Base original'!W156","v":3.9753529783872832},{"$f":"+'Base original'!Y156","v":3.22},{"$f":"+'Base original'!AB156/'Base original'!$Z156*'Base original'!AA156","v":1.9011454780786456},{"$f":"+'Base original'!AD156/'Base original'!$Z156*'Base original'!AC156","v":1.3207537905247153},{"$f":"+'Base original'!AE156","v":3.41},{"$f":"+('Base original'!AH156/'Base original'!AH144*100-100)*'Base original'!AH144/'Base original'!$AK144","v":0.83090333023078267},{"$f":"+('Base original'!AI156/'Base original'!AI144*100-100)*'Base original'!AI144/'Base original'!$AK144","v":7.2104606646606566},{"$f":"+('Base original'!AJ156/'Base original'!AJ144*100-100)*'Base original'!AJ144/'Base original'!$AK144","v":2.8345354125870235},{"$f":"+('Base original'!AK156/'Base original'!AK144*100-100)*'Base original'!AK144/'Base original'!$AK144","v":10.875899407478457},{"$f":"+('Base original'!AK156/'Base original'!AK144*100-100)*'Base original'!AK144/'Base original'!$AR144","v":2.7590996524769866},{"$f":"+('Base original'!AL156/'Base original'!AL144*100-100)*'Base original'!AL144/'Base original'!$AR144","v":6.7123646909061714},{"$f":"+('Base original'!AM156/'Base original'!AM144*100-100)*'Base original'!AM144/'Base original'!$AR144","v":0.21392784291418956},{"$f":"+('Base original'!AN156/'Base original'!AN144*100-100)*'Base original'!AN144/'Base original'!$AR144","v":0.95242339231329098},{"$f":"+('Base original'!AO156/'Base original'!AO144*100-100)*'Base original'!AO144/'Base original'!$AR144","v":-6.9774417664536471E-3},{"$f":"+('Base original'!AP156/'Base original'!AP144*100-100)*'Base original'!AP144/'Base original'!$AR144","v":0.78562605066980107},{"$f":"+('Base original'!AQ156/'Base original'!AQ144*100-100)*'Base original'!AQ144/'Base original'!$AR144","v":1.2216941984153842E-2},{"$f":"+(('Base original'!AN156-'Base original'!AP156)/('Base original'!AN144-'Base original'!AP144)*100-100)*(('Base original'!AN144-'Base original'!AP144)/'Base original'!AR144)","v":0.16679734164349169},{"$f":"+(('Base original'!AO156-'Base original'!AQ156)/('Base original'!AO144-'Base original'!AQ144)*100-100)*(('Base original'!AO144-'Base original'!AQ144)/'Base original'!AR144)","v":-1.9194383750607426E-2},{"$f":"+('Base original'!AR156/'Base original'!AR144*100-100)*'Base original'!AR144/'Base original'!$AR144","v":9.832995144190221},{"$f":"+('Base original'!AR156/'Base original'!AR144*100-100)*'Base original'!AR144/'Base original'!$BC144","v":5.7284764965305719},{"$f":"+('Base original'!AS156/'Base original'!AS144*100-100)*'Base original'!AS144/'Base original'!$BC144","v":-0.5831755313494843},{"$f":"+('Base original'!AT156/'Base original'!AT144*100-100)*'Base original'!AT144/'Base original'!$BC144","v":-1.6327908468823948},{"$f":"+('Base original'!AU156/'Base original'!AU144*100-100)*'Base original'!AU144/'Base original'!$BC144","v":0.56363325961435828},{"$f":"+('Base original'!AV156/'Base original'!AV144*100-100)*'Base original'!AV144/'Base original'!$BC144","v":-1.4576598090057817E-2},{"$f":"+('Base original'!AW156/'Base original'!AW144*100-100)*'Base original'!AW144/'Base original'!$BC144","v":3.3058084832074452E-2},{"$f":"+('Base original'!AX156/'Base original'!AX144*100-100)*'Base original'!AX144/'Base original'!$BC144","v":0.51067195377611918},{"$f":"+('Base original'!AY156/'Base original'!AY144*100-100)*'Base original'!AY144/'Base original'!$BC144","v":0.39508343428262421},{"$f":"+('Base original'!AZ156/'Base original'!AZ144*100-100)*'Base original'!AZ144/'Base original'!$BC144","v":2.6265848880193114E-2},{"$f":"+('Base original'!BA156/'Base original'!BA144*100-100)*'Base original'!BA144/'Base original'!$BC144","v":-1.1151628058445087},{"$f":"+('Base original'!BB156/'Base original'!BB144*100-100)*'Base original'!BB144/'Base original'!$BC144","v":-1.7049263726066105E-4},{"$f":"+(('Base original'!AY156-'Base original'!BA156)/('Base original'!AY144-'Base original'!BA144)*100-100)*('Base original'!AY144-'Base original'!BA144)/'Base original'!$BC144","v":1.5102462401271337},{"$f":"+(('Base original'!AZ156-'Base original'!BB156)/('Base original'!AZ144-'Base original'!BB144)*100-100)*('Base original'!AZ144-'Base original'!BB144)/'Base original'!$BC144","v":2.6436341517453707E-2},{"$f":"+('Base original'!BC156/'Base original'!BC144*100-100)*'Base original'!BC144/'Base original'!$BC144","v":6.141979400075769}]
["2018-06-01",{"$f":"+'Base original'!B157/'Base original'!B145*100-100","v":7.7231942924917973},{"$f":"+'Base original'!C157/'Base original'!C145*100-100","v":6.7085819130626305},{"$f":"+'Base original'!D157/'Base original'!D145*100-100","v":9.1845780327635111},{"$f":"+'Base original'!E157/'Base original'!E145*100-100","v":4.5714551862545534},{"$f":"+'Base original'!F157/'Base original'!F145*100-100","v":7.825833289258938},{"$f":"+'Base original'!G157","v":21.29},{"$f":"+'Base original'!J157/'Base original'!$H157*'Base original'!I157","v":11.822239593511824},{"$f":"+'Base original'!L157/'Base original'!$H157*'Base original'!K157","v":0.90996075614406657},{"$f":"+'Base original'!N157/'Base original'!$H157*'Base original'!M157","v":3.1756540202504637},{"$f":"+'Base original'!P157/'Base original'!$H157*'Base original'!O157","v":5.379818200064439},{"$f":"+'Base original'!Q157","v":6.05},{"$f":"+'Base original'!T157/'Base original'!$R157*'Base original'!S157","v":0.33769641204446593},{"$f":"+'Base original'!V157/'Base original'!$R157*'Base original'!U157","v":2.1058603411756667},{"$f":"+'Base original'!X157/'Base original'!$R157*'Base original'!W157","v":3.6085310480623303},{"$f":"+'Base original'!Y157","v":3.38},{"$f":"+'Base original'!AB157/'Base original'!$Z157*'Base original'!AA157","v":1.832649420160571},{"$f":"+'Base original'!AD157/'Base original'!$Z157*'Base original'!AC157","v":1.5489830508474576},{"$f":"+'Base original'!AE157","v":3.34},{"$f":"+('Base original'!AH157/'Base original'!AH145*100-100)*'Base original'!AH145/'Base original'!$AK145","v":0.43697203265184154},{"$f":"+('Base original'!AI157/'Base original'!AI145*100-100)*'Base original'!AI145/'Base original'!$AK145","v":7.2199227720632129},{"$f":"+('Base original'!AJ157/'Base original'!AJ145*100-100)*'Base original'!AJ145/'Base original'!$AK145","v":3.206357546678178},{"$f":"+('Base original'!AK157/'Base original'!AK145*100-100)*'Base original'!AK145/'Base original'!$AK145","v":10.863252351393228},{"$f":"+('Base original'!AK157/'Base original'!AK145*100-100)*'Base original'!AK145/'Base original'!$AR145","v":2.7738112028320678},{"$f":"+('Base original'!AL157/'Base original'!AL145*100-100)*'Base original'!AL145/'Base original'!$AR145","v":7.2308106083234707},{"$f":"+('Base original'!AM157/'Base original'!AM145*100-100)*'Base original'!AM145/'Base original'!$AR145","v":0.2160923459027991},{"$f":"+('Base original'!AN157/'Base original'!AN145*100-100)*'Base original'!AN145/'Base original'!$AR145","v":1.0742465909775594},{"$f":"+('Base original'!AO157/'Base original'!AO145*100-100)*'Base original'!AO145/'Base original'!$AR145","v":1.7360348547501973E-3},{"$f":"+('Base original'!AP157/'Base original'!AP145*100-100)*'Base original'!AP145/'Base original'!$AR145","v":0.72110132199492283},{"$f":"+('Base original'!AQ157/'Base original'!AQ145*100-100)*'Base original'!AQ145/'Base original'!$AR145","v":7.3550302908652635E-3},{"$f":"+(('Base original'!AN157-'Base original'!AP157)/('Base original'!AN145-'Base original'!AP145)*100-100)*(('Base original'!AN145-'Base original'!AP145)/'Base original'!AR145)","v":0.35314526898263604},{"$f":"+(('Base original'!AO157-'Base original'!AQ157)/('Base original'!AO145-'Base original'!AQ145)*100-100)*(('Base original'!AO145-'Base original'!AQ145)/'Base original'!AR145)","v":-5.618995436115078E-3},{"$f":"+('Base original'!AR157/'Base original'!AR145*100-100)*'Base original'!AR145/'Base original'!$AR145","v":10.568240430604845},{"$f":"+('Base original'!AR157/'Base original'!AR145*100-100)*'Base original'!AR145/'Base original'!$BC145","v":6.1302253947166738},{"$f":"+('Base original'!AS157/'Base original'!AS145*100-100)*'Base original'!AS145/'Base original'!$BC145","v":-0.5813496412211161},{"$f":"+('Base original'!AT157/'Base original'!AT145*100-100)*'Base original'!AT145/'Base original'!$BC145","v":-1.2881359978919233},{"$f":"+('Base original'!AU157/'Base original'!AU145*100-100)*'Base original'!AU145/'Base original'!$BC145","v":0.3241746446818205},{"$f":"+('Base original'!AV157/'Base original'!AV145*100-100)*'Base original'!AV145/'Base original'!$BC145","v":1.502094510002374E-2},{"$f":"+('Base original'!AW157/'Base original'!AW145*100-100)*'Base original'!AW145/'Base original'!$BC145","v":3.6869896091406465E-2},{"$f":"+('Base original'!AX157/'Base original'!AX145*100-100)*'Base original'!AX145/'Base original'!$BC145","v":0.47181527932322542},{"$f":"+('Base original'!AY157/'Base original'!AY145*100-100)*'Base original'!AY145/'Base original'!$BC145","v":0.40442666732577709},{"$f":"+('Base original'!AZ157/'Base original'!AZ145*100-100)*'Base original'!AZ145/'Base original'!$BC145","v":1.7882101816250492E-2},{"$f":"+('Base original'!BA157/'Base original'!BA145*100-100)*'Base original'!BA145/'Base original'!$BC145","v":-0.94256583220006918},{"$f":"+('Base original'!BB157/'Base original'!BB145*100-100)*'Base original'!BB145/'Base original'!$BC145","v":-3.1119706952154472E-3},{"$f":"+(('Base original'!AY157-'Base original'!BA157)/('Base original'!AY145-'Base original'!BA145)*100-100)*('Base original'!AY145-'Base original'!BA145)/'Base original'!$BC145","v":1.346992499525848},{"$f":"+(('Base original'!AZ157-'Base original'!BB157)/('Base original'!AZ145-'Base original'!BB145)*100-100)*('Base original'!AZ145-'Base original'!BB145)/'Base original'!$BC145","v":2.0994072511465994E-2},{"$f":"+('Base original'!BC157/'Base original'!BC145*100-100)*'Base original'!BC145/'Base original'!$BC145","v":6.4766070928374404}]
["2018-07-01",{"$f":"+'Base original'!B158/'Base original'!B146*100-100","v":8.1406104703853686},{"$f":"+'Base original'!C158/'Base original'!C146*100-100","v":7.1795404239962295},{"$f":"+'Base original'!D158/'Base original'!D146*100-100","v":9.3860996160415482},{"$f":"+'Base original'!E158/'Base original'!E146*100-100","v":4.5167241875199835},{"$f":"+'Base original'!F158/'Base original'!F146*100-100","v":8.1646137605160476},{"$f":"+'Base original'!G158","v":20.98},{"$f":"+'Base original'!J158/'Base original'!$H158*'Base original'!I158","v":11.058598295245561},{"$f":"+'Base original'!L158/'Base original'!$H158*'Base original'!K158","v":0.98249988005949052},{"$f":"+'Base original'!N158/'Base original'!$H158*'Base original'!M158","v":3.2571937652257814},{"$f":"+'Base original'!P158/'Base original'!$H158*'Base original'!O158","v":5.6841324569680109},{"$f":"+'Base original'!Q158","v":6.23},{"$f":"+'Base original'!T158/'Base original'!$R158*'Base original'!S158","v":0.38592464598017667},{"$f":"+'Base original'!V158/'Base original'!$R158*'Base original'!U158","v":2.1081650238444776},{"$f":"+'Base original'!X158/'Base original'!$R158*'Base original'!W158","v":3.737981836252724},{"$f":"+'Base original'!Y158","v":3.62},{"$f":"+'Base original'!AB158/'Base original'!$Z158*'Base original'!AA158","v":2.189271659742186},{"$f":"+'Base original'!AD158/'Base original'!$Z158*'Base original'!AC158","v":1.4319423422691304},{"$f":"+'Base original'!AE158","v":3.33},{"$f":"+('Base original'!AH158/'Base original'!AH146*100-100)*'Base original'!AH146/'Base original'!$AK146","v":0.77246632522231584},{"$f":"+('Base original'!AI158/'Base original'!AI146*100-100)*'Base original'!AI146/'Base original'!$AK146","v":8.0807708290902767},{"$f":"+('Base original'!AJ158/'Base original'!AJ146*100-100)*'Base original'!AJ146/'Base original'!$AK146","v":3.0360809339617543},{"$f":"+('Base original'!AK158/'Base original'!AK146*100-100)*'Base original'!AK146/'Base original'!$AK146","v":11.889318088274365},{"$f":"+('Base original'!AK158/'Base original'!AK146*100-100)*'Base original'!AK146/'Base original'!$AR146","v":2.9767934843283839},{"$f":"+('Base original'!AL158/'Base original'!AL146*100-100)*'Base original'!AL146/'Base original'!$AR146","v":6.2425449895492431},{"$f":"+('Base original'!AM158/'Base original'!AM146*100-100)*'Base original'!AM146/'Base original'!$AR146","v":0.22494331672412093},{"$f":"+('Base original'!AN158/'Base original'!AN146*100-100)*'Base original'!AN146/'Base original'!$AR146","v":0.96177994213498574},{"$f":"+('Base original'!AO158/'Base original'!AO146*100-100)*'Base original'!AO146/'Base original'!$AR146","v":-1.3155581961660768E-2},{"$f":"+('Base original'!AP158/'Base original'!AP146*100-100)*'Base original'!AP146/'Base original'!$AR146","v":0.39189516017113163},{"$f":"+('Base original'!AQ158/'Base original'!AQ146*100-100)*'Base original'!AQ146/'Base original'!$AR146","v":7.4509564470861297E-4},{"$f":"+(('Base original'!AN158-'Base original'!AP158)/('Base original'!AN146-'Base original'!AP146)*100-100)*(('Base original'!AN146-'Base original'!AP146)/'Base original'!AR146)","v":0.56988478196385484},{"$f":"+(('Base original'!AO158-'Base original'!AQ158)/('Base original'!AO146-'Base original'!AQ146)*100-100)*(('Base original'!AO146-'Base original'!AQ146)/'Base original'!AR146)","v":-1.3900677606369413E-2},{"$f":"+('Base original'!AR158/'Base original'!AR146*100-100)*'Base original'!AR146/'Base original'!$AR146","v":10.000265894959242},{"$f":"+('Base original'!AR158/'Base original'!AR146*100-100)*'Base original'!AR146/'Base original'!$BC146","v":5.791273707846833},{"$f":"+('Base original'!AS158/'Base original'!AS146*100-100)*'Base original'!AS146/'Base original'!$BC146","v":-0.30330924361066408},{"$f":"+('Base original'!AT158/'Base original'!AT146*100-100)*'Base original'!AT146/'Base original'!$BC146","v":-1.0465665127642259},{"$f":"+('Base original'!AU158/'Base original'!AU146*100-100)*'Base original'!AU146/'Base original'!$BC146","v":0.54615705289777217},{"$f":"+('Base original'!AV158/'Base original'!AV146*100-100)*'Base original'!AV146/'Base original'!$BC146","v":-3.1489270903923144E-2},{"$f":"+('Base original'!AW158/'Base original'!AW146*100-100)*'Base original'!AW146/'Base original'!$BC146","v":6.1318798837659574E-2},{"$f":"+('Base original'!AX158/'Base original'!AX146*100-100)*'Base original'!AX146/'Base original'!$BC146","v":0.65656708722023516},{"$f":"+('Base original'!AY158/'Base original'!AY146*100-100)*'Base original'!AY146/'Base original'!$BC146","v":0.55123083661982675},{"$f":"+('Base original'!AZ158/'Base original'!AZ146*100-100)*'Base original'!AZ146/'Base original'!$BC146","v":1.7576580467691408E-2},{"$f":"+('Base original'!BA158/'Base original'!BA146*100-100)*'Base original'!BA146/'Base original'!$BC146","v":-0.67413187123888274},{"$f":"+('Base original'!BB158/'Base original'!BB146*100-100)*'Base original'!BB146/'Base original'!$BC146","v":-3.5540644403462556E-3},{"$f":"+(('Base original'!AY158-'Base original'!BA158)/('Base original'!AY146-'Base original'!BA146)*100-100)*('Base original'!AY146-'Base original'!BA146)/'Base original'!$BC146","v":1.2253627078587095},{"$f":"+(('Base original'!AZ158-'Base original'!BB158)/('Base original'!AZ146-'Base original'!BB146)*100-100)*('Base original'!AZ146-'Base original'!BB146)/'Base original'!$BC146","v":2.1130644908037618E-2},{"$f":"+('Base original'!BC158/'Base original'!BC146*100-100)*'Base original'!BC146/'Base original'!$BC146","v":6.9204449722904116}]
["2018-08-01",{"$f":"+'Base original'!B159/'Base original'!B147*100-100","v":9.7301107679844847},{"$f":"+'Base original'!C159/'Base original'!C147*100-100","v":7.4913199516396958},{"$f":"+'Base original'!D159/'Base original'!D147*100-100","v":9.5827223095210456},{"$f":"+'Base original'!E159/'Base original'!E147*100-100","v":14.125934125050236},{"$f":"+'Base original'!F159/'Base original'!F147*100-100","v":9.6713303417357679},{"$f":"+'Base original'!G159","v":20.46},{"$f":"+'Base original'!J159/'Base original'!$H159*'Base original'!I159","v":10.609951842225959},{"$f":"+'Base original'!L159/'Base original'!$H159*'Base original'!K159","v":0.87273352698364171},{"$f":"+'Base original'!N159/'Base original'!$H159*'Base original'!M159","v":3.5891634497783222},{"$f":"+'Base original'!P159/'Base original'!$H159*'Base original'!O159","v":5.4172293036232997},{"$f":"+'Base original'!Q159","v":6.32},{"$f":"+'Base original'!T159/'Base original'!$R159*'Base original'!S159","v":0.35505740701772837},{"$f":"+'Base original'!V159/'Base original'!$R159*'Base original'!U159","v":1.9312230829256316},{"$f":"+'Base original'!X159/'Base original'!$R159*'Base original'!W159","v":4.0345485910182894},{"$f":"+'Base original'!Y159","v":3.45},{"$f":"+'Base original'!AB159/'Base original'!$Z159*'Base original'!AA159","v":1.448548918105222},{"$f":"+'Base original'!AD159/'Base original'!$Z159*'Base original'!AC159","v":2.0057511533713095},{"$f":"+'Base original'!AE159","v":3.23},{"$f":"+('Base original'!AH159/'Base original'!AH147*100-100)*'Base original'!AH147/'Base original'!$AK147","v":0.9361856385356182},{"$f":"+('Base original'!AI159/'Base original'!AI147*100-100)*'Base original'!AI147/'Base original'!$AK147","v":7.5348932589837823},{"$f":"+('Base original'!AJ159/'Base original'!AJ147*100-100)*'Base original'!AJ147/'Base original'!$AK147","v":2.8220583349443822},{"$f":"+('Base original'!AK159/'Base original'!AK147*100-100)*'Base original'!AK147/'Base original'!$AK147","v":11.293137232463806},{"$f":"+('Base original'!AK159/'Base original'!AK147*100-100)*'Base original'!AK147/'Base original'!$AR147","v":2.8178534648455544},{"$f":"+('Base original'!AL159/'Base original'!AL147*100-100)*'Base original'!AL147/'Base original'!$AR147","v":6.6520836727943387},{"$f":"+('Base original'!AM159/'Base original'!AM147*100-100)*'Base original'!AM147/'Base original'!$AR147","v":0.23702016737854054},{"$f":"+('Base original'!AN159/'Base original'!AN147*100-100)*'Base original'!AN147/'Base original'!$AR147","v":1.9456062634808358},{"$f":"+('Base original'!AO159/'Base original'!AO147*100-100)*'Base original'!AO147/'Base original'!$AR147","v":-2.554032888937411E-2},{"$f":"+('Base original'!AP159/'Base original'!AP147*100-100)*'Base original'!AP147/'Base original'!$AR147","v":0.96945166822392526},{"$f":"+('Base original'!AQ159/'Base original'!AQ147*100-100)*'Base original'!AQ147/'Base original'!$AR147","v":-8.5887387440485696E-3},{"$f":"+(('Base original'!AN159-'Base original'!AP159)/('Base original'!AN147-'Base original'!AP147)*100-100)*(('Base original'!AN147-'Base original'!AP147)/'Base original'!AR147)","v":0.97615459525691128},{"$f":"+(('Base original'!AO159-'Base original'!AQ159)/('Base original'!AO147-'Base original'!AQ147)*100-100)*(('Base original'!AO147-'Base original'!AQ147)/'Base original'!AR147)","v":-1.6951590145325452E-2},{"$f":"+('Base original'!AR159/'Base original'!AR147*100-100)*'Base original'!AR147/'Base original'!$AR147","v":10.66616031013001},{"$f":"+('Base original'!AR159/'Base original'!AR147*100-100)*'Base original'!AR147/'Base original'!$BC147","v":6.1819960760575885},{"$f":"+('Base original'!AS159/'Base original'!AS147*100-100)*'Base original'!AS147/'Base original'!$BC147","v":-6.9088508862472356E-3},{"$f":"+('Base original'!AT159/'Base original'!AT147*100-100)*'Base original'!AT147/'Base original'!$BC147","v":-0.76287685311991427},{"$f":"+('Base original'!AU159/'Base original'!AU147*100-100)*'Base original'!AU147/'Base original'!$BC147","v":0.92095537941487882},{"$f":"+('Base original'!AV159/'Base original'!AV147*100-100)*'Base original'!AV147/'Base original'!$BC147","v":-4.7406445023801848E-2},{"$f":"+('Base original'!AW159/'Base original'!AW147*100-100)*'Base original'!AW147/'Base original'!$BC147","v":8.0603354410931916E-2},{"$f":"+('Base original'!AX159/'Base original'!AX147*100-100)*'Base original'!AX147/'Base original'!$BC147","v":0.82528857953642021},{"$f":"+('Base original'!AY159/'Base original'!AY147*100-100)*'Base original'!AY147/'Base original'!$BC147","v":0.59803991247495958},{"$f":"+('Base original'!AZ159/'Base original'!AZ147*100-100)*'Base original'!AZ147/'Base original'!$BC147","v":1.9601034259130994E-2},{"$f":"+('Base original'!BA159/'Base original'!BA147*100-100)*'Base original'!BA147/'Base original'!$BC147","v":-0.45659010776611519},{"$f":"+('Base original'!BB159/'Base original'!BB147*100-100)*'Base original'!BB147/'Base original'!$BC147","v":-1.4810618520946668E-3},{"$f":"+(('Base original'!AY159-'Base original'!BA159)/('Base original'!AY147-'Base original'!BA147)*100-100)*('Base original'!AY147-'Base original'!BA147)/'Base original'!$BC147","v":1.0546300202410748},{"$f":"+(('Base original'!AZ159-'Base original'!BB159)/('Base original'!AZ147-'Base original'!BB147)*100-100)*('Base original'!AZ147-'Base original'!BB147)/'Base original'!$BC147","v":2.1082096111225617E-2},{"$f":"+('Base original'!BC159/'Base original'!BC147*100-100)*'Base original'!BC147/'Base original'!$BC147","v":8.2673633567421803}]
["2018-09-01",{"$f":"+'Base original'!B160/'Base original'!B148*100-100","v":9.2192687007688363},{"$f":"+'Base original'!C160/'Base original'!C148*100-100","v":7.5543697767153475},{"$f":"+'Base original'!D160/'Base original'!D148*100-100","v":9.3018857968762916},{"$f":"+'Base original'!E160/'Base original'!E148*100-100","v":10.102018316881711},{"$f":"+'Base original'!F160/'Base original'!F148*100-100","v":9.0952484001103784},{"$f":"+'Base original'!G160","v":21.32},{"$f":"+'Base original'!J160/'Base original'!$H160*'Base original'!I160","v":12.210511899171044},{"$f":"+'Base original'!L160/'Base original'!$H160*'Base original'!K160","v":0.86836600736121283},{"$f":"+'Base original'!N160/'Base original'!$H160*'Base original'!M160","v":3.0012293443715117},{"$f":"+'Base original'!P160/'Base original'!$H160*'Base original'!O160","v":5.2397229715708651},{"$f":"+'Base original'!Q160","v":5.98},{"$f":"+'Base original'!T160/'Base original'!$R160*'Base original'!S160","v":0.36024359050621613},{"$f":"+'Base original'!V160/'Base original'!$R160*'Base original'!U160","v":1.8812753554220454},{"$f":"+'Base original'!X160/'Base original'!$R160*'Base original'!W160","v":3.7272990898816252},{"$f":"+'Base original'!Y160","v":3.57},{"$f":"+'Base original'!AB160/'Base original'!$Z160*'Base original'!AA160","v":1.487179027782962},{"$f":"+'Base original'!AD160/'Base original'!$Z160*'Base original'!AC160","v":2.0811292349420825},{"$f":"+'Base original'!AE160","v":3.22},{"$f":"+('Base original'!AH160/'Base original'!AH148*100-100)*'Base original'!AH148/'Base original'!$AK148","v":1.1376223024748984},{"$f":"+('Base original'!AI160/'Base original'!AI148*100-100)*'Base original'!AI148/'Base original'!$AK148","v":8.6659850379442354},{"$f":"+('Base original'!AJ160/'Base original'!AJ148*100-100)*'Base original'!AJ148/'Base original'!$AK148","v":3.2588815769224344},{"$f":"+('Base original'!AK160/'Base original'!AK148*100-100)*'Base original'!AK148/'Base original'!$AK148","v":13.062488917341582},{"$f":"+('Base original'!AK160/'Base original'!AK148*100-100)*'Base original'!AK148/'Base original'!$AR148","v":3.2347746117242382},{"$f":"+('Base original'!AL160/'Base original'!AL148*100-100)*'Base original'!AL148/'Base original'!$AR148","v":5.6576258012357865},{"$f":"+('Base original'!AM160/'Base original'!AM148*100-100)*'Base original'!AM148/'Base original'!$AR148","v":0.23681022681486794},{"$f":"+('Base original'!AN160/'Base original'!AN148*100-100)*'Base original'!AN148/'Base original'!$AR148","v":0.91473141790826307},{"$f":"+('Base original'!AO160/'Base original'!AO148*100-100)*'Base original'!AO148/'Base original'!$AR148","v":-1.8721963924189237E-2},{"$f":"+('Base original'!AP160/'Base original'!AP148*100-100)*'Base original'!AP148/'Base original'!$AR148","v":0.12771194238370537},{"$f":"+('Base original'!AQ160/'Base original'!AQ148*100-100)*'Base original'!AQ148/'Base original'!$AR148","v":-8.771507859366711E-3},{"$f":"+(('Base original'!AN160-'Base original'!AP160)/('Base original'!AN148-'Base original'!AP148)*100-100)*(('Base original'!AN148-'Base original'!AP148)/'Base original'!AR148)","v":0.78701947552455909},{"$f":"+(('Base original'!AO160-'Base original'!AQ160)/('Base original'!AO148-'Base original'!AQ148)*100-100)*(('Base original'!AO148-'Base original'!AQ148)/'Base original'!AR148)","v":-9.9504560648225552E-3},{"$f":"+('Base original'!AR160/'Base original'!AR148*100-100)*'Base original'!AR148/'Base original'!$AR148","v":9.9062796592346274},{"$f":"+('Base original'!AR160/'Base original'!AR148*100-100)*'Base original'!AR148/'Base original'!$BC148","v":5.7936577362309745},{"$f":"+('Base original'!AS160/'Base original'!AS148*100-100)*'Base original'!AS148/'Base original'!$BC148","v":0.23392308323254488},{"$f":"+('Base original'!AT160/'Base original'!AT148*100-100)*'Base original'!AT148/'Base original'!$BC148","v":-0.53552595416982574},{"$f":"+('Base original'!AU160/'Base original'!AU148*100-100)*'Base original'!AU148/'Base original'!$BC148","v":1.2719462417270984},{"$f":"+('Base original'!AV160/'Base original'!AV148*100-100)*'Base original'!AV148/'Base original'!$BC148","v":1.5474942727515993E-3},{"$f":"+('Base original'!AW160/'Base original'!AW148*100-100)*'Base original'!AW148/'Base original'!$BC148","v":9.1416761960999279E-2},{"$f":"+('Base original'!AX160/'Base original'!AX148*100-100)*'Base original'!AX148/'Base original'!$BC148","v":0.85518381637696139},{"$f":"+('Base original'!AY160/'Base original'!AY148*100-100)*'Base original'!AY148/'Base original'!$BC148","v":0.38806593857250582},{"$f":"+('Base original'!AZ160/'Base original'!AZ148*100-100)*'Base original'!AZ148/'Base original'!$BC148","v":1.5616956928630009E-2},{"$f":"+('Base original'!BA160/'Base original'!BA148*100-100)*'Base original'!BA148/'Base original'!$BC148","v":-0.72086873485468383},{"$f":"+('Base original'!BB160/'Base original'!BB148*100-100)*'Base original'!BB148/'Base original'!$BC148","v":-1.217876916097216E-3},{"$f":"+(('Base original'!AY160-'Base original'!BA160)/('Base original'!AY148-'Base original'!BA148)*100-100)*('Base original'!AY148-'Base original'!BA148)/'Base original'!$BC148","v":1.1089346734271903},{"$f":"+(('Base original'!AZ160-'Base original'!BB160)/('Base original'!AZ148-'Base original'!BB148)*100-100)*('Base original'!AZ148-'Base original'!BB148)/'Base original'!$BC148","v":1.6834833844727139E-2},{"$f":"+('Base original'!BC160/'Base original'!BC148*100-100)*'Base original'!BC148/'Base original'!$BC148","v":8.8379186869034072}]
["2018-10-01",{"$f":"+'Base original'!B161/'Base original'!B149*100-100","v":9.9765534584538074},{"$f":"+'Base original'!C161/'Base original'!C149*100-100","v":8.4003502644861356},{"$f":"+'Base original'!D161/'Base original'!D149*100-100","v":9.5962485258122001},{"$f":"+'Base original'!E161/'Base original'!E149*100-100","v":16.589938970871927},{"$f":"+'Base original'!F161/'Base original'!F149*100-100","v":10.045878883624354},{"$f":"+'Base original'!G161","v":20.13},{"$f":"+'Base original'!J161/'Base original'!$H161*'Base original'!I161","v":10.271303238332987},{"$f":"+'Base original'!L161/'Base original'!$H161*'Base original'!K161","v":1.0240062408986894},{"$f":"+'Base original'!N161/'Base original'!$H161*'Base original'!M161","v":3.4330690428310571},{"$f":"+'Base original'!P161/'Base original'!$H161*'Base original'!O161","v":5.4063425559947307},{"$f":"+'Base original'!Q161","v":6.01},{"$f":"+'Base original'!T161/'Base original'!$R161*'Base original'!S161","v":0.31150043141122941},{"$f":"+'Base original'!V161/'Base original'!$R161*'Base original'!U161","v":1.9290434274826733},{"$f":"+'Base original'!X161/'Base original'!$R161*'Base original'!W161","v":3.7652389232125438},{"$f":"+'Base original'!Y161","v":3.72},{"$f":"+'Base original'!AB161/'Base original'!$Z161*'Base original'!AA161","v":1.9176646551237948},{"$f":"+'Base original'!AD161/'Base original'!$Z161*'Base original'!AC161","v":1.8053347244938245},{"$f":"+'Base original'!AE161","v":3.17},{"$f":"+('Base original'!AH161/'Base original'!AH149*100-100)*'Base original'!AH149/'Base original'!$AK149","v":0.92595104878155621},{"$f":"+('Base original'!AI161/'Base original'!AI149*100-100)*'Base original'!AI149/'Base original'!$AK149","v":7.1013467739847522},{"$f":"+('Base original'!AJ161/'Base original'!AJ149*100-100)*'Base original'!AJ149/'Base original'!$AK149","v":2.8861778517525232},{"$f":"+('Base original'!AK161/'Base original'!AK149*100-100)*'Base original'!AK149/'Base original'!$AK149","v":10.913475674518835},{"$f":"+('Base original'!AK161/'Base original'!AK149*100-100)*'Base original'!AK149/'Base original'!$AR149","v":2.7207635253974054},{"$f":"+('Base original'!AL161/'Base original'!AL149*100-100)*'Base original'!AL149/'Base original'!$AR149","v":5.0709349753255921},{"$f":"+('Base original'!AM161/'Base original'!AM149*100-100)*'Base original'!AM149/'Base original'!$AR149","v":0.24239463943546755},{"$f":"+('Base original'!AN161/'Base original'!AN149*100-100)*'Base original'!AN149/'Base original'!$AR149","v":-8.687659176320231E-2},{"$f":"+('Base original'!AO161/'Base original'!AO149*100-100)*'Base original'!AO149/'Base original'!$AR149","v":-1.4918007853806791E-2},{"$f":"+('Base original'!AP161/'Base original'!AP149*100-100)*'Base original'!AP149/'Base original'!$AR149","v":-1.1131503018444426},{"$f":"+('Base original'!AQ161/'Base original'!AQ149*100-100)*'Base original'!AQ149/'Base original'!$AR149","v":-1.2796218206226665E-3},{"$f":"+(('Base original'!AN161-'Base original'!AP161)/('Base original'!AN149-'Base original'!AP149)*100-100)*(('Base original'!AN149-'Base original'!AP149)/'Base original'!AR149)","v":1.0262737100812402},{"$f":"+(('Base original'!AO161-'Base original'!AQ161)/('Base original'!AO149-'Base original'!AQ149)*100-100)*(('Base original'!AO149-'Base original'!AQ149)/'Base original'!AR149)","v":-1.3638386033184166E-2},{"$f":"+('Base original'!AR161/'Base original'!AR149*100-100)*'Base original'!AR149/'Base original'!$AR149","v":9.046728464206538},{"$f":"+('Base original'!AR161/'Base original'!AR149*100-100)*'Base original'!AR149/'Base original'!$BC149","v":5.2836833512644787},{"$f":"+('Base original'!AS161/'Base original'!AS149*100-100)*'Base original'!AS149/'Base original'!$BC149","v":0.13308299720281255},{"$f":"+('Base original'!AT161/'Base original'!AT149*100-100)*'Base original'!AT149/'Base original'!$BC149","v":-0.4907758973966857},{"$f":"+('Base original'!AU161/'Base original'!AU149*100-100)*'Base original'!AU149/'Base original'!$BC149","v":1.7477840936181359},{"$f":"+('Base original'!AV161/'Base original'!AV149*100-100)*'Base original'!AV149/'Base original'!$BC149","v":-9.4855282179082834E-3},{"$f":"+('Base original'!AW161/'Base original'!AW149*100-100)*'Base original'!AW149/'Base original'!$BC149","v":8.5344455691466481E-2},{"$f":"+('Base original'!AX161/'Base original'!AX149*100-100)*'Base original'!AX149/'Base original'!$BC149","v":0.91026138154455771},{"$f":"+('Base original'!AY161/'Base original'!AY149*100-100)*'Base original'!AY149/'Base original'!$BC149","v":0.29479754830902599},{"$f":"+('Base original'!AZ161/'Base original'!AZ149*100-100)*'Base original'!AZ149/'Base original'!$BC149","v":4.3829921927537336E-3},{"$f":"+('Base original'!BA161/'Base original'!BA149*100-100)*'Base original'!BA149/'Base original'!$BC149","v":-0.95014561149531873},{"$f":"+('Base original'!BB161/'Base original'!BB149*100-100)*'Base original'!BB149/'Base original'!$BC149","v":-1.1145421600652634E-3},{"$f":"+(('Base original'!AY161-'Base original'!BA161)/('Base original'!AY149-'Base original'!BA149)*100-100)*('Base original'!AY149-'Base original'!BA149)/'Base original'!$BC149","v":1.2449431598043432},{"$f":"+(('Base original'!AZ161-'Base original'!BB161)/('Base original'!AZ149-'Base original'!BB149)*100-100)*('Base original'!AZ149-'Base original'!BB149)/'Base original'!$BC149","v":5.4975343528189564E-3},{"$f":"+('Base original'!BC161/'Base original'!BC149*100-100)*'Base original'!BC149/'Base original'!$BC149","v":8.9103355478640225}]
["2018-11-01",{"$f":"+'Base original'!B162/'Base original'!B150*100-100","v":9.5935433552153881},{"$f":"+'Base original'!C162/'Base original'!C150*100-100","v":8.6055114810712752},{"$f":"+'Base original'!D162/'Base original'!D150*100-100","v":9.4948859218314965},{"$f":"+'Base original'!E162/'Base original'!E150*100-100","v":10.077216998999489},{"$f":"+'Base original'!F162/'Base original'!F150*100-100","v":9.4760094206336873},{"$f":"+'Base original'!G162","v":20.71},{"$f":"+'Base original'!J162/'Base original'!$H162*'Base original'!I162","v":10.458905493983822},{"$f":"+'Base original'!L162/'Base original'!$H162*'Base original'!K162","v":0.87555797987912864},{"$f":"+'Base original'!N162/'Base original'!$H162*'Base original'!M162","v":3.2613508097646475},{"$f":"+'Base original'!P162/'Base original'!$H162*'Base original'!O162","v":6.1129625335500011},{"$f":"+'Base original'!Q162","v":6.05},{"$f":"+'Base original'!T162/'Base original'!$R162*'Base original'!S162","v":0.32606702609082161},{"$f":"+'Base original'!V162/'Base original'!$R162*'Base original'!U162","v":2.182323803611868},{"$f":"+'Base original'!X162/'Base original'!$R162*'Base original'!W162","v":3.5403898487583003},{"$f":"+'Base original'!Y162","v":4},{"$f":"+'Base original'!AB162/'Base original'!$Z162*'Base original'!AA162","v":1.6996176812074972},{"$f":"+'Base original'!AD162/'Base original'!$Z162*'Base original'!AC162","v":2.2987103997346159},{"$f":"+'Base original'!AE162","v":3.23},{"$f":"+('Base original'!AH162/'Base original'!AH150*100-100)*'Base original'!AH150/'Base original'!$AK150","v":0.80419476671396894},{"$f":"+('Base original'!AI162/'Base original'!AI150*100-100)*'Base original'!AI150/'Base original'!$AK150","v":7.9058095282262624},{"$f":"+('Base original'!AJ162/'Base original'!AJ150*100-100)*'Base original'!AJ150/'Base original'!$AK150","v":1.9214045888711186},{"$f":"+('Base original'!AK162/'Base original'!AK150*100-100)*'Base original'!AK150/'Base original'!$AK150","v":10.631408883811361},{"$f":"+('Base original'!AK162/'Base original'!AK150*100-100)*'Base original'!AK150/'Base original'!$AR150","v":2.658073706486185},{"$f":"+('Base original'!AL162/'Base original'!AL150*100-100)*'Base original'!AL150/'Base original'!$AR150","v":6.1790624292570842},{"$f":"+('Base original'!AM162/'Base original'!AM150*100-100)*'Base original'!AM150/'Base original'!$AR150","v":0.25008818259968174},{"$f":"+('Base original'!AN162/'Base original'!AN150*100-100)*'Base original'!AN150/'Base original'!$AR150","v":1.9166359925169696},{"$f":"+('Base original'!AO162/'Base original'!AO150*100-100)*'Base original'!AO150/'Base original'!$AR150","v":5.421210312978246E-2},{"$f":"+('Base original'!AP162/'Base original'!AP150*100-100)*'Base original'!AP150/'Base original'!$AR150","v":0.50746442208332987},{"$f":"+('Base original'!AQ162/'Base original'!AQ150*100-100)*'Base original'!AQ150/'Base original'!$AR150","v":1.9706635399549494E-2},{"$f":"+(('Base original'!AN162-'Base original'!AP162)/('Base original'!AN150-'Base original'!AP150)*100-100)*(('Base original'!AN150-'Base original'!AP150)/'Base original'!AR150)","v":1.4091715704336401},{"$f":"+(('Base original'!AO162-'Base original'!AQ162)/('Base original'!AO150-'Base original'!AQ150)*100-100)*(('Base original'!AO150-'Base original'!AQ150)/'Base original'!AR150)","v":3.4505467730232928E-2},{"$f":"+('Base original'!AR162/'Base original'!AR150*100-100)*'Base original'!AR150/'Base original'!$AR150","v":10.530901356506803},{"$f":"+('Base original'!AR162/'Base original'!AR150*100-100)*'Base original'!AR150/'Base original'!$BC150","v":6.1844134404399842},{"$f":"+('Base original'!AS162/'Base original'!AS150*100-100)*'Base original'!AS150/'Base original'!$BC150","v":0.70271950296449537},{"$f":"+('Base original'!AT162/'Base original'!AT150*100-100)*'Base original'!AT150/'Base original'!$BC150","v":-0.41052344963837123},{"$f":"+('Base original'!AU162/'Base original'!AU150*100-100)*'Base original'!AU150/'Base original'!$BC150","v":1.5611645090198301},{"$f":"+('Base original'!AV162/'Base original'!AV150*100-100)*'Base original'!AV150/'Base original'!$BC150","v":-3.1786732833712777E-2},{"$f":"+('Base original'!AW162/'Base original'!AW150*100-100)*'Base original'!AW150/'Base original'!$BC150","v":7.0938340380102299E-2},{"$f":"+('Base original'!AX162/'Base original'!AX150*100-100)*'Base original'!AX150/'Base original'!$BC150","v":1.2268449990657009},{"$f":"+('Base original'!AY162/'Base original'!AY150*100-100)*'Base original'!AY150/'Base original'!$BC150","v":0.68067626066065057},{"$f":"+('Base original'!AZ162/'Base original'!AZ150*100-100)*'Base original'!AZ150/'Base original'!$BC150","v":1.5066720413766678E-3},{"$f":"+('Base original'!BA162/'Base original'!BA150*100-100)*'Base original'!BA150/'Base original'!$BC150","v":-0.79265422992501744},{"$f":"+('Base original'!BB162/'Base original'!BB150*100-100)*'Base original'!BB150/'Base original'!$BC150","v":1.0759508731463136E-2},{"$f":"+(('Base original'!AY162-'Base original'!BA162)/('Base original'!AY150-'Base original'!BA150)*100-100)*('Base original'!AY150-'Base original'!BA150)/'Base original'!$BC150","v":1.4733304905856679},{"$f":"+(('Base original'!AZ162-'Base original'!BB162)/('Base original'!AZ150-'Base original'!BB150)*100-100)*('Base original'!AZ150-'Base original'!BB150)/'Base original'!$BC150","v":-9.2528366900863947E-3},{"$f":"+('Base original'!BC162/'Base original'!BC150*100-100)*'Base original'!BC150/'Base original'!$BC150","v":10.767848263293601}]
["2018-12-01",{"$f":"+'Base original'!B163/'Base original'!B151*100-100","v":9.9919955587321567},{"$f":"+'Base original'!C163/'Base original'!C151*100-100","v":8.7678075636374189},{"$f":"+'Base original'!D163/'Base original'!D151*100-100","v":9.4288693314744876},{"$f":"+'Base original'!E163/'Base original'!E151*100-100","v":17.732731895383253},{"$f":"+'Base original'!F163/'Base original'!F151*100-100","v":10.096059778828433},{"$f":"+'Base original'!G163","v":20.58},{"$f":"+'Base original'!J163/'Base original'!$H163*'Base original'!I163","v":11.234341878594995},{"$f":"+'Base original'!L163/'Base original'!$H163*'Base original'!K163","v":0.89997396517659878},{"$f":"+'Base original'!N163/'Base original'!$H163*'Base original'!M163","v":3.1067635064770749},{"$f":"+'Base original'!P163/'Base original'!$H163*'Base original'!O163","v":5.341440139371465},{"$f":"+'Base original'!Q163","v":6.18},{"$f":"+'Base original'!T163/'Base original'!$R163*'Base original'!S163","v":0.34545492846881543},{"$f":"+'Base original'!V163/'Base original'!$R163*'Base original'!U163","v":2.1472161308421591},{"$f":"+'Base original'!X163/'Base original'!$R163*'Base original'!W163","v":3.6840464803697714},{"$f":"+'Base original'!Y163","v":3.92},{"$f":"+'Base original'!AB163/'Base original'!$Z163*'Base original'!AA163","v":2.5768112557180594},{"$f":"+'Base original'!AD163/'Base original'!$Z163*'Base original'!AC163","v":1.3389994201404547},{"$f":"+'Base original'!AE163","v":3.28},{"$f":"+('Base original'!AH163/'Base original'!AH151*100-100)*'Base original'!AH151/'Base original'!$AK151","v":0.69930903333452765},{"$f":"+('Base original'!AI163/'Base original'!AI151*100-100)*'Base original'!AI151/'Base original'!$AK151","v":6.528129374208107},{"$f":"+('Base original'!AJ163/'Base original'!AJ151*100-100)*'Base original'!AJ151/'Base original'!$AK151","v":2.462768365255076},{"$f":"+('Base original'!AK163/'Base original'!AK151*100-100)*'Base original'!AK151/'Base original'!$AK151","v":9.6902067727977084},{"$f":"+('Base original'!AK163/'Base original'!AK151*100-100)*'Base original'!AK151/'Base original'!$AR151","v":2.5188143755143724},{"$f":"+('Base original'!AL163/'Base original'!AL151*100-100)*'Base original'!AL151/'Base original'!$AR151","v":6.4939101916046145},{"$f":"+('Base original'!AM163/'Base original'!AM151*100-100)*'Base original'!AM151/'Base original'!$AR151","v":0.25167086943498623},{"$f":"+('Base original'!AN163/'Base original'!AN151*100-100)*'Base original'!AN151/'Base original'!$AR151","v":2.2802123474902189},{"$f":"+('Base original'!AO163/'Base original'!AO151*100-100)*'Base original'!AO151/'Base original'!$AR151","v":6.1216450009319287E-2},{"$f":"+('Base original'!AP163/'Base original'!AP151*100-100)*'Base original'!AP151/'Base original'!$AR151","v":0.873067743954},{"$f":"+('Base original'!AQ163/'Base original'!AQ151*100-100)*'Base original'!AQ151/'Base original'!$AR151","v":1.9413605036882789E-2},{"$f":"+(('Base original'!AN163-'Base original'!AP163)/('Base original'!AN151-'Base original'!AP151)*100-100)*(('Base original'!AN151-'Base original'!AP151)/'Base original'!AR151)","v":1.4071446035362183},{"$f":"+(('Base original'!AO163-'Base original'!AQ163)/('Base original'!AO151-'Base original'!AQ151)*100-100)*(('Base original'!AO151-'Base original'!AQ151)/'Base original'!AR151)","v":4.1802844972436429E-2},{"$f":"+('Base original'!AR163/'Base original'!AR151*100-100)*'Base original'!AR151/'Base original'!$AR151","v":10.71334288506263},{"$f":"+('Base original'!AR163/'Base original'!AR151*100-100)*'Base original'!AR151/'Base original'!$BC151","v":6.3937006130802647},{"$f":"+('Base original'!AS163/'Base original'!AS151*100-100)*'Base original'!AS151/'Base original'!$BC151","v":0.64786707142434197},{"$f":"+('Base original'!AT163/'Base original'!AT151*100-100)*'Base original'!AT151/'Base original'!$BC151","v":-0.10436893873188516},{"$f":"+('Base original'!AU163/'Base original'!AU151*100-100)*'Base original'!AU151/'Base original'!$BC151","v":2.3434215393773168},{"$f":"+('Base original'!AV163/'Base original'!AV151*100-100)*'Base original'!AV151/'Base original'!$BC151","v":-2.7965985531122822E-2},{"$f":"+('Base original'!AW163/'Base original'!AW151*100-100)*'Base original'!AW151/'Base original'!$BC151","v":8.7592475089982344E-2},{"$f":"+('Base original'!AX163/'Base original'!AX151*100-100)*'Base original'!AX151/'Base original'!$BC151","v":1.3175336327256315},{"$f":"+('Base original'!AY163/'Base original'!AY151*100-100)*'Base original'!AY151/'Base original'!$BC151","v":0.6287899933661365},{"$f":"+('Base original'!AZ163/'Base original'!AZ151*100-100)*'Base original'!AZ151/'Base original'!$BC151","v":3.2828448667620593E-3},{"$f":"+('Base original'!BA163/'Base original'!BA151*100-100)*'Base original'!BA151/'Base original'!$BC151","v":-1.1809761800046221},{"$f":"+('Base original'!BB163/'Base original'!BB151*100-100)*'Base original'!BB151/'Base original'!$BC151","v":1.0396256636363321E-2},{"$f":"+(('Base original'!AY163-'Base original'!BA163)/('Base original'!AY151-'Base original'!BA151)*100-100)*('Base original'!AY151-'Base original'!BA151)/'Base original'!$BC151","v":1.8097661733707591},{"$f":"+(('Base original'!AZ163-'Base original'!BB163)/('Base original'!AZ151-'Base original'!BB151)*100-100)*('Base original'!AZ151-'Base original'!BB151)/'Base original'!$BC151","v":-7.113411769601243E-3},{"$f":"+('Base original'!BC163/'Base original'!BC151*100-100)*'Base original'!BC151/'Base original'!$BC151","v":12.460433169035667}]
["2019-01-01",{"$f":"+'Base original'!B164/'Base original'!B152*100-100","v":9.9382855279855704},{"$f":"+'Base original'!C164/'Base original'!C152*100-100","v":8.7256192552361114},{"$f":"+'Base original'!D164/'Base original'!D152*100-100","v":9.4627032268707438},{"$f":"+'Base original'!E164/'Base original'!E152*100-100","v":14.895237417196611},{"$f":"+'Base original'!F164/'Base original'!F152*100-100","v":9.9167499667149883},{"$f":"+'Base original'!G164","v":21.55},{"$f":"+'Base original'!J164/'Base original'!$H164*'Base original'!I164","v":10.964336892372424},{"$f":"+'Base original'!L164/'Base original'!$H164*'Base original'!K164","v":1.1797168283283377},{"$f":"+'Base original'!N164/'Base original'!$H164*'Base original'!M164","v":3.2776903170554612},{"$f":"+'Base original'!P164/'Base original'!$H164*'Base original'!O164","v":6.1235455103978556},{"$f":"+'Base original'!Q164","v":6.28},{"$f":"+'Base original'!T164/'Base original'!$R164*'Base original'!S164","v":0.33067103260089048},{"$f":"+'Base original'!V164/'Base original'!$R164*'Base original'!U164","v":2.0835731724831255},{"$f":"+'Base original'!X164/'Base original'!$R164*'Base original'!W164","v":3.8683998276604923},{"$f":"+'Base original'!Y164","v":3.91},{"$f":"+'Base original'!AB164/'Base original'!$Z164*'Base original'!AA164","v":2.2530975590735398},{"$f":"+'Base original'!AD164/'Base original'!$Z164*'Base original'!AC164","v":1.658862980581767},{"$f":"+'Base original'!AE164","v":3.24},{"$f":"+('Base original'!AH164/'Base original'!AH152*100-100)*'Base original'!AH152/'Base original'!$AK152","v":0.68445054822412255},{"$f":"+('Base original'!AI164/'Base original'!AI152*100-100)*'Base original'!AI152/'Base original'!$AK152","v":5.8318531042882356},{"$f":"+('Base original'!AJ164/'Base original'!AJ152*100-100)*'Base original'!AJ152/'Base original'!$AK152","v":2.7241961048810661},{"$f":"+('Base original'!AK164/'Base original'!AK152*100-100)*'Base original'!AK152/'Base original'!$AK152","v":9.2404997573934082},{"$f":"+('Base original'!AK164/'Base original'!AK152*100-100)*'Base original'!AK152/'Base original'!$AR152","v":2.4001737044892093},{"$f":"+('Base original'!AL164/'Base original'!AL152*100-100)*'Base original'!AL152/'Base original'!$AR152","v":5.834304351872496},{"$f":"+('Base original'!AM164/'Base original'!AM152*100-100)*'Base original'!AM152/'Base original'!$AR152","v":0.24793196065870504},{"$f":"+('Base original'!AN164/'Base original'!AN152*100-100)*'Base original'!AN152/'Base original'!$AR152","v":1.5942664957424328},{"$f":"+('Base original'!AO164/'Base original'!AO152*100-100)*'Base original'!AO152/'Base original'!$AR152","v":3.5867302942184764E-2},{"$f":"+('Base original'!AP164/'Base original'!AP152*100-100)*'Base original'!AP152/'Base original'!$AR152","v":0.69555193815381355},{"$f":"+('Base original'!AQ164/'Base original'!AQ152*100-100)*'Base original'!AQ152/'Base original'!$AR152","v":5.4752440529728091E-3},{"$f":"+(('Base original'!AN164-'Base original'!AP164)/('Base original'!AN152-'Base original'!AP152)*100-100)*(('Base original'!AN152-'Base original'!AP152)/'Base original'!AR152)","v":0.89871455758861962},{"$f":"+(('Base original'!AO164-'Base original'!AQ164)/('Base original'!AO152-'Base original'!AQ152)*100-100)*(('Base original'!AO152-'Base original'!AQ152)/'Base original'!AR152)","v":3.0392058889211853E-2},{"$f":"+('Base original'!AR164/'Base original'!AR152*100-100)*'Base original'!AR152/'Base original'!$AR152","v":9.4115166334982661},{"$f":"+('Base original'!AR164/'Base original'!AR152*100-100)*'Base original'!AR152/'Base original'!$BC152","v":5.6536084905947925},{"$f":"+('Base original'!AS164/'Base original'!AS152*100-100)*'Base original'!AS152/'Base original'!$BC152","v":0.46263574188288892},{"$f":"+('Base original'!AT164/'Base original'!AT152*100-100)*'Base original'!AT152/'Base original'!$BC152","v":0.38934202193189055},{"$f":"+('Base original'!AU164/'Base original'!AU152*100-100)*'Base original'!AU152/'Base original'!$BC152","v":2.6283027111545803},{"$f":"+('Base original'!AV164/'Base original'!AV152*100-100)*'Base original'!AV152/'Base original'!$BC152","v":-2.8524801404199746E-2},{"$f":"+('Base original'!AW164/'Base original'!AW152*100-100)*'Base original'!AW152/'Base original'!$BC152","v":0.11730775677631071},{"$f":"+('Base original'!AX164/'Base original'!AX152*100-100)*'Base original'!AX152/'Base original'!$BC152","v":1.3315894158411667},{"$f":"+('Base original'!AY164/'Base original'!AY152*100-100)*'Base original'!AY152/'Base original'!$BC152","v":0.6522870370382241},{"$f":"+('Base original'!AZ164/'Base original'!AZ152*100-100)*'Base original'!AZ152/'Base original'!$BC152","v":3.3172756100539502E-3},{"$f":"+('Base original'!BA164/'Base original'!BA152*100-100)*'Base original'!BA152/'Base original'!$BC152","v":-1.5600868751337502},{"$f":"+('Base original'!BB164/'Base original'!BB152*100-100)*'Base original'!BB152/'Base original'!$BC152","v":8.3738089662462704E-3},{"$f":"+(('Base original'!AY164-'Base original'!BA164)/('Base original'!AY152-'Base original'!BA152)*100-100)*('Base original'!AY152-'Base original'!BA152)/'Base original'!$BC152","v":2.2123739121719757},{"$f":"+(('Base original'!AZ164-'Base original'!BB164)/('Base original'!AZ152-'Base original'!BB152)*100-100)*('Base original'!AZ152-'Base original'!BB152)/'Base original'!$BC152","v":-5.056533356192403E-3},{"$f":"+('Base original'!BC164/'Base original'!BC152*100-100)*'Base original'!BC152/'Base original'!$BC152","v":12.761578715593201}]
["2019-02-01",{"$f":"+'Base original'!B165/'Base original'!B153*100-100","v":9.8979970910979347},{"$f":"+'Base original'!C165/'Base original'!C153*100-100","v":8.6183822438964626},{"$f":"+'Base original'!D165/'Base original'!D153*100-100","v":9.1458687553546412},{"$f":"+'Base original'!E165/'Base original'!E153*100-100","v":17.058959436252437},{"$f":"+'Base original'!F165/'Base original'!F153*100-100","v":9.8955491691377091},{"$f":"+'Base original'!G165","v":22.14},{"$f":"+'Base original'!J165/'Base original'!$H165*'Base original'!I165","v":12.581871419275998},{"$f":"+'Base original'!L165/'Base original'!$H165*'Base original'!K165","v":1.1211500637454834},{"$f":"+'Base original'!N165/'Base original'!$H165*'Base original'!M165","v":2.9142892510831437},{"$f":"+'Base original'!P165/'Base original'!$H165*'Base original'!O165","v":5.520030047663635},{"$f":"+'Base original'!Q165","v":6.78},{"$f":"+'Base original'!T165/'Base original'!$R165*'Base original'!S165","v":0.44235568678289983},{"$f":"+'Base original'!V165/'Base original'!$R165*'Base original'!U165","v":1.8365244375484873},{"$f":"+'Base original'!X165/'Base original'!$R165*'Base original'!W165","v":4.5059951870074713},{"$f":"+'Base original'!Y165","v":4.0199999999999996},{"$f":"+'Base original'!AB165/'Base original'!$Z165*'Base original'!AA165","v":2.2862546509428019},{"$f":"+'Base original'!AD165/'Base original'!$Z165*'Base original'!AC165","v":1.7383974270038469},{"$f":"+'Base original'!AE165","v":3.23},{"$f":"+('Base original'!AH165/'Base original'!AH153*100-100)*'Base original'!AH153/'Base original'!$AK153","v":0.73764565827827466},{"$f":"+('Base original'!AI165/'Base original'!AI153*100-100)*'Base original'!AI153/'Base original'!$AK153","v":4.8520968228786385},{"$f":"+('Base original'!AJ165/'Base original'!AJ153*100-100)*'Base original'!AJ153/'Base original'!$AK153","v":2.6885970583026935},{"$f":"+('Base original'!AK165/'Base original'!AK153*100-100)*'Base original'!AK153/'Base original'!$AK153","v":8.2783395394596226},{"$f":"+('Base original'!AK165/'Base original'!AK153*100-100)*'Base original'!AK153/'Base original'!$AR153","v":2.1462349150852491},{"$f":"+('Base original'!AL165/'Base original'!AL153*100-100)*'Base original'!AL153/'Base original'!$AR153","v":5.3935668056257704},{"$f":"+('Base original'!AM165/'Base original'!AM153*100-100)*'Base original'!AM153/'Base original'!$AR153","v":0.23645425128353975},{"$f":"+('Base original'!AN165/'Base original'!AN153*100-100)*'Base original'!AN153/'Base original'!$AR153","v":2.2171972017949173},{"$f":"+('Base original'!AO165/'Base original'!AO153*100-100)*'Base original'!AO153/'Base original'!$AR153","v":1.1818733839244379E-2},{"$f":"+('Base original'!AP165/'Base original'!AP153*100-100)*'Base original'!AP153/'Base original'!$AR153","v":0.98634372867503295},{"$f":"+('Base original'!AQ165/'Base original'!AQ153*100-100)*'Base original'!AQ153/'Base original'!$AR153","v":-1.1582136497698901E-4},{"$f":"+(('Base original'!AN165-'Base original'!AP165)/('Base original'!AN153-'Base original'!AP153)*100-100)*(('Base original'!AN153-'Base original'!AP153)/'Base original'!AR153)","v":1.230853473119883},{"$f":"+(('Base original'!AO165-'Base original'!AQ165)/('Base original'!AO153-'Base original'!AQ153)*100-100)*(('Base original'!AO153-'Base original'!AQ153)/'Base original'!AR153)","v":1.1934555204221377E-2},{"$f":"+('Base original'!AR165/'Base original'!AR153*100-100)*'Base original'!AR153/'Base original'!$AR153","v":9.0190440003186723},{"$f":"+('Base original'!AR165/'Base original'!AR153*100-100)*'Base original'!AR153/'Base original'!$BC153","v":5.3891400102258329},{"$f":"+('Base original'!AS165/'Base original'!AS153*100-100)*'Base original'!AS153/'Base original'!$BC153","v":0.59980520443481056},{"$f":"+('Base original'!AT165/'Base original'!AT153*100-100)*'Base original'!AT153/'Base original'!$BC153","v":0.44400754771096451},{"$f":"+('Base original'!AU165/'Base original'!AU153*100-100)*'Base original'!AU153/'Base original'!$BC153","v":2.934378479717485},{"$f":"+('Base original'!AV165/'Base original'!AV153*100-100)*'Base original'!AV153/'Base original'!$BC153","v":-3.1316294391459984E-2},{"$f":"+('Base original'!AW165/'Base original'!AW153*100-100)*'Base original'!AW153/'Base original'!$BC153","v":0.13106476429020511},{"$f":"+('Base original'!AX165/'Base original'!AX153*100-100)*'Base original'!AX153/'Base original'!$BC153","v":1.3323191070876514},{"$f":"+('Base original'!AY165/'Base original'!AY153*100-100)*'Base original'!AY153/'Base original'!$BC153","v":0.53138544978100455},{"$f":"+('Base original'!AZ165/'Base original'!AZ153*100-100)*'Base original'!AZ153/'Base original'!$BC153","v":-6.2052703037187192E-3},{"$f":"+('Base original'!BA165/'Base original'!BA153*100-100)*'Base original'!BA153/'Base original'!$BC153","v":-1.5938596556060345},{"$f":"+('Base original'!BB165/'Base original'!BB153*100-100)*'Base original'!BB153/'Base original'!$BC153","v":9.8210072188227304E-3},{"$f":"+(('Base original'!AY165-'Base original'!BA165)/('Base original'!AY153-'Base original'!BA153)*100-100)*('Base original'!AY153-'Base original'!BA153)/'Base original'!$BC153","v":2.1252451053870396},{"$f":"+(('Base original'!AZ165-'Base original'!BB165)/('Base original'!AZ153-'Base original'!BB153)*100-100)*('Base original'!AZ153-'Base original'!BB153)/'Base original'!$BC153","v":-1.602627752254146E-2},{"$f":"+('Base original'!BC165/'Base original'!BC153*100-100)*'Base original'!BC153/'Base original'!$BC153","v":12.908617646939959}]

{"sheet":"Base gráficos 2","index":3,"n_rows":164,"n_cols":6,"rows_kept":164,"cut":false,"hidden":false,"merged":[[4,1,4,5],[3,1,3,5],[0,1,0,5],[1,1,1,5]]}
[null,"COLOCACIONES "]
[null,"Colocaciones balances individuales"]
[null,"comercial","consumo","vivienda","comex","Total"]
[null,"Variación  mensual, porcentaje"]
[null,"Fuente: Banco Central de Chile y Superintendencia de Bancos e Instituciones Financieras."]
[]
["2006-01-01"]
["2006-02-01"]
["2006-03-01"]
["2006-04-01"]
["2006-05-01"]
["2006-06-01"]
["2006-07-01"]
["2006-08-01"]
["2006-09-01"]
["2006-10-01"]
["2006-11-01"]
["2006-12-01"]
["2007-01-01",{"$f":"('Base original'!B20/'Base original'!B19*100-100)","v":0.64692885236952691},{"$f":"('Base original'!C20/'Base original'!C19*100-100)","v":1.1501099065297353},{"$f":"('Base original'!D20/'Base original'!D19*100-100)","v":1.1975595460214947},{"$f":"('Base original'!E20/'Base original'!E19*100-100)","v":3.0122496390157352},{"$f":"('Base original'!F20/'Base original'!F19*100-100)","v":1.0432435212535154}]
["2007-02-01",{"$f":"('Base original'!B21/'Base original'!B20*100-100)","v":1.1614522075634},{"$f":"('Base original'!C21/'Base original'!C20*100-100)","v":0.88831004607918373},{"$f":"('Base original'!D21/'Base original'!D20*100-100)","v":1.2926662202686714},{"$f":"('Base original'!E21/'Base original'!E20*100-100)","v":0.63375086458216856},{"$f":"('Base original'!F21/'Base original'!F20*100-100)","v":1.1036786785238348}]
["2007-03-01",{"$f":"('Base original'!B22/'Base original'!B21*100-100)","v":1.1299062138438813},{"$f":"('Base original'!C22/'Base original'!C21*100-100)","v":1.9031670499502837},{"$f":"('Base original'!D22/'Base original'!D21*100-100)","v":1.5085584888562096},{"$f":"('Base original'!E22/'Base original'!E21*100-100)","v":-0.13655868500590884},{"$f":"('Base original'!F22/'Base original'!F21*100-100)","v":1.1905000084314139}]
["2007-04-01",{"$f":"('Base original'!B23/'Base original'!B22*100-100)","v":1.5898360784019587},{"$f":"('Base original'!C23/'Base original'!C22*100-100)","v":1.2542926961639012},{"$f":"('Base original'!D23/'Base original'!D22*100-100)","v":1.3759430920658531},{"$f":"('Base original'!E23/'Base original'!E22*100-100)","v":3.3801627276561135},{"$f":"('Base original'!F23/'Base original'!F22*100-100)","v":1.6663196908971258}]
["2007-05-01",{"$f":"('Base original'!B24/'Base original'!B23*100-100)","v":1.2736486719719551},{"$f":"('Base original'!C24/'Base original'!C23*100-100)","v":0.58416686947322205},{"$f":"('Base original'!D24/'Base original'!D23*100-100)","v":1.9763241389287174},{"$f":"('Base original'!E24/'Base original'!E23*100-100)","v":3.4256194562850055},{"$f":"('Base original'!F24/'Base original'!F23*100-100)","v":1.5309950271528407}]
["2007-06-01",{"$f":"('Base original'!B25/'Base original'!B24*100-100)","v":1.5924592264251203},{"$f":"('Base original'!C25/'Base original'!C24*100-100)","v":0.73361315085784895},{"$f":"('Base original'!D25/'Base original'!D24*100-100)","v":2.3430497867090736},{"$f":"('Base original'!E25/'Base original'!E24*100-100)","v":-0.607093212956201},{"$f":"('Base original'!F25/'Base original'!F24*100-100)","v":1.4284514544765159}]
["2007-07-01",{"$f":"('Base original'!B26/'Base original'!B25*100-100)","v":1.5436334138266403},{"$f":"('Base original'!C26/'Base original'!C25*100-100)","v":1.2323705840997974},{"$f":"('Base original'!D26/'Base original'!D25*100-100)","v":1.9659542771129708},{"$f":"('Base original'!E26/'Base original'!E25*100-100)","v":-0.45076696773908509},{"$f":"('Base original'!F26/'Base original'!F25*100-100)","v":1.4062495335152079}]
["2007-08-01",{"$f":"('Base original'!B27/'Base original'!B26*100-100)","v":2.0088057910680419},{"$f":"('Base original'!C27/'Base original'!C26*100-100)","v":1.7312812463587761},{"$f":"('Base original'!D27/'Base original'!D26*100-100)","v":2.3630355184937031},{"$f":"('Base original'!E27/'Base original'!E26*100-100)","v":1.8390293126349775},{"$f":"('Base original'!F27/'Base original'!F26*100-100)","v":2.0326145457944023}]
["2007-09-01",{"$f":"('Base original'!B28/'Base original'!B27*100-100)","v":2.1597062878382758},{"$f":"('Base original'!C28/'Base original'!C27*100-100)","v":0.98474492981894457},{"$f":"('Base original'!D28/'Base original'!D27*100-100)","v":2.5112831868569145},{"$f":"('Base original'!E28/'Base original'!E27*100-100)","v":-0.91665068392455851},{"$f":"('Base original'!F28/'Base original'!F27*100-100)","v":1.8030894646113467}]
["2007-10-01",{"$f":"('Base original'!B29/'Base original'!B28*100-100)","v":1.8925271046586971},{"$f":"('Base original'!C29/'Base original'!C28*100-100)","v":1.3075916174739319},{"$f":"('Base original'!D29/'Base original'!D28*100-100)","v":2.0583320781936862},{"$f":"('Base original'!E29/'Base original'!E28*100-100)","v":-1.3752500557352931},{"$f":"('Base original'!F29/'Base original'!F28*100-100)","v":1.5629771689782643}]
["2007-11-01",{"$f":"('Base original'!B30/'Base original'!B29*100-100)","v":3.0409987904010336},{"$f":"('Base original'!C30/'Base original'!C29*100-100)","v":1.4769093542442988},{"$f":"('Base original'!D30/'Base original'!D29*100-100)","v":1.5381037889236922},{"$f":"('Base original'!E30/'Base original'!E29*100-100)","v":5.8404716961139229},{"$f":"('Base original'!F30/'Base original'!F29*100-100)","v":2.7639112954363441}]
["2007-12-01",{"$f":"('Base original'!B31/'Base original'!B30*100-100)","v":2.529157034799141},{"$f":"('Base original'!C31/'Base original'!C30*100-100)","v":1.11659282520678},{"$f":"('Base original'!D31/'Base original'!D30*100-100)","v":1.8895420835969787},{"$f":"('Base original'!E31/'Base original'!E30*100-100)","v":-2.5346114230774077},{"$f":"('Base original'!F31/'Base original'!F30*100-100)","v":1.7668747656028643}]
["2008-01-01",{"$f":"('Base original'!B32/'Base original'!B31*100-100)","v":-0.37123522589857316},{"$f":"('Base original'!C32/'Base original'!C31*100-100)","v":1.1404064206922016},{"$f":"('Base original'!D32/'Base original'!D31*100-100)","v":2.0837619416647897},{"$f":"('Base original'!E32/'Base original'!E31*100-100)","v":-5.6887016513796738},{"$f":"('Base original'!F32/'Base original'!F31*100-100)","v":-0.11740648266896869}]
["2008-02-01",{"$f":"('Base original'!B33/'Base original'!B32*100-100)","v":1.0118368387398675},{"$f":"('Base original'!C33/'Base original'!C32*100-100)","v":0.75180092839231349},{"$f":"('Base original'!D33/'Base original'!D32*100-100)","v":1.0433009516698917},{"$f":"('Base original'!E33/'Base original'!E32*100-100)","v":1.976586455426002},{"$f":"('Base original'!F33/'Base original'!F32*100-100)","v":1.0638322853313298}]
["2008-03-01",{"$f":"('Base original'!B34/'Base original'!B33*100-100)","v":0.4427012698967161},{"$f":"('Base original'!C34/'Base original'!C33*100-100)","v":1.0480058554569922},{"$f":"('Base original'!D34/'Base original'!D33*100-100)","v":1.4442825821055152},{"$f":"('Base original'!E34/'Base original'!E33*100-100)","v":-0.8733343105069622},{"$f":"('Base original'!F34/'Base original'!F33*100-100)","v":0.62830414526058576}]
["2008-04-01",{"$f":"('Base original'!B35/'Base original'!B34*100-100)","v":2.3290922516081736},{"$f":"('Base original'!C35/'Base original'!C34*100-100)","v":1.2191996366391464},{"$f":"('Base original'!D35/'Base original'!D34*100-100)","v":1.9845457932549095},{"$f":"('Base original'!E35/'Base original'!E34*100-100)","v":12.964812308278397},{"$f":"('Base original'!F35/'Base original'!F34*100-100)","v":2.966395414723408}]
["2008-05-01",{"$f":"('Base original'!B36/'Base original'!B35*100-100)","v":1.4544651069814165},{"$f":"('Base original'!C36/'Base original'!C35*100-100)","v":-2.5354411370855701E-2},{"$f":"('Base original'!D36/'Base original'!D35*100-100)","v":1.3661324857876025},{"$f":"('Base original'!E36/'Base original'!E35*100-100)","v":8.8745541883111372},{"$f":"('Base original'!F36/'Base original'!F35*100-100)","v":1.9049400801773828}]
["2008-06-01",{"$f":"('Base original'!B37/'Base original'!B36*100-100)","v":2.0780517455981027},{"$f":"('Base original'!C37/'Base original'!C36*100-100)","v":0.42553889825978786},{"$f":"('Base original'!D37/'Base original'!D36*100-100)","v":2.1862453690691126},{"$f":"('Base original'!E37/'Base original'!E36*100-100)","v":10.790129445247217},{"$f":"('Base original'!F37/'Base original'!F36*100-100)","v":2.7193580354841913}]
["2008-07-01",{"$f":"('Base original'!B38/'Base original'!B37*100-100)","v":1.1748388509719092},{"$f":"('Base original'!C38/'Base original'!C37*100-100)","v":0.48828911262326358},{"$f":"('Base original'!D38/'Base original'!D37*100-100)","v":2.2329845365015331},{"$f":"('Base original'!E38/'Base original'!E37*100-100)","v":-4.6229316022729279},{"$f":"('Base original'!F38/'Base original'!F37*100-100)","v":0.73341179666029177}]
["2008-08-01",{"$f":"('Base original'!B39/'Base original'!B38*100-100)","v":1.297917187258534},{"$f":"('Base original'!C39/'Base original'!C38*100-100)","v":0.71003856844180291},{"$f":"('Base original'!D39/'Base original'!D38*100-100)","v":1.9993748015224071},{"$f":"('Base original'!E39/'Base original'!E38*100-100)","v":0.18338904211276486},{"$f":"('Base original'!F39/'Base original'!F38*100-100)","v":1.2742574468637144}]
["2008-09-01",{"$f":"('Base original'!B40/'Base original'!B39*100-100)","v":1.7387871687221121},{"$f":"('Base original'!C40/'Base original'!C39*100-100)","v":0.32389584961617857},{"$f":"('Base original'!D40/'Base original'!D39*100-100)","v":1.6775170598836127},{"$f":"('Base original'!E40/'Base original'!E39*100-100)","v":8.3808506439507795},{"$f":"('Base original'!F40/'Base original'!F39*100-100)","v":2.1893461038959146}]
["2008-10-01",{"$f":"('Base original'!B41/'Base original'!B40*100-100)","v":3.5310895478893372},{"$f":"('Base original'!C41/'Base original'!C40*100-100)","v":0.12262883401945146},{"$f":"('Base original'!D41/'Base original'!D40*100-100)","v":1.5546871970395983},{"$f":"('Base original'!E41/'Base original'!E40*100-100)","v":16.443040405320758},{"$f":"('Base original'!F41/'Base original'!F40*100-100)","v":4.0069831454909064}]
["2008-11-01",{"$f":"('Base original'!B42/'Base original'!B41*100-100)","v":0.82015176028666303},{"$f":"('Base original'!C42/'Base original'!C41*100-100)","v":0.48111559368115309},{"$f":"('Base original'!D42/'Base original'!D41*100-100)","v":1.197683895557617},{"$f":"('Base original'!E42/'Base original'!E41*100-100)","v":-0.8365400227124411},{"$f":"('Base original'!F42/'Base original'!F41*100-100)","v":0.67636829018962885}]
["2008-12-01",{"$f":"('Base original'!B43/'Base original'!B42*100-100)","v":-1.1450054224792012},{"$f":"('Base original'!C43/'Base original'!C42*100-100)","v":-0.11148192582548688},{"$f":"('Base original'!D43/'Base original'!D42*100-100)","v":0.60002672740868945},{"$f":"('Base original'!E43/'Base original'!E42*100-100)","v":-6.734408667426834},{"$f":"('Base original'!F43/'Base original'!F42*100-100)","v":-1.277600156855101}]
["2009-01-01",{"$f":"('Base original'!B44/'Base original'!B43*100-100)","v":-1.5187869957304656},{"$f":"('Base original'!C44/'Base original'!C43*100-100)","v":-0.17074864770299314},{"$f":"('Base original'!D44/'Base original'!D43*100-100)","v":-5.2171813294492608E-2},{"$f":"('Base original'!E44/'Base original'!E43*100-100)","v":-4.3349290047919595},{"$f":"('Base original'!F44/'Base original'!F43*100-100)","v":-1.3436131421808852}]
["2009-02-01",{"$f":"('Base original'!B45/'Base original'!B44*100-100)","v":-1.2040866973137554},{"$f":"('Base original'!C45/'Base original'!C44*100-100)","v":-0.71120746430531767},{"$f":"('Base original'!D45/'Base original'!D44*100-100)","v":-0.69206056486612511},{"$f":"('Base original'!E45/'Base original'!E44*100-100)","v":-5.6127184751608894},{"$f":"('Base original'!F45/'Base original'!F44*100-100)","v":-1.4831807545140947}]
["2009-03-01",{"$f":"('Base original'!B46/'Base original'!B45*100-100)","v":-1.6398672795344567},{"$f":"('Base original'!C46/'Base original'!C45*100-100)","v":4.5574179678936844E-2},{"$f":"('Base original'!D46/'Base original'!D45*100-100)","v":0.14749133989894858},{"$f":"('Base original'!E46/'Base original'!E45*100-100)","v":-4.7318511599974613},{"$f":"('Base original'!F46/'Base original'!F45*100-100)","v":-1.3510107179751856}]
["2009-04-01",{"$f":"('Base original'!B47/'Base original'!B46*100-100)","v":1.0283327338270141},{"$f":"('Base original'!C47/'Base original'!C46*100-100)","v":0.43412936866677398},{"$f":"('Base original'!D47/'Base original'!D46*100-100)","v":0.24229965060776237},{"$f":"('Base original'!E47/'Base original'!E46*100-100)","v":-4.9752944797151315},{"$f":"('Base original'!F47/'Base original'!F46*100-100)","v":0.21781650721931101}]
["2009-05-01",{"$f":"('Base original'!B48/'Base original'!B47*100-100)","v":-0.35458877024477431},{"$f":"('Base original'!C48/'Base original'!C47*100-100)","v":-0.69777678920094388},{"$f":"('Base original'!D48/'Base original'!D47*100-100)","v":0.49741165131398191},{"$f":"('Base original'!E48/'Base original'!E47*100-100)","v":-3.3680001824803583},{"$f":"('Base original'!F48/'Base original'!F47*100-100)","v":-0.47049238825735529}]
["2009-06-01",{"$f":"('Base original'!B49/'Base original'!B48*100-100)","v":-0.77784618516363935},{"$f":"('Base original'!C49/'Base original'!C48*100-100)","v":-0.73801430204625262},{"$f":"('Base original'!D49/'Base original'!D48*100-100)","v":0.88146453014658732},{"$f":"('Base original'!E49/'Base original'!E48*100-100)","v":-12.608114342021707},{"$f":"('Base original'!F49/'Base original'!F48*100-100)","v":-1.4184519331190302}]
["2009-07-01",{"$f":"('Base original'!B50/'Base original'!B49*100-100)","v":0.11259210655232721},{"$f":"('Base original'!C50/'Base original'!C49*100-100)","v":0.12484098492609519},{"$f":"('Base original'!D50/'Base original'!D49*100-100)","v":0.84210440357961147},{"$f":"('Base original'!E50/'Base original'!E49*100-100)","v":-0.75530721664864586},{"$f":"('Base original'!F50/'Base original'!F49*100-100)","v":0.21770095404025369}]
["2009-08-01",{"$f":"('Base original'!B51/'Base original'!B50*100-100)","v":1.0083302098128399},{"$f":"('Base original'!C51/'Base original'!C50*100-100)","v":8.0822498321992953E-2},{"$f":"('Base original'!D51/'Base original'!D50*100-100)","v":0.67707654445288767},{"$f":"('Base original'!E51/'Base original'!E50*100-100)","v":0.49556185786090623},{"$f":"('Base original'!F51/'Base original'!F50*100-100)","v":0.78368163633790289}]
["2009-09-01",{"$f":"('Base original'!B52/'Base original'!B51*100-100)","v":0.44836897377318508},{"$f":"('Base original'!C52/'Base original'!C51*100-100)","v":0.26201969224604227},{"$f":"('Base original'!D52/'Base original'!D51*100-100)","v":0.71065535691097637},{"$f":"('Base original'!E52/'Base original'!E51*100-100)","v":-2.65191682410385},{"$f":"('Base original'!F52/'Base original'!F51*100-100)","v":0.2535420837023139}]
["2009-10-01",{"$f":"('Base original'!B53/'Base original'!B52*100-100)","v":0.10528905451919002},{"$f":"('Base original'!C53/'Base original'!C52*100-100)","v":0.7122552448733046},{"$f":"('Base original'!D53/'Base original'!D52*100-100)","v":1.4361372789642957},{"$f":"('Base original'!E53/'Base original'!E52*100-100)","v":-0.41221365530226706},{"$f":"('Base original'!F53/'Base original'!F52*100-100)","v":0.45098084147959128}]
["2009-11-01",{"$f":"('Base original'!B54/'Base original'!B53*100-100)","v":-0.25603898236785483},{"$f":"('Base original'!C54/'Base original'!C53*100-100)","v":0.54588637896306125},{"$f":"('Base original'!D54/'Base original'!D53*100-100)","v":1.4073708256923538},{"$f":"('Base original'!E54/'Base original'!E53*100-100)","v":-7.7677641931656751},{"$f":"('Base original'!F54/'Base original'!F53*100-100)","v":-0.31503300702139825}]
["2009-12-01",{"$f":"('Base original'!B55/'Base original'!B54*100-100)","v":3.7012120985090036},{"$f":"('Base original'!C55/'Base original'!C54*100-100)","v":0.93438966698384718},{"$f":"('Base original'!D55/'Base original'!D54*100-100)","v":0.83097819571760567},{"$f":"('Base original'!E55/'Base original'!E54*100-100)","v":-4.0480142060104924},{"$f":"('Base original'!F55/'Base original'!F54*100-100)","v":2.160303682741187}]
["2010-01-01",{"$f":"('Base original'!B56/'Base original'!B55*100-100)","v":-0.37992209829211276},{"$f":"('Base original'!C56/'Base original'!C55*100-100)","v":0.42212957586768596},{"$f":"('Base original'!D56/'Base original'!D55*100-100)","v":0.27435665587898939},{"$f":"('Base original'!E56/'Base original'!E55*100-100)","v":13.441743411951038},{"$f":"('Base original'!F56/'Base original'!F55*100-100)","v":0.74480598721360991}]
["2010-02-01",{"$f":"('Base original'!B57/'Base original'!B56*100-100)","v":0.55927935391353856},{"$f":"('Base original'!C57/'Base original'!C56*100-100)","v":0.17521390941750781},{"$f":"('Base original'!D57/'Base original'!D56*100-100)","v":0.6529080145352566},{"$f":"('Base original'!E57/'Base original'!E56*100-100)","v":-2.428819986093572},{"$f":"('Base original'!F57/'Base original'!F56*100-100)","v":0.3241470555491901}]
["2010-03-01",{"$f":"('Base original'!B58/'Base original'!B57*100-100)","v":-0.36286105826728488},{"$f":"('Base original'!C58/'Base original'!C57*100-100)","v":0.67217536752409046},{"$f":"('Base original'!D58/'Base original'!D57*100-100)","v":0.64854077270611299},{"$f":"('Base original'!E58/'Base original'!E57*100-100)","v":0.45754611460606043},{"$f":"('Base original'!F58/'Base original'!F57*100-100)","v":5.4308216180174895E-2}]
["2010-04-01",{"$f":"('Base original'!B59/'Base original'!B58*100-100)","v":0.73162938986686754},{"$f":"('Base original'!C59/'Base original'!C58*100-100)","v":1.3911672279303104},{"$f":"('Base original'!D59/'Base original'!D58*100-100)","v":0.61846343174121898},{"$f":"('Base original'!E59/'Base original'!E58*100-100)","v":3.9829360258877102},{"$f":"('Base original'!F59/'Base original'!F58*100-100)","v":1.0072441889615646}]
["2010-05-01",{"$f":"('Base original'!B60/'Base original'!B59*100-100)","v":0.69097424605732272},{"$f":"('Base original'!C60/'Base original'!C59*100-100)","v":0.16412482768114955},{"$f":"('Base original'!D60/'Base original'!D59*100-100)","v":1.2334273137213785},{"$f":"('Base original'!E60/'Base original'!E59*100-100)","v":5.391812217300469},{"$f":"('Base original'!F60/'Base original'!F59*100-100)","v":1.0966982925998252}]
["2010-06-01",{"$f":"('Base original'!B61/'Base original'!B60*100-100)","v":0.65280175660755901},{"$f":"('Base original'!C61/'Base original'!C60*100-100)","v":0.6191824529575598},{"$f":"('Base original'!D61/'Base original'!D60*100-100)","v":1.4144097584171078},{"$f":"('Base original'!E61/'Base original'!E60*100-100)","v":3.8652358934981237},{"$f":"('Base original'!F61/'Base original'!F60*100-100)","v":1.071475951893035}]
["2010-07-01",{"$f":"('Base original'!B62/'Base original'!B61*100-100)","v":-0.77576549871342593},{"$f":"('Base original'!C62/'Base original'!C61*100-100)","v":0.93307818232915452},{"$f":"('Base original'!D62/'Base original'!D61*100-100)","v":0.76082706117612986},{"$f":"('Base original'!E62/'Base original'!E61*100-100)","v":-4.7500492651361412},{"$f":"('Base original'!F62/'Base original'!F61*100-100)","v":-0.51642472937525952}]
["2010-08-01",{"$f":"('Base original'!B63/'Base original'!B62*100-100)","v":0.47545992531996717},{"$f":"('Base original'!C63/'Base original'!C62*100-100)","v":1.4588695440505859},{"$f":"('Base original'!D63/'Base original'!D62*100-100)","v":1.3408200298492829},{"$f":"('Base original'!E63/'Base original'!E62*100-100)","v":-1.2209438594606468},{"$f":"('Base original'!F63/'Base original'!F62*100-100)","v":0.67540794588880715}]
["2010-09-01",{"$f":"('Base original'!B64/'Base original'!B63*100-100)","v":0.73447622699842441},{"$f":"('Base original'!C64/'Base original'!C63*100-100)","v":0.86129918541828943},{"$f":"('Base original'!D64/'Base original'!D63*100-100)","v":0.89936766639570465},{"$f":"('Base original'!E64/'Base original'!E63*100-100)","v":-3.3715352110430956},{"$f":"('Base original'!F64/'Base original'!F63*100-100)","v":0.49331559332816255}]
["2010-10-01",{"$f":"('Base original'!B65/'Base original'!B64*100-100)","v":1.1634432348785424},{"$f":"('Base original'!C65/'Base original'!C64*100-100)","v":1.2432898424101779},{"$f":"('Base original'!D65/'Base original'!D64*100-100)","v":1.1534926418076594},{"$f":"('Base original'!E65/'Base original'!E64*100-100)","v":7.2706410448771095},{"$f":"('Base original'!F65/'Base original'!F64*100-100)","v":1.5942620467221928}]
["2010-11-01",{"$f":"('Base original'!B66/'Base original'!B65*100-100)","v":0.52025122029660054},{"$f":"('Base original'!C66/'Base original'!C65*100-100)","v":1.6047501735329917},{"$f":"('Base original'!D66/'Base original'!D65*100-100)","v":0.92243552714367638},{"$f":"('Base original'!E66/'Base original'!E65*100-100)","v":2.0436397484765649},{"$f":"('Base original'!F66/'Base original'!F65*100-100)","v":0.85731170276990554}]
["2010-12-01",{"$f":"('Base original'!B67/'Base original'!B66*100-100)","v":1.3761090722961455},{"$f":"('Base original'!C67/'Base original'!C66*100-100)","v":1.381062446171228},{"$f":"('Base original'!D67/'Base original'!D66*100-100)","v":1.232534665365975},{"$f":"('Base original'!E67/'Base original'!E66*100-100)","v":-9.2790684123541638},{"$f":"('Base original'!F67/'Base original'!F66*100-100)","v":0.55146039389416046}]
["2011-01-01",{"$f":"('Base original'!B68/'Base original'!B67*100-100)","v":0.70046699536770518},{"$f":"('Base original'!C68/'Base original'!C67*100-100)","v":1.3238618615033033},{"$f":"('Base original'!D68/'Base original'!D67*100-100)","v":0.60822002078867854},{"$f":"('Base original'!E68/'Base original'!E67*100-100)","v":13.753265366779004},{"$f":"('Base original'!F68/'Base original'!F67*100-100)","v":1.6250478981573337}]
["2011-02-01",{"$f":"('Base original'!B69/'Base original'!B68*100-100)","v":0.38588506372995823},{"$f":"('Base original'!C69/'Base original'!C68*100-100)","v":1.0986444468683345},{"$f":"('Base original'!D69/'Base original'!D68*100-100)","v":0.77787972187061882},{"$f":"('Base original'!E69/'Base original'!E68*100-100)","v":2.859537257017692},{"$f":"('Base original'!F69/'Base original'!F68*100-100)","v":0.75133239367674776}]
["2011-03-01",{"$f":"('Base original'!B70/'Base original'!B69*100-100)","v":1.2712837676928359},{"$f":"('Base original'!C70/'Base original'!C69*100-100)","v":2.2107126431664739},{"$f":"('Base original'!D70/'Base original'!D69*100-100)","v":1.0040945607542966},{"$f":"('Base original'!E70/'Base original'!E69*100-100)","v":4.6970983753661386},{"$f":"('Base original'!F70/'Base original'!F69*100-100)","v":1.5796719992033843}]
["2011-04-01",{"$f":"('Base original'!B71/'Base original'!B70*100-100)","v":1.3374786931966725},{"$f":"('Base original'!C71/'Base original'!C70*100-100)","v":1.6853883423178786},{"$f":"('Base original'!D71/'Base original'!D70*100-100)","v":1.091731265745139},{"$f":"('Base original'!E71/'Base original'!E70*100-100)","v":1.0037058904905081},{"$f":"('Base original'!F71/'Base original'!F70*100-100)","v":1.2931368007079698}]
["2011-05-01",{"$f":"('Base original'!B72/'Base original'!B71*100-100)","v":1.7434148901253081},{"$f":"('Base original'!C72/'Base original'!C71*100-100)","v":0.63354723053110718},{"$f":"('Base original'!D72/'Base original'!D71*100-100)","v":1.0275910231642911},{"$f":"('Base original'!E72/'Base original'!E71*100-100)","v":6.605306873480373},{"$f":"('Base original'!F72/'Base original'!F71*100-100)","v":1.8185538860648052}]
["2011-06-01",{"$f":"('Base original'!B73/'Base original'!B72*100-100)","v":0.67888736294416674},{"$f":"('Base original'!C73/'Base original'!C72*100-100)","v":1.1528335620149477},{"$f":"('Base original'!D73/'Base original'!D72*100-100)","v":1.1779795693548181},{"$f":"('Base original'!E73/'Base original'!E72*100-100)","v":-2.3552839952673708},{"$f":"('Base original'!F73/'Base original'!F72*100-100)","v":0.60560086145730452}]
["2011-07-01",{"$f":"('Base original'!B74/'Base original'!B73*100-100)","v":0.33147207071972673},{"$f":"('Base original'!C74/'Base original'!C73*100-100)","v":1.1755675984413045},{"$f":"('Base original'!D74/'Base original'!D73*100-100)","v":0.89475000365241897},{"$f":"('Base original'!E74/'Base original'!E73*100-100)","v":2.3340814059989157},{"$f":"('Base original'!F74/'Base original'!F73*100-100)","v":0.72839482452724269}]
["2011-08-01",{"$f":"('Base original'!B75/'Base original'!B74*100-100)","v":0.91709179566838372},{"$f":"('Base original'!C75/'Base original'!C74*100-100)","v":1.6798624057108924},{"$f":"('Base original'!D75/'Base original'!D74*100-100)","v":0.82949428361922628},{"$f":"('Base original'!E75/'Base original'!E74*100-100)","v":3.6642499476256631},{"$f":"('Base original'!F75/'Base original'!F74*100-100)","v":1.2101895288525242}]
["2011-09-01",{"$f":"('Base original'!B76/'Base original'!B75*100-100)","v":2.5531225572538148},{"$f":"('Base original'!C76/'Base original'!C75*100-100)","v":0.92772577769571285},{"$f":"('Base original'!D76/'Base original'!D75*100-100)","v":0.78829448922301992},{"$f":"('Base original'!E76/'Base original'!E75*100-100)","v":13.30657223236733},{"$f":"('Base original'!F76/'Base original'!F75*100-100)","v":2.8247483133032603}]
["2011-10-01",{"$f":"('Base original'!B77/'Base original'!B76*100-100)","v":1.3951262961743822},{"$f":"('Base original'!C77/'Base original'!C76*100-100)","v":1.1417704773906792},{"$f":"('Base original'!D77/'Base original'!D76*100-100)","v":0.92880202407971524},{"$f":"('Base original'!E77/'Base original'!E76*100-100)","v":-5.3620527882431901},{"$f":"('Base original'!F77/'Base original'!F76*100-100)","v":0.63620646074630827}]
["2011-11-01",{"$f":"('Base original'!B78/'Base original'!B77*100-100)","v":1.6421172479566053},{"$f":"('Base original'!C78/'Base original'!C77*100-100)","v":2.3564158497456162},{"$f":"('Base original'!D78/'Base original'!D77*100-100)","v":1.2499805320385491},{"$f":"('Base original'!E78/'Base original'!E77*100-100)","v":4.0979586271443935},{"$f":"('Base original'!F78/'Base original'!F77*100-100)","v":1.8454151990912493}]
["2011-12-01",{"$f":"('Base original'!B79/'Base original'!B78*100-100)","v":1.6243357841958499},{"$f":"('Base original'!C79/'Base original'!C78*100-100)","v":1.0496195368699546},{"$f":"('Base original'!D79/'Base original'!D78*100-100)","v":1.3639110093210007},{"$f":"('Base original'!E79/'Base original'!E78*100-100)","v":-5.6367758450836476},{"$f":"('Base original'!F79/'Base original'!F78*100-100)","v":0.8552787967558686}]
["2012-01-01",{"$f":"('Base original'!B80/'Base original'!B79*100-100)","v":0.99844671006788133},{"$f":"('Base original'!C80/'Base original'!C79*100-100)","v":0.91755598787324288},{"$f":"('Base original'!D80/'Base original'!D79*100-100)","v":0.94197575548309942},{"$f":"('Base original'!E80/'Base original'!E79*100-100)","v":-7.2341764668666713},{"$f":"('Base original'!F80/'Base original'!F79*100-100)","v":0.29754495735996045}]
["2012-02-01",{"$f":"('Base original'!B81/'Base original'!B80*100-100)","v":0.67032978659973708},{"$f":"('Base original'!C81/'Base original'!C80*100-100)","v":0.86352000138845142},{"$f":"('Base original'!D81/'Base original'!D80*100-100)","v":0.82767973599135303},{"$f":"('Base original'!E81/'Base original'!E80*100-100)","v":1.4241266826102219},{"$f":"('Base original'!F81/'Base original'!F80*100-100)","v":0.78854087369435888}]
["2012-03-01",{"$f":"('Base original'!B82/'Base original'!B81*100-100)","v":1.8688010249662881},{"$f":"('Base original'!C82/'Base original'!C81*100-100)","v":1.3238140316823177},{"$f":"('Base original'!D82/'Base original'!D81*100-100)","v":1.0418646966024596},{"$f":"('Base original'!E82/'Base original'!E81*100-100)","v":4.5184749696174151},{"$f":"('Base original'!F82/'Base original'!F81*100-100)","v":1.8087944794331463}]
["2012-04-01",{"$f":"('Base original'!B83/'Base original'!B82*100-100)","v":1.0580524139895289},{"$f":"('Base original'!C83/'Base original'!C82*100-100)","v":0.89378268637246094},{"$f":"('Base original'!D83/'Base original'!D82*100-100)","v":0.85836776083117172},{"$f":"('Base original'!E83/'Base original'!E82*100-100)","v":3.0085275709746782},{"$f":"('Base original'!F83/'Base original'!F82*100-100)","v":1.1444944345281129}]
["2012-05-01",{"$f":"('Base original'!B84/'Base original'!B83*100-100)","v":2.1777520037259848},{"$f":"('Base original'!C84/'Base original'!C83*100-100)","v":0.56102180724819561},{"$f":"('Base original'!D84/'Base original'!D83*100-100)","v":0.77130208473126061},{"$f":"('Base original'!E84/'Base original'!E83*100-100)","v":11.316102829313365},{"$f":"('Base original'!F84/'Base original'!F83*100-100)","v":2.3842716546896128}]
["2012-06-01",{"$f":"('Base original'!B85/'Base original'!B84*100-100)","v":1.2608535393495259},{"$f":"('Base original'!C85/'Base original'!C84*100-100)","v":0.67536771652230243},{"$f":"('Base original'!D85/'Base original'!D84*100-100)","v":0.86690279923166713},{"$f":"('Base original'!E85/'Base original'!E84*100-100)","v":-3.0233351994990727},{"$f":"('Base original'!F85/'Base original'!F84*100-100)","v":0.72725636733706267}]
["2012-07-01",{"$f":"('Base original'!B86/'Base original'!B85*100-100)","v":-2.7465342237348978E-2},{"$f":"('Base original'!C86/'Base original'!C85*100-100)","v":0.78876147197652813},{"$f":"('Base original'!D86/'Base original'!D85*100-100)","v":0.38474297305461391},{"$f":"('Base original'!E86/'Base original'!E85*100-100)","v":-2.3404905628513006},{"$f":"('Base original'!F86/'Base original'!F85*100-100)","v":-2.9615011695739213E-2}]
["2012-08-01",{"$f":"('Base original'!B87/'Base original'!B86*100-100)","v":5.4205891824338437E-2},{"$f":"('Base original'!C87/'Base original'!C86*100-100)","v":1.3833132779887336},{"$f":"('Base original'!D87/'Base original'!D86*100-100)","v":0.70011184501659329},{"$f":"('Base original'!E87/'Base original'!E86*100-100)","v":3.1947785259950621},{"$f":"('Base original'!F87/'Base original'!F86*100-100)","v":0.61989979979317411}]
["2012-09-01",{"$f":"('Base original'!B88/'Base original'!B87*100-100)","v":0.96095053891313853},{"$f":"('Base original'!C88/'Base original'!C87*100-100)","v":0.62728410988526662},{"$f":"('Base original'!D88/'Base original'!D87*100-100)","v":0.71919928753530371},{"$f":"('Base original'!E88/'Base original'!E87*100-100)","v":-2.0728038188582332},{"$f":"('Base original'!F88/'Base original'!F87*100-100)","v":0.60966334701200253}]
["2012-10-01",{"$f":"('Base original'!B89/'Base original'!B88*100-100)","v":1.1949567331155606},{"$f":"('Base original'!C89/'Base original'!C88*100-100)","v":1.0764332835554455},{"$f":"('Base original'!D89/'Base original'!D88*100-100)","v":1.2276714395207762},{"$f":"('Base original'!E89/'Base original'!E88*100-100)","v":-0.66581483275255948},{"$f":"('Base original'!F89/'Base original'!F88*100-100)","v":1.0362910745133576}]
["2012-11-01",{"$f":"('Base original'!B90/'Base original'!B89*100-100)","v":1.7356856279920407},{"$f":"('Base original'!C90/'Base original'!C89*100-100)","v":1.1697034982073689},{"$f":"('Base original'!D90/'Base original'!D89*100-100)","v":1.3530457859776419},{"$f":"('Base original'!E90/'Base original'!E89*100-100)","v":0.22536845684439299},{"$f":"('Base original'!F90/'Base original'!F89*100-100)","v":1.4568829123109879}]
["2012-12-01",{"$f":"('Base original'!B91/'Base original'!B90*100-100)","v":1.3584611424676751},{"$f":"('Base original'!C91/'Base original'!C90*100-100)","v":0.71728127331043368},{"$f":"('Base original'!D91/'Base original'!D90*100-100)","v":0.74828157494384584},{"$f":"('Base original'!E91/'Base original'!E90*100-100)","v":-1.4485387610276206},{"$f":"('Base original'!F91/'Base original'!F90*100-100)","v":0.91612461063188277}]
["2013-01-01",{"$f":"('Base original'!B92/'Base original'!B91*100-100)","v":-0.1110266153456223},{"$f":"('Base original'!C92/'Base original'!C91*100-100)","v":0.78875140579862091},{"$f":"('Base original'!D92/'Base original'!D91*100-100)","v":0.60807235751849475},{"$f":"('Base original'!E92/'Base original'!E91*100-100)","v":-1.3677429329142683},{"$f":"('Base original'!F92/'Base original'!F91*100-100)","v":6.6688101047390091E-2}]
["2013-02-01",{"$f":"('Base original'!B93/'Base original'!B92*100-100)","v":0.6834231748306081},{"$f":"('Base original'!C93/'Base original'!C92*100-100)","v":0.48224161766779616},{"$f":"('Base original'!D93/'Base original'!D92*100-100)","v":0.8399688447735798},{"$f":"('Base original'!E93/'Base original'!E92*100-100)","v":1.1343651756528175},{"$f":"('Base original'!F93/'Base original'!F92*100-100)","v":0.73066228277207301}]
["2013-03-01",{"$f":"('Base original'!B94/'Base original'!B93*100-100)","v":0.82685376954849232},{"$f":"('Base original'!C94/'Base original'!C93*100-100)","v":1.2284393168521319},{"$f":"('Base original'!D94/'Base original'!D93*100-100)","v":0.9654077510830632},{"$f":"('Base original'!E94/'Base original'!E93*100-100)","v":2.2787177537529857},{"$f":"('Base original'!F94/'Base original'!F93*100-100)","v":1.0188819000087648}]
["2013-04-01",{"$f":"('Base original'!B95/'Base original'!B94*100-100)","v":0.18843533560084325},{"$f":"('Base original'!C95/'Base original'!C94*100-100)","v":0.98743031054029018},{"$f":"('Base original'!D95/'Base original'!D94*100-100)","v":0.97189147812308363},{"$f":"('Base original'!E95/'Base original'!E94*100-100)","v":2.8345796637268847},{"$f":"('Base original'!F95/'Base original'!F94*100-100)","v":0.67412780119198601}]
["2013-05-01",{"$f":"('Base original'!B96/'Base original'!B95*100-100)","v":1.295038897669599},{"$f":"('Base original'!C96/'Base original'!C95*100-100)","v":0.36075357067953462},{"$f":"('Base original'!D96/'Base original'!D95*100-100)","v":0.44949011255783944},{"$f":"('Base original'!E96/'Base original'!E95*100-100)","v":8.3010971634487731},{"$f":"('Base original'!F96/'Base original'!F95*100-100)","v":1.5394844235106859}]
["2013-06-01",{"$f":"('Base original'!B97/'Base original'!B96*100-100)","v":0.87962741977332826},{"$f":"('Base original'!C97/'Base original'!C96*100-100)","v":0.55615024192643148},{"$f":"('Base original'!D97/'Base original'!D96*100-100)","v":0.6779656974519952},{"$f":"('Base original'!E97/'Base original'!E96*100-100)","v":1.4569722768801086},{"$f":"('Base original'!F97/'Base original'!F96*100-100)","v":0.84304367074136621}]
["2013-07-01",{"$f":"('Base original'!B98/'Base original'!B97*100-100)","v":0.42164659561802864},{"$f":"('Base original'!C98/'Base original'!C97*100-100)","v":0.64113113453936421},{"$f":"('Base original'!D98/'Base original'!D97*100-100)","v":1.0486656290191547},{"$f":"('Base original'!E98/'Base original'!E97*100-100)","v":2.939812254252459},{"$f":"('Base original'!F98/'Base original'!F97*100-100)","v":0.80836083281185722}]
["2013-08-01",{"$f":"('Base original'!B99/'Base original'!B98*100-100)","v":1.1123096318362116},{"$f":"('Base original'!C99/'Base original'!C98*100-100)","v":1.1797476809011727},{"$f":"('Base original'!D99/'Base original'!D98*100-100)","v":0.99299583391456281},{"$f":"('Base original'!E99/'Base original'!E98*100-100)","v":-0.96120295685567214},{"$f":"('Base original'!F99/'Base original'!F98*100-100)","v":0.91199747664146003}]
["2013-09-01",{"$f":"('Base original'!B100/'Base original'!B99*100-100)","v":0.56583717865170513},{"$f":"('Base original'!C100/'Base original'!C99*100-100)","v":0.48110395461702637},{"$f":"('Base original'!D100/'Base original'!D99*100-100)","v":0.95624632397861831},{"$f":"('Base original'!E100/'Base original'!E99*100-100)","v":-4.9624854161821474},{"$f":"('Base original'!F100/'Base original'!F99*100-100)","v":0.17514368606028086}]
["2013-10-01",{"$f":"('Base original'!B101/'Base original'!B100*100-100)","v":0.63480059160548308},{"$f":"('Base original'!C101/'Base original'!C100*100-100)","v":1.2049591006054925},{"$f":"('Base original'!D101/'Base original'!D100*100-100)","v":1.1626753857230767},{"$f":"('Base original'!E101/'Base original'!E100*100-100)","v":-1.0275595028403472},{"$f":"('Base original'!F101/'Base original'!F100*100-100)","v":0.69231319384630297}]
["2013-11-01",{"$f":"('Base original'!B102/'Base original'!B101*100-100)","v":2.1655938032323974},{"$f":"('Base original'!C102/'Base original'!C101*100-100)","v":1.320746743949968},{"$f":"('Base original'!D102/'Base original'!D101*100-100)","v":0.8642296637685547},{"$f":"('Base original'!E102/'Base original'!E101*100-100)","v":3.0219432179598726},{"$f":"('Base original'!F102/'Base original'!F101*100-100)","v":1.8246747755422206}]
["2013-12-01",{"$f":"('Base original'!B103/'Base original'!B102*100-100)","v":0.77334982406999586},{"$f":"('Base original'!C103/'Base original'!C102*100-100)","v":0.70767628560022899},{"$f":"('Base original'!D103/'Base original'!D102*100-100)","v":1.2572832680643415},{"$f":"('Base original'!E103/'Base original'!E102*100-100)","v":-5.4842302522578734},{"$f":"('Base original'!F103/'Base original'!F102*100-100)","v":0.37504002104964229}]
["2014-01-01",{"$f":"('Base original'!B104/'Base original'!B103*100-100)","v":0.96404378559897452},{"$f":"('Base original'!C104/'Base original'!C103*100-100)","v":1.1643301495205378},{"$f":"('Base original'!D104/'Base original'!D103*100-100)","v":1.4017454344015476},{"$f":"('Base original'!E104/'Base original'!E103*100-100)","v":3.5479506079010719},{"$f":"('Base original'!F104/'Base original'!F103*100-100)","v":1.2875066570918534}]
["2014-02-01",{"$f":"('Base original'!B105/'Base original'!B104*100-100)","v":0.19784232784363098},{"$f":"('Base original'!C105/'Base original'!C104*100-100)","v":0.5095153441235567},{"$f":"('Base original'!D105/'Base original'!D104*100-100)","v":1.0901762703763325},{"$f":"('Base original'!E105/'Base original'!E104*100-100)","v":0.50641760672421299},{"$f":"('Base original'!F105/'Base original'!F104*100-100)","v":0.47032326157057014}]
["2014-03-01",{"$f":"('Base original'!B106/'Base original'!B105*100-100)","v":-0.66289784521038086},{"$f":"('Base original'!C106/'Base original'!C105*100-100)","v":0.8732546790614748},{"$f":"('Base original'!D106/'Base original'!D105*100-100)","v":1.3082656624674911},{"$f":"('Base original'!E106/'Base original'!E105*100-100)","v":-2.7905438549064172},{"$f":"('Base original'!F106/'Base original'!F105*100-100)","v":-0.17506025537922199}]
["2014-04-01",{"$f":"('Base original'!B107/'Base original'!B106*100-100)","v":0.19730285818528159},{"$f":"('Base original'!C107/'Base original'!C106*100-100)","v":0.89237894271667528},{"$f":"('Base original'!D107/'Base original'!D106*100-100)","v":1.5018844993547305},{"$f":"('Base original'!E107/'Base original'!E106*100-100)","v":4.0049408406291462},{"$f":"('Base original'!F107/'Base original'!F106*100-100)","v":0.88423024022112884}]
["2014-05-01",{"$f":"('Base original'!B108/'Base original'!B107*100-100)","v":0.57872991256984108},{"$f":"('Base original'!C108/'Base original'!C107*100-100)","v":0.20309875586357862},{"$f":"('Base original'!D108/'Base original'!D107*100-100)","v":1.3231269489978814},{"$f":"('Base original'!E108/'Base original'!E107*100-100)","v":-0.90711287316844391},{"$f":"('Base original'!F108/'Base original'!F107*100-100)","v":0.59906105061824633}]
["2014-06-01",{"$f":"('Base original'!B109/'Base original'!B108*100-100)","v":0.61160177471502664},{"$f":"('Base original'!C109/'Base original'!C108*100-100)","v":0.21258534412696406},{"$f":"('Base original'!D109/'Base original'!D108*100-100)","v":1.1584531628795958},{"$f":"('Base original'!E109/'Base original'!E108*100-100)","v":-3.3477179777216151},{"$f":"('Base original'!F109/'Base original'!F108*100-100)","v":0.39416485365282483}]
["2014-07-01",{"$f":"('Base original'!B110/'Base original'!B109*100-100)","v":0.43723622187449962},{"$f":"('Base original'!C110/'Base original'!C109*100-100)","v":0.6576370239487801},{"$f":"('Base original'!D110/'Base original'!D109*100-100)","v":0.86557734200147252},{"$f":"('Base original'!E110/'Base original'!E109*100-100)","v":3.5070616567376192},{"$f":"('Base original'!F110/'Base original'!F109*100-100)","v":0.79614383741007089}]
["2014-08-01",{"$f":"('Base original'!B111/'Base original'!B110*100-100)","v":1.3087549368913471},{"$f":"('Base original'!C111/'Base original'!C110*100-100)","v":0.79368972856363484},{"$f":"('Base original'!D111/'Base original'!D110*100-100)","v":1.0968165137032742},{"$f":"('Base original'!E111/'Base original'!E110*100-100)","v":-9.4178606486664762E-2},{"$f":"('Base original'!F111/'Base original'!F110*100-100)","v":1.0884317441916807}]
["2014-09-01",{"$f":"('Base original'!B112/'Base original'!B111*100-100)","v":0.59803774168231882},{"$f":"('Base original'!C112/'Base original'!C111*100-100)","v":0.50401349503216863},{"$f":"('Base original'!D112/'Base original'!D111*100-100)","v":1.2507071685303117},{"$f":"('Base original'!E112/'Base original'!E111*100-100)","v":0.1379396525987886},{"$f":"('Base original'!F112/'Base original'!F111*100-100)","v":0.71374277033335431}]
["2014-10-01",{"$f":"('Base original'!B113/'Base original'!B112*100-100)","v":0.44805081178375872},{"$f":"('Base original'!C113/'Base original'!C112*100-100)","v":0.80256685400823358},{"$f":"('Base original'!D113/'Base original'!D112*100-100)","v":1.5876132974494368},{"$f":"('Base original'!E113/'Base original'!E112*100-100)","v":-3.8980058973871792},{"$f":"('Base original'!F113/'Base original'!F112*100-100)","v":0.44960256896935391}]
["2014-11-01",{"$f":"('Base original'!B114/'Base original'!B113*100-100)","v":2.6324454279262},{"$f":"('Base original'!C114/'Base original'!C113*100-100)","v":1.0232999186497551},{"$f":"('Base original'!D114/'Base original'!D113*100-100)","v":1.7690919231586832},{"$f":"('Base original'!E114/'Base original'!E113*100-100)","v":4.1005516196616014},{"$f":"('Base original'!F114/'Base original'!F113*100-100)","v":2.3281273895486123}]
["2014-12-01",{"$f":"('Base original'!B115/'Base original'!B114*100-100)","v":0.61669968494904026},{"$f":"('Base original'!C115/'Base original'!C114*100-100)","v":0.47457178426361679},{"$f":"('Base original'!D115/'Base original'!D114*100-100)","v":1.2340520165391951},{"$f":"('Base original'!E115/'Base original'!E114*100-100)","v":-2.5286438665114304},{"$f":"('Base original'!F115/'Base original'!F114*100-100)","v":0.52619008082952234}]
["2015-01-01",{"$f":"('Base original'!B116/'Base original'!B115*100-100)","v":0.30187157740242299},{"$f":"('Base original'!C116/'Base original'!C115*100-100)","v":0.4609920917530701},{"$f":"('Base original'!D116/'Base original'!D115*100-100)","v":0.50076670703356285},{"$f":"('Base original'!E116/'Base original'!E115*100-100)","v":7.9778553873230749},{"$f":"('Base original'!F116/'Base original'!F115*100-100)","v":0.91050358368805462}]
["2015-02-01",{"$f":"('Base original'!B117/'Base original'!B116*100-100)","v":-0.48266476851199513},{"$f":"('Base original'!C117/'Base original'!C116*100-100)","v":0.36856757429110587},{"$f":"('Base original'!D117/'Base original'!D116*100-100)","v":0.63608680330918332},{"$f":"('Base original'!E117/'Base original'!E116*100-100)","v":-4.1749880125044427},{"$f":"('Base original'!F117/'Base original'!F116*100-100)","v":-0.38022580923573912}]
["2015-03-01",{"$f":"('Base original'!B118/'Base original'!B117*100-100)","v":-4.7538102472060473E-2},{"$f":"('Base original'!C118/'Base original'!C117*100-100)","v":0.68165290415240065},{"$f":"('Base original'!D118/'Base original'!D117*100-100)","v":1.2164113599804978},{"$f":"('Base original'!E118/'Base original'!E117*100-100)","v":0.2909866499462197},{"$f":"('Base original'!F118/'Base original'!F117*100-100)","v":0.38324633475880887}]
["2015-04-01",{"$f":"('Base original'!B119/'Base original'!B118*100-100)","v":0.12319531634945236},{"$f":"('Base original'!C119/'Base original'!C118*100-100)","v":0.67461598302801917},{"$f":"('Base original'!D119/'Base original'!D118*100-100)","v":1.5113888114721732},{"$f":"('Base original'!E119/'Base original'!E118*100-100)","v":-0.11977463904483443},{"$f":"('Base original'!F119/'Base original'!F118*100-100)","v":0.52550559177713296}]
["2015-05-01",{"$f":"('Base original'!B120/'Base original'!B119*100-100)","v":1.6270201925044745},{"$f":"('Base original'!C120/'Base original'!C119*100-100)","v":-1.0266016987223878},{"$f":"('Base original'!D120/'Base original'!D119*100-100)","v":1.4034430062886543},{"$f":"('Base original'!E120/'Base original'!E119*100-100)","v":3.3049469720519227},{"$f":"('Base original'!F120/'Base original'!F119*100-100)","v":1.3752562339253842}]
["2015-06-01",{"$f":"('Base original'!B121/'Base original'!B120*100-100)","v":0.33704219437447591},{"$f":"('Base original'!C121/'Base original'!C120*100-100)","v":0.25872562140889954},{"$f":"('Base original'!D121/'Base original'!D120*100-100)","v":1.1510439810562048},{"$f":"('Base original'!E121/'Base original'!E120*100-100)","v":0.17151865593159243},{"$f":"('Base original'!F121/'Base original'!F120*100-100)","v":0.52587702887842624}]
["2015-07-01",{"$f":"('Base original'!B122/'Base original'!B121*100-100)","v":1.1782304317020618},{"$f":"('Base original'!C122/'Base original'!C121*100-100)","v":1.002104143451362},{"$f":"('Base original'!D122/'Base original'!D121*100-100)","v":1.1808423306034115},{"$f":"('Base original'!E122/'Base original'!E121*100-100)","v":4.3314027110205018},{"$f":"('Base original'!F122/'Base original'!F121*100-100)","v":1.3886409693802335}]
["2015-08-01",{"$f":"('Base original'!B123/'Base original'!B122*100-100)","v":0.75983722551100641},{"$f":"('Base original'!C123/'Base original'!C122*100-100)","v":0.61577603098399436},{"$f":"('Base original'!D123/'Base original'!D122*100-100)","v":1.1547285635403028},{"$f":"('Base original'!E123/'Base original'!E122*100-100)","v":2.7406244129991535},{"$f":"('Base original'!F123/'Base original'!F122*100-100)","v":0.99429804566482005}]
["2015-09-01",{"$f":"('Base original'!B124/'Base original'!B123*100-100)","v":1.9448634375053331},{"$f":"('Base original'!C124/'Base original'!C123*100-100)","v":0.69736524492188323},{"$f":"('Base original'!D124/'Base original'!D123*100-100)","v":1.5054804102363732},{"$f":"('Base original'!E124/'Base original'!E123*100-100)","v":-1.867819926923957},{"$f":"('Base original'!F124/'Base original'!F123*100-100)","v":1.3966825578719266}]
["2015-10-01",{"$f":"('Base original'!B125/'Base original'!B124*100-100)","v":0.64824390942513332},{"$f":"('Base original'!C125/'Base original'!C124*100-100)","v":0.88521269563787541},{"$f":"('Base original'!D125/'Base original'!D124*100-100)","v":1.3858249059448582},{"$f":"('Base original'!E125/'Base original'!E124*100-100)","v":-2.2828150769697686},{"$f":"('Base original'!F125/'Base original'!F124*100-100)","v":0.65014807227765914}]
["2015-11-01",{"$f":"('Base original'!B126/'Base original'!B125*100-100)","v":1.3689977783194678},{"$f":"('Base original'!C126/'Base original'!C125*100-100)","v":1.0708284644167065},{"$f":"('Base original'!D126/'Base original'!D125*100-100)","v":1.3440596581234985},{"$f":"('Base original'!E126/'Base original'!E125*100-100)","v":1.1832517414000989},{"$f":"('Base original'!F126/'Base original'!F125*100-100)","v":1.3151310594026455}]
["2015-12-01",{"$f":"('Base original'!B127/'Base original'!B126*100-100)","v":0.98452439069288289},{"$f":"('Base original'!C127/'Base original'!C126*100-100)","v":1.1028960675333508},{"$f":"('Base original'!D127/'Base original'!D126*100-100)","v":1.1336643316832209},{"$f":"('Base original'!E127/'Base original'!E126*100-100)","v":-2.1608201751970597},{"$f":"('Base original'!F127/'Base original'!F126*100-100)","v":0.81159307016724824}]
["2016-01-01",{"$f":"('Base original'!B128/'Base original'!B127*100-100)","v":0.36579289519396241},{"$f":"('Base original'!C128/'Base original'!C127*100-100)","v":0.62471462328812777},{"$f":"('Base original'!D128/'Base original'!D127*100-100)","v":0.67779081384560413},{"$f":"('Base original'!E128/'Base original'!E127*100-100)","v":1.0125192151277105},{"$f":"('Base original'!F128/'Base original'!F127*100-100)","v":0.52225253000321459}]
["2016-02-01",{"$f":"('Base original'!B129/'Base original'!B128*100-100)","v":6.3766694047700412E-2},{"$f":"('Base original'!C129/'Base original'!C128*100-100)","v":0.54458389618569925},{"$f":"('Base original'!D129/'Base original'!D128*100-100)","v":0.85606932665211843},{"$f":"('Base original'!E129/'Base original'!E128*100-100)","v":0.37149472868536293},{"$f":"('Base original'!F129/'Base original'!F128*100-100)","v":0.34857015050360474}]
["2016-03-01",{"$f":"('Base original'!B130/'Base original'!B129*100-100)","v":-0.59637678041114839},{"$f":"('Base original'!C130/'Base original'!C129*100-100)","v":0.92334310086276616},{"$f":"('Base original'!D130/'Base original'!D129*100-100)","v":0.95483014847090431},{"$f":"('Base original'!E130/'Base original'!E129*100-100)","v":-2.2676315611195719},{"$f":"('Base original'!F130/'Base original'!F129*100-100)","v":-0.12926456701585209}]
["2016-04-01",{"$f":"('Base original'!B131/'Base original'!B130*100-100)","v":0.53235770128110005},{"$f":"('Base original'!C131/'Base original'!C130*100-100)","v":0.76848775121646895},{"$f":"('Base original'!D131/'Base original'!D130*100-100)","v":0.80833858419686067},{"$f":"('Base original'!E131/'Base original'!E130*100-100)","v":-0.968502022915672},{"$f":"('Base original'!F131/'Base original'!F130*100-100)","v":0.53072208486622685}]
["2016-05-01",{"$f":"('Base original'!B132/'Base original'!B131*100-100)","v":1.164779288307912},{"$f":"('Base original'!C132/'Base original'!C131*100-100)","v":0.22067937421532235},{"$f":"('Base original'!D132/'Base original'!D131*100-100)","v":0.80146382723840759},{"$f":"('Base original'!E132/'Base original'!E131*100-100)","v":6.1898910272687431},{"$f":"('Base original'!F132/'Base original'!F131*100-100)","v":1.2966632255457142}]
["2016-06-01",{"$f":"('Base original'!B133/'Base original'!B132*100-100)","v":0.20435985973543325},{"$f":"('Base original'!C133/'Base original'!C132*100-100)","v":0.435958724369641},{"$f":"('Base original'!D133/'Base original'!D132*100-100)","v":0.71785041731169486},{"$f":"('Base original'!E133/'Base original'!E132*100-100)","v":-4.9111925434004888},{"$f":"('Base original'!F133/'Base original'!F132*100-100)","v":6.3976009298158942E-3}]
["2016-07-01",{"$f":"('Base original'!B134/'Base original'!B133*100-100)","v":0.97310011461848944},{"$f":"('Base original'!C134/'Base original'!C133*100-100)","v":0.64670480494817184},{"$f":"('Base original'!D134/'Base original'!D133*100-100)","v":0.69700481404888137},{"$f":"('Base original'!E134/'Base original'!E133*100-100)","v":1.1609461929436691},{"$f":"('Base original'!F134/'Base original'!F133*100-100)","v":0.8739837039190661}]
["2016-08-01",{"$f":"('Base original'!B135/'Base original'!B134*100-100)","v":0.67815611542086174},{"$f":"('Base original'!C135/'Base original'!C134*100-100)","v":0.84479153669840912},{"$f":"('Base original'!D135/'Base original'!D134*100-100)","v":0.7282099540271787},{"$f":"('Base original'!E135/'Base original'!E134*100-100)","v":1.1660793151540929},{"$f":"('Base original'!F135/'Base original'!F134*100-100)","v":0.74359743139089574}]
["2016-09-01",{"$f":"('Base original'!B136/'Base original'!B135*100-100)","v":-0.42780730971173853},{"$f":"('Base original'!C136/'Base original'!C135*100-100)","v":0.55890154065629361},{"$f":"('Base original'!D136/'Base original'!D135*100-100)","v":0.54014749954841079},{"$f":"('Base original'!E136/'Base original'!E135*100-100)","v":-1.7502648804045009},{"$f":"('Base original'!F136/'Base original'!F135*100-100)","v":-0.14433652657224627}]
["2016-10-01",{"$f":"('Base original'!B137/'Base original'!B136*100-100)","v":0.30375505961839622},{"$f":"('Base original'!C137/'Base original'!C136*100-100)","v":0.65619050096439935},{"$f":"('Base original'!D137/'Base original'!D136*100-100)","v":0.48485562552622241},{"$f":"('Base original'!E137/'Base original'!E136*100-100)","v":-4.8287267030886909},{"$f":"('Base original'!F137/'Base original'!F136*100-100)","v":5.1813463755152611E-2}]
["2016-11-01",{"$f":"('Base original'!B138/'Base original'!B137*100-100)","v":1.1628539300690051},{"$f":"('Base original'!C138/'Base original'!C137*100-100)","v":1.1530078782035105},{"$f":"('Base original'!D138/'Base original'!D137*100-100)","v":0.84937265655568694},{"$f":"('Base original'!E138/'Base original'!E137*100-100)","v":3.6072804683507229},{"$f":"('Base original'!F138/'Base original'!F137*100-100)","v":1.2315273084574869}]
["2016-12-01",{"$f":"('Base original'!B139/'Base original'!B138*100-100)","v":0.38477338265725791},{"$f":"('Base original'!C139/'Base original'!C138*100-100)","v":0.51356649877914151},{"$f":"('Base original'!D139/'Base original'!D138*100-100)","v":1.0686199538744603},{"$f":"('Base original'!E139/'Base original'!E138*100-100)","v":-5.6527211543022133},{"$f":"('Base original'!F139/'Base original'!F138*100-100)","v":0.19314726433843532}]
["2017-01-01",{"$f":"('Base original'!B140/'Base original'!B139*100-100)","v":-0.53315916892994153},{"$f":"('Base original'!C140/'Base original'!C139*100-100)","v":0.53250730399018664},{"$f":"('Base original'!D140/'Base original'!D139*100-100)","v":0.40826954979800689},{"$f":"('Base original'!E140/'Base original'!E139*100-100)","v":-0.94415815018426485},{"$f":"('Base original'!F140/'Base original'!F139*100-100)","v":-0.1773281318911728}]
["2017-02-01",{"$f":"('Base original'!B141/'Base original'!B140*100-100)","v":0.25932208601244611},{"$f":"('Base original'!C141/'Base original'!C140*100-100)","v":0.37973038059237751},{"$f":"('Base original'!D141/'Base original'!D140*100-100)","v":0.80812428265844005},{"$f":"('Base original'!E141/'Base original'!E140*100-100)","v":1.0074862850089943},{"$f":"('Base original'!F141/'Base original'!F140*100-100)","v":0.46913500314957446}]
["2017-03-01",{"$f":"('Base original'!B142/'Base original'!B141*100-100)","v":0.24186419401297599},{"$f":"('Base original'!C142/'Base original'!C141*100-100)","v":0.96075007440023796},{"$f":"('Base original'!D142/'Base original'!D141*100-100)","v":1.1040244868342484},{"$f":"('Base original'!E142/'Base original'!E141*100-100)","v":2.5521860691949882},{"$f":"('Base original'!F142/'Base original'!F141*100-100)","v":0.70401291988390824}]
["2017-04-01",{"$f":"('Base original'!B143/'Base original'!B142*100-100)","v":1.2499881987831856},{"$f":"('Base original'!C143/'Base original'!C142*100-100)","v":0.32091686775628148},{"$f":"('Base original'!D143/'Base original'!D142*100-100)","v":0.77446923150399982},{"$f":"('Base original'!E143/'Base original'!E142*100-100)","v":2.4866876809199141},{"$f":"('Base original'!F143/'Base original'!F142*100-100)","v":1.0859234290073516}]
["2017-05-01",{"$f":"('Base original'!B144/'Base original'!B143*100-100)","v":-0.94661125693879455},{"$f":"('Base original'!C144/'Base original'!C143*100-100)","v":-4.4373193769359887E-2},{"$f":"('Base original'!D144/'Base original'!D143*100-100)","v":0.97992903762364847},{"$f":"('Base original'!E144/'Base original'!E143*100-100)","v":-1.0464253394133891},{"$f":"('Base original'!F144/'Base original'!F143*100-100)","v":-0.31733736678185664}]
["2017-06-01",{"$f":"('Base original'!B145/'Base original'!B144*100-100)","v":0.37229428247759699},{"$f":"('Base original'!C145/'Base original'!C144*100-100)","v":0.22273871601350947},{"$f":"('Base original'!D145/'Base original'!D144*100-100)","v":0.87875468331401407},{"$f":"('Base original'!E145/'Base original'!E144*100-100)","v":-4.0445161225614186},{"$f":"('Base original'!F145/'Base original'!F144*100-100)","v":0.22030603930474513}]
["2017-07-01",{"$f":"('Base original'!B146/'Base original'!B145*100-100)","v":-0.1786721598420371},{"$f":"('Base original'!C146/'Base original'!C145*100-100)","v":9.5121752327969489E-2},{"$f":"('Base original'!D146/'Base original'!D145*100-100)","v":0.38962203356165048},{"$f":"('Base original'!E146/'Base original'!E145*100-100)","v":-1.1946488535818673},{"$f":"('Base original'!F146/'Base original'!F145*100-100)","v":-4.7833273332287263E-2}]
["2017-08-01",{"$f":"('Base original'!B147/'Base original'!B146*100-100)","v":0.19522916167360904},{"$f":"('Base original'!C147/'Base original'!C146*100-100)","v":0.80477068444591282},{"$f":"('Base original'!D147/'Base original'!D146*100-100)","v":0.70305154033884776},{"$f":"('Base original'!E147/'Base original'!E146*100-100)","v":-4.4393681910996463},{"$f":"('Base original'!F147/'Base original'!F146*100-100)","v":0.13621477511429703}]
["2017-09-01",{"$f":"('Base original'!B148/'Base original'!B147*100-100)","v":0.95417521002394778},{"$f":"('Base original'!C148/'Base original'!C147*100-100)","v":0.36190978274146346},{"$f":"('Base original'!D148/'Base original'!D147*100-100)","v":0.97924342366646044},{"$f":"('Base original'!E148/'Base original'!E147*100-100)","v":-1.4936783167771779},{"$f":"('Base original'!F148/'Base original'!F147*100-100)","v":0.75328667420760098}]
["2017-10-01",{"$f":"('Base original'!B149/'Base original'!B148*100-100)","v":4.4335993066326296E-2},{"$f":"('Base original'!C149/'Base original'!C148*100-100)","v":0.45661604329836791},{"$f":"('Base original'!D149/'Base original'!D148*100-100)","v":0.58315058003510956},{"$f":"('Base original'!E149/'Base original'!E148*100-100)","v":6.8567223196168925E-2},{"$f":"('Base original'!F149/'Base original'!F148*100-100)","v":0.24724653562857668}]
["2017-11-01",{"$f":"('Base original'!B150/'Base original'!B149*100-100)","v":1.3312903779282692},{"$f":"('Base original'!C150/'Base original'!C149*100-100)","v":1.0666243781993927},{"$f":"('Base original'!D150/'Base original'!D149*100-100)","v":1.0925290856070689},{"$f":"('Base original'!E150/'Base original'!E149*100-100)","v":2.398790810856994},{"$f":"('Base original'!F150/'Base original'!F149*100-100)","v":1.2907327600363345}]
["2017-12-01",{"$f":"('Base original'!B151/'Base original'!B150*100-100)","v":0.36258591597095347},{"$f":"('Base original'!C151/'Base original'!C150*100-100)","v":0.35247763086300665},{"$f":"('Base original'!D151/'Base original'!D150*100-100)","v":0.96781239601051539},{"$f":"('Base original'!E151/'Base original'!E150*100-100)","v":-4.5754161995387506},{"$f":"('Base original'!F151/'Base original'!F150*100-100)","v":0.25893553802856673}]
["2018-01-01",{"$f":"('Base original'!B152/'Base original'!B151*100-100)","v":-0.51473351740142448},{"$f":"('Base original'!C152/'Base original'!C151*100-100)","v":0.81897605914618055},{"$f":"('Base original'!D152/'Base original'!D151*100-100)","v":0.61492001514515948},{"$f":"('Base original'!E152/'Base original'!E151*100-100)","v":-1.0232876801710233},{"$f":"('Base original'!F152/'Base original'!F151*100-100)","v":-6.090353957931427E-2}]
["2018-02-01",{"$f":"('Base original'!B153/'Base original'!B152*100-100)","v":0.19870980807542082},{"$f":"('Base original'!C153/'Base original'!C152*100-100)","v":0.26542256115421026},{"$f":"('Base original'!D153/'Base original'!D152*100-100)","v":0.75745481030166673},{"$f":"('Base original'!E153/'Base original'!E152*100-100)","v":-1.7836742713128331},{"$f":"('Base original'!F153/'Base original'!F152*100-100)","v":0.26383809056645191}]
["2018-03-01",{"$f":"('Base original'!B154/'Base original'!B153*100-100)","v":1.8818504706539727},{"$f":"('Base original'!C154/'Base original'!C153*100-100)","v":0.86873572885038186},{"$f":"('Base original'!D154/'Base original'!D153*100-100)","v":0.61748836763591441},{"$f":"('Base original'!E154/'Base original'!E153*100-100)","v":1.2451584102575168},{"$f":"('Base original'!F154/'Base original'!F153*100-100)","v":1.3623389368029137}]
["2018-04-01",{"$f":"('Base original'!B155/'Base original'!B154*100-100)","v":0.63357223145598596},{"$f":"('Base original'!C155/'Base original'!C154*100-100)","v":0.55249292776518644},{"$f":"('Base original'!D155/'Base original'!D154*100-100)","v":0.5783898904081326},{"$f":"('Base original'!E155/'Base original'!E154*100-100)","v":3.304524058554037},{"$f":"('Base original'!F155/'Base original'!F154*100-100)","v":0.74507871609246479}]
["2018-05-01",{"$f":"('Base original'!B156/'Base original'!B155*100-100)","v":1.6011587843372581},{"$f":"('Base original'!C156/'Base original'!C155*100-100)","v":0.46343695148247832},{"$f":"('Base original'!D156/'Base original'!D155*100-100)","v":0.71243206988742713},{"$f":"('Base original'!E156/'Base original'!E155*100-100)","v":9.0773744882136356},{"$f":"('Base original'!F156/'Base original'!F155*100-100)","v":1.6047227353940769}]
["2018-06-01",{"$f":"('Base original'!B157/'Base original'!B156*100-100)","v":0.98278841676547302},{"$f":"('Base original'!C157/'Base original'!C156*100-100)","v":0.40864508440554914},{"$f":"('Base original'!D157/'Base original'!D156*100-100)","v":0.8253375286329856},{"$f":"('Base original'!E157/'Base original'!E156*100-100)","v":3.6792383609417953},{"$f":"('Base original'!F157/'Base original'!F156*100-100)","v":1.0231390698523342}]
["2018-07-01",{"$f":"('Base original'!B158/'Base original'!B157*100-100)","v":0.20812510710648269},{"$f":"('Base original'!C158/'Base original'!C157*100-100)","v":0.53689174539752571},{"$f":"('Base original'!D158/'Base original'!D157*100-100)","v":0.57491079816006163},{"$f":"('Base original'!E158/'Base original'!E157*100-100)","v":-1.2463619672506923},{"$f":"('Base original'!F158/'Base original'!F157*100-100)","v":0.26620874344480683}]
["2018-08-01",{"$f":"('Base original'!B159/'Base original'!B158*100-100)","v":1.6679446001915466},{"$f":"('Base original'!C159/'Base original'!C158*100-100)","v":1.0980063492367407},{"$f":"('Base original'!D159/'Base original'!D158*100-100)","v":0.88406636128013361},{"$f":"('Base original'!E159/'Base original'!E158*100-100)","v":4.3464235561353917},{"$f":"('Base original'!F159/'Base original'!F158*100-100)","v":1.5310969823054279}]
["2018-09-01",{"$f":"('Base original'!B160/'Base original'!B159*100-100)","v":0.48418899386687997},{"$f":"('Base original'!C160/'Base original'!C159*100-100)","v":0.42077779979537411},{"$f":"('Base original'!D160/'Base original'!D159*100-100)","v":0.72045574277177593},{"$f":"('Base original'!E160/'Base original'!E159*100-100)","v":-4.9668691218691379},{"$f":"('Base original'!F160/'Base original'!F159*100-100)","v":0.22404946306447471}]
["2018-10-01",{"$f":"('Base original'!B161/'Base original'!B160*100-100)","v":0.73800526627701402},{"$f":"('Base original'!C161/'Base original'!C160*100-100)","v":1.246768384077626},{"$f":"('Base original'!D161/'Base original'!D160*100-100)","v":0.85403273795807877},{"$f":"('Base original'!E161/'Base original'!E160*100-100)","v":5.9652522615578789},{"$f":"('Base original'!F161/'Base original'!F160*100-100)","v":1.1207775999293972}]
["2018-11-01",{"$f":"('Base original'!B162/'Base original'!B161*100-100)","v":0.97838872054367698},{"$f":"('Base original'!C162/'Base original'!C161*100-100)","v":1.2579056015809869},{"$f":"('Base original'!D162/'Base original'!D161*100-100)","v":0.99903134157892737},{"$f":"('Base original'!E162/'Base original'!E161*100-100)","v":-3.3212126533669135},{"$f":"('Base original'!F162/'Base original'!F161*100-100)","v":0.76620157295809577}]
["2018-12-01",{"$f":"('Base original'!B163/'Base original'!B162*100-100)","v":0.72747687838146646},{"$f":"('Base original'!C163/'Base original'!C162*100-100)","v":0.5024406831353474},{"$f":"('Base original'!D163/'Base original'!D162*100-100)","v":0.90693694366336786},{"$f":"('Base original'!E163/'Base original'!E162*100-100)","v":2.0610553854241118},{"$f":"('Base original'!F163/'Base original'!F162*100-100)","v":0.82678222171360005}]
["2019-01-01",{"$f":"('Base original'!B164/'Base original'!B163*100-100)","v":-0.56331302261423843},{"$f":"('Base original'!C164/'Base original'!C163*100-100)","v":0.77987090340236875},{"$f":"('Base original'!D164/'Base original'!D163*100-100)","v":0.64602875911641888},{"$f":"('Base original'!E164/'Base original'!E163*100-100)","v":-3.4087404778360053},{"$f":"('Base original'!F164/'Base original'!F163*100-100)","v":-0.22367104138733396}]
["2019-02-01",{"$f":"('Base original'!B165/'Base original'!B164*100-100)","v":0.16199057621784618},{"$f":"('Base original'!C165/'Base original'!C164*100-100)","v":0.16652991441814891},{"$f":"('Base original'!D165/'Base original'!D164*100-100)","v":0.46581725700676202},{"$f":"('Base original'!E165/'Base original'!E164*100-100)","v":6.5948318684235119E-2},{"$f":"('Base original'!F165/'Base original'!F164*100-100)","v":0.24449915144822398}]

{"sheet":"FAME Persistence2","index":4,"n_rows":63,"n_cols":14,"rows_kept":63,"cut":false,"hidden":true,"merged":[]}
[62,"Gráficos"]
["Base original","$B$8","A1:A168",25877.188999999998,"2019-03-05T19:41:23",true,"F022.COMBI.STO.Z.Z.CLP.M","2006","2019",0,"Monthly",false,false,false]
["Base original","$C$8","A1:A168",5571.0029999999997,"2019-03-05T19:41:23",true,"F022.CONBI.STO.Z.Z.CLP.M","2006","2019",0,"Monthly",false,false,false]
["Base original","$D$8","A1:A168",9317.4879999999994,"2019-03-05T19:41:23",true,"F022.VIVBI.STO.Z.Z.CLP.M","2006","2019",0,"Monthly",false,false,false]
["Base original","$E$8","A1:A168",3905.4259999999999,"2019-03-05T19:41:23",true,"F022.CMXBI.STO.Z.Z.CLP.M","2006","2019",0,"Monthly",false,false,false]
["Base original","$F$8","A1:A168",44671.106,"2019-03-05T19:41:23",true,"F022.CTOBI.STO.Z.Z.CLP.M","2006","2019",0,"Monthly",false,false,false]
["Base original","$G$8","A1:A168",26.840105511345499,"2019-03-05T19:41:23",true,"F022.CON.TIP.Z.NO.Z.M","2006","2019",0,"Monthly",false,false,false]
["Base original","$H$8","A1:A168",null,"2019-03-05T19:41:23",true,"F022.CON.FLU.Z.NO.Z.M","2006","2019",0,"Monthly",false,false,false]
["Base original","$I$8","A1:A168",null,"2019-03-05T19:41:23",true,"F022.CONTARJR.TIP.Z.NO.Z.M","2006","2019",0,"Monthly",false,false,false]
["Base original","$J$8","A1:A168",null,"2019-03-05T19:41:23",true,"F022.CONTARJR.FLU.Z.NO.Z.M","2006","2019",0,"Monthly",false,false,false]
["Base original","$K$8","A1:A168",null,"2019-03-05T19:41:23",true,"F022.CONTARJC.TIP.Z.NO.Z.M","2006","2019",0,"Monthly",false,false,false]
["Base original","$L$8","A1:A168",null,"2019-03-05T19:41:23",true,"F022.CONTARJC.FLU.Z.NO.Z.M","2006","2019",0,"Monthly",false,false,false]
["Base original","$M$8","A1:A168",null,"2019-03-05T19:41:23",true,"F022.CONCUOT.TIP.Z.NO.Z.M","2006","2019",0,"Monthly",false,false,false]
["Base original","$N$8","A1:A168",null,"2019-03-05T19:41:23",true,"F022.CONCUOT.FLU.Z.NO.Z.M","2006","2019",0,"Monthly",false,false,false]
["Base original","$O$8","A1:A168",null,"2019-03-05T19:41:23",true,"F022.CONSOBR.TIP.Z.NO.Z.M","2006","2019",0,"Monthly",false,false,false]
["Base original","$P$8","A1:A168",null,"2019-03-05T19:41:23",true,"F022.CONSOBR.FLU.Z.NO.Z.M","2006","2019",0,"Monthly",false,false,false]
["Base original","$Q$8","A1:A168",10.2731725726366,"2019-03-05T19:41:23",true,"F022.COM.TIP.Z.NO.Z.M","2006","2019",0,"Monthly",false,false,false]
["Base original","$R$8","A1:A168",null,"2019-03-05T19:41:23",true,"F022.COM.FLU.Z.NO.Z.M","2006","2019",0,"Monthly",false,false,false]
["Base original","$S$8","A1:A168",null,"2019-03-05T19:41:23",true,"F022.COMTARJ.TIP.Z.NO.Z.M","2006","2019",0,"Monthly",false,false,false]
["Base original","$T$8","A1:A168",null,"2019-03-05T19:41:23",true,"F022.CONTARJ.FLU.Z.NO.Z.M","2006","2019",0,"Monthly",false,false,false]
["Base original","$U$8","A1:A168",null,"2019-03-05T19:41:23",true,"F022.COMCUOT.TIP.Z.NO.Z.M","2006","2019",0,"Monthly",false,false,false]
["Base original","$V$8","A1:A168",null,"2019-03-05T19:41:23",true,"F022.COMCUOT.FLU.Z.NO.Z.M","2006","2019",0,"Monthly",false,false,false]
["Base original","$W$8","A1:A168",null,"2019-03-05T19:41:23",true,"F022.COMSOBR.TIP.Z.NO.Z.M","2006","2019",0,"Monthly",false,false,false]
["Base original","$X$8","A1:A168",null,"2019-03-05T19:41:23",true,"F022.COMSOBR.FLU.Z.NO.Z.M","2006","2019",0,"Monthly",false,false,false]
["Base original","$Y$8","A1:A168",5.28923438819597,"2019-03-05T19:41:23",true,"F022.CMX.TIP.Z.US.Z.M","2006","2019",0,"Monthly",false,false,false]
["Base original","$Z$8","A1:A168",null,"2019-03-05T19:41:23",true,"F022.CMX.FLU.Z.US.Z.M","2006","2019",0,"Monthly",false,false,false]
["Base original","$AA$8","A1:A168",null,"2019-03-05T19:41:23",true,"F022.CMXEXPT.TIP.Z.US.Z.M","2006","2019",0,"Monthly",false,false,false]
["Base original","$AB$8","A1:A168",null,"2019-03-05T19:41:23",true,"F022.CMXEXPT.FLU.Z.US.Z.M","2006","2019",0,"Monthly",false,false,false]
["Base original","$AC$8","A1:A168",null,"2019-03-05T19:41:23",true,"F022.CMXIMPT.TIP.Z.US.Z.M","2006","2019",0,"Monthly",false,false,false]
["Base original","$AD$8","A1:A168",null,"2019-03-05T19:41:23",true,"F022.CMXIMPT.FLU.Z.US.Z.M","2006","2019",0,"Monthly",false,false,false]
["Base original","$AE$8","A1:A168",5.31,"2019-03-05T19:41:23",true,"F022.VIV.TIP.MA03.UF.Z.M","2006","2019",0,"Monthly",false,false,false]
["Base original","$AF$8","A1:A168",null,"2019-03-05T19:41:23",true,"F022.VIV.FLU.MA03.UF.Z.M","2006","2019",0,"Monthly",false,false,false]
["Base original","$AG$8","A1:A168",2757.7020000000002,"2019-03-05T19:41:23",true,"F021.BMO.STO.N.CLP.0.M","2006","2019",0,"Monthly",false,false,false]
["Base original","$AH$8","A1:A168",1694,"2019-03-05T19:41:23",true,"F021.CIR.STO.N.CLP.0.M","2006","2019",0,"Monthly",false,false,false]
["Base original","$AI$8","A1:A168",4523.3099999999995,"2019-03-05T19:41:23",true,"F021.DCC.STO.N.CLP.0.M","2006","2019",0,"Monthly",false,false,false]
["Base original","$AJ$8","A1:A168",1360.3000000000002,"2019-03-05T19:41:23",true,"F021.DA.STO.N.CLP.0.M","2006","2019",0,"Monthly",false,false,false]
["Base original","$AK$8","A1:A168",7577.61,"2019-03-05T19:41:23",true,"F021.M1.STO.N.CLP.0.M","2006","2019",0,"Monthly",false,false,false]
["Base original","$AL$8","A1:A168",23131.487499999999,"2019-03-05T19:41:24",true,"F021.DP.STO.N.CLP.0.M","2006","2019",0,"Monthly",false,false,false]
["Base original","$AM$8","A1:A168",2244.9699999999998,"2019-03-05T19:41:24",true,"F021.AHP.STO.N.CLP.0.M","2006","2019",0,"Monthly",false,false,false]
["Base original","$AN$8","A1:A168",3330.57,"2019-03-05T19:41:24",true,"F021.FM.STO.N.CLP.0.M","2006","2019",0,"Monthly",false,false,false]
["Base original","$AO$8","A1:A168",110.16,"2019-03-05T19:41:24",true,"F021.CAC.STO.N.CLP.0.M","2006","2019",0,"Monthly",false,false,false]
["Base original","$AP$8","A1:A168",3111.66,"2019-03-05T19:41:24",true,"F021.FM2.STO.N.CLP.0.M","2006","2019",0,"Monthly",false,false,false]
["Base original","$AQ$8","A1:A168",8.4700000000000006,"2019-03-05T19:41:24",true,"F021.CA2.STO.N.CLP.0.M","2006","2019",0,"Monthly",false,false,false]
["Base original","$AR$8","A1:A168",33274.667500000003,"2019-03-05T19:41:24",true,"F021.M2.STO.N.CLP.0.M","2006","2019",0,"Monthly",false,false,false]
["Base original","$AS$8","A1:A168",3263.92,"2019-03-05T19:41:24",true,"F021.DME.STO.N.CLP.0.M","2006","2019",0,"Monthly",false,false,false]
["Base original","$AT$8","A1:A168",6603.07,"2019-03-05T19:41:24",true,"F021.DBC.STO.N.CLP.0.M","2006","2019",0,"Monthly",false,false,false]
["Base original","$AU$8","A1:A168",1040.99,"2019-03-05T19:41:24",true,"F021.BOT.STO.N.CLP.0.M","2006","2019",0,"Monthly",false,false,false]
["Base original","$AV$8","A1:A168",4253.96,"2019-03-05T19:41:24",true,"F021.LCR.STO.N.CLP.0.M","2006","2019",0,"Monthly",false,false,false]
["Base original","$AW$8","A1:A168",352.74,"2019-03-05T19:41:24",true,"F021.ECO.STO.N.CLP.0.M","2006","2019",0,"Monthly",false,false,false]
["Base original","$AX$8","A1:A168",8243.9500000000007,"2019-03-05T19:41:24",true,"F021.BOE.STO.N.CLP.0.M","2006","2019",0,"Monthly",false,false,false]
["Base original","$AY$8","A1:A168",3443.76,"2019-03-05T19:41:24",true,"F021.FMR.STO.N.CLP.0.M","2006","2019",0,"Monthly",false,false,false]
["Base original","$AZ$8","A1:A168",408.65,"2019-03-05T19:41:24",true,"F021.CAV.STO.N.CLP.0.M","2006","2019",0,"Monthly",false,false,false]
["Base original","$BA$8","A1:A168",2312.86,"2019-03-05T19:41:24",true,"F021.FM3.STO.N.CLP.0.M","2006","2019",0,"Monthly",false,false,false]
["Base original","$BB$8","A1:A168",161.41,"2019-03-05T19:41:24",true,"F021.AF3.STO.N.CLP.0.M","2006","2019",0,"Monthly",false,false,false]
["Base original","$BC$8","A1:A168",58411.4375,"2019-03-05T19:41:24",true,"F021.M3.STO.N.CLP.0.M","2006","2019",0,"Monthly",false,false,false]
["Base original","$BE$8","A1:A168",4.92,"2019-03-05T19:41:24",true,"F022.CAP.TIN.D089.NO.Z.M","2006","2019",0,"Monthly",false,false,false]
["Base original","$BF$8","A1:A168",null,"2019-03-05T19:41:24",true,"F022.CAP.FLU.D089.NO.Z.M","2006","2019",0,"Monthly",false,false,false]
["Base original","$BG$8","A1:A168",5.52,"2019-03-05T19:41:24",true,"F022.CAP.TIN.AN01.NO.Z.M","2006","2019",0,"Monthly",false,false,false]
["Base original","$BH$8","A1:A168",null,"2019-03-05T19:41:24",true,"F022.CAP.FLU.AN01.NO.Z.M","2006","2019",0,"Monthly",false,false,false]
["Base original","$BI$8","A1:A168",6.24,"2019-03-05T19:41:24",true,"F022.CAP.TIN.AN03.NO.Z.M","2006","2019",0,"Monthly",false,false,false]
["Base original","$BJ$8","A1:A168",null,"2019-03-05T19:41:24",true,"F022.CAP.FLU.AN03.NO.Z.M","2006","2019",0,"Monthly",false,false,false]
["Base original","$BK$8","A1:A168",6.36,"2019-03-05T19:41:24",true,"F022.CAP.TIN.MA03.NO.Z.M","2006","2019",0,"Monthly",false,false,false]
["Base original","$BL$8","A1:A168",null,"2019-03-05T19:41:24",true,"F022.CAP.FLU.MA03.NO.Z.M","2006","2019",0,"Monthly",false,false,false]

{"sheet":"Gráficos","index":5,"n_rows":114,"n_cols":17,"rows_kept":114,"cut":false,"hidden":false,"merged":[[19,0,19,19],[3,16,6,20],[7,16,9,20],[10,16,10,20],[2,16,2,20],[16,6,17,9],[57,11,57,14],[57,16,57,19],[22,1,22,4],[22,6,22,9],[22,11,22,14],[22,16,22,19],[96,1,96,4],[96,7,96,10],[96,13,96,16],[39,1,39,4],[39,6,39,9],[39,11,39,14],[39,16,39,19],[76,1,76,4],[76,6,76,9],[76,11,76,14],[76,16,76,19],[57,1,57,4],[57,6,57,9]]}
["2017-02-01"]
["2019-02-01","Gráfico 1: Tasas de interés por tipo de deudor (1)",null,null,null,null,"Gráfico 2: Colocaciones nominales por tipo de deudor (2)",null,null,null,null,"Gráfico 3: Agregados monetarios nominales (3)"]
[null," (tasas base anual 360 días, porcentaje)",null,null,null,null,"(variación anual,  porcentaje)",null,null,null,null,"(variación anual, porcentaje)"]
[]
[]
[]
[]
[]
[]
[]
[]
[]
[]
[]
[]
[]
[null,"Fuentes: Banco Central de Chile",null,null,null,null,"Fuente: Banco Central de Chile en base a balances individuales reportados por la Superintendencia de Bancos e Instituciones Financieras.",null,null,null,null,"Fuentes: Banco Central de Chile"]
[]
[]
["Anexo  gráficos"]
[null,"Tasas de interés y flujos de colocaciones por tipo de deudor (1) ",null,null,null,null,null,null,null,null,null," "]
[null,"Tasa base anual 360 días, (porcentaje)"]
[null,"Consumo ($)",null,null,null,null,"Comerciales($)",null,null,null,null,"Comercio exterior (US$)",null,null,null,null,"Vivienda (UF)"]
[]
[]
[]
[]
[]
[]
[]
[]
[]
[]
[]
[]
[]
[null,"Fuente: Banco Central de Chile."]
[]
[null,"Total flujo mensual, (miles de millones de pesos)"]
[null,"Consumo ($)",null,null,null,null,"Comerciales($)",null,null,null,null,"Comercio exterior (US$)",null,null,null,null,"Vivienda (UF)"]
[]
[]
[]
[]
[]
[]
[]
[]
[]
[]
[]
[]
[]
[null,"Fuente: Banco Central de Chile."]
[]
[null,"Tasas de interés y flujos de captaciones por plazo"]
[null,"(tasa base anual 360 días, miles de millones de pesos)"]
[null,"30 a 89 días",null,null,null,null,"90 días a 1 año",null,null,null,null,"1 a 3 años",null,null,null,null,"Más de 3 años"]
[]
[]
[]
[]
[]
[]
[]
[]
[]
[]
[]
[]
[]
[null,"Fuente: Banco Central de Chile."]
[]
[]
[null,"Stock colocaciones nominales por tipo de deudor (2) "]
[null,"(variación anual y mensual, porcentaje)"]
[null,"Consumo ",null,null,null,null,"Comerciales",null,null,null,null,"Comercio exterior ",null,null,null,null,"Vivienda "]
[]
[]
[]
[]
[]
[]
[]
[]
[]
[]
[]
[]
[]
[]
[null,"Fuente: Banco Central de Chile en base a balances individuales reportados por la Superintendencia de Bancos e Instituciones Financieras."]
[]
[]
[null,"Agregados monetarios nominales y sus componentes (3) "]
[null,"(incidencia en la variación  anual, porcentaje)"]
[null,"M1",null,null,null,null,null,"M2",null,null,null,null,null,"M3"]
[]
[]
[]
[]
[]
[]
[]
[]
[]
[]
[]
[]
[]
[]
[]
[null,"Fuente: Banco Central de Chile"]
[null,"Notas:"]