{"text_format":"1","workbook":"xlsx","n_sheets":6,"sheets":["Base original","Base gráficos 1","Base gráficos 2","FAME Persistence2","Gráficos","Tablas"],"not_rendered":{"charts":18,"images":7,"macros":1,"external_links":1,"defined_names":1,"comments":0,"pivot_tables":0},"unopened":[],"bounds":{"document_bytes":16777216,"sheet_cells":100000,"rows_first":2000,"rows_last":500,"rows_between":2000,"halvings":0,"cell_chars":16384,"cell_head_chars":4096},"cells_cut":0,"cells_raw":0,"read":"whole","date_system":"1900"}

{"sheet":"Base original","index":0,"n_rows":102,"n_cols":56,"rows_kept":102,"cut":false,"hidden":false,"merged":[[0,24,0,46],[1,24,1,28],[1,29,1,35],[1,36,1,46],[0,1,0,5],[0,6,0,23],[1,1,1,5],[1,6,1,10],[1,11,1,16],[1,17,1,22],[0,48,0,55],[1,48,1,49],[1,50,1,51],[1,52,1,53],[1,54,1,55],[3,48,3,55],[4,48,4,55],[3,1,3,5],[3,6,3,23],[3,24,3,46],[4,1,4,5],[4,6,4,23],[4,24,4,46]]}
[null,"COLOCACIONES ",null,null,null,null,"TASAS DE INTERÉS POR TIPO",null,null,null,null,null,null,null,null,null,null,null,null,null,null,null,null,null,"AGREGADOS MONETARIOS",null,null,null,null,null,null,null,null,null,null,null,null,null,null,null,null,null,null,null,null,null,null,null,"TASAS DE INTERÉS POR PLAZO "]
[null,"Colocaciones balances individuales",null,null,null,null,"consumo ($)",null,null,null,null,"comerciales ($)",null,null,null,null,null," comercio exterior (US$)",null,null,null,null,null,"vivienda (UF)","M1",null,null,null,null,"M2",null,null,null,null,null,null,"M3",null,null,null,null,null,null,null,null,null,null,null,"30 a 89 días nominal",null,"90 días a 1 año nominal",null,"1 a 3 años nominal",null,"más de 3 años nominal"]
[null,"Comerciales","Consumo ","Vivienda","Comercio exterior","Total","consumo promedio","Menos de 6 meses","6 meses - 1 año","1 - 3 años","más de 3 años","comercio promedio","Menos de 1 mes","1 - 3 meses","3 - 6 meses","6 meses - 1 año","Más de 1 año","comex promedio","Menos de 1 mes","1 - 3 meses","3 - 6 meses","6 meses - 1 año","Más de 1 año","más de 3 años","Base monetaria","C","D1","Dvb + Ahv","M1","Dp","Ahp","Cuotas de FM en instr. de hasta un año","Captaciones de CAC","Inversiones de FM en M2","Inversiones de CAC en M2","M2","Depósito en moneda extranjera","Documentos del Banco Central","Bonos de Tesorería","Letras de crédito","Efectos de comercio","Bono de Empresa","Cuotas del resto de FM","Cuotas de ahorro voluntario AFP","Inversión de FM en M3","Inversión de AFP en M3","M3",null,"captación","colocación","captación","colocación","captación","colocación","captación","colocación"]
[null,"miles de millones de pesos",null,null,null,null,"tasas base anual 360 días, porcentaje",null,null,null,null,null,null,null,null,null,null,null,null,null,null,null,null,null,"miles de millones de pesos",null,null,null,null,null,null,null,null,null,null,null,null,null,null,null,null,null,null,null,null,null,null,null,"tasas base anual 360 días, porcentaje"]
[null,"Fuente: Banco Central de Chile y Superintendencia de Bancos e Instituciones Financieras.",null,null,null,null,"Fuente: Banco Central de Chile",null,null,null,null,null,null,null,null,null,null,null,null,null,null,null,null,null,"Fuente: Banco Central de Chile",null,null,null,null,null,null,null,null,null,null,null,null,null,null,null,null,null,null,null,null,null,null,null,"Fuente: Banco Central de Chile"]
[null,"F022.COMBI.STO.Z.Z.CLP.M","F022.CONBI.STO.Z.Z.CLP.M","F022.VIVBI.STO.Z.Z.CLP.M","F022.CMXBI.STO.Z.Z.CLP.M","F022.CTOBI.STO.Z.Z.CLP.M","F022.CON.TIP.Z.NO.Z.M","F022.CON.TIP.HM06.NO.Z.M","F022.CON.TIP.M6A1.NO.Z.M","F022.CON.TIP.A1A3.NO.Z.M","F022.CON.TIP.MA03.NO.Z.M","F022.COM.TIP.Z.NO.Z.M","F022.COM.TIP.HM01.NO.Z.M","F022.COM.TIP.M1M3.NO.Z.M","F022.COM.TIP.M3M6.NO.Z.M","F022.COM.TIP.M6A1.NO.Z.M","F022.COM.TIP.MA01.NO.Z.M","F022.CMX.TIP.Z.US.Z.M","F022.CMX.TIP.HM01.US.Z.M","F022.CMX.TIP.M1M3.US.Z.M","F022.CMX.TIP.M3M6.US.Z.M","F022.CMX.TIP.M6A1.US.Z.M","F022.CMX.TIP.MA01.US.Z.M","F022.VIV.TIP.MA03.UF.Z.M","F021.BMO.STO.N.CLP.0.M","F021.CIR.STO.N.CLP.0.M","F021.DCC.STO.N.CLP.0.M","F021.DA.STO.N.CLP.0.M","F021.M1.STO.N.CLP.0.M","F021.DP.STO.N.CLP.0.M","F021.AHP.STO.N.CLP.0.M","F021.FM.STO.N.CLP.0.M","F021.CAC.STO.N.CLP.0.M","F021.FM2.STO.N.CLP.0.M","F021.CA2.STO.N.CLP.0.M","F021.M2.STO.N.CLP.0.M","F021.DME.STO.N.CLP.0.M","F021.DBC.STO.N.CLP.0.M","F021.BOT.STO.N.CLP.0.M","F021.LCR.STO.N.CLP.0.M","F021.ECO.STO.N.CLP.0.M","F021.BOE.STO.N.CLP.0.M","F021.FMR.STO.N.CLP.0.M","F021.CAV.STO.N.CLP.0.M","F021.FM3.STO.N.CLP.0.M","F021.AF3.STO.N.CLP.0.M","F021.M3.STO.N.CLP.0.M",null,"F022.CAP.TIN.D089.NO.Z.M","F022.COL.TIN.D089.NO.Z.M","F022.CAP.TIN.AN01.NO.Z.M","F022.CAP.TIN.Z.NO.Z.M","F022.CAP.TIN.AN03.NO.Z.M","F022.COL.TIN.AN03.NO.Z.M","F022.CAP.TIN.MA03.NO.Z.M","F022.COL.TIN.MA03.NO.Z.M"]
[]
[]
[]
[]
["2006-01-01",{"$f":"[1]!FAMEData(B6, \"2006\", \"2013\", 0,\"Monthly\", \"Down\", \"No Heading\", \"Normal\")","v":25877.188999999998},{"$f":"[1]!FAMEData(C6, \"2006\", \"2013\", 0,\"Monthly\", \"Down\", \"No Heading\", \"Normal\")","v":5571.0029999999997},{"$f":"[1]!FAMEData(D6, \"2006\", \"2013\", 0,\"Monthly\", \"Down\", \"No Heading\", \"Normal\")","v":9317.4879999999994},{"$f":"[1]!FAMEData(E6, \"2006\", \"2013\", 0,\"Monthly\", \"Down\", \"No Heading\", \"Normal\")","v":3905.4259999999999},{"$f":"[1]!FAMEData(F6, \"2006\", \"2013\", 0,\"Monthly\", \"Down\", \"No Heading\", \"Normal\")","v":44671.106},{"$f":"[1]!FAMEData(G6, \"2006\", \"2013\", 0,\"Monthly\", \"Down\", \"No Heading\", \"Normal\")","v":26.840105511345499},{"$f":"[1]!FAMEData(H6, \"2006\", \"2013\", 0,\"Monthly\", \"Down\", \"No Heading\", \"Normal\")","v":27.02},{"$f":"[1]!FAMEData(I6, \"2006\", \"2013\", 0,\"Monthly\", \"Down\", \"No Heading\", \"Normal\")","v":31.99},{"$f":"[1]!FAMEData(J6, \"2006\", \"2013\", 0,\"Monthly\", \"Down\", \"No Heading\", \"Normal\")","v":24.95},{"$f":"[1]!FAMEData(K6, \"2006\", \"2013\", 0,\"Monthly\", \"Down\", \"No Heading\", \"Normal\")","v":22.13},{"$f":"[1]!FAMEData(L6, \"2006\", \"2013\", 0,\"Monthly\", \"Down\", \"No Heading\", \"Normal\")","v":10.2731725726366},{"$f":"[1]!FAMEData(M6, \"2006\", \"2013\", 0,\"Monthly\", \"Down\", \"No Heading\", \"Normal\")","v":9.25},{"$f":"[1]!FAMEData(N6, \"2006\", \"2013\", 0,\"Monthly\", \"Down\", \"No Heading\", \"Normal\")","v":7.9},{"$f":"[1]!FAMEData(O6, \"2006\", \"2013\", 0,\"Monthly\", \"Down\", \"No Heading\", \"Normal\")","v":8.66},{"$f":"[1]!FAMEData(P6, \"2006\", \"2013\", 0,\"Monthly\", \"Down\", \"No Heading\", \"Normal\")","v":12.71},{"$f":"[1]!FAMEData(Q6, \"2006\", \"2013\", 0,\"Monthly\", \"Down\", \"No Heading\", \"Normal\")","v":14.03},{"$f":"[1]!FAMEData(R6, \"2006\", \"2013\", 0,\"Monthly\", \"Down\", \"No Heading\", \"Normal\")","v":5.28923438819597},{"$f":"[1]!FAMEData(S6, \"2006\", \"2013\", 0,\"Monthly\", \"Down\", \"No Heading\", \"Normal\")","v":5.03},{"$f":"[1]!FAMEData(T6, \"2006\", \"2013\", 0,\"Monthly\", \"Down\", \"No Heading\", \"Normal\")","v":5.05},{"$f":"[1]!FAMEData(U6, \"2006\", \"2013\", 0,\"Monthly\", \"Down\", \"No Heading\", \"Normal\")","v":5.75},{"$f":"[1]!FAMEData(V6, \"2006\", \"2013\", 0,\"Monthly\", \"Down\", \"No Heading\", \"Normal\")","v":6.03},{"$f":"[1]!FAMEData(W6, \"2006\", \"2013\", 0,\"Monthly\", \"Down\", \"No Heading\", \"Normal\")","v":6.1},{"$f":"[1]!FAMEData(X6, \"2006\", \"2013\", 0,\"Monthly\", \"Down\", \"No Heading\", \"Normal\")","v":5.31},{"$f":"[1]!FAMEData(Y6, \"2006\", \"2013\", 0,\"Monthly\", \"Down\", \"No Heading\", \"Normal\")","v":2757.7},{"$f":"[1]!FAMEData(Z6, \"2006\", \"2013\", 0,\"Monthly\", \"Down\", \"No Heading\", \"Normal\")","v":1694},{"$f":"[1]!FAMEData(AA6, \"2006\", \"2013\", 0,\"Monthly\", \"Down\", \"No Heading\", \"Normal\")","v":4263.9799999999996},{"$f":"[1]!FAMEData(AB6, \"2006\", \"2013\", 0,\"Monthly\", \"Down\", \"No Heading\", \"Normal\")","v":1619.63},{"$f":"[1]!FAMEData(AC6, \"2006\", \"2013\", 0,\"Monthly\", \"Down\", \"No Heading\", \"Normal\")","v":7577.57},{"$f":"[1]!FAMEData(AD6, \"2006\", \"2013\", 0,\"Monthly\", \"Down\", \"No Heading\", \"Normal\")","v":22893.1},{"$f":"[1]!FAMEData(AE6, \"2006\", \"2013\", 0,\"Monthly\", \"Down\", \"No Heading\", \"Normal\")","v":2244.9699999999998},{"$f":"[1]!FAMEData(AF6, \"2006\", \"2013\", 0,\"Monthly\", \"Down\", \"No Heading\", \"Normal\")","v":3330.57},{"$f":"[1]!FAMEData(AG6, \"2006\", \"2013\", 0,\"Monthly\", \"Down\", \"No Heading\", \"Normal\")","v":110.16},{"$f":"[1]!FAMEData(AH6, \"2006\", \"2013\", 0,\"Monthly\", \"Down\", \"No Heading\", \"Normal\")","v":3111.66},{"$f":"[1]!FAMEData(AI6, \"2006\", \"2013\", 0,\"Monthly\", \"Down\", \"No Heading\", \"Normal\")","v":8.4700000000000006},{"$f":"[1]!FAMEData(AJ6, \"2006\", \"2013\", 0,\"Monthly\", \"Down\", \"No Heading\", \"Normal\")","v":33036.230000000003},{"$f":"[1]!FAMEData(AK6, \"2006\", \"2013\", 0,\"Monthly\", \"Down\", \"No Heading\", \"Normal\")","v":3263.92},{"$f":"[1]!FAMEData(AL6, \"2006\", \"2013\", 0,\"Monthly\", \"Down\", \"No Heading\", \"Normal\")","v":6603.07},{"$f":"[1]!FAMEData(AM6, \"2006\", \"2013\", 0,\"Monthly\", \"Down\", \"No Heading\", \"Normal\")","v":1040.99},{"$f":"[1]!FAMEData(AN6, \"2006\", \"2013\", 0,\"Monthly\", \"Down\", \"No Heading\", \"Normal\")","v":4253.96},{"$f":"[1]!FAMEData(AO6, \"2006\", \"2013\", 0,\"Monthly\", \"Down\", \"No Heading\", \"Normal\")","v":352.74},{"$f":"[1]!FAMEData(AP6, \"2006\", \"2013\", 0,\"Monthly\", \"Down\", \"No Heading\", \"Normal\")","v":8243.9500000000007},{"$f":"[1]!FAMEData(AQ6, \"2006\", \"2013\", 0,\"Monthly\", \"Down\", \"No Heading\", \"Normal\")","v":3443.76},{"$f":"[1]!FAMEData(AR6, \"2006\", \"2013\", 0,\"Monthly\", \"Down\", \"No Heading\", \"Normal\")","v":408.65},{"$f":"[1]!FAMEData(AS6, \"2006\", \"2013\", 0,\"Monthly\", \"Down\", \"No Heading\", \"Normal\")","v":2312.86},{"$f":"[1]!FAMEData(AT6, \"2006\", \"2013\", 0,\"Monthly\", \"Down\", \"No Heading\", \"Normal\")","v":161.41},{"$f":"[1]!FAMEData(AU6, \"2006\", \"2013\", 0,\"Monthly\", \"Down\", \"No Heading\", \"Normal\")","v":58173},null,{"$f":"[1]!FAMEData(AW6, \"2006\", \"2013\", 0,\"Monthly\", \"Down\", \"No Heading\", \"Normal\")","v":4.92},{"$f":"[1]!FAMEData(AX6, \"2006\", \"2013\", 0,\"Monthly\", \"Down\", \"No Heading\", \"Normal\")","v":7.56},{"$f":"[1]!FAMEData(AY6, \"2006\", \"2013\", 0,\"Monthly\", \"Down\", \"No Heading\", \"Normal\")","v":5.52},{"$f":"[1]!FAMEData(AZ6, \"2006\", \"2013\", 0,\"Monthly\", \"Down\", \"No Heading\", \"Normal\")","v":14.76},{"$f":"[1]!FAMEData(BA6, \"2006\", \"2013\", 0,\"Monthly\", \"Down\", \"No Heading\", \"Normal\")","v":6.24},{"$f":"[1]!FAMEData(BB6, \"2006\", \"2013\", 0,\"Monthly\", \"Down\", \"No Heading\", \"Normal\")","v":17.64},{"$f":"[1]!FAMEData(BC6, \"2006\", \"2013\", 0,\"Monthly\", \"Down\", \"No Heading\", \"Normal\")","v":6.36},{"$f":"[1]!FAMEData(BD6, \"2006\", \"2013\", 0,\"Monthly\", \"Down\", \"No Heading\", \"Normal\")","v":19.920000000000002}]
["2006-02-01",25995.919000000002,5649.9009999999998,9409.7510000000002,3971.4110000000001,45026.982000000004,28.080010671663999,28.43,32.409999999999997,26.06,24.43,10.6917516556947,9.49,7.92,8.26,13.8,12.93,5.4882926812584802,5.61,5.03,6.11,6.08,7.9,5.33,2800.8,1718.6,4226.79,1602.98,7548.38,23081.63,2237.5500000000002,3233.72,123.01,3034.93,5.84,33183.519999999997,3379.45,6469.58,1053.0899999999999,4269.9799999999996,358.48,8174.45,3670.98,420.38,2365.2199999999998,163.97,58450.73,null,4.5599999999999996,7.56,5.16,15.48,6.36,17.64,7.2,18.600000000000001]
["2006-03-01",26532.268,5831.4129999999996,9540.0669999999991,4086.0120000000002,45989.760000000002,25.220629902156901,27.58,31.42,22.94,21.26,10.242012151611499,9.3800000000000008,7.46,8.24,13.47,13.68,5.8475082006758301,5.5,5.64,6.25,6.26,8.15,5.22,2897.1,1708.3,4271.7,1559.58,7539.62,23481.8,2238.86,3752.51,127.13,3546.99,6.15,33586.78,3311.26,6343.46,1063.27,4348.74,354.14,8242.23,3777.33,430.6,2420.59,166.01,58871.199999999997,null,4.68,7.32,5.28,14.64,6,15.96,7.2,19.079999999999998]
["2006-04-01",27144.353999999999,5934.6040000000003,9634.7270000000008,4126.3919999999998,46840.076999999997,26.812381250088201,27.85,32.07,25.09,22.94,10.6963342219099,9.61,7.62,8.19,13.17,15.02,5.6534729872904501,5.55,5.39,6.15,5.98,5.13,5.04,3019.9,1710.9,4306.13,1619.61,7636.6,23929.040000000001,2239.71,4222.62,123.45,4032.18,11.32,34107.93,3342.52,6252.99,1067.8399999999999,4250.3,330.64,8372.4,3828.1,445.85,2485.1,168.26,59345.22,null,4.8,7.44,5.52,14.52,6.12,18.84,6.96,20.52]
["2006-05-01",27224.794999999998,6010.1760000000004,9795.9539999999997,4360.8059999999996,47391.731,27.4996852524513,28.48,32.75,25.38,23.44,10.699763036027299,9.6199999999999992,7.62,8.2899999999999991,14.04,14.48,6.0693249259096804,5.83,5.9,6.29,6.48,5.77,5.03,2891.7,1719,4375.74,1600.8,7695.52,24246.240000000002,2258.06,3957.82,124.65,3797.24,11.71,34473.339999999997,3514.52,6039.46,1065.26,4309.05,313.95999999999998,8445.32,3866.9,455.5,2471.92,179.66,59831.71,null,4.92,7.44,5.52,15.12,6.12,18.48,null,20.04]
["2006-06-01",27538.088,6095.0370000000003,9949.0169999999998,4700.0010000000002,48282.142999999996,27.540614539592301,29.12,33.020000000000003,25.11,23.28,10.0914888005923,9.27,7.62,8.68,12.12,12.35,6.0986268480947396,5.69,6.04,6.54,6.68,6.24,5,2910.9,1755.2,4449.54,1617.06,7821.82,24651.759999999998,2289.71,4054.03,128.52000000000001,3856.88,7.17,35081.800000000003,3629.06,5881.13,1057.3800000000001,4419.18,316.05,8469.06,3777.34,452.49,2419.6799999999998,184.36,60479.45,null,5.04,7.56,5.4,14.28,6.12,17.04,7.56,16.8]
["2006-07-01",27878.936000000002,6188.0330000000004,10134.075000000001,4504.95,48705.993999999999,27.283235773047799,29.05,33.049999999999997,24.82,22.78,9.9566969940811703,9.08,7.96,8.56,11.3,13.63,6.2949303717057496,6.05,6.14,6.57,6.56,6.19,5.0999999999999996,2889.3,1744.3,4319.55,1626.34,7690.16,24894.17,2298.52,4091.77,128.53,3878.73,8.41,35216.019999999997,3630.31,5722.86,1063.0999999999999,4334.5600000000004,337.86,8430.67,3818.66,455.8,2486.5700000000002,185.74,60337.53,null,5.04,7.8,5.52,13.92,6.12,17.88,7.68,19.32]
["2006-08-01",28247.624,6337.7860000000001,10348.575000000001,4524.201,49458.186000000002,26.639610178285299,27.92,32.799999999999997,24.22,22.36,10.308394808512,9.5299999999999994,8.11,8.3699999999999992,12.31,11.93,6.2227574390990599,6.07,6,6.49,6.52,5.84,5.05,2764.6,1724.9,4273.7700000000004,1658.92,7657.62,25240.11,2303.31,3801.64,127.65,3148.09,9.9,35972.35,3597.79,6004.8,1071.25,4281.3599999999997,363.45,8510.2199999999993,4004.45,469,2893.12,189.31,61192.22,null,5.16,8.16,5.52,14.16,6.12,17.28,7.8,15.96]
["2006-09-01",28286.671999999999,6452.1310000000003,10481.288,4639.0709999999999,49859.161999999997,26.537279800045599,25.1,32.81,24.59,22.48,10.345094933528101,9.64,8.2899999999999991,8.7200000000000006,11.87,12.05,6.2888466043057596,6.31,6.02,6.48,6.36,6.69,5.01,3018.5,1805.7,4356.1099999999997,1763.2,7925.03,25631.79,2309.4499999999998,4298.29,151.94999999999999,3592.98,9.93,36713.599999999999,3605.23,6394.11,1079.8,4379.0600000000004,371.07,8652.0300000000007,4126.88,482.11,2999.78,191.47,62612.63,null,5.16,8.16,5.52,14.4,6,17.28,6.12,15.6]
["2006-10-01",28525.245999999999,6567.0209999999997,10583.666999999999,4580.3370000000004,50256.271000000001,26.874266437626801,25.03,32.75,24.94,23.15,10.3284256051627,9.5,8.07,8.73,11.71,14.66,6.1776341040460299,6.01,5.94,6.59,6.26,5.61,4.95,3003.1,1781.4,4251.24,1706.93,7739.56,26090.65,2313.98,4781.8100000000004,176.88,4504.55,11.2,36587.129999999997,3638.46,6187.42,1089.92,4337.05,371.05,8713.07,4168.04,498.26,2737.7,193.7,62659.01,null,5.16,8.0399999999999991,5.52,14.16,5.88,18.600000000000001,6.48,20.28]
["2006-11-01",29148.368999999999,6690.5990000000002,10695.628000000001,4696.9269999999997,51231.523000000001,26.970837734170999,25.29,32.93,25.19,22.82,10.169422469712799,9.25,8.08,8.5500000000000007,12.14,12.7,6.1078112166577503,5.96,5.92,6.44,6.16,5.73,4.82,3011.8,1804.2,4348.96,1714.08,7867.27,26364,2304.87,4571.5,177.92,4354.2,12.42,36918.94,3679.09,6044.24,1082.9000000000001,4440.1000000000004,368.02,8780.32,4245.68,516.44000000000005,2714.6,197.76,63163.38,null,5.16,7.92,5.52,14.4,5.76,18.12,7.08,16.920000000000002]
["2006-12-01",29910.707999999999,6786.2209999999995,10799.63,4805.6109999999999,52302.17,27.0849800029482,25.03,33.04,24.98,22.99,10.2462156294828,9.73,7.78,8.5299999999999994,11.56,14.17,6.0777325619925202,5.88,6.11,6.25,6.26,5.79,4.7699999999999996,3504.1,1958.1,4738.6099999999997,1883.39,8580.14,26945.88,2282.73,4613.79,174.56,4388.79,12.87,38195.43,3630.32,5879.37,1058.49,4467.42,364.22,8999.0300000000007,4359.5200000000004,538.89,2696.8,202.16,64593.74,null,5.28,7.68,5.64,13.44,5.88,18,6.12,18.72]
["2007-01-01",30104.208999999999,6864.27,10928.962,4950.3680000000004,52847.809000000001,27.904564651345101,25.46,33.43,25.61,24.11,10.0813509695242,10.039999999999999,7.69,8.34,11.02,13.73,6.10488173655519,5.88,5.92,6.43,6.42,6.28,4.68,3035.9,1944.3,4940.37,1907.18,8791.89,27722.48,2275.6999999999998,4558.09,170.67,4356.9399999999996,12.05,39149.839999999997,3630.65,5344.41,1039.43,4352.59,361.04,9272.74,4565.59,558.19000000000005,2684.67,208.05,65381.760000000002,null,5.04,7.44,5.4,13.56,5.64,17.88,6.12,20.04]
["2007-02-01",30453.855,6925.2460000000001,11070.236999999999,4981.741,53431.078999999998,28.682036168198401,25.09,33.950000000000003,26.74,25.51,9.9487011377282997,9.76,8.1199999999999992,8.25,11.24,11.05,6.0921878167335102,6.14,5.72,6.34,6.38,0,4.58,3250.9,1974,4840.67,1924.77,8739.4500000000007,28168.01,2273.9499999999998,4242.7,172.72,4138.21,12.09,39446.53,3755.68,5159.6000000000004,1049.47,4365.8999999999996,363.87,9393.7000000000007,4755.82,566.44000000000005,2714.44,205.13,65937.429999999993,null,5.04,8.0399999999999991,5.4,14.16,5.64,19.2,6.6,16.32]
["2007-03-01",30797.955000000002,7057.0450000000001,11237.237999999999,4974.9380000000001,54067.175999999999,26.988437835351601,25.08,34.08,24.51,22.77,9.8189661910433408,9.7799999999999994,8.1999999999999993,8.33,11.53,9.8000000000000007,5.9929048908901699,5.83,5.74,6.54,6.27,6.29,4.5599999999999996,3466.2,1967.6,4882.75,1931.18,8781.56,28824.3,2277.19,4764.3500000000004,176.15,4639.47,11.9,40172.18,3758.09,5135.92,1035.8399999999999,4402.84,369.8,9433.6200000000008,4940.53,574.64,2836.48,210.66,66776.33,null,5.04,7.8,5.28,14.16,5.52,17.64,6.6,13.32]
["2007-04-01",31287.592000000001,7145.5609999999997,11391.856,5143.0990000000002,54968.108,27.737390581552599,25.86,34.24,25.45,23.39,9.9490411209631109,10.029999999999999,8.23,7.51,10.88,12.68,6.0265213090979604,5.77,5.98,6.34,6.22,5.55,4.54,3604.7,1972.8,4974.9799999999996,2048.2399999999998,8996.06,29174.45,2277.08,5255.88,177.89,5054.87,14.28,40812.199999999997,3808.68,5050.13,1012.14,4048.81,372.27,9423.35,5234.03,598.29999999999995,2952.32,213.44,67194.14,null,5.04,7.8,5.4,13.08,5.64,17.16,6,18.48]
["2007-05-01",31686.085999999999,7187.3029999999999,11616.995999999999,5319.2820000000002,55809.667000000001,27.886722153152501,25.51,34,25.84,23.69,10.029254363779399,10,8.16,8.3800000000000008,10.97,11.1,6.0731379801827003,6.31,5.65,6.38,6.45,6.6,4.3899999999999997,3718.4,1985.9,5068.25,1994.74,9048.91,29712.25,2292.6799999999998,5086.24,189.13,4850.32,16.920000000000002,41461.96,3961.75,4914.41,1067.46,4189.04,372.17,9500.48,5422.62,625.74,2894.61,220.86,68400.149999999994,null,5.04,7.92,5.64,13.44,5.76,14.64,6.72,17.64]
["2007-06-01",32190.673999999999,7240.03,11889.188,5286.9889999999996,56606.881000000001,27.9430478561565,25.96,33.58,26.39,24.62,9.8249166514255304,9.7899999999999991,8.08,8.56,10.51,10.91,6.1352687019551402,5.85,6.01,6.57,6.25,5.88,4.42,3666.5,2006.5,5052.45,2033.84,9092.7900000000009,30370.14,2317.0500000000002,5315.17,203.23,5089.07,16.45,42192.86,3932.11,4718.7299999999996,1133.57,4213.57,381.92,9597.02,5560.25,650.12,2805.23,228.88,69346.039999999994,null,5.4,7.44,5.52,12.84,6.36,16.2,7.56,17.16]
["2007-07-01",32687.58,7329.2539999999999,12122.924000000001,5263.1570000000002,57402.915000000001,28.854555981382799,26.59,34.54,26.87,25.04,9.98563879156446,10.01,7.93,8.4499999999999993,10.48,11.56,6.06253095516304,6.01,5.8,6.4,6.39,6.54,4.51,3650.6,1991.3,5086.13,2063.7600000000002,9141.2099999999991,30765.41,2321.37,5253.62,211.65,4889.29,17.420000000000002,42786.55,3926.29,4653.62,1160.6300000000001,4096.74,389.69,9609.6200000000008,5782.33,671.26,2805.97,234.6,70036.160000000003,null,5.4,7.56,5.76,13.08,6.36,15.36,7.08,17.88]
["2007-08-01",33344.21,7456.1440000000002,12409.393,5359.9480000000003,58569.695,27.592636850561401,24.32,34.65,25.44,23.57,9.9113971326751198,10.02,7.98,8.89,10.09,11.97,6.1999090900244802,6.02,6,6.51,6.39,6.48,4.6900000000000004,3503,1969.9,5021.79,2129.7600000000002,9121.4500000000007,30781.62,2327.08,5407.28,220.73,4995.6099999999997,19.91,42842.64,3958.81,4744.24,1160.28,4146.57,397.83,9734.06,5885.32,672.26,2898.11,233.27,70410.63,null,5.52,7.68,6.12,12.84,6.6,15.72,7.8,18.600000000000001]
["2007-09-01",34064.347000000002,7529.5680000000002,12721.028,5310.8159999999998,59625.758999999998,28.888644870074799,25.43,35.090000000000003,27,24.95,10.126112936643199,8.9700000000000006,9.17,9.3800000000000008,11.3,12.5,6.1441163891756796,6,5.99,6.53,6.33,5.95,4.79,4118.5,2059.3000000000002,4968.59,2381.34,9409.2199999999993,31125.25,2340.96,5425.09,229.26,5262.59,19.989999999999998,43247.199999999997,3967.61,4687.45,1185.22,4227.91,397.53,9905.39,5964.2,681.5,2984.07,225.16,71054.77,null,5.88,8.4,6.36,14.04,6.72,16.32,7.68,19.68]
["2007-10-01",34709.023999999998,7628.0240000000003,12982.869000000001,5237.7790000000005,60557.696000000004,29.010985038932098,24.57,35.4,27.09,25.07,10.150835175765,8.16,9.7100000000000009,9.07,11.68,12.28,5.8533606967078802,5.7,5.78,5.99,5.96,6.53,4.83,3533.6,2018.9,4965.54,2206.39,9190.89,31971.79,2357.69,5528.08,234.83,5508.11,17.059999999999999,43758.11,4089.22,4596.54,1184.1400000000001,4137.2700000000004,393.47,10064.370000000001,6212.2,716.88,3014.92,230.2,71907.08,null,5.88,9.7200000000000006,6.36,14.4,6.84,15.84,7.44,19.440000000000001]
["2007-11-01",35764.525000000001,7740.683,13182.558999999999,5543.69,62231.457000000002,28.918278266454799,25.34,35.46,27.11,25.02,10.1663921671149,8.09,10.45,8.9700000000000006,11.26,12.01,5.6824301269678097,5.48,5.68,6.09,5.68,5.53,4.8099999999999996,3515.1,2041.2,4863.4799999999996,2665.85,9570.56,32853.269999999997,2363.5700000000002,6338.14,229.9,6247.86,15.74,45091.839999999997,4144.9799999999996,4450.9799999999996,1231.92,4167.13,405.73,10272.129999999999,6296.57,723.79,3081.23,242.1,73461.740000000005,null,5.88,10.44,6.36,14.04,6.84,15.96,10.199999999999999,18.239999999999998]
["2007-12-01",36669.065999999999,7827.1149109999997,13431.648999999999,5403.1790000000001,63331.008909999997,29.956424397723399,26.49,35.96,28.02,26.24,10.207594462623099,8.8800000000000008,9.75,8.8800000000000008,11.52,12.43,5.8907807742312901,5.93,5.97,5.97,5.86,5.29,4.83,3660.6,2210.3000000000002,5417.21,2502.35,10129.84,33217.519999999997,2356.44,6176.76,221.39,6053.72,16.559999999999999,46031.67,4142.8900000000003,4082.7,1327.55,4138.16,389.53,10443.17,6094.77,706.55,3017.96,248.08,74090.94,null,6.48,9.84,6.96,13.32,7.08,16.079999999999998,7.32,19.2]
["2008-01-01",36532.937510000003,7916.3758319999997,13711.532590000001,5095.8082670000003,63256.654199999997,32.062977085834703,27.01,36.35,31.72,29.85,10.546072555411,9.1999999999999993,10.65,9.3699999999999992,11.5,12.21,4.9099747135160499,4.91,4.8600000000000003,4.9800000000000004,4.91,4.91,4.8,3746.5,2190.6,5469.3,2544.1999999999998,10204,34957.5,2362.9,5566.9,229.4,5520,18.5,47782.3,4208.8,4142.8,1397.2,4131.3,368.7,10541.2,5674.1,666,2953.2,253.8,75705.399999999994,null,6.36,10.68,6.6,14.04,7.32,18,7.92,21.36]
["2008-02-01",36902.591229999998,7975.8912190000001,13854.585139999999,5196.5313230000002,63929.598910000001,31.960689431939102,26.98,37.01,30.71,29.55,10.5242958634587,9.61,10.72,8.8800000000000008,11.24,11.61,4.1944529702062496,4.2,4.08,4.29,4.21,4.0599999999999996,4.9000000000000004,3755.4,2228.8000000000002,5374.2,2553.8000000000002,10156.799999999999,35352.699999999997,2374.6999999999998,5860.6,240.4,5697.6,16.600000000000001,48271.1,4258.8999999999996,4376.3,1301.8,4084,369.8,10558.6,5491.9,638.79999999999995,3171,249,75931.199999999997,null,6.24,10.68,6.6,13.8,7.08,17.88,7.68,19.68]
["2008-03-01",37065.959470000002,8059.479026,14054.684499999999,5151.1482319999996,64331.271229999998,29.8751708037857,25.78,36.89,27.18,26.54,10.6081632164383,8.83,10.67,9.52,11.57,12.21,3.9099521988548198,3.9,3.77,4.0599999999999996,3.97,4.24,4.82,3909.5,2229.3000000000002,5347.5,2524.9,10101.700000000001,35841,2380.3000000000002,5949.5,250.8,5714.1,14.8,48794.400000000001,4172.8999999999996,4370.3999999999996,1336.5,4081.2,365.9,10620.1,5702.6,638.29999999999995,3450,258.2,76374.2,null,6.48,10.68,6.96,14.16,7.32,16.440000000000001,7.44,19.079999999999998]
["2008-04-01",37929.259859999998,8157.7401650000002,14333.60615,5818.9849320000003,66239.591109999994,30.126329719934201,26.55,36.76,28.41,26.91,10.592877402859299,8.77,10.79,9.84,11.8,12.55,4.01635492774912,3.97,3.96,4.04,4.08,4.33,4.76,3768.9,2213.8000000000002,5333.4,2554.1,10101.299999999999,36588.199999999997,2392.4,6075.6,261.39999999999998,5909.6,16.100000000000001,49493.3,4431.3,4342.6000000000004,1426.3,4082.3,375.2,10823.6,5906.2,636.6,3513.8,252.7,77750.899999999994,null,6.48,10.92,6.96,14.64,7.32,17.28,7.44,19.8]
["2008-05-01",38480.927710000004,8155.6718179999998,14529.422200000001,6335.3939030000001,67501.415630000003,30.9324869049988,27.72,36.92,29.28,28.37,10.6795696146953,8.94,10.83,9.32,11.59,13.46,4.1160037726979901,3.87,3.91,4.4400000000000004,4.3499999999999996,4.8899999999999997,4.63,3922.1,2257.1999999999998,5535.4,2623.8,10416.5,36375.199999999997,2427.4,6895.9,274.5,6684,18.8,49686.6,4876.2,4531.7,1556.6,3987.2,396,11137.4,6041,655.20000000000005,3503.9,251,79112.899999999994,null,6.6,10.92,6.96,13.68,7.32,17.28,7.8,20.399999999999999]
["2008-06-01",39280.581299999998,8190.3773739999997,14847.071019999999,7018.9911060000004,69337.020799999998,30.744248148501701,27.54,36.89,29.43,28.09,10.8763012727232,9.16,11.08,9.7899999999999991,12.05,13,4.2386793668557603,4,3.87,4.6500000000000004,4.91,4.91,4.72,3942.2,2274.1999999999998,5585.8,2631.7,10491.8,36715.1,2468.3000000000002,6562.2,293.5,6357.7,22,50151.199999999997,5370,4879.8,1630.8,4083.1,413.2,11329.1,6013.4,657.3,3453.4,250.4,80824.3,null,6.72,11.28,7.32,14.28,7.68,18,8.52,20.28]
["2008-07-01",39742.064830000003,8230.3700950000002,15178.60382,6694.5079480000004,69845.546690000003,31.240313742673901,22.76,37.729999999999997,30.04,29.99,11.428753715123401,9.67,10.4,10.6,12.96,13.61,4.4044248683942699,4.1399999999999997,4.26,4.5199999999999996,5.12,5.31,4.87,3885.2,2254.4,5357.3,2338.5,9950.2999999999993,36965.800000000003,2498.6999999999998,6257,307.89999999999998,6006.6,23.7,49949.3,5832.1,5436.9,1685.6,4002.9,420.3,11377.4,5891.9,638.9,3507.2,263.5,81464.600000000006,null,6.84,10.56,7.56,15.36,8.64,18.12,8.76,21]
["2008-08-01",40257.88392,8288.8088970000008,15482.081,6706.7849420000002,70735.558770000003,32.014571090938801,26.13,37.340000000000003,29.91,31.11,11.872771857100901,9.93,11.55,10.53,13.23,15.38,4.6828430653168001,4.57,4.34,4.8600000000000003,5.16,5.47,4.82,3888.7,2232,5252.6,2578.1999999999998,10062.700000000001,36845.800000000003,2523.5,6316.2,321.3,5907.8,24.4,50137.3,6044.2,6257.8,1827.6,4007.5,436.4,11696.9,5802.1,619.6,3699.5,266.2,82863.600000000006,null,7.44,11.64,8.0399999999999991,15.24,8.64,19.2,9.24,23.28]
["2008-09-01",40957.882839999998,8315.6560050000007,15741.795550000001,7268.8705710000004,72284.204970000006,34.024364909569798,27.59,39.39,31.78,32.369999999999997,12.804720313383299,11.27,12.36,12.29,13.81,15.58,5.1263856274647104,4.75,5.12,5.23,5.63,5.49,4.8,3946.5,2315,5278.6,2599.6999999999998,10193.299999999999,37274.300000000003,2546.6,5893.7,328.1,5393,22.8,50820.2,6220.8,6968.1,1974.3,3983.4,457.6,12067.3,5505.3,582.1,3542.9,271.10000000000002,84765,null,8.4,12.48,9.48,16.440000000000001,9.6,19.079999999999998,9.36,24.36]
["2008-10-01",42404.142359999998,8325.8533970000008,15986.531230000001,8464.0938960000003,75180.620880000002,35.760897802525299,29.44,39.96,34.020000000000003,35.08,15.1485057621497,14.18,16.55,13.55,14.44,16.5,8.0271257425205302,7.66,8.57,7.87,7.79,6.13,5.34,3936.6,2305.9,5486.3,2624.3,10416.5,38920.1,2563.5,6055.2,326.39999999999998,5559.3,18.100000000000001,52704.3,6550.1,6842,2137.4,3925.9,465.1,12231.4,4853.3999999999996,510.9,3183,268.3,86769.1,null,9,16.559999999999999,9.9600000000000009,17.16,9.84,22.56,null,23.52]
["2008-11-01",42751.920680000003,8365.9103759999998,16177.99934,8393.2883629999997,75689.118759999998,36.071842036112699,29.36,40.049999999999997,34.97,35.47,15.128786233759699,13.18,17,12.56,14.1,18.32,5.9275972440875204,5.78,6.02,5.82,6.26,7.64,5.69,4137.2,2331.1,5394.2,2557.5,10282.799999999999,39857.800000000003,2571.9,6236.7,330.4,5757.5,18.399999999999999,53503.7,6857.2,6481.1,2293.6,3944.6,487,12405,4328.1000000000004,465.9,3078.7,255,87432.5,null,8.0399999999999991,17.04,8.8800000000000008,16.68,9.24,22.44,8.8800000000000008,27]
["2008-12-01",42262.408869999999,8356.5838980000008,16275.07166,7828.0500240000001,74722.114459999997,36.851581681413002,30.17,41.1,32.93,37.18,14.910910610780199,13.21,16.47,12.06,14.93,16.95,5.8315002485440504,5.26,5.87,5.96,6.2,4.4400000000000004,5.77,4287.6000000000004,2484.8000000000002,5621.4,2701.7,10807.8,40415.5,2563.5,6512,342.6,6021.2,22.2,54598,6666.5,6330.6,2335.6999999999998,3816.7,503.4,12650.5,4091.8,459.9,2953.5,248.3,88251.3,null,8.2799999999999994,16.440000000000001,8.76,16.920000000000002,8.52,22.32,7.2,24.96]
["2009-01-01",41620.532899999998,8342.3151440000001,16266.58066,7488.709613,73718.138309999995,36.334171451960003,30.6,41.71,33.18,34.79,13.5112458646691,12.2,13.97,10.8,14.35,16.14,5.3235662820483602,5.23,4.92,6.1,5.94,6.26,5.92,4305.8,2445.4,5600.8,2706.6,10752.8,40571.9,2555,7657.4,348.9,7157.4,24.9,54703.7,6548.5,6051.9,2350.1999999999998,3670.3,500.4,13010.6,4144.3999999999996,453.1,3108.8,239,88085.3,null,7.08,14.04,6.72,19.559999999999999,6.6,22.08,null,23.04]
["2009-02-01",41119.385600000001,8282.9839759999995,16154.006069999999,7068.3894250000003,72624.765069999994,36.189776794957403,30.19,42.67,33.020000000000003,33.74,12.2157947060754,10.88,12.88,10.11,12.06,15.67,5.1172565620763102,5.03,5.0599999999999996,5.32,5.0999999999999996,7,5.53,4164.8,2446,5652.6,2436.6,10535.2,40313.1,2541.1999999999998,8278.7999999999993,355.9,7709,25.7,54289.4,6554.7,6124.9,2445.3000000000002,3715.3,529,13196.2,4551,446.6,3610.3,239,88003,null,5.16,12.96,4.92,15.12,4.68,19.920000000000002,5.76,24.24]
["2009-03-01",40445.082249999999,8286.7588780000005,16177.831829999999,6733.9237579999999,71643.596709999998,32.2310900560189,28.89,42.45,29.17,31.64,10.0588162851225,8.39,10.3,7.83,12.65,14.25,4.6835907984627498,5.01,4.68,5.25,4.41,4.43,4.9000000000000004,4218.5,2459.9,5902.3,2280.3000000000002,10642.5,37600.800000000003,2533.6999999999998,8098.2,363.2,7551.7,25.9,51660.800000000003,6489.1,6655.6,2500.6999999999998,3599.9,559.5,13297.4,4865.2,445,4017.7,241.5,85813.8,null,2.88,10.08,3.12,14.88,3.24,15.12,null,20.64]
["2009-04-01",40860.992270000002,8322.7341319999996,16217.03066,6398.8912209999999,71799.648289999997,29.9749702923983,28.32,40.549999999999997,22.84,25.95,8.7663514466743102,6.64,8.6999999999999993,5.93,10.99,9.91,3.94729968911175,4.45,3.35,4.96,4.6500000000000004,4.71,4.42,4234.3999999999996,2462.6,6024.4,2402.8000000000002,10889.7,36814.300000000003,2549.4,8882.9,367.1,8634.1,22.1,50847.199999999997,6254.1,6811.1,2540.1999999999998,3479.9,581.5,13804.3,5011.3999999999996,457.7,4069.3,234.3,85483.7,null,2.2799999999999998,9.48,2.52,13.08,2.88,11.76,null,17.64]
["2009-05-01",40716.103779999998,8264.6600249999992,16297.69606,6183.3765530000001,71461.836410000004,29.566587019095401,26.246660314748901,38.5576622867273,22.918997339925401,26.7668769351245,8.0713683339428606,6.0941051747233796,6.8351419818429502,5.2772960918011096,9.98514056581174,11.6870110959903,3.7768421556343399,3.67797130082843,3.9236723147402901,4.1697048529362704,3.1396791153004,5.3391932053440803,4.4556453691489804,4344.8999999999996,2493.5,6188.7,2652.1,11334.3,36523.800000000003,2589.9,9185.2999999999993,373.4,8999.2000000000007,23,50984.5,5840.2,6723.3,2596.1999999999998,3469,600.20000000000005,14288.6,5157.5,484.1,3958.6,222.5,85962.6,null,1.56,7.08,1.8,12.12,2.52,13.56,null,18.96]
["2009-06-01",40399.395120000001,8203.6656519999997,16441.354469999998,5403.7693669999999,70448.184609999997,28.9061914956599,24.19,38.479999999999997,21.24,25.39,7.9845183487956701,5.84,5.42,5.03,11.53,9.14,3.49696459618111,3.6,3.27,4.12,3.57,3.12,4.6100000000000003,4430.6000000000004,2504.8000000000002,6291.6,2818.5,11614.8,36470.199999999997,2627.5,8599.7000000000007,371.3,8163.3,26.3,51494,5373.4,6917.2,2653.5,3435.3,598,14355.7,5191.6000000000004,506.4,3819.8,208.4,86497,null,1.32,5.88,1.68,14.16,2.76,13.08,null,14.88]
["2009-07-01",40444.881650000003,8213.9071889999996,16579.807840000001,5362.954307,70601.55098,27.909352390439899,24.23,36.83,22.73,25.36,7.2408472343698298,5.1100000000000003,4.82,4.5199999999999996,8.6999999999999993,12.15,2.7133157939572001,2.38,2.64,3.09,3.91,2.64,4.62,4308.2,2487,6303.6,2811.5,11602.2,36705.1,2640.4,9977.7000000000007,367.8,9280,24.2,51989,5141.7,6460,2778.2,3339.5,609.4,14256.1,5355,527.9,3911.6,206.6,86338.6,null,0.84,5.04,1.44,11.4,1.8,16.2,null,18.84]
["2009-08-01",40852.699610000003,8220.5458739999995,16692.06583,5389.5310630000004,71154.842369999998,24.5737435113694,21.67,35.270000000000003,19.579999999999998,21.54,5.9873966986875997,4.87,3.94,4.25,7.82,7.89,3.3949739058076802,3.87,3.5,2.81,3.27,2.96,4.5599999999999996,4487.8999999999996,2505.8000000000002,6290.1,2952.3,11748.2,36460,2652.7,10236.6,365.5,9492.9,21.6,51948.5,5360.1,6128.7,2906.9,3309.1,614.29999999999995,14330.7,5723.9,552.70000000000005,4174.6000000000004,200.9,86499.3,null,0.48,4.2,0.72,10.56,1.44,9.48,4.68,14.76]
["2009-09-01",41035.870439999999,8242.0853229999993,16810.688890000001,5246.6051820000002,71335.249840000004,26.523264242632901,20.52,34.33,20.8,24.63,5.7749809206789102,4.05,3.72,4.43,7.88,9.41,2.5450470118040398,2.14,2.2599999999999998,2.94,3.21,3.03,4.49,4558.8,2612.6,6470.7,3214.1,12297.4,36281.5,2663.4,9042,363.8,8393.2000000000007,21.5,52233.4,5369,6576.2,3040.4,3282.4,607,13900.9,6234.5,580.9,4371.3,200.3,87253,null,0.6,3.84,1.08,11.4,2.16,12.24,4.4400000000000004,17.399999999999999]
["2009-10-01",41079.076719999997,8300.7900079999999,17052.11346,5224.9779589999998,71656.958150000006,26.667814255904599,19.940000000000001,34.49,21.97,24.64,5.6134654537822497,3.81,3.61,4.26,8.15,8.59,2.6609289121842599,2.61,2.38,3.24,2.94,3.46,4.3499999999999996,4379.1000000000004,2571.1999999999998,6492.6,3280.4,12344.2,35231.4,2670.1,9653.9,358.3,8873.2999999999993,24.8,51359.7,5266,6458.5,3201.8,3182,591.6,13440.4,6669.4,607.5,4552.1000000000004,192.7,86032.1,null,0.6,3.72,1.2,11.64,2.52,11.88,5.04,16.559999999999999]
["2009-11-01",40973.898269999998,8346.1028900000001,17292.09993,4819.1139919999996,71431.215079999994,27.258339937912599,19.46,34.85,22.24,25.47,5.2475719388473099,3.09,3.58,4.21,7.4,8.59,2.5465993614059901,2.56705380671908,2.17,2.94,2.73,4.74,4.28,4558.8999999999996,2585.4,6575.7,3161.3,12322.4,35176.800000000003,2643.8,9434.2999999999993,347.8,8629,23.9,51272.2,5365.9,6421.3,3396.7,2992.3,533.70000000000005,13640.6,6644.4,615.5,4382.8,183.4,86316.4,null,0.6,3.72,1.44,11.28,2.88,12.36,4.8,16.68]
["2009-12-01",42490.429150000004,8424.0880130000005,17435.79351,4624.0355730000001,72974.346250000002,26.556523975162101,19.816031664504798,34.000434537032199,21.0952728256309,25.1289374358884,4.7397666361242097,2.59397322470979,3.4477342232283399,4.5839415196085502,7.1128206396779401,6.4534057026165597,2.2207973644244801,2.5612671042393802,1.5461237135515,2.6957596560885202,2.8096117215723799,2.0872220849496101,4.5414325420879997,4735.2,2754.5,7257.6,3267,13279.1,34751.300000000003,2628,9448.2000000000007,346.3,8712.9,24,51716,5387.9,6214.4,3451.2,2965.1,496.9,13853.4,6548.9,624.20000000000005,4071.8,180,87006.1,null,0.72,3.48,1.44,9.84,2.52,7.68,4.68,14.76]
["2010-01-01",42328.998619999998,8459.6485799999991,17483.62977,5245.5865700000004,73517.863549999995,30.353914964528101,22.311540998683,36.916725812834301,25.946474500005198,27.499965713182799,7.0406248867057499,3.4014147675275499,3.86754704397134,4.9726946239129202,10.6048716142729,13.358822945418799,1.83706570409307,1.8042224647867999,1.23755270976146,2.65300387389407,2.5426283649699299,6.51719513381643,4.5838309984722203,4802.8999999999996,2744.3,7443.5,3592.8,13780.7,35378.800000000003,2656.8,9729.9,351.9,8973,25,52900.2,5513.4,5823.5,3528.4,2818.5,495.1,13930.3,6640.9,635.4,4138.8999999999996,218.4,87928.3,null,0.6,3.96,1.2,11.88,2.2799999999999998,13.32,5.04,20.28]
["2010-02-01",42565.735970000002,8474.4710610000002,17597.781790000001,5118.1807150000004,73756.169540000003,29.5461259997262,21.222349361218601,35.9642488806955,26.2886865810442,28.008286243892599,5.6279494904808596,3.2594007356548,3.9010887857974401,4.5057290518972604,9.2297451851229209,9.5544823860210801,1.9782439184533001,1.53364406516065,1.82807238489033,2.6068751504826801,2.4345982065629501,null,4.6029839655247002,4952.2,2801.8,7361.1,3713.2,13876,35333,2634.1,8937.2000000000007,358.3,8217.1,25.2,52896.2,5581.3,6024.2,3639.8,2773.5,477.8,13893.7,6848.9,639.29999999999995,4291.7,219.3,88263.7,null,0.6,4.08,1.56,13.8,2.88,17.64,4.8,19.079999999999998]
["2010-03-01",42411.281490000001,8531.4343680000002,17711.91058,5141.5987519999999,73796.225200000001,27.982459031962598,20.898732654136499,34.857622328029599,26.725392637322699,25.3719735959194,5.4203586919209599,3.6639223799178602,3.7611780094025198,3.8382090594390599,8.2888999415268891,7.4516739477309804,2.2012315029075702,1.71234895036056,2.17772993326854,2.8755383224372202,2.43573166472199,1.8300593988215501,4.2755855149842201,5066,2869.8,7629.4,3705.5,14204.7,35235.300000000003,2654.9,9111.7000000000007,363.7,8195.2000000000007,22.5,53352.6,5580.5,6253.2,3908.2,2940,465.5,13899.1,7295,656.9,4671.3,222.4,89457.4,null,0.6,3.96,1.32,11.52,2.52,13.92,5.64,15.24]
["2010-04-01",42721.574890000004,8650.1208869999991,17821.452270000002,5346.3853410000002,74539.533389999997,27.308355461376799,21.356400247854801,34.7726496747513,23.1168847646417,25.143844943902899,5.4443365264185601,3.7875585942182299,3.5390376749091299,4.0130261800013098,7.8438024380514602,8.6999999999999993,1.82082148908182,1.8750564353536201,2.2000890434302902,1.41002267248617,2.1146815588240799,3.4469696398860901,4.1275277843385396,4965.6000000000004,2918.6,7687.8,3727.4,14333.8,35446.400000000001,2726.8,10228.299999999999,378.7,9122,21,53971,5716.3,6582.8,4137.5,2734,468.9,13936,7771.4,680.1,5179.6000000000004,225,90593.3,null,0.6,3.72,1.2,11.28,2.88,12.12,6.24,17.52]
["2010-05-01",43016.769970000001,8664.3178829999997,18041.266930000002,5634.6523989999996,75357.007180000001,27.3045490031868,20.8755195691324,34.666437160364097,23.0602683860015,25.487037577212998,5.1043360239322801,2.61093736363545,3.6392556424576799,4.3982137452557399,8.8014575452271906,7.1339363119659698,2.3431927319747898,2.6939593237574901,2.0671218126207598,2.35503395053719,2.5852900200397699,2.5986258039345098,4.18098759676288,5140.5,2982.1,7971.9,4072.7,15026.6,35833.699999999997,2738.3,10010.700000000001,397.4,9143,22.6,54841.1,5942,5973.6,4394,2760.5,465.6,14023.2,7915.7,678.3,5058.8,230.5,91704.6,null,0.72,3.84,1.8,12.48,3.84,10.199999999999999,6,15.12]
["2010-06-01",43297.584199999998,8717.9658189999991,18296.444370000001,5852.4450059999999,76164.43939,27.305817463765901,22.023491016068999,35.216347009705899,23.062834946786101,24.7881089070519,5.2645016387231296,3.12064672848074,3.4645841504742698,4.40219682606463,7.4688939286188498,8.8494416215382401,2.1711366096890399,1.8764670747796199,1.9906389244050899,2.7292472373597398,2.3814394296886001,2.31826976231299,4.0648042155850499,5258.3,3009.4,8098.3,4214.7,15322.4,35769.599999999999,2798.4,8713.5,407,8152.6,22.9,54835.4,6170,5144.3,4613.5,2870.4,457,14141.4,7964.7,677.6,4616.6000000000004,233.2,92024.4,null,0.96,3.6,2.16,10.44,3.96,13.56,5.28,16.079999999999998]
["2010-07-01",42961.696479999999,8799.3112560000009,18435.648669999999,5574.4509850000004,75771.107390000005,28.120906910575101,23.394033963014301,35.592548912355397,24.824892955273,25.5362434634756,5.8647111374861103,3.3813709713006399,4.0105509569561599,5.3775521785017801,8.3397028089478997,8.8700932522265905,2.04966951250272,2.4320254083291402,1.7096964178637699,1.9046180435237401,3.1622836511299099,1.2849606670089999,4.0258767077034898,5172.6000000000004,3005.2,7956.5,4183.6000000000004,15145.3,35315,2838.2,9277.2000000000007,405.8,8628.5,23.8,54329.3,6019.6,4632.7,4800.5,2778.6,411,14197.3,8126.9,701.6,4952.2,229.6,90815.6,null,1.68,3.96,2.64,12.12,4.5599999999999996,14.4,5.4,17.399999999999999]
["2010-08-01",43165.96213,8927.6817279999996,18682.83754,5506.3900679999997,76282.871469999998,27.5146327566252,23.204820547541502,34.915307048449002,24.130919217433199,25.032811865701799,6.9137059213616698,4.1334810824522803,4.8266280976467,6.0200025868924696,9.7614073761519702,10.7855540238156,2.1077787977831299,2.2226278445535699,1.5452883407929201,2.46707203236573,2.99118831462612,3.21242385143954,4.0647273420175303,5211.8,2950.8,7878.1,4296.7,15125.6,34421,2831.9,8683,403.4,7991.7,22.9,53450.3,5958.8,4398.3999999999996,4880.3999999999996,2781.2,356.8,14245.6,8407.2000000000007,714.9,5060.1000000000004,228.1,89905.3,null,2.64,5.04,3.72,12.96,5.4,14.28,6.24,20.399999999999999]
["2010-09-01",43483.005859999997,9004.5757780000004,18850.864939999999,5320.7401879999998,76659.18677,28.002971261041601,23.542126294458999,35.506714317431303,25.518939390562601,25.094024434545201,6.8686859812019003,4.7483856808173996,5.5371780365233496,6.6594487781909297,8.6051572238839302,8.8409014224944595,1.95942499863764,1.8315567771793499,1.7393246746462201,2.264431359514,2.2119309183077198,1.3139038578120501,4.0002791868918797,5266.2,3056.3,7790,4802.5,15648.8,34594.199999999997,2869.5,7354.6,404.1,6787.8,21.9,54061.5,6293.5,4471.1000000000004,5042,2817,342.7,14343.3,8619.4,728.6,4535.8999999999996,227.1,91956.2,null,3,5.76,4.08,11.28,5.52,12.36,6.36,15.84]
["2010-10-01",43988.90595,9116.5287540000008,19068.308280000001,5707.5921079999998,77881.335089999993,27.252425282524701,23.2788069088421,34.750530419751897,25.027358432870201,24.922296446115901,7.1399747697498004,4.9153248833432599,5.5667227289778598,7.0150824654616697,8.4737101126253798,9.9844254188867705,1.7650550466581301,1.9915477552648899,1.31070100374579,2.2064206518741498,2.5292104372245898,2.3920106238463501,4.1404423827680903,5293.4,3025.5,7809.4,4614.1000000000004,15449,35056,2849.5,8166.7,400.9,7487.8,21.8,54412.3,6754.4,4500.3999999999996,5267.3,2697.6,335,14370,8659.2999999999993,753.2,4343.3,223.8,93182.5,null,3.24,5.76,4.32,11.16,5.4,15.84,4.68,16.079999999999998]
["2010-11-01",44217.75877,9262.8262649999997,19244.201130000001,5824.2347289999998,78549.02089,27.341910117002001,22.108543486676499,35.481903112942099,26.7898038485997,24.695419539695699,7.1872391337535504,5.1374704827587196,5.5710378145507304,6.8103989583942601,8.2484557125956304,11.5115350404384,1.8657389296077,1.8237639179724101,1.59736715845165,2.27543714827608,2.0681432254897301,1.8022451647856399,4.3502802608229301,5330.5,3035.3,7941.6,4371.3,15348.1,35625.9,2861.7,8195.6,400,7605.3,22.9,54803,6943.4,4609.8,5680.4,2668.5,338.9,14413.2,8700.5,766.5,4126.1000000000004,229.9,94568.2,null,3.36,5.76,4.2,11.16,5.28,15.96,6.48,18.96]
["2010-12-01",44826.24336,9390.7516799999994,19481.39258,5283.8000039999997,78982.18763,26.441702931038801,20.850936175817001,34.079782837142098,25.809484780786601,25.052724631444001,7.3797969271821202,5.1068604241131199,5.9934619967263503,6.7803990140217696,9.9919992630383891,10.9031697879864,1.93437911813958,1.8104851961330799,1.6433577637100301,2.2895210229948599,2.3537129603769902,1.9358078199203499,4.37113062194567,5595,3209.2,8214.1,4682.1000000000004,16105.4,36535.699999999997,2840.7,8249.4,405,7601.9,23.3,56511,6927.6,4369,6063.7,2574.1,325.39999999999998,14487.8,8651.9,773.1,3735.7,239,96708.7,null,3.72,6.36,4.5599999999999996,11.04,5.52,15.12,6.6,17.64]
["2011-01-01",45140.236400000002,9515.0722600000008,19599.882310000001,6010.4950399999998,80265.686010000005,27.0938928234382,21.184236997741301,34.264604829377099,27.1533917213686,26.096409064673299,7.5991038176093504,5.3882025056248004,6.3957449385559997,7.0712293365334098,9.7585915680663504,11.6873250803565,1.7777270464467601,1.81990769253322,1.2601139227892699,2.32363166283911,2.2886956564145802,2.5,4.3373107206554904,5707.3,3195.2,8439,4851.6000000000004,16485.900000000001,36815.9,2861.7,8329.6,417.4,7828.5,22.2,57059.7,7037.6,4404.8999999999996,6945.2,2333.5,307.3,14665.5,8534.2000000000007,776.7,3339.2,241.3,98484.1,null,3.72,6.72,4.4400000000000004,11.4,5.64,15.48,4.5599999999999996,20.16]
["2011-02-01",45314.42583,9619.6090729999996,19752.345819999999,6182.3673849999996,80868.74811,26.447192406930501,19.1523824901832,35.849285501014798,25.2757210208845,25.1946569828897,7.9065708323920303,5.6132071554351901,6.9217555405731002,7.0877533068552703,10.2776242806958,11.7355420341694,1.74237777338487,1.8610315856369699,1.51835620990875,1.6811919819321599,2.2693648327496101,2.7257170544289102,4.3533094044596599,5661.5,3217.8,8703.7999999999993,4176.3,16097.9,36593.300000000003,2841.1,7469.7,427,7173.2,23.4,56232.4,6993.2,5082,7171.5,2329,306.7,14864.9,8344.2000000000007,774.5,3128.1,243.7,98733.1,null,3.84,7.44,4.8,12,5.4,14.76,4.5599999999999996,20.04]
["2011-03-01",45890.500769999999,9832.2709869999999,19950.678049999999,6472.7592629999999,82146.209080000001,25.8812617644417,21.721501045773099,34.896891500121498,23.400063236228998,24.2204774350162,8.2523413456186905,5.7650783846614297,6.8612653828066996,7.60272800090861,10.0503123501513,12.4205350293003,1.89461768162144,1.8916047563368199,1.5183642793695,2.17403814461654,2.1378037576099098,3.58932612013077,4.3926488605217502,5614.7,3174.1,8733.7999999999993,4118.6000000000004,16026.5,36762.800000000003,2827.7,7470.1,441.8,7029,23.3,56476.7,6759.6,5282.3,7513.8,2501.8000000000002,306.5,14920.9,8378.6,521.9,3397.7,250.4,99283.6,null,4.2,7.2,5.16,13.08,6.72,17.16,4.68,18.84]
["2011-04-01",46504.276440000001,9997.9829360000003,20168.485840000001,6537.726729,83208.471940000003,27.117885715615099,22.279210606505799,36.259782721346703,26.697226351466899,25.053270189381099,8.4234255582339106,6.4663750809739504,7.1537848242211304,7.7653166316198101,10.2531278980642,11.9230210159599,1.6399518332446801,1.6813773407575301,1.2729906373067801,1.77123865106221,2.40919742264657,3.4209182480891198,4.3059766507292601,5685.5,3199.8,8829.7999999999993,4271.8999999999996,16301.5,37693.699999999997,2869,8298.4,473.1,7876.4,20.3,57738.9,6689.8,5349.9,7688.1,2367.1,287.5,14987.4,8608.7999999999993,801.3,3825.1,258.7,100434.9,null,4.68,7.44,5.52,12.84,6.36,16.2,5.4,18.84]
["2011-05-01",47315.038919999999,10061.32488,20375.735390000002,6969.5636420000001,84721.662840000005,27.319752293923599,23,36.04,27.52,25.27,8.6587811839057807,6.91,7.67,8.33,9.92,11.15,1.6287831033851501,1.74,1.28,1.81,1.86,2.0299999999999998,4.16,5966.3,3250.6,8952.6,4376.3999999999996,16579.5,38275.699999999997,2878.3,8297.7000000000007,490.6,7890.4,22.6,58608.9,6778.7,5639.5,7823.7,2166.5,268.10000000000002,15081.7,8691.2999999999993,811.3,3977.4,263.5,101628.8,null,5.4,7.8,6,12.48,6.48,15.36,4.8,18.48]
["2011-06-01",47636.254739999997,10177.315210000001,20615.757389999999,6805.4106250000004,85234.737959999999,26.940850667834901,22.97,35.229999999999997,26.91,24.72,9.0991380381480607,7.03,8.5299999999999994,8.5399999999999991,9.9600000000000009,11.54,1.7759442266732399,1.69,1.4,1.86,2.1800000000000002,2.6,4.13,5832.1,3289.4,9209.6,4208,16707,39544.800000000003,2918.6,7394.5,495.5,6916.6,24.5,60119.199999999997,6771.4,5987.1,7918.3,2094.6999999999998,291.5,15310.3,8611.6,809.6,3903.5,266.5,103743.8,null,5.64,9,6,12.36,5.76,17.399999999999999,4.08,16.8]
["2011-07-01",47794.155619999998,10296.95643,20800.21688,6964.254449,85855.583379999996,27.438141379244001,22.82,36,27.37,25.36,9.4809083494664108,7.98,8.5399999999999991,8.11,10.51,11.56,1.7864255577894801,1.92,1.59,1.77,2.1,1.74,4.13,5952.7,3288.1,8868.7999999999993,4141.8,16298.7,41096.300000000003,2933.6,7167.1,495.3,6714.7,24.5,61251.8,6721.3,6584.2,8194.4,2143.8000000000002,309.3,15470,8258.5,797.9,3848.4,277.8,105604.8,null,5.76,9,6.12,12.96,6.6,18.239999999999998,null,17.64]
["2011-08-01",48232.471899999997,10469.931130000001,20972.753489999999,7219.4421389999998,86894.598660000003,27.68,23.57,35.71,27.53,25.6,9.61,8.2200000000000006,9.09,7.71,9.86,13.08,1.75,1.75,1.38,1.87,2.1800000000000002,2.0099999999999998,4.17,5765.9,3274.4,8970.5,4287.1000000000004,16532,42222.3,2935.5,7212,492.2,7003.4,25.8,62364.800000000003,6753.7,6997.6,8654.4,2182.8000000000002,301.60000000000002,15484.9,7832,772.6,3849.3,297.5,107197.7,null,5.64,9.84,5.88,12.36,6.24,18.48,5.16,20.28]
["2011-09-01",49463.906020000002,10567.06338,21138.080549999999,8180.1024219999999,89349.152369999996,28.74,27.28,36.72,27.76,25.89,9.3000000000000007,7.83,8.98,7.62,9.91,11.84,1.81,1.93,1.44,1.95,2.2799999999999998,2.4500000000000002,4.17,5933,3394,8784,4634,16812,42201,2964,8283,497,8111,28,62618,7003,7895,9054,2287,310,15541,7565,744,4006,313,108698,null,5.52,9.7200000000000006,5.64,13.08,5.76,18.12,7.2,18.600000000000001]
["2011-10-01",50153.989979999998,10687.71499,21334.411469999999,7741.4810120000002,89917.597450000001,27.73,25.25,35.72,27.09,25.55,9.59,7.93,9.11,7.93,10.49,11.84,2.02,2.2799999999999998,1.53,2.35,2.54,3.01,4.1100000000000003,6166.1,3402.2,9055.4,4460.5,16918,44800,2979.3,9587.2000000000007,498.9,9319.2999999999993,28.9,65435.199999999997,7200.1,8930.2000000000007,9495.6,2069.4,305.8,15692,7494.7,738.2,4041,313.7,113006.6,null,5.52,9.7200000000000006,5.76,13.2,5.76,15.12,7.2,20.16]
["2011-11-01",50977.577299999997,10939.562,21601.087459999999,8058.7237009999999,91576.950459999993,26.96,24.21,34.090000000000003,26.53,25.32,9.5,7.67,9.1,7.29,10.7,13.29,2.2200000000000002,2.36,1.78,2.58,2.41,2.88,4.1500000000000004,6145.2,3458.7,9223.1,4124.6000000000004,16806.400000000001,45475.5,2990.1,9160.2999999999993,497.2,8943.5,26.9,65959.199999999997,7154.2,9203.2999999999993,9532.5,2115.1999999999998,288.5,15880.1,7413.4,734.9,3852.4,308.3,114120.6,null,5.76,9.9600000000000009,5.88,12,6,18.48,null,19.2]
["2011-12-01",51805.624329999999,11054.385780000001,21895.70707,7604.4715100000003,92360.188699999999,27.48,24.9,33.58,27.49,25.97,9.2799999999999994,9.15,9.36,7.81,9.44,10.17,2.75,2.6,2.52,2.86,3.23,3.29,4.26,6719.6,3646.9,9807.7000000000007,4554.5,18009.099999999999,45170.400000000001,2984.7,9215.7000000000007,500.5,8903.9,32.5,66944,7085.4,8929.2999999999993,9719.2000000000007,2093.8000000000002,275.89999999999998,16073.8,7228.7,724.2,3769,307.10000000000002,114998.3,null,6.24,10.199999999999999,6.12,11.4,6.36,17.88,7.2,15.12]
["2012-01-01",52322.87588,11155.81596,22101.959320000002,7054.3506219999999,92635.001780000006,28.04,23.96,34.450000000000003,28.19,27.1,9.39,9.02,9.1199999999999992,7.89,9.33,11.74,2.7,2.62,2.4900000000000002,2.82,3.2,1.62,4.33,6524.3762727272724,3635.9290000000001,9930.8989999999994,4621.4849999999997,18188.312999999998,46461.466,2999.076,9465.5681661452691,504.88565312300005,9013.6872658876928,31.252666415499998,68574.368886965065,7411.18,9154.34,9900.3140000000003,2343.864,274.5804445,16247.262397451999,7250.2456898356395,726.99683949999996,3788.6331705463567,306.53930015643351,117787.97978754991,null,5.52,9.84,5.52,11.4,6,16.2,7.2,19.8]
["2012-02-01",52673.611700000001,11252.148660000001,22284.892759999999,7154.8135110000003,93365.466639999999,29.81,27.12,36.22,28.78,28.38,9.4600000000000009,9.0399999999999991,8.5299999999999994,7.4,10.34,12.44,2.5,2.2799999999999998,2.23,2.85,3.06,null,4.32,6450.6474761904783,3661.1179999999999,9719.2669999999998,4355.7059999999992,17736.095000000001,46117.076000000001,3013.2620000000002,8673.4887470531139,508.55597749399999,8474.0640809899469,25.026422347500002,67549.387221209676,7310.31,9648.5010000000002,9776.4719999999998,2434.1770000000001,292.44369949999998,16327.445810452,7455.6538879103609,737.82027149999999,3820.7386863022748,307.74480682942919,117403.72739744032,null,5.28,9.48,5.52,12.6,6,20.64,null,19.8]
["2012-03-01",53657.976699999999,11401.106180000001,22517.071189999999,7478.1019690000003,95054.256039999993,27.97,24.31,35.36,25.22,27.09,9.33,8.52,9.1199999999999992,8.52,10.15,9.99,2.34,2.25,2.0099999999999998,2.72,3.02,3.48,4.29,6446.2190454545453,3643.5210000000002,9836.8700000000008,4382.9930000000004,17863.384000000002,47096.805999999997,3033.127,8949.5939726874822,512.63237012000002,8924.8213787204877,27.112216451999998,68503.609747634982,7483.0155000000004,9818.9,9856.8510000000006,2226.5700000000002,284.5983425,16388.6115735575,7646.1732017132372,744.42435950000004,3827.3117985485496,304.37091992098419,118821.07100643618,null,5.64,9.7200000000000006,6,13.08,6.36,18.239999999999998,5.4,14.28]
["2012-04-01",54225.70622,11503.007299999999,22710.350470000001,7703.0827280000003,96142.146710000001,28.97,25.78,36.78,26.19,27.1,9.84,8.33,9.83,8.49,11.19,10.99,2.4500000000000002,2.36,1.81,3.03,2.88,3.03,4.37,6517.7190500000015,3684.8290000000002,10087.196,4497.7879999999996,18269.812999999998,48143.584000000003,3062.04,9762.3532860445739,487.36843262450003,9732.6228628084809,27.698261096499998,69964.837594764074,7598.71,9889.01,9909.42,2090.9870000000001,265.14160800000002,16544.291283057501,7667.6744359532886,742.74965800000007,3734.1880486488722,303.26818565910895,120635.36534546688,null,5.76,10.56,6.12,14.4,6.6,18.12,10.08,17.88]
["2012-05-01",55406.607620000002,11567.54168,22885.515879999999,8574.7714909999995,98434.436669999996,27.931544579865701,25.45,36.32,24.59,25.45,9.9690185256623103,7.86,9.41,8.56,11.23,12.58,2.2949663942874898,2.41,1.69,2.56,2.64,3.32,4.3499999999999996,6701.8677619047621,3749.7829999999999,10280.134,4708.8990000000003,18738.815999999999,49058.964999999997,3097.4270000000001,9235.7783668458869,504.27328783950003,9363.7801613047322,26.886657765500001,71244.592835615142,7710.3419999999996,9929.83,9936.4699999999993,2022.7149999999999,262.15271100000001,16678.414507505502,7515.8174972689794,733.53759850000006,3705.101961940728,309.90815521289039,122018.862032736,null,5.76,10.199999999999999,6,14.04,6.6,17.16,6.6,16.920000000000002]
["2012-06-01",56105.20379,11645.66512,23083.911059999999,8315.5274059999992,99150.307369999995,28.013292606401102,24.44,36.590000000000003,28.96,24.97,9.4490771800013693,8.27,9.6199999999999992,8.75,10.8,9.18,2.3694759377230001,2.29,1.81,2.75,2.81,2.99,4.3,6716.8100952380964,3788.317,10176.674000000001,4465.4049999999997,18430.396000000001,49244.898999999998,3194.3960000000002,9427.9565815790411,556.35298850650008,9386.6516155454119,28.497669074000004,71438.851285466139,7623.7359999999999,9811.4310000000005,9962.1299999999992,1941.626,257.99858999999998,16623.3484110055,7352.5034332396663,726.61497850000001,3749.4667061727923,313.60959913130682,121675.16339290721,null,5.76,10.44,6.12,13.56,6.6,18.96,6.24,13.8]
["2012-07-01",56089.794309999997,11737.521640000001,23172.72478,8120.9032719999996,99120.944000000003,28.0070344328368,23.35,36.56,29.2,24.95,9.4289346983885807,9.16,8.15,8.32,11.19,10.71,2.17729347799188,2.38,1.47,2.73,2.98,3.18,4.3499999999999996,6829.8286000000007,3821.8780000000002,10165.995999999999,4351.9440000000004,18339.817999999999,50367.881000000008,3162.57,9877.4998868755865,553.90717861799999,9748.9314838783648,31.042317805499966,72521.702263809726,7475.79,9741.7119999999995,10014.9,1825.82,220.04479749999999,16529.928829880002,7132.4216920362005,724.73113599999999,3630.0288032623257,313.61934105312037,122243.40257762586,null,5.52,8.64,5.76,14.04,6.36,20.16,6,17.28]
["2012-08-01",56120.198279999997,11899.88833,23334.959770000001,8380.3481460000003,99735.394530000005,27.7289703324582,23.5,36.71,28.03,24.84,9.6431246179204493,7.99,9.01,8.2100000000000009,11.79,11.34,1.77855340825422,2.0299999999999998,1.31,1.63,3.1,3.46,4.2699999999999996,6675.8243181818189,3815.6089999999999,9790.3909999999996,4202.1099999999997,17808.11,49612.987000000008,3214.3910000000001,10180.120286924241,553.18055731199991,10304.645652523195,32.95418358899996,71031.189008124056,7291.74,10120.030293060001,10066.56,1844.4,178.745237,16537.19859838,7014.6040479809926,721.01168699999994,3644.4454608265969,313.90351304968169,120847.12990633112,null,5.52,9.7200000000000006,5.52,14.52,6.36,20.399999999999999,6.24,18.12]
["2012-09-01",56659.485630000003,11974.534439999999,23502.784640000002,8206.6399689999998,100343.44469999999,28.481981974524398,22.89,36.82,28.91,26.3,9.5346932300959608,8.14,9,8.24,10.89,11.9,1.79598059436146,1.68,1.24,1.86,3.05,1.36,4.3099999999999996,7014.2273529411759,4002.335,9962.5720000000001,4673.83,18638.737000000001,49060.186999999998,3165.8609999999999,10011.324347682568,552.17239396100001,10183.068967192872,30.063564340999999,71215.149210109696,7141.35,10073.174000000001,10202.66,1796.84,176.096407,16526.576958306501,7102.9912026811489,725.19064749999995,3668.7408280597492,315.86693617072234,120975.42067547706,null,5.64,9.36,5.88,13.68,6.48,23.04,6.24,18.600000000000001]
["2012-10-01",57336.54911,12103.43232,23791.321609999999,8151.9983810000003,101383.3014,27.4284071406062,21.92,36.03,28.25,24.57,9.4280744323333803,8.3699999999999992,8.6300000000000008,8.5,10.88,10.92,1.8064579251033399,2.3199999999999998,1.36,1.84,2.76,3.41,4.34,6918.4290000000001,3917.4520000000002,9823.2250000000004,4572.12,18312.796999999999,49858.523999999998,3183.35,10090.478747307225,535.04464374200006,10133.042902851093,27.224178278999926,71819.927309919134,7301.2,10228.42,10347.36,1551.78,181.2706465,16438.675029806498,7231.5050015414326,732.33823949999999,3768.8919087033873,315.74860864198649,121747.83570992168,null,5.76,9.36,6.12,13.68,6.6,18.96,6.72,18.72]
["2012-11-01",58331.726782726997,12245.006587254,24113.229085260002,8170.3716226329998,102860.33407787399,25.904770674609601,17.100000000000001,35.53,28.6,22.53,9.1915253581540899,7.95,8.3000000000000007,8.44,11.16,10.67,1.99207197945793,2.16,1.6,1.89,2.68,2.2000000000000002,4.34,7052.0749999999998,3957.4079999999999,9969.6260000000002,4345,18272.034,49658.111999999994,3196.913,11169.681157950572,527.53824238950017,11179.923043077644,28.924224716499921,71615.431132545928,7697.52,10694.7,10373.4,1419.86,196.57450600000001,16453.5346245,7291.9996922449209,733.36134000000004,3955.9570984433035,310.80837381648684,122209.61582303105,null,5.64,8.8800000000000008,6.12,14.16,6.6,19.440000000000001,5.88,15.96]
["2012-12-01",59124.143041875002,12332.837726420001,24293.663935629,8052.0198459100002,103802.66454983399,25.6580552670092,15.24,35.880000000000003,28.58,22.92,8.9380054820874104,7.52,8.82,8.32,10.64,11.25,1.93347585976437,2.09,1.76,1.88,2.0499999999999998,2.71,4.38,7659.5420000000004,4199.0810000000001,10634.746999999999,4764.5879999999997,19598.415999999997,48631.315000000002,3189.6790000000001,10935.480893899447,523.71411613950011,10835.855057319739,26.463384279000003,72016.286568440206,8068.6,9420.48,10453.84,1490.72,209.4110235,16610.991207821,7217.6124056516037,736.34220550000009,3745.4505700262307,306.98237726049223,122171.85046362609,null,5.88,9.24,6.12,12.96,6.72,21.36,6,16.8]
["2013-01-01",59058.496780230002,12430.113157362,24441.38699065,7941.8882375920002,103871.885165834,25.89170232802476,14.52,36.81,29.08,23.25,9.3112663279834216,9.4,8.3699999999999992,8.06,10.16,10.62,1.8710290952025586,2.34,1.43,1.92,2.2200000000000002,3.58,4.43,7586.6084090909108,4180.4549999999999,10934.297,4998.8010000000004,20113.553,49943.275999999998,3186.9140000000002,10177.681554338094,524.65397428900008,9749.6850553865133,26.634598763000003,74169.758874477586,8082.71,9113.26,11068.03,1478.92,222.83386849999999,16821.846780321001,7191.878635675881,745.35621200000003,3654.9715061481452,301.08591872205022,124938.53694610429,null,5.5200000000000005,8.76,5.5200000000000005,12.72,6.6000000000000005,19.559999999999999,6.84,17.64]
["2013-02-01",59462.113799332001,12490.056336129999,24646.687026602001,8031.9790761519998,104630.836238216,26.686751233779432,15.51,37.94,29.62,23.29,9.676705483834187,8.98,9.09,8.42,10.78,11.28,1.8413967970039411,2.2000000000000002,1.5,2.17,2.1,3.91,4.5199999999999996,7432.5703999999996,4212.2952080445002,10693.768,4729.77855,19635.841758044498,50246.544000000002,3193.5790000000002,9289.0091299351297,530.65212148399996,9063.6267350748367,30.351860089000002,73801.647414299805,8002.7539999999999,9729.9599999999991,11053.27,1450.55,231.037621,16932.295286500001,7475.159898684813,754.29323399999998,3881.9565939665708,299.30397844139191,125249.70688207666,null,5.28,9.6000000000000014,5.4,14.16,5.64,23.28,5.76,17.64]
["2013-03-01",59953.7,12643.5,24884.6,8215,105696.79999999999,26.561767147938347,22.88,35.74,28.39,21.24,9.2852544936548362,8.2899999999999991,8.69,7.93,10.76,11.8,1.7211954079737886,2.02,1.5,1.54,2.39,3.19,4.53,7537.5744000000004,4204.3719233997008,10800.172,4921.77945,19926.323373399704,51363.182999999997,3214.194,8848.7154893428742,540.24465861649992,9174.9244679067888,30.671665119499998,74687.064388332787,8012.34,9597.14,11168.83,1527.664,218.2914475,16967.063505499998,7942.6596907148305,760.26499249999995,4030.2379959575619,302.64389656721926,126548.43613202285,null,5.28,9,5.4,14.16,6,23.28,5.5200000000000005,16.919999999999998]
["2013-04-01",60066.752632511001,12768.334742532001,25126.479632957002,8447.8660763759999,106409.43308437601,25.74,21.77,36.07,28.66,19.59,9.2200000000000006,8.43,8.82,7.29,10.49,11.1,1.52,1.83,1.1499999999999999,1.4,2.2400000000000002,3.1,4.53,7364.7487727272737,4208.2879999999996,10876,4907.674,19991.962,52377.927999973297,3241.1439999999998,10142.091494243925,545.51205477600013,10287.60456725258,30.5164185985,75980.516563142141,8184.93,10276.59,11433.98,1333.83,212.92004399999999,17134.263898000001,8377.3995054999959,764.0567084999999,4024.6794092552318,312.81016459774685,129360.99714528915,null,4.92,9.120000000000001,5.04,13.799999999999999,5.76,22.080000000000002,5.28,16.440000000000001]
["2013-05-01",60844.640443668999,12814.396966032,25239.420674541001,9149.131647614,108047.589731856,26.62,23.03,37.01,29.56,20.32,9.1300000000000008,8.35,8.85,7.75,9.73,10.49,1.44,1,1.24,1.64,2.39,2.4,4.51,7436.3356190476197,4336.6379999999999,11106.963,4926.933,20370.534,53405.27799987793,3267.82,11573.421123865701,548.24303933200008,11585.093103321462,31.776936093500019,77548.426123660669,8517.5300000000007,10687.8,11865.38,1390.55,216.25049050000001,17265.981302,7487.3947211608665,770.99131750000004,4156.6385202871916,325.02709457500993,131268.63833995932,null,4.8000000000000007,9.24,5.04,13.200000000000001,5.5200000000000005,22.080000000000002,5.4,16.200000000000003]
["2013-06-01",61379.846584473999,12885.66426576,25410.535288949999,9282.4319592949996,108958.47809847901,26.36,23.11,36.96,29.76,20.28,9.0359999999999996,7.8,8.76,7.56,10.32,9.7200000000000006,1.43,1.69,0.98,1.95,1.89,2.42,4.45,7677.1088999999993,4325.1352500000003,11107.271599999996,5370.0867149999995,20802.493564999997,54033.374599999996,3295.7506499999995,11106.508578137225,622.72654859200338,11186.449594022215,31.384224801464192,78643.020122905553,7870.6710950000006,10956.4386130865,12256.219285618499,1266.7326,197.88901498630142,17210.085607170073,9288.2568491045713,747.45917798794619,4377.1057870659388,324.28773254620461,133735.3788462473,null,5.04,9,5.16,13.32,5.4,19.68,5.64,15.48]
["2013-07-01",61638.652617993001,12968.27827126,25677.006838674999,9555.3180315270001,109839.255759455,26.99,20.21,37.049999999999997,29.52,23.1,9.2200000000000006,8.19,9.07,7.36,10.88,9.64,1.48,2.04,0.97,1.98,2.2599999999999998,3.11,4.46,7727.2669999999989,4372.7392727272736,11179.913909090908,5404.7316272727276,20957.384809090909,54095.834874242428,3317.7077272727274,11967.073662109808,619.9889507326543,12045.736301523919,34.192487852663255,78878.061234071938,8435.9007518181807,11360.035760028411,12499.895710902272,1099.6800909090905,176.70537762474117,17119.389276974802,9754.0163309810359,745.52129422808252,4351.5148348553339,325.08315520635563,135392.60783747688,null,5.16,9,5.28,13.080000000000002,5.5200000000000005,23.52,5.76,15.72]
["2013-08-01",62333.401667003352,13090.615184033297,25941.111697804001,9680.7936912667847,111045.92224010744,27.410764499772498,18.309999999999999,35.82,28.51,25.43,8.8965493557184914,7.96,8.6300000000000008,7.26,11.1,10.08,1.6821505055583721,1.92,1.1100000000000001,1.89,2.21,2.98,4.49,7587.3778571428575,4333.6326190476193,10964.691238095238,5191.5041000000001,20489.827957142857,54548.347564718584,3335.7938571428572,12280.615206073799,556.32908380061383,12143.943009946433,43.945336328846729,79023.025322603411,8656.0459714285716,11297.341399474713,12790.379679241902,1130.1533333333332,147.02607979530742,17080.941218781885,7963.3397799879731,763.13160800304001,4174.984959476119,329.9804221731606,134346.41901100083,null,5.16,8.64,5.28,12.600000000000001,5.4,21.6,5.5200000000000005,19.080000000000002]

{"sheet":"Base gráficos 1","index":1,"n_rows":98,"n_cols":52,"rows_kept":98,"cut":false,"hidden":false,"merged":[[4,1,4,5],[0,6,0,23],[3,6,3,23],[1,17,1,22],[1,11,1,16],[1,6,1,10],[4,6,4,23],[0,1,0,5],[3,1,3,5],[1,1,1,5],[4,24,4,51],[3,24,3,26],[3,28,3,36],[3,38,3,50],[0,24,0,51],[1,24,1,27],[1,28,1,37],[1,38,1,51]]}
[null,"COLOCACIONES",null,null,null,null,"TASAS DE INTERÉS",null,null,null,null,null,null,null,null,null,null,null,null,null,null,null,null,null,"AGREGADOS MONETARIOS "]
[null,"Colocaciones balances individuales",null,null,null,null,"consumo ($)",null,null,null,null,"comerciales ($)",null,null,null,null,null,"comercio exterior (US$)",null,null,null,null,null,"vivienda  (UF)","M1",null,null,null,"M2",null,null,null,null,null,null,null,null,null,"M3"]
[null,"comerciales","consumo","vivienda","comercio exterior","Total","Menos de 6 meses","180 - 360 días","1 - 3 años","Más de 3 años","Promedio","Menos de 1 mes","30 - 89 días","90 - 180 días","180 - 360 días","Más de 1 año","Promedio","Menos de 1 mes","30 - 89 días","90 - 180 días","180 - 360 días","Más de 1 año","Promedio","más de 3 años","Circulante","Cuentas corrientes netas de canje","Depósitos y ahorros a la vista","M1","M1","Depósitos plazo","Ahorro plazo","Cuotas de fondos mutuos en instrumentos < 1 año","Captaciones de Cooperativas","Inversiones de fondos mutuos en instrumentos < 1 año","Inversiones de Cooperativas","Fondos mutuos neto en M2","Cooperativas neto en M2","M2","M2","Dep en moneda extranjera","Doc del BCCH","Bonos de Tesoreria","Letras de crédito","Efectos de comercio","Bono de Empresa","Cuotas del resto de FM","Cuotas de APV AFP","Inversión del resto FM ","Inversión de AFP ","Fondos mutuos neto en M3","AFP neto en M3","M3"]
[null,"Variación anual, porcentaje",null,null,null,null,"Tasas base anual 360 días, porcentaje",null,null,null,null,null,null,null,null,null,null,null,null,null,null,null,null,null,"Incidencia en la variación  anual, porcentaje",null,null,"Variación anual, porcentaje","Incidencia en la variación  anual, porcentaje",null,null,null,null,null,null,null,null,"Variación anual, porcentaje","Incidencia en la variación anual, porcentaje",null,null,null,null,null,null,null,null,null,null,null,null,"Variación anual, porcentaje"]
[null,"Fuente: Banco Central de Chile y Superintendencia de Bancos e Instituciones Financieras.",null,null,null,null,"Fuente: Banco Central de Chile",null,null,null,null,null,null,null,null,null,null,null,null,null,null,null,null,null,"Fuente: Banco Central de Chile"]
[]
["2006-01-01",null,null,null,null,null,{"$f":"'Base original'!H11","v":27.02},{"$f":"'Base original'!I11","v":31.99},{"$f":"'Base original'!J11","v":24.95},{"$f":"'Base original'!K11","v":22.13},{"$f":"'Base original'!G11","v":26.840105511345499},{"$f":"'Base original'!M11","v":9.25},{"$f":"'Base original'!N11","v":7.9},{"$f":"'Base original'!O11","v":8.66},{"$f":"'Base original'!P11","v":12.71},{"$f":"'Base original'!Q11","v":14.03},{"$f":"'Base original'!L11","v":10.2731725726366},{"$f":"'Base original'!S11","v":5.03},{"$f":"'Base original'!T11","v":5.05},{"$f":"'Base original'!U11","v":5.75},{"$f":"'Base original'!V11","v":6.03},{"$f":"'Base original'!W11","v":6.1},{"$f":"'Base original'!R11","v":5.28923438819597},{"$f":"'Base original'!X11","v":5.31}]
["2006-02-01",null,null,null,null,null,{"$f":"'Base original'!H12","v":28.43},{"$f":"'Base original'!I12","v":32.409999999999997},{"$f":"'Base original'!J12","v":26.06},{"$f":"'Base original'!K12","v":24.43},{"$f":"'Base original'!G12","v":28.080010671663999},{"$f":"'Base original'!M12","v":9.49},{"$f":"'Base original'!N12","v":7.92},{"$f":"'Base original'!O12","v":8.26},{"$f":"'Base original'!P12","v":13.8},{"$f":"'Base original'!Q12","v":12.93},{"$f":"'Base original'!L12","v":10.6917516556947},{"$f":"'Base original'!S12","v":5.61},{"$f":"'Base original'!T12","v":5.03},{"$f":"'Base original'!U12","v":6.11},{"$f":"'Base original'!V12","v":6.08},{"$f":"'Base original'!W12","v":7.9},{"$f":"'Base original'!R12","v":5.4882926812584802},{"$f":"'Base original'!X12","v":5.33}]
["2006-03-01",null,null,null,null,null,{"$f":"'Base original'!H13","v":27.58},{"$f":"'Base original'!I13","v":31.42},{"$f":"'Base original'!J13","v":22.94},{"$f":"'Base original'!K13","v":21.26},{"$f":"'Base original'!G13","v":25.220629902156901},{"$f":"'Base original'!M13","v":9.3800000000000008},{"$f":"'Base original'!N13","v":7.46},{"$f":"'Base original'!O13","v":8.24},{"$f":"'Base original'!P13","v":13.47},{"$f":"'Base original'!Q13","v":13.68},{"$f":"'Base original'!L13","v":10.242012151611499},{"$f":"'Base original'!S13","v":5.5},{"$f":"'Base original'!T13","v":5.64},{"$f":"'Base original'!U13","v":6.25},{"$f":"'Base original'!V13","v":6.26},{"$f":"'Base original'!W13","v":8.15},{"$f":"'Base original'!R13","v":5.8475082006758301},{"$f":"'Base original'!X13","v":5.22}]
["2006-04-01",null,null,null,null,null,{"$f":"'Base original'!H14","v":27.85},{"$f":"'Base original'!I14","v":32.07},{"$f":"'Base original'!J14","v":25.09},{"$f":"'Base original'!K14","v":22.94},{"$f":"'Base original'!G14","v":26.812381250088201},{"$f":"'Base original'!M14","v":9.61},{"$f":"'Base original'!N14","v":7.62},{"$f":"'Base original'!O14","v":8.19},{"$f":"'Base original'!P14","v":13.17},{"$f":"'Base original'!Q14","v":15.02},{"$f":"'Base original'!L14","v":10.6963342219099},{"$f":"'Base original'!S14","v":5.55},{"$f":"'Base original'!T14","v":5.39},{"$f":"'Base original'!U14","v":6.15},{"$f":"'Base original'!V14","v":5.98},{"$f":"'Base original'!W14","v":5.13},{"$f":"'Base original'!R14","v":5.6534729872904501},{"$f":"'Base original'!X14","v":5.04}]
["2006-05-01",null,null,null,null,null,{"$f":"'Base original'!H15","v":28.48},{"$f":"'Base original'!I15","v":32.75},{"$f":"'Base original'!J15","v":25.38},{"$f":"'Base original'!K15","v":23.44},{"$f":"'Base original'!G15","v":27.4996852524513},{"$f":"'Base original'!M15","v":9.6199999999999992},{"$f":"'Base original'!N15","v":7.62},{"$f":"'Base original'!O15","v":8.2899999999999991},{"$f":"'Base original'!P15","v":14.04},{"$f":"'Base original'!Q15","v":14.48},{"$f":"'Base original'!L15","v":10.699763036027299},{"$f":"'Base original'!S15","v":5.83},{"$f":"'Base original'!T15","v":5.9},{"$f":"'Base original'!U15","v":6.29},{"$f":"'Base original'!V15","v":6.48},{"$f":"'Base original'!W15","v":5.77},{"$f":"'Base original'!R15","v":6.0693249259096804},{"$f":"'Base original'!X15","v":5.03}]
["2006-06-01",null,null,null,null,null,{"$f":"'Base original'!H16","v":29.12},{"$f":"'Base original'!I16","v":33.020000000000003},{"$f":"'Base original'!J16","v":25.11},{"$f":"'Base original'!K16","v":23.28},{"$f":"'Base original'!G16","v":27.540614539592301},{"$f":"'Base original'!M16","v":9.27},{"$f":"'Base original'!N16","v":7.62},{"$f":"'Base original'!O16","v":8.68},{"$f":"'Base original'!P16","v":12.12},{"$f":"'Base original'!Q16","v":12.35},{"$f":"'Base original'!L16","v":10.0914888005923},{"$f":"'Base original'!S16","v":5.69},{"$f":"'Base original'!T16","v":6.04},{"$f":"'Base original'!U16","v":6.54},{"$f":"'Base original'!V16","v":6.68},{"$f":"'Base original'!W16","v":6.24},{"$f":"'Base original'!R16","v":6.0986268480947396},{"$f":"'Base original'!X16","v":5}]
["2006-07-01",null,null,null,null,null,{"$f":"'Base original'!H17","v":29.05},{"$f":"'Base original'!I17","v":33.049999999999997},{"$f":"'Base original'!J17","v":24.82},{"$f":"'Base original'!K17","v":22.78},{"$f":"'Base original'!G17","v":27.283235773047799},{"$f":"'Base original'!M17","v":9.08},{"$f":"'Base original'!N17","v":7.96},{"$f":"'Base original'!O17","v":8.56},{"$f":"'Base original'!P17","v":11.3},{"$f":"'Base original'!Q17","v":13.63},{"$f":"'Base original'!L17","v":9.9566969940811703},{"$f":"'Base original'!S17","v":6.05},{"$f":"'Base original'!T17","v":6.14},{"$f":"'Base original'!U17","v":6.57},{"$f":"'Base original'!V17","v":6.56},{"$f":"'Base original'!W17","v":6.19},{"$f":"'Base original'!R17","v":6.2949303717057496},{"$f":"'Base original'!X17","v":5.0999999999999996}]
["2006-08-01",null,null,null,null,null,{"$f":"'Base original'!H18","v":27.92},{"$f":"'Base original'!I18","v":32.799999999999997},{"$f":"'Base original'!J18","v":24.22},{"$f":"'Base original'!K18","v":22.36},{"$f":"'Base original'!G18","v":26.639610178285299},{"$f":"'Base original'!M18","v":9.5299999999999994},{"$f":"'Base original'!N18","v":8.11},{"$f":"'Base original'!O18","v":8.3699999999999992},{"$f":"'Base original'!P18","v":12.31},{"$f":"'Base original'!Q18","v":11.93},{"$f":"'Base original'!L18","v":10.308394808512},{"$f":"'Base original'!S18","v":6.07},{"$f":"'Base original'!T18","v":6},{"$f":"'Base original'!U18","v":6.49},{"$f":"'Base original'!V18","v":6.52},{"$f":"'Base original'!W18","v":5.84},{"$f":"'Base original'!R18","v":6.2227574390990599},{"$f":"'Base original'!X18","v":5.05}]
["2006-09-01",null,null,null,null,null,{"$f":"'Base original'!H19","v":25.1},{"$f":"'Base original'!I19","v":32.81},{"$f":"'Base original'!J19","v":24.59},{"$f":"'Base original'!K19","v":22.48},{"$f":"'Base original'!G19","v":26.537279800045599},{"$f":"'Base original'!M19","v":9.64},{"$f":"'Base original'!N19","v":8.2899999999999991},{"$f":"'Base original'!O19","v":8.7200000000000006},{"$f":"'Base original'!P19","v":11.87},{"$f":"'Base original'!Q19","v":12.05},{"$f":"'Base original'!L19","v":10.345094933528101},{"$f":"'Base original'!S19","v":6.31},{"$f":"'Base original'!T19","v":6.02},{"$f":"'Base original'!U19","v":6.48},{"$f":"'Base original'!V19","v":6.36},{"$f":"'Base original'!W19","v":6.69},{"$f":"'Base original'!R19","v":6.2888466043057596},{"$f":"'Base original'!X19","v":5.01}]
["2006-10-01",null,null,null,null,null,{"$f":"'Base original'!H20","v":25.03},{"$f":"'Base original'!I20","v":32.75},{"$f":"'Base original'!J20","v":24.94},{"$f":"'Base original'!K20","v":23.15},{"$f":"'Base original'!G20","v":26.874266437626801},{"$f":"'Base original'!M20","v":9.5},{"$f":"'Base original'!N20","v":8.07},{"$f":"'Base original'!O20","v":8.73},{"$f":"'Base original'!P20","v":11.71},{"$f":"'Base original'!Q20","v":14.66},{"$f":"'Base original'!L20","v":10.3284256051627},{"$f":"'Base original'!S20","v":6.01},{"$f":"'Base original'!T20","v":5.94},{"$f":"'Base original'!U20","v":6.59},{"$f":"'Base original'!V20","v":6.26},{"$f":"'Base original'!W20","v":5.61},{"$f":"'Base original'!R20","v":6.1776341040460299},{"$f":"'Base original'!X20","v":4.95}]
["2006-11-01",null,null,null,null,null,{"$f":"'Base original'!H21","v":25.29},{"$f":"'Base original'!I21","v":32.93},{"$f":"'Base original'!J21","v":25.19},{"$f":"'Base original'!K21","v":22.82},{"$f":"'Base original'!G21","v":26.970837734170999},{"$f":"'Base original'!M21","v":9.25},{"$f":"'Base original'!N21","v":8.08},{"$f":"'Base original'!O21","v":8.5500000000000007},{"$f":"'Base original'!P21","v":12.14},{"$f":"'Base original'!Q21","v":12.7},{"$f":"'Base original'!L21","v":10.169422469712799},{"$f":"'Base original'!S21","v":5.96},{"$f":"'Base original'!T21","v":5.92},{"$f":"'Base original'!U21","v":6.44},{"$f":"'Base original'!V21","v":6.16},{"$f":"'Base original'!W21","v":5.73},{"$f":"'Base original'!R21","v":6.1078112166577503},{"$f":"'Base original'!X21","v":4.82}]
["2006-12-01",null,null,null,null,null,{"$f":"'Base original'!H22","v":25.03},{"$f":"'Base original'!I22","v":33.04},{"$f":"'Base original'!J22","v":24.98},{"$f":"'Base original'!K22","v":22.99},{"$f":"'Base original'!G22","v":27.0849800029482},{"$f":"'Base original'!M22","v":9.73},{"$f":"'Base original'!N22","v":7.78},{"$f":"'Base original'!O22","v":8.5299999999999994},{"$f":"'Base original'!P22","v":11.56},{"$f":"'Base original'!Q22","v":14.17},{"$f":"'Base original'!L22","v":10.2462156294828},{"$f":"'Base original'!S22","v":5.88},{"$f":"'Base original'!T22","v":6.11},{"$f":"'Base original'!U22","v":6.25},{"$f":"'Base original'!V22","v":6.26},{"$f":"'Base original'!W22","v":5.79},{"$f":"'Base original'!R22","v":6.0777325619925202},{"$f":"'Base original'!X22","v":4.7699999999999996}]
["2007-01-01",{"$f":"'Base original'!B23/'Base original'!B11*100-100","v":16.334927259680327},{"$f":"'Base original'!C23/'Base original'!C11*100-100","v":23.214257827540223},{"$f":"'Base original'!D23/'Base original'!D11*100-100","v":17.295155089011118},{"$f":"'Base original'!E23/'Base original'!E11*100-100","v":26.756159251257117},{"$f":"'Base original'!F23/'Base original'!F11*100-100","v":18.304232270407624},{"$f":"'Base original'!H23","v":25.46},{"$f":"'Base original'!I23","v":33.43},{"$f":"'Base original'!J23","v":25.61},{"$f":"'Base original'!K23","v":24.11},{"$f":"'Base original'!G23","v":27.904564651345101},{"$f":"'Base original'!M23","v":10.039999999999999},{"$f":"'Base original'!N23","v":7.69},{"$f":"'Base original'!O23","v":8.34},{"$f":"'Base original'!P23","v":11.02},{"$f":"'Base original'!Q23","v":13.73},{"$f":"'Base original'!L23","v":10.0813509695242},{"$f":"'Base original'!S23","v":5.88},{"$f":"'Base original'!T23","v":5.92},{"$f":"'Base original'!U23","v":6.43},{"$f":"'Base original'!V23","v":6.42},{"$f":"'Base original'!W23","v":6.28},{"$f":"'Base original'!R23","v":6.10488173655519},{"$f":"'Base original'!X23","v":4.68},{"$f":"('Base original'!Z23/'Base original'!Z11*100-100)*'Base original'!Z11/'Base original'!$AC11","v":3.3031697496690882},{"$f":"('Base original'!AA23/'Base original'!AA11*100-100)*'Base original'!AA11/'Base original'!$AC11","v":8.9262124929232005},{"$f":"('Base original'!AB23/'Base original'!AB11*100-100)*'Base original'!AB11/'Base original'!$AC11","v":3.79475214349719},{"$f":"('Base original'!AC23/'Base original'!AC11*100-100)*'Base original'!AC11/'Base original'!$AC11","v":16.025190133512439},{"$f":"('Base original'!AC23/'Base original'!AC11*100-100)*'Base original'!AC11/('Base original'!$AJ11)","v":3.6757220784574942},{"$f":"('Base original'!AD23/'Base original'!AD11*100-100)*'Base original'!AD11/('Base original'!$AJ11)","v":14.618435578151637},{"$f":"('Base original'!AE23/'Base original'!AE11*100-100)*'Base original'!AE11/('Base original'!$AJ11)","v":9.3019088437149011E-2},{"$f":"('Base original'!AF23/'Base original'!AF11*100-100)*'Base original'!AF11/('Base original'!$AJ11)","v":3.7156782114666242},{"$f":"('Base original'!AG23/'Base original'!AG11*100-100)*'Base original'!AG11/('Base original'!$AJ11)","v":0.18316254608955071},{"$f":"-('Base original'!AH23/'Base original'!AH11*100-100)*'Base original'!AH11/('Base original'!$AJ11)","v":-3.7694373722425336},{"$f":"-('Base original'!AI23/'Base original'!AI11*100-100)*'Base original'!AI11/('Base original'!$AJ11)","v":-1.0836587588838074E-2},{"$f":"(('Base original'!AF23-'Base original'!AH23)/('Base original'!AF11-'Base original'!AH11)*100-100)*(('Base original'!AF11-'Base original'!AH11)/'Base original'!AJ11)","v":-5.375916077591112E-2},{"$f":"(('Base original'!AG23-'Base original'!AI23)/('Base original'!AG11-'Base original'!AI11)*100-100)*(('Base original'!AG11-'Base original'!AI11)/'Base original'!AJ11)","v":0.17232595850071264},{"$f":"('Base original'!AJ23/'Base original'!AJ11*100-100)*'Base original'!AJ11/('Base original'!$AJ11)","v":18.505773812568791},{"$f":"('Base original'!AJ23/'Base original'!AJ11*100-100)*'Base original'!AJ11/('Base original'!$AU11)","v":10.509360012376868},{"$f":"('Base original'!AK23/'Base original'!AK11*100-100)*'Base original'!AK11/('Base original'!$AU11)","v":0.63041273443006207},{"$f":"('Base original'!AL23/'Base original'!AL11*100-100)*'Base original'!AL11/('Base original'!$AU11)","v":-2.1636498031732931},{"$f":"('Base original'!AM23/'Base original'!AM11*100-100)*'Base original'!AM11/('Base original'!$AU11)","v":-2.6816564385539507E-3},{"$f":"('Base original'!AN23/'Base original'!AN11*100-100)*'Base original'!AN11/('Base original'!$AU11)","v":0.16954600931703698},{"$f":"('Base original'!AO23/'Base original'!AO11*100-100)*'Base original'!AO11/('Base original'!$AU11)","v":1.4267787461537158E-2},{"$f":"('Base original'!AP23/'Base original'!AP11*100-100)*'Base original'!AP11/('Base original'!$AU11)","v":1.7685008509102134},{"$f":"('Base original'!AQ23/'Base original'!AQ11*100-100)*'Base original'!AQ11/('Base original'!$AU11)","v":1.9284375913224336},{"$f":"('Base original'!AR23/'Base original'!AR11*100-100)*'Base original'!AR11/('Base original'!$AU11)","v":0.25706083578292344},{"$f":"-('Base original'!AS23/'Base original'!AS11*100-100)*'Base original'!AS11/('Base original'!$AU11)","v":-0.63914530796073754},{"$f":"-('Base original'!AT23/'Base original'!AT11*100-100)*'Base original'!AT11/('Base original'!$AU11)","v":-8.0174651470613589E-2},{"$f":"(('Base original'!AQ23-'Base original'!AS23)/('Base original'!AQ11-'Base original'!AS11)*100-100)*(('Base original'!AQ11-'Base original'!AS11)/'Base original'!AU11)","v":1.2892922833616969},{"$f":"(('Base original'!AR23-'Base original'!AT23)/('Base original'!AR11-'Base original'!AT11)*100-100)*(('Base original'!AR11-'Base original'!AT11)/'Base original'!AU11)","v":0.17688618431230996},{"$f":"('Base original'!AU23/'Base original'!AU11*100-100)*'Base original'!AU11/('Base original'!$AU11)","v":12.391934402557879}]
["2007-02-01",{"$f":"'Base original'!B24/'Base original'!B12*100-100","v":17.148599362846142},{"$f":"'Base original'!C24/'Base original'!C12*100-100","v":22.57287340079057},{"$f":"'Base original'!D24/'Base original'!D12*100-100","v":17.646439315981894},{"$f":"'Base original'!E24/'Base original'!E12*100-100","v":25.4400765873892},{"$f":"'Base original'!F24/'Base original'!F12*100-100","v":18.664579829045593},{"$f":"'Base original'!H24","v":25.09},{"$f":"'Base original'!I24","v":33.950000000000003},{"$f":"'Base original'!J24","v":26.74},{"$f":"'Base original'!K24","v":25.51},{"$f":"'Base original'!G24","v":28.682036168198401},{"$f":"'Base original'!M24","v":9.76},{"$f":"'Base original'!N24","v":8.1199999999999992},{"$f":"'Base original'!O24","v":8.25},{"$f":"'Base original'!P24","v":11.24},{"$f":"'Base original'!Q24","v":11.05},{"$f":"'Base original'!L24","v":9.9487011377282997},{"$f":"'Base original'!S24","v":6.14},{"$f":"'Base original'!T24","v":5.72},{"$f":"'Base original'!U24","v":6.34},{"$f":"'Base original'!V24","v":6.38},{"$f":"'Base original'!W24","v":0},{"$f":"'Base original'!R24","v":6.0921878167335102},{"$f":"'Base original'!X24","v":4.58},{"$f":"('Base original'!Z24/'Base original'!Z12*100-100)*'Base original'!Z12/'Base original'!$AC12","v":3.3835074545796613},{"$f":"('Base original'!AA24/'Base original'!AA12*100-100)*'Base original'!AA12/'Base original'!$AC12","v":8.1326059366380612},{"$f":"('Base original'!AB24/'Base original'!AB12*100-100)*'Base original'!AB12/'Base original'!$AC12","v":4.2630339225105232},{"$f":"('Base original'!AC24/'Base original'!AC12*100-100)*'Base original'!AC12/'Base original'!$AC12","v":15.779147313728245},{"$f":"('Base original'!AC24/'Base original'!AC12*100-100)*'Base original'!AC12/('Base original'!$AJ12)","v":3.5893419384079817},{"$f":"('Base original'!AD24/'Base original'!AD12*100-100)*'Base original'!AD12/('Base original'!$AJ12)","v":15.328030299377517},{"$f":"('Base original'!AE24/'Base original'!AE12*100-100)*'Base original'!AE12/('Base original'!$AJ12)","v":0.10969300423824654},{"$f":"('Base original'!AF24/'Base original'!AF12*100-100)*'Base original'!AF12/('Base original'!$AJ12)","v":3.040605698250217},{"$f":"('Base original'!AG24/'Base original'!AG12*100-100)*'Base original'!AG12/('Base original'!$AJ12)","v":0.14980327584294847},{"$f":"-('Base original'!AH24/'Base original'!AH12*100-100)*'Base original'!AH12/('Base original'!$AJ12)","v":-3.3247829042850188},{"$f":"-('Base original'!AI24/'Base original'!AI12*100-100)*'Base original'!AI12/('Base original'!$AJ12)","v":-1.8834650452995951E-2},{"$f":"(('Base original'!AF24-'Base original'!AH24)/('Base original'!AF12-'Base original'!AH12)*100-100)*(('Base original'!AF12-'Base original'!AH12)/'Base original'!AJ12)","v":-0.28417720603480334},{"$f":"(('Base original'!AG24-'Base original'!AI24)/('Base original'!AG12-'Base original'!AI12)*100-100)*(('Base original'!AG12-'Base original'!AI12)/'Base original'!AJ12)","v":0.13096862538995255},{"$f":"('Base original'!AJ24/'Base original'!AJ12*100-100)*'Base original'!AJ12/('Base original'!$AJ12)","v":18.873856661378909},{"$f":"('Base original'!AJ24/'Base original'!AJ12*100-100)*'Base original'!AJ12/('Base original'!$AU12)","v":10.715024431688025},{"$f":"('Base original'!AK24/'Base original'!AK12*100-100)*'Base original'!AK12/('Base original'!$AU12)","v":0.64367031857429302},{"$f":"('Base original'!AL24/'Base original'!AL12*100-100)*'Base original'!AL12/('Base original'!$AU12)","v":-2.2411696141348441},{"$f":"('Base original'!AM24/'Base original'!AM12*100-100)*'Base original'!AM12/('Base original'!$AU12)","v":-6.1932502810484198E-3},{"$f":"('Base original'!AN24/'Base original'!AN12*100-100)*'Base original'!AN12/('Base original'!$AU12)","v":0.16410402402160007},{"$f":"('Base original'!AO24/'Base original'!AO12*100-100)*'Base original'!AO12/('Base original'!$AU12)","v":9.2214417168100735E-3},{"$f":"('Base original'!AP24/'Base original'!AP12*100-100)*'Base original'!AP12/('Base original'!$AU12)","v":2.0859448633062416},{"$f":"('Base original'!AQ24/'Base original'!AQ12*100-100)*'Base original'!AQ12/('Base original'!$AU12)","v":1.8559905068764737},{"$f":"('Base original'!AR24/'Base original'!AR12*100-100)*'Base original'!AR12/('Base original'!$AU12)","v":0.24988567294198041},{"$f":"-('Base original'!AS24/'Base original'!AS12*100-100)*'Base original'!AS12/('Base original'!$AU12)","v":-0.59746045943309956},{"$f":"-('Base original'!AT24/'Base original'!AT12*100-100)*'Base original'!AT12/('Base original'!$AU12)","v":-7.0418282201094834E-2},{"$f":"(('Base original'!AQ24-'Base original'!AS24)/('Base original'!AQ12-'Base original'!AS12)*100-100)*(('Base original'!AQ12-'Base original'!AS12)/'Base original'!AU12)","v":1.2585300474433758},{"$f":"(('Base original'!AR24-'Base original'!AT24)/('Base original'!AR12-'Base original'!AT12)*100-100)*(('Base original'!AR12-'Base original'!AT12)/'Base original'!AU12)","v":0.17946739074088564},{"$f":"('Base original'!AU24/'Base original'!AU12*100-100)*'Base original'!AU12/('Base original'!$AU12)","v":12.808565436222935}]
["2007-03-01",{"$f":"'Base original'!B25/'Base original'!B13*100-100","v":16.07735531692957},{"$f":"'Base original'!C25/'Base original'!C13*100-100","v":21.01775333011058},{"$f":"'Base original'!D25/'Base original'!D13*100-100","v":17.789927471159288},{"$f":"'Base original'!E25/'Base original'!E13*100-100","v":21.755344820328474},{"$f":"'Base original'!F25/'Base original'!F13*100-100","v":17.563509790005426},{"$f":"'Base original'!H25","v":25.08},{"$f":"'Base original'!I25","v":34.08},{"$f":"'Base original'!J25","v":24.51},{"$f":"'Base original'!K25","v":22.77},{"$f":"'Base original'!G25","v":26.988437835351601},{"$f":"'Base original'!M25","v":9.7799999999999994},{"$f":"'Base original'!N25","v":8.1999999999999993},{"$f":"'Base original'!O25","v":8.33},{"$f":"'Base original'!P25","v":11.53},{"$f":"'Base original'!Q25","v":9.8000000000000007},{"$f":"'Base original'!L25","v":9.8189661910433408},{"$f":"'Base original'!S25","v":5.83},{"$f":"'Base original'!T25","v":5.74},{"$f":"'Base original'!U25","v":6.54},{"$f":"'Base original'!V25","v":6.27},{"$f":"'Base original'!W25","v":6.29},{"$f":"'Base original'!R25","v":5.9929048908901699},{"$f":"'Base original'!X25","v":4.5599999999999996},{"$f":"('Base original'!Z25/'Base original'!Z13*100-100)*'Base original'!Z13/'Base original'!$AC13","v":3.4391653690769552},{"$f":"('Base original'!AA25/'Base original'!AA13*100-100)*'Base original'!AA13/'Base original'!$AC13","v":8.104519856438392},{"$f":"('Base original'!AB25/'Base original'!AB13*100-100)*'Base original'!AB13/'Base original'!$AC13","v":4.9286303553759998},{"$f":"('Base original'!AC25/'Base original'!AC13*100-100)*'Base original'!AC13/'Base original'!$AC13","v":16.47218294821225},{"$f":"('Base original'!AC25/'Base original'!AC13*100-100)*'Base original'!AC13/('Base original'!$AJ13)","v":3.6977048707854712},{"$f":"('Base original'!AD25/'Base original'!AD13*100-100)*'Base original'!AD13/('Base original'!$AJ13)","v":15.906556091414545},{"$f":"('Base original'!AE25/'Base original'!AE13*100-100)*'Base original'!AE13/('Base original'!$AJ13)","v":0.11412228263620271},{"$f":"('Base original'!AF25/'Base original'!AF13*100-100)*'Base original'!AF13/('Base original'!$AJ13)","v":3.0126138915370877},{"$f":"('Base original'!AG25/'Base original'!AG13*100-100)*'Base original'!AG13/('Base original'!$AJ13)","v":0.14595028162866466},{"$f":"-('Base original'!AH25/'Base original'!AH13*100-100)*'Base original'!AH13/('Base original'!$AJ13)","v":-3.2527083572762869},{"$f":"-('Base original'!AI25/'Base original'!AI13*100-100)*'Base original'!AI13/('Base original'!$AJ13)","v":-1.7119831076393744E-2},{"$f":"(('Base original'!AF25-'Base original'!AH25)/('Base original'!AF13-'Base original'!AH13)*100-100)*(('Base original'!AF13-'Base original'!AH13)/'Base original'!AJ13)","v":-0.2400944657391996},{"$f":"(('Base original'!AG25-'Base original'!AI25)/('Base original'!AG13-'Base original'!AI13)*100-100)*(('Base original'!AG13-'Base original'!AI13)/'Base original'!AJ13)","v":0.12883045055227091},{"$f":"('Base original'!AJ25/'Base original'!AJ13*100-100)*'Base original'!AJ13/('Base original'!$AJ13)","v":19.607119229649285},{"$f":"('Base original'!AJ25/'Base original'!AJ13*100-100)*'Base original'!AJ13/('Base original'!$AU13)","v":11.186114772588295},{"$f":"('Base original'!AK25/'Base original'!AK13*100-100)*'Base original'!AK13/('Base original'!$AU13)","v":0.75899590971476716},{"$f":"('Base original'!AL25/'Base original'!AL13*100-100)*'Base original'!AL13/('Base original'!$AU13)","v":-2.0511557433855607},{"$f":"('Base original'!AM25/'Base original'!AM13*100-100)*'Base original'!AM13/('Base original'!$AU13)","v":-4.6593240837625269E-2},{"$f":"('Base original'!AN25/'Base original'!AN13*100-100)*'Base original'!AN13/('Base original'!$AU13)","v":9.18955278642202E-2},{"$f":"('Base original'!AO25/'Base original'!AO13*100-100)*'Base original'!AO13/('Base original'!$AU13)","v":2.6600443000992031E-2},{"$f":"('Base original'!AP25/'Base original'!AP13*100-100)*'Base original'!AP13/('Base original'!$AU13)","v":2.0237229749011423},{"$f":"('Base original'!AQ25/'Base original'!AQ13*100-100)*'Base original'!AQ13/('Base original'!$AU13)","v":1.9758387802524844},{"$f":"('Base original'!AR25/'Base original'!AR13*100-100)*'Base original'!AR13/('Base original'!$AU13)","v":0.24466971965918821},{"$f":"-('Base original'!AS25/'Base original'!AS13*100-100)*'Base original'!AS13/('Base original'!$AU13)","v":-0.70644050061829844},{"$f":"-('Base original'!AT25/'Base original'!AT13*100-100)*'Base original'!AT13/('Base original'!$AU13)","v":-7.5843536398102998E-2},{"$f":"(('Base original'!AQ25-'Base original'!AS25)/('Base original'!AQ13-'Base original'!AS13)*100-100)*(('Base original'!AQ13-'Base original'!AS13)/'Base original'!AU13)","v":1.2693982796341838},{"$f":"(('Base original'!AR25-'Base original'!AT25)/('Base original'!AR13-'Base original'!AT13)*100-100)*(('Base original'!AR13-'Base original'!AT13)/'Base original'!AU13)","v":0.16882618326108512},{"$f":"('Base original'!AU25/'Base original'!AU13*100-100)*'Base original'!AU13/('Base original'!$AU13)","v":13.427839079210216}]
["2007-04-01",{"$f":"'Base original'!B26/'Base original'!B14*100-100","v":15.263719298679931},{"$f":"'Base original'!C26/'Base original'!C14*100-100","v":20.405017756871374},{"$f":"'Base original'!D26/'Base original'!D14*100-100","v":18.237454989643169},{"$f":"'Base original'!E26/'Base original'!E14*100-100","v":24.639127838557286},{"$f":"'Base original'!F26/'Base original'!F14*100-100","v":17.352727665242739},{"$f":"'Base original'!H26","v":25.86},{"$f":"'Base original'!I26","v":34.24},{"$f":"'Base original'!J26","v":25.45},{"$f":"'Base original'!K26","v":23.39},{"$f":"'Base original'!G26","v":27.737390581552599},{"$f":"'Base original'!M26","v":10.029999999999999},{"$f":"'Base original'!N26","v":8.23},{"$f":"'Base original'!O26","v":7.51},{"$f":"'Base original'!P26","v":10.88},{"$f":"'Base original'!Q26","v":12.68},{"$f":"'Base original'!L26","v":9.9490411209631109},{"$f":"'Base original'!S26","v":5.77},{"$f":"'Base original'!T26","v":5.98},{"$f":"'Base original'!U26","v":6.34},{"$f":"'Base original'!V26","v":6.22},{"$f":"'Base original'!W26","v":5.55},{"$f":"'Base original'!R26","v":6.0265213090979604},{"$f":"'Base original'!X26","v":4.54},{"$f":"('Base original'!Z26/'Base original'!Z14*100-100)*'Base original'!Z14/'Base original'!$AC14","v":3.4295367048162806},{"$f":"('Base original'!AA26/'Base original'!AA14*100-100)*'Base original'!AA14/'Base original'!$AC14","v":8.7584789042243845},{"$f":"('Base original'!AB26/'Base original'!AB14*100-100)*'Base original'!AB14/'Base original'!$AC14","v":5.6128381740565176},{"$f":"('Base original'!AC26/'Base original'!AC14*100-100)*'Base original'!AC14/'Base original'!$AC14","v":17.801901369719488},{"$f":"('Base original'!AC26/'Base original'!AC14*100-100)*'Base original'!AC14/('Base original'!$AJ14)","v":3.9857593234183328},{"$f":"('Base original'!AD26/'Base original'!AD14*100-100)*'Base original'!AD14/('Base original'!$AJ14)","v":15.378857643955525},{"$f":"('Base original'!AE26/'Base original'!AE14*100-100)*'Base original'!AE14/('Base original'!$AJ14)","v":0.10956396357093465},{"$f":"('Base original'!AF26/'Base original'!AF14*100-100)*'Base original'!AF14/('Base original'!$AJ14)","v":3.0293834894114084},{"$f":"('Base original'!AG26/'Base original'!AG14*100-100)*'Base original'!AG14/('Base original'!$AJ14)","v":0.15961097609852018},{"$f":"-('Base original'!AH26/'Base original'!AH14*100-100)*'Base original'!AH14/('Base original'!$AJ14)","v":-2.9983936286957333},{"$f":"-('Base original'!AI26/'Base original'!AI14*100-100)*'Base original'!AI14/('Base original'!$AJ14)","v":-8.6783337481928652E-3},{"$f":"(('Base original'!AF26-'Base original'!AH26)/('Base original'!AF14-'Base original'!AH14)*100-100)*(('Base original'!AF14-'Base original'!AH14)/'Base original'!AJ14)","v":3.0989860715675645E-2},{"$f":"(('Base original'!AG26-'Base original'!AI26)/('Base original'!AG14-'Base original'!AI14)*100-100)*(('Base original'!AG14-'Base original'!AI14)/'Base original'!AJ14)","v":0.15093264235032736},{"$f":"('Base original'!AJ26/'Base original'!AJ14*100-100)*'Base original'!AJ14/('Base original'!$AJ14)","v":19.656044796620591},{"$f":"('Base original'!AJ26/'Base original'!AJ14*100-100)*'Base original'!AJ14/('Base original'!$AU14)","v":11.297068239025812},{"$f":"('Base original'!AK26/'Base original'!AK14*100-100)*'Base original'!AK14/('Base original'!$AU14)","v":0.78550555546006873},{"$f":"('Base original'!AL26/'Base original'!AL14*100-100)*'Base original'!AL14/('Base original'!$AU14)","v":-2.0268860743965567},{"$f":"('Base original'!AM26/'Base original'!AM14*100-100)*'Base original'!AM14/('Base original'!$AU14)","v":-9.3857601336720789E-2},{"$f":"('Base original'!AN26/'Base original'!AN14*100-100)*'Base original'!AN14/('Base original'!$AU14)","v":-0.33952186882111224},{"$f":"('Base original'!AO26/'Base original'!AO14*100-100)*'Base original'!AO14/('Base original'!$AU14)","v":7.0148867929043027E-2},{"$f":"('Base original'!AP26/'Base original'!AP14*100-100)*'Base original'!AP14/('Base original'!$AU14)","v":1.7709092661548822},{"$f":"('Base original'!AQ26/'Base original'!AQ14*100-100)*'Base original'!AQ14/('Base original'!$AU14)","v":2.369070331190954},{"$f":"('Base original'!AR26/'Base original'!AR14*100-100)*'Base original'!AR14/('Base original'!$AU14)","v":0.2568867383084939},{"$f":"-('Base original'!AS26/'Base original'!AS14*100-100)*'Base original'!AS14/('Base original'!$AU14)","v":-0.78729171448012214},{"$f":"-('Base original'!AT26/'Base original'!AT14*100-100)*'Base original'!AT14/('Base original'!$AU14)","v":-7.6130815590539566E-2},{"$f":"(('Base original'!AQ26-'Base original'!AS26)/('Base original'!AQ14-'Base original'!AS14)*100-100)*(('Base original'!AQ14-'Base original'!AS14)/'Base original'!AU14)","v":1.5817786167108316},{"$f":"(('Base original'!AR26-'Base original'!AT26)/('Base original'!AR14-'Base original'!AT14)*100-100)*(('Base original'!AR14-'Base original'!AT14)/'Base original'!AU14)","v":0.18075592271795418},{"$f":"('Base original'!AU26/'Base original'!AU14*100-100)*'Base original'!AU14/('Base original'!$AU14)","v":13.225867222330635}]
["2007-05-01",{"$f":"'Base original'!B27/'Base original'!B15*100-100","v":16.386867192204761},{"$f":"'Base original'!C27/'Base original'!C15*100-100","v":19.585566213036017},{"$f":"'Base original'!D27/'Base original'!D15*100-100","v":18.589736129834833},{"$f":"'Base original'!E27/'Base original'!E15*100-100","v":21.979331343792879},{"$f":"'Base original'!F27/'Base original'!F15*100-100","v":17.762457336702894},{"$f":"'Base original'!H27","v":25.51},{"$f":"'Base original'!I27","v":34},{"$f":"'Base original'!J27","v":25.84},{"$f":"'Base original'!K27","v":23.69},{"$f":"'Base original'!G27","v":27.886722153152501},{"$f":"'Base original'!M27","v":10},{"$f":"'Base original'!N27","v":8.16},{"$f":"'Base original'!O27","v":8.3800000000000008},{"$f":"'Base original'!P27","v":10.97},{"$f":"'Base original'!Q27","v":11.1},{"$f":"'Base original'!L27","v":10.029254363779399},{"$f":"'Base original'!S27","v":6.31},{"$f":"'Base original'!T27","v":5.65},{"$f":"'Base original'!U27","v":6.38},{"$f":"'Base original'!V27","v":6.45},{"$f":"'Base original'!W27","v":6.6},{"$f":"'Base original'!R27","v":6.0731379801827003},{"$f":"'Base original'!X27","v":4.3899999999999997},{"$f":"('Base original'!Z27/'Base original'!Z15*100-100)*'Base original'!Z15/'Base original'!$AC15","v":3.4682516581075742},{"$f":"('Base original'!AA27/'Base original'!AA15*100-100)*'Base original'!AA15/'Base original'!$AC15","v":8.9988720710231416},{"$f":"('Base original'!AB27/'Base original'!AB15*100-100)*'Base original'!AB15/'Base original'!$AC15","v":5.1190822712435295},{"$f":"('Base original'!AC27/'Base original'!AC15*100-100)*'Base original'!AC15/'Base original'!$AC15","v":17.586725783312886},{"$f":"('Base original'!AC27/'Base original'!AC15*100-100)*'Base original'!AC15/('Base original'!$AJ15)","v":3.9259033212331622},{"$f":"('Base original'!AD27/'Base original'!AD15*100-100)*'Base original'!AD15/('Base original'!$AJ15)","v":15.855759842243312},{"$f":"('Base original'!AE27/'Base original'!AE15*100-100)*'Base original'!AE15/('Base original'!$AJ15)","v":0.10042543020200433},{"$f":"('Base original'!AF27/'Base original'!AF15*100-100)*'Base original'!AF15/('Base original'!$AJ15)","v":3.2733120724594715},{"$f":"('Base original'!AG27/'Base original'!AG15*100-100)*'Base original'!AG15/('Base original'!$AJ15)","v":0.18704308894931562},{"$f":"-('Base original'!AH27/'Base original'!AH15*100-100)*'Base original'!AH15/('Base original'!$AJ15)","v":-3.0547663788887309},{"$f":"-('Base original'!AI27/'Base original'!AI15*100-100)*'Base original'!AI15/('Base original'!$AJ15)","v":-1.5113127999781865E-2},{"$f":"(('Base original'!AF27-'Base original'!AH27)/('Base original'!AF15-'Base original'!AH15)*100-100)*(('Base original'!AF15-'Base original'!AH15)/'Base original'!AJ15)","v":0.21854569357074105},{"$f":"(('Base original'!AG27-'Base original'!AI27)/('Base original'!AG15-'Base original'!AI15)*100-100)*(('Base original'!AG15-'Base original'!AI15)/'Base original'!AJ15)","v":0.17192996094953369},{"$f":"('Base original'!AJ27/'Base original'!AJ15*100-100)*'Base original'!AJ15/('Base original'!$AJ15)","v":20.272535240275545},{"$f":"('Base original'!AJ27/'Base original'!AJ15*100-100)*'Base original'!AJ15/('Base original'!$AU15)","v":11.680461748460816},{"$f":"('Base original'!AK27/'Base original'!AK15*100-100)*'Base original'!AK15/('Base original'!$AU15)","v":0.74747988984436498},{"$f":"('Base original'!AL27/'Base original'!AL15*100-100)*'Base original'!AL15/('Base original'!$AU15)","v":-1.8803574225105715},{"$f":"('Base original'!AM27/'Base original'!AM15*100-100)*'Base original'!AM15/('Base original'!$AU15)","v":3.6769799826883178E-3},{"$f":"('Base original'!AN27/'Base original'!AN15*100-100)*'Base original'!AN15/('Base original'!$AU15)","v":-0.2005792580556367},{"$f":"('Base original'!AO27/'Base original'!AO15*100-100)*'Base original'!AO15/('Base original'!$AU15)","v":9.7289547632852261E-2},{"$f":"('Base original'!AP27/'Base original'!AP15*100-100)*'Base original'!AP15/('Base original'!$AU15)","v":1.7635464538787207},{"$f":"('Base original'!AQ27/'Base original'!AQ15*100-100)*'Base original'!AQ15/('Base original'!$AU15)","v":2.6001596812125198},{"$f":"('Base original'!AR27/'Base original'!AR15*100-100)*'Base original'!AR15/('Base original'!$AU15)","v":0.2845313964785563},{"$f":"-('Base original'!AS27/'Base original'!AS15*100-100)*'Base original'!AS15/('Base original'!$AU15)","v":-0.70646484949201638},{"$f":"-('Base original'!AT27/'Base original'!AT15*100-100)*'Base original'!AT15/('Base original'!$AU15)","v":-6.885980694852277E-2},{"$f":"(('Base original'!AQ27-'Base original'!AS27)/('Base original'!AQ15-'Base original'!AS15)*100-100)*(('Base original'!AQ15-'Base original'!AS15)/'Base original'!AU15)","v":1.8936948317205038},{"$f":"(('Base original'!AR27-'Base original'!AT27)/('Base original'!AR15-'Base original'!AT15)*100-100)*(('Base original'!AR15-'Base original'!AT15)/'Base original'!AU15)","v":0.21567158953003351},{"$f":"('Base original'!AU27/'Base original'!AU15*100-100)*'Base original'!AU15/('Base original'!$AU15)","v":14.320901074029123}]
["2007-06-01",{"$f":"'Base original'!B28/'Base original'!B16*100-100","v":16.895094532343705},{"$f":"'Base original'!C28/'Base original'!C16*100-100","v":18.785661186306157},{"$f":"'Base original'!D28/'Base original'!D16*100-100","v":19.501132624459288},{"$f":"'Base original'!E28/'Base original'!E16*100-100","v":12.4891037257226},{"$f":"'Base original'!F28/'Base original'!F16*100-100","v":17.241856891066348},{"$f":"'Base original'!H28","v":25.96},{"$f":"'Base original'!I28","v":33.58},{"$f":"'Base original'!J28","v":26.39},{"$f":"'Base original'!K28","v":24.62},{"$f":"'Base original'!G28","v":27.9430478561565},{"$f":"'Base original'!M28","v":9.7899999999999991},{"$f":"'Base original'!N28","v":8.08},{"$f":"'Base original'!O28","v":8.56},{"$f":"'Base original'!P28","v":10.51},{"$f":"'Base original'!Q28","v":10.91},{"$f":"'Base original'!L28","v":9.8249166514255304},{"$f":"'Base original'!S28","v":5.85},{"$f":"'Base original'!T28","v":6.01},{"$f":"'Base original'!U28","v":6.57},{"$f":"'Base original'!V28","v":6.25},{"$f":"'Base original'!W28","v":5.88},{"$f":"'Base original'!R28","v":6.1352687019551402},{"$f":"'Base original'!X28","v":4.42},{"$f":"('Base original'!Z28/'Base original'!Z16*100-100)*'Base original'!Z16/'Base original'!$AC16","v":3.2128072494636766},{"$f":"('Base original'!AA28/'Base original'!AA16*100-100)*'Base original'!AA16/'Base original'!$AC16","v":7.7080526015684248},{"$f":"('Base original'!AB28/'Base original'!AB16*100-100)*'Base original'!AB16/'Base original'!$AC16","v":5.3284273992497919},{"$f":"('Base original'!AC28/'Base original'!AC16*100-100)*'Base original'!AC16/'Base original'!$AC16","v":16.249031555315781},{"$f":"('Base original'!AC28/'Base original'!AC16*100-100)*'Base original'!AC16/('Base original'!$AJ16)","v":3.6228756791270711},{"$f":"('Base original'!AD28/'Base original'!AD16*100-100)*'Base original'!AD16/('Base original'!$AJ16)","v":16.300132832408828},{"$f":"('Base original'!AE28/'Base original'!AE16*100-100)*'Base original'!AE16/('Base original'!$AJ16)","v":7.7932147153224787E-2},{"$f":"('Base original'!AF28/'Base original'!AF16*100-100)*'Base original'!AF16/('Base original'!$AJ16)","v":3.5948554521147709},{"$f":"('Base original'!AG28/'Base original'!AG16*100-100)*'Base original'!AG16/('Base original'!$AJ16)","v":0.21295942625520919},{"$f":"-('Base original'!AH28/'Base original'!AH16*100-100)*'Base original'!AH16/('Base original'!$AJ16)","v":-3.5123340307509876},{"$f":"-('Base original'!AI28/'Base original'!AI16*100-100)*'Base original'!AI16/('Base original'!$AJ16)","v":-2.6452462530428874E-2},{"$f":"(('Base original'!AF28-'Base original'!AH28)/('Base original'!AF16-'Base original'!AH16)*100-100)*(('Base original'!AF16-'Base original'!AH16)/'Base original'!AJ16)","v":8.2521421363784861E-2},{"$f":"(('Base original'!AG28-'Base original'!AI28)/('Base original'!AG16-'Base original'!AI16)*100-100)*(('Base original'!AG16-'Base original'!AI16)/'Base original'!AJ16)","v":0.18650696372478034},{"$f":"('Base original'!AJ28/'Base original'!AJ16*100-100)*'Base original'!AJ16/('Base original'!$AJ16)","v":20.26994053896891},{"$f":"('Base original'!AJ28/'Base original'!AJ16*100-100)*'Base original'!AJ16/('Base original'!$AU16)","v":11.757811951001532},{"$f":"('Base original'!AK28/'Base original'!AK16*100-100)*'Base original'!AK16/('Base original'!$AU16)","v":0.50107929222240033},{"$f":"('Base original'!AL28/'Base original'!AL16*100-100)*'Base original'!AL16/('Base original'!$AU16)","v":-1.9219751502369824},{"$f":"('Base original'!AM28/'Base original'!AM16*100-100)*'Base original'!AM16/('Base original'!$AU16)","v":0.12597667472174401},{"$f":"('Base original'!AN28/'Base original'!AN16*100-100)*'Base original'!AN16/('Base original'!$AU16)","v":-0.33996671596716022},{"$f":"('Base original'!AO28/'Base original'!AO16*100-100)*'Base original'!AO16/('Base original'!$AU16)","v":0.10891302748288879},{"$f":"('Base original'!AP28/'Base original'!AP16*100-100)*'Base original'!AP16/('Base original'!$AU16)","v":1.8650301879398719},{"$f":"('Base original'!AQ28/'Base original'!AQ16*100-100)*'Base original'!AQ16/('Base original'!$AU16)","v":2.9479600095569656},{"$f":"('Base original'!AR28/'Base original'!AR16*100-100)*'Base original'!AR16/('Base original'!$AU16)","v":0.3267721515324627},{"$f":"-('Base original'!AS28/'Base original'!AS16*100-100)*'Base original'!AS16/('Base original'!$AU16)","v":-0.63748926288185515},{"$f":"-('Base original'!AT28/'Base original'!AT16*100-100)*'Base original'!AT16/('Base original'!$AU16)","v":-7.361178053041155E-2},{"$f":"(('Base original'!AQ28-'Base original'!AS28)/('Base original'!AQ16-'Base original'!AS16)*100-100)*(('Base original'!AQ16-'Base original'!AS16)/'Base original'!AU16)","v":2.3104707466751093},{"$f":"(('Base original'!AR28-'Base original'!AT28)/('Base original'!AR16-'Base original'!AT16)*100-100)*(('Base original'!AR16-'Base original'!AT16)/'Base original'!AU16)","v":0.25316037100205108},{"$f":"('Base original'!AU28/'Base original'!AU16*100-100)*'Base original'!AU16/('Base original'!$AU16)","v":14.660500384841455}]
["2007-07-01",{"$f":"'Base original'!B29/'Base original'!B17*100-100","v":17.248305315525684},{"$f":"'Base original'!C29/'Base original'!C17*100-100","v":18.442387104270438},{"$f":"'Base original'!D29/'Base original'!D17*100-100","v":19.625362946297514},{"$f":"'Base original'!E29/'Base original'!E17*100-100","v":16.830530860497902},{"$f":"'Base original'!F29/'Base original'!F17*100-100","v":17.855956291539826},{"$f":"'Base original'!H29","v":26.59},{"$f":"'Base original'!I29","v":34.54},{"$f":"'Base original'!J29","v":26.87},{"$f":"'Base original'!K29","v":25.04},{"$f":"'Base original'!G29","v":28.854555981382799},{"$f":"'Base original'!M29","v":10.01},{"$f":"'Base original'!N29","v":7.93},{"$f":"'Base original'!O29","v":8.4499999999999993},{"$f":"'Base original'!P29","v":10.48},{"$f":"'Base original'!Q29","v":11.56},{"$f":"'Base original'!L29","v":9.98563879156446},{"$f":"'Base original'!S29","v":6.01},{"$f":"'Base original'!T29","v":5.8},{"$f":"'Base original'!U29","v":6.4},{"$f":"'Base original'!V29","v":6.39},{"$f":"'Base original'!W29","v":6.54},{"$f":"'Base original'!R29","v":6.06253095516304},{"$f":"'Base original'!X29","v":4.51},{"$f":"('Base original'!Z29/'Base original'!Z17*100-100)*'Base original'!Z17/'Base original'!$AC17","v":3.2118967615758316},{"$f":"('Base original'!AA29/'Base original'!AA17*100-100)*'Base original'!AA17/'Base original'!$AC17","v":9.9683231558251002},{"$f":"('Base original'!AB29/'Base original'!AB17*100-100)*'Base original'!AB17/'Base original'!$AC17","v":5.6880481030303702},{"$f":"('Base original'!AC29/'Base original'!AC17*100-100)*'Base original'!AC17/'Base original'!$AC17","v":18.868918201961979},{"$f":"('Base original'!AC29/'Base original'!AC17*100-100)*'Base original'!AC17/('Base original'!$AJ17)","v":4.1204258743605875},{"$f":"('Base original'!AD29/'Base original'!AD17*100-100)*'Base original'!AD17/('Base original'!$AJ17)","v":16.672071403866767},{"$f":"('Base original'!AE29/'Base original'!AE17*100-100)*'Base original'!AE17/('Base original'!$AJ17)","v":6.4885242568580082E-2},{"$f":"('Base original'!AF29/'Base original'!AF17*100-100)*'Base original'!AF17/('Base original'!$AJ17)","v":3.299208712398507},{"$f":"('Base original'!AG29/'Base original'!AG17*100-100)*'Base original'!AG17/('Base original'!$AJ17)","v":0.23602894364553412},{"$f":"-('Base original'!AH29/'Base original'!AH17*100-100)*'Base original'!AH17/('Base original'!$AJ17)","v":-2.8696030954094192},{"$f":"-('Base original'!AI29/'Base original'!AI17*100-100)*'Base original'!AI17/('Base original'!$AJ17)","v":-2.5584946850893436E-2},{"$f":"(('Base original'!AF29-'Base original'!AH29)/('Base original'!AF17-'Base original'!AH17)*100-100)*(('Base original'!AF17-'Base original'!AH17)/'Base original'!AJ17)","v":0.42960561698908617},{"$f":"(('Base original'!AG29-'Base original'!AI29)/('Base original'!AG17-'Base original'!AI17)*100-100)*(('Base original'!AG17-'Base original'!AI17)/'Base original'!AJ17)","v":0.2104439967946406},{"$f":"('Base original'!AJ29/'Base original'!AJ17*100-100)*'Base original'!AJ17/('Base original'!$AJ17)","v":21.497403738412245},{"$f":"('Base original'!AJ29/'Base original'!AJ17*100-100)*'Base original'!AJ17/('Base original'!$AU17)","v":12.546967036933735},{"$f":"('Base original'!AK29/'Base original'!AK17*100-100)*'Base original'!AK17/('Base original'!$AU17)","v":0.49054046461630069},{"$f":"('Base original'!AL29/'Base original'!AL17*100-100)*'Base original'!AL17/('Base original'!$AU17)","v":-1.7720977308815913},{"$f":"('Base original'!AM29/'Base original'!AM17*100-100)*'Base original'!AM17/('Base original'!$AU17)","v":0.161640690296736},{"$f":"('Base original'!AN29/'Base original'!AN17*100-100)*'Base original'!AN17/('Base original'!$AU17)","v":-0.39414937933322824},{"$f":"('Base original'!AO29/'Base original'!AO17*100-100)*'Base original'!AO17/('Base original'!$AU17)","v":8.5900102307800819E-2},{"$f":"('Base original'!AP29/'Base original'!AP17*100-100)*'Base original'!AP17/('Base original'!$AU17)","v":1.9539248623534966},{"$f":"('Base original'!AQ29/'Base original'!AQ17*100-100)*'Base original'!AQ17/('Base original'!$AU17)","v":3.2544752826308923},{"$f":"('Base original'!AR29/'Base original'!AR17*100-100)*'Base original'!AR17/('Base original'!$AU17)","v":0.35709118354695657},{"$f":"-('Base original'!AS29/'Base original'!AS17*100-100)*'Base original'!AS17/('Base original'!$AU17)","v":-0.52935544428152725},{"$f":"-('Base original'!AT29/'Base original'!AT17*100-100)*'Base original'!AT17/('Base original'!$AU17)","v":-8.0977792760161038E-2},{"$f":"(('Base original'!AQ29-'Base original'!AS29)/('Base original'!AQ17-'Base original'!AS17)*100-100)*(('Base original'!AQ17-'Base original'!AS17)/'Base original'!AU17)","v":2.7251198383493658},{"$f":"(('Base original'!AR29-'Base original'!AT29)/('Base original'!AR17-'Base original'!AT17)*100-100)*(('Base original'!AR17-'Base original'!AT17)/'Base original'!AU17)","v":0.27611339078679559},{"$f":"('Base original'!AU29/'Base original'!AU17*100-100)*'Base original'!AU17/('Base original'!$AU17)","v":16.073959275429402}]
["2007-08-01",{"$f":"'Base original'!B30/'Base original'!B18*100-100","v":18.04252987791115},{"$f":"'Base original'!C30/'Base original'!C18*100-100","v":17.645878229400623},{"$f":"'Base original'!D30/'Base original'!D18*100-100","v":19.914026810454573},{"$f":"'Base original'!E30/'Base original'!E18*100-100","v":18.472808789883572},{"$f":"'Base original'!F30/'Base original'!F18*100-100","v":18.422651004628435},{"$f":"'Base original'!H30","v":24.32},{"$f":"'Base original'!I30","v":34.65},{"$f":"'Base original'!J30","v":25.44},{"$f":"'Base original'!K30","v":23.57},{"$f":"'Base original'!G30","v":27.592636850561401},{"$f":"'Base original'!M30","v":10.02},{"$f":"'Base original'!N30","v":7.98},{"$f":"'Base original'!O30","v":8.89},{"$f":"'Base original'!P30","v":10.09},{"$f":"'Base original'!Q30","v":11.97},{"$f":"'Base original'!L30","v":9.9113971326751198},{"$f":"'Base original'!S30","v":6.02},{"$f":"'Base original'!T30","v":6},{"$f":"'Base original'!U30","v":6.51},{"$f":"'Base original'!V30","v":6.39},{"$f":"'Base original'!W30","v":6.48},{"$f":"'Base original'!R30","v":6.1999090900244802},{"$f":"'Base original'!X30","v":4.6900000000000004},{"$f":"('Base original'!Z30/'Base original'!Z18*100-100)*'Base original'!Z18/'Base original'!$AC18","v":3.1994274983611106},{"$f":"('Base original'!AA30/'Base original'!AA18*100-100)*'Base original'!AA18/'Base original'!$AC18","v":9.7683092135676528},{"$f":"('Base original'!AB30/'Base original'!AB18*100-100)*'Base original'!AB18/'Base original'!$AC18","v":6.1486467074626328},{"$f":"('Base original'!AC30/'Base original'!AC18*100-100)*'Base original'!AC18/'Base original'!$AC18","v":19.115991652758964},{"$f":"('Base original'!AC30/'Base original'!AC18*100-100)*'Base original'!AC18/('Base original'!$AJ18)","v":4.0693199082072784},{"$f":"('Base original'!AD30/'Base original'!AD18*100-100)*'Base original'!AD18/('Base original'!$AJ18)","v":15.404915164007909},{"$f":"('Base original'!AE30/'Base original'!AE18*100-100)*'Base original'!AE18/('Base original'!$AJ18)","v":6.6078529759663607E-2},{"$f":"('Base original'!AF30/'Base original'!AF18*100-100)*'Base original'!AF18/('Base original'!$AJ18)","v":4.4635393573119373},{"$f":"('Base original'!AG30/'Base original'!AG18*100-100)*'Base original'!AG18/('Base original'!$AJ18)","v":0.2587542932279932},{"$f":"-('Base original'!AH30/'Base original'!AH18*100-100)*'Base original'!AH18/('Base original'!$AJ18)","v":-5.1359446908528357},{"$f":"-('Base original'!AI30/'Base original'!AI18*100-100)*'Base original'!AI18/('Base original'!$AJ18)","v":-2.782692818234005E-2},{"$f":"(('Base original'!AF30-'Base original'!AH30)/('Base original'!AF18-'Base original'!AH18)*100-100)*(('Base original'!AF18-'Base original'!AH18)/'Base original'!AJ18)","v":-0.67240533354089937},{"$f":"(('Base original'!AG30-'Base original'!AI30)/('Base original'!AG18-'Base original'!AI18)*100-100)*(('Base original'!AG18-'Base original'!AI18)/'Base original'!AJ18)","v":0.23092736504565309},{"$f":"('Base original'!AJ30/'Base original'!AJ18*100-100)*'Base original'!AJ18/('Base original'!$AJ18)","v":19.098807834350566},{"$f":"('Base original'!AJ30/'Base original'!AJ18*100-100)*'Base original'!AJ18/('Base original'!$AU18)","v":11.227391325237106},{"$f":"('Base original'!AK30/'Base original'!AK18*100-100)*'Base original'!AK18/('Base original'!$AU18)","v":0.58997696112348885},{"$f":"('Base original'!AL30/'Base original'!AL18*100-100)*'Base original'!AL18/('Base original'!$AU18)","v":-2.060000437964173},{"$f":"('Base original'!AM30/'Base original'!AM18*100-100)*'Base original'!AM18/('Base original'!$AU18)","v":0.14549235180550743},{"$f":"('Base original'!AN30/'Base original'!AN18*100-100)*'Base original'!AN18/('Base original'!$AU18)","v":-0.22027310007710119},{"$f":"('Base original'!AO30/'Base original'!AO18*100-100)*'Base original'!AO18/('Base original'!$AU18)","v":5.6183612884121506E-2},{"$f":"('Base original'!AP30/'Base original'!AP18*100-100)*'Base original'!AP18/('Base original'!$AU18)","v":1.9999928095434345},{"$f":"('Base original'!AQ30/'Base original'!AQ18*100-100)*'Base original'!AQ18/('Base original'!$AU18)","v":3.073707736048799},{"$f":"('Base original'!AR30/'Base original'!AR18*100-100)*'Base original'!AR18/('Base original'!$AU18)","v":0.33216640938995179},{"$f":"-('Base original'!AS30/'Base original'!AS18*100-100)*'Base original'!AS18/('Base original'!$AU18)","v":-8.1546314220999547E-3},{"$f":"-('Base original'!AT30/'Base original'!AT18*100-100)*'Base original'!AT18/('Base original'!$AU18)","v":-7.1839197858812764E-2},{"$f":"(('Base original'!AQ30-'Base original'!AS30)/('Base original'!AQ18-'Base original'!AS18)*100-100)*(('Base original'!AQ18-'Base original'!AS18)/'Base original'!AU18)","v":3.0655531046266975},{"$f":"(('Base original'!AR30-'Base original'!AT30)/('Base original'!AR18-'Base original'!AT18)*100-100)*(('Base original'!AR18-'Base original'!AT18)/'Base original'!AU18)","v":0.26032721153113914},{"$f":"('Base original'!AU30/'Base original'!AU18*100-100)*'Base original'!AU18/('Base original'!$AU18)","v":15.064676522603705}]
["2007-09-01",{"$f":"'Base original'!B31/'Base original'!B19*100-100","v":20.425432161125229},{"$f":"'Base original'!C31/'Base original'!C19*100-100","v":16.698932492226206},{"$f":"'Base original'!D31/'Base original'!D19*100-100","v":21.368938626626814},{"$f":"'Base original'!E31/'Base original'!E19*100-100","v":14.480162084175902},{"$f":"'Base original'!F31/'Base original'!F19*100-100","v":19.588369736338535},{"$f":"'Base original'!H31","v":25.43},{"$f":"'Base original'!I31","v":35.090000000000003},{"$f":"'Base original'!J31","v":27},{"$f":"'Base original'!K31","v":24.95},{"$f":"'Base original'!G31","v":28.888644870074799},{"$f":"'Base original'!M31","v":8.9700000000000006},{"$f":"'Base original'!N31","v":9.17},{"$f":"'Base original'!O31","v":9.3800000000000008},{"$f":"'Base original'!P31","v":11.3},{"$f":"'Base original'!Q31","v":12.5},{"$f":"'Base original'!L31","v":10.126112936643199},{"$f":"'Base original'!S31","v":6},{"$f":"'Base original'!T31","v":5.99},{"$f":"'Base original'!U31","v":6.53},{"$f":"'Base original'!V31","v":6.33},{"$f":"'Base original'!W31","v":5.95},{"$f":"'Base original'!R31","v":6.1441163891756796},{"$f":"'Base original'!X31","v":4.79},{"$f":"('Base original'!Z31/'Base original'!Z19*100-100)*'Base original'!Z19/'Base original'!$AC19","v":3.1999878864811881},{"$f":"('Base original'!AA31/'Base original'!AA19*100-100)*'Base original'!AA19/'Base original'!$AC19","v":7.7284250028075601},{"$f":"('Base original'!AB31/'Base original'!AB19*100-100)*'Base original'!AB19/'Base original'!$AC19","v":7.7998442908102543},{"$f":"('Base original'!AC31/'Base original'!AC19*100-100)*'Base original'!AC19/'Base original'!$AC19","v":18.727878632636092},{"$f":"('Base original'!AC31/'Base original'!AC19*100-100)*'Base original'!AC19/('Base original'!$AJ19)","v":4.0426163601499177},{"$f":"('Base original'!AD31/'Base original'!AD19*100-100)*'Base original'!AD19/('Base original'!$AJ19)","v":14.963010982306281},{"$f":"('Base original'!AE31/'Base original'!AE19*100-100)*'Base original'!AE19/('Base original'!$AJ19)","v":8.5826505709056894E-2},{"$f":"('Base original'!AF31/'Base original'!AF19*100-100)*'Base original'!AF19/('Base original'!$AJ19)","v":3.069162381242919},{"$f":"('Base original'!AG31/'Base original'!AG19*100-100)*'Base original'!AG19/('Base original'!$AJ19)","v":0.21057591737121942},{"$f":"-('Base original'!AH31/'Base original'!AH19*100-100)*'Base original'!AH19/('Base original'!$AJ19)","v":-4.5476608123420199},{"$f":"-('Base original'!AI31/'Base original'!AI19*100-100)*'Base original'!AI19/('Base original'!$AJ19)","v":-2.7401289985182598E-2},{"$f":"(('Base original'!AF31-'Base original'!AH31)/('Base original'!AF19-'Base original'!AH19)*100-100)*(('Base original'!AF19-'Base original'!AH19)/'Base original'!AJ19)","v":-1.4784984310991021},{"$f":"(('Base original'!AG31-'Base original'!AI31)/('Base original'!AG19-'Base original'!AI19)*100-100)*(('Base original'!AG19-'Base original'!AI19)/'Base original'!AJ19)","v":0.18317462738603679},{"$f":"('Base original'!AJ31/'Base original'!AJ19*100-100)*'Base original'!AJ19/('Base original'!$AJ19)","v":17.796130044452198},{"$f":"('Base original'!AJ31/'Base original'!AJ19*100-100)*'Base original'!AJ19/('Base original'!$AU19)","v":10.434955375616713},{"$f":"('Base original'!AK31/'Base original'!AK19*100-100)*'Base original'!AK19/('Base original'!$AU19)","v":0.57876501913431844},{"$f":"('Base original'!AL31/'Base original'!AL19*100-100)*'Base original'!AL19/('Base original'!$AU19)","v":-2.7257439912682151},{"$f":"('Base original'!AM31/'Base original'!AM19*100-100)*'Base original'!AM19/('Base original'!$AU19)","v":0.16836858633793222},{"$f":"('Base original'!AN31/'Base original'!AN19*100-100)*'Base original'!AN19/('Base original'!$AU19)","v":-0.24140496893358515},{"$f":"('Base original'!AO31/'Base original'!AO19*100-100)*'Base original'!AO19/('Base original'!$AU19)","v":4.2259844379640372E-2},{"$f":"('Base original'!AP31/'Base original'!AP19*100-100)*'Base original'!AP19/('Base original'!$AU19)","v":2.001768652746259},{"$f":"('Base original'!AQ31/'Base original'!AQ19*100-100)*'Base original'!AQ19/('Base original'!$AU19)","v":2.9344239333182456},{"$f":"('Base original'!AR31/'Base original'!AR19*100-100)*'Base original'!AR19/('Base original'!$AU19)","v":0.31845012739442508},{"$f":"-('Base original'!AS31/'Base original'!AS19*100-100)*'Base original'!AS19/('Base original'!$AU19)","v":2.5090784399250138E-2},{"$f":"-('Base original'!AT31/'Base original'!AT19*100-100)*'Base original'!AT19/('Base original'!$AU19)","v":-5.3807035417614592E-2},{"$f":"(('Base original'!AQ31-'Base original'!AS31)/('Base original'!AQ19-'Base original'!AS19)*100-100)*(('Base original'!AQ19-'Base original'!AS19)/'Base original'!AU19)","v":2.9595147177174956},{"$f":"(('Base original'!AR31-'Base original'!AT31)/('Base original'!AR19-'Base original'!AT19)*100-100)*(('Base original'!AR19-'Base original'!AT19)/'Base original'!AU19)","v":0.26464309197681057},{"$f":"('Base original'!AU31/'Base original'!AU19*100-100)*'Base original'!AU19/('Base original'!$AU19)","v":13.483126327707382}]
["2007-10-01",{"$f":"'Base original'!B32/'Base original'!B20*100-100","v":21.678263528384647},{"$f":"'Base original'!C32/'Base original'!C20*100-100","v":16.156534294621579},{"$f":"'Base original'!D32/'Base original'!D20*100-100","v":22.668910501435846},{"$f":"'Base original'!E32/'Base original'!E20*100-100","v":14.353572673801082},{"$f":"'Base original'!F32/'Base original'!F20*100-100","v":20.49779021607074},{"$f":"'Base original'!H32","v":24.57},{"$f":"'Base original'!I32","v":35.4},{"$f":"'Base original'!J32","v":27.09},{"$f":"'Base original'!K32","v":25.07},{"$f":"'Base original'!G32","v":29.010985038932098},{"$f":"'Base original'!M32","v":8.16},{"$f":"'Base original'!N32","v":9.7100000000000009},{"$f":"'Base original'!O32","v":9.07},{"$f":"'Base original'!P32","v":11.68},{"$f":"'Base original'!Q32","v":12.28},{"$f":"'Base original'!L32","v":10.150835175765},{"$f":"'Base original'!S32","v":5.7},{"$f":"'Base original'!T32","v":5.78},{"$f":"'Base original'!U32","v":5.99},{"$f":"'Base original'!V32","v":5.96},{"$f":"'Base original'!W32","v":6.53},{"$f":"'Base original'!R32","v":5.8533606967078802},{"$f":"'Base original'!X32","v":4.83},{"$f":"('Base original'!Z32/'Base original'!Z20*100-100)*'Base original'!Z20/'Base original'!$AC20","v":3.0686498974101917},{"$f":"('Base original'!AA32/'Base original'!AA20*100-100)*'Base original'!AA20/'Base original'!$AC20","v":9.2292068282951529},{"$f":"('Base original'!AB32/'Base original'!AB20*100-100)*'Base original'!AB20/'Base original'!$AC20","v":6.4533384326757597},{"$f":"('Base original'!AC32/'Base original'!AC20*100-100)*'Base original'!AC20/'Base original'!$AC20","v":18.752099602561373},{"$f":"('Base original'!AC32/'Base original'!AC20*100-100)*'Base original'!AC20/('Base original'!$AJ20)","v":3.9667773886609834},{"$f":"('Base original'!AD32/'Base original'!AD20*100-100)*'Base original'!AD20/('Base original'!$AJ20)","v":16.074340895282024},{"$f":"('Base original'!AE32/'Base original'!AE20*100-100)*'Base original'!AE20/('Base original'!$AJ20)","v":0.11946823924150318},{"$f":"('Base original'!AF32/'Base original'!AF20*100-100)*'Base original'!AF20/('Base original'!$AJ20)","v":2.039706312028299},{"$f":"('Base original'!AG32/'Base original'!AG20*100-100)*'Base original'!AG20/('Base original'!$AJ20)","v":0.15838902914768127},{"$f":"-('Base original'!AH32/'Base original'!AH20*100-100)*'Base original'!AH20/('Base original'!$AJ20)","v":-2.7429317358316978},{"$f":"-('Base original'!AI32/'Base original'!AI20*100-100)*'Base original'!AI20/('Base original'!$AJ20)","v":-1.6016561014761198E-2},{"$f":"(('Base original'!AF32-'Base original'!AH32)/('Base original'!AF20-'Base original'!AH20)*100-100)*(('Base original'!AF20-'Base original'!AH20)/'Base original'!AJ20)","v":-0.70322542380339748},{"$f":"(('Base original'!AG32-'Base original'!AI32)/('Base original'!AG20-'Base original'!AI20)*100-100)*(('Base original'!AG20-'Base original'!AI20)/'Base original'!AJ20)","v":0.14237246813292007},{"$f":"('Base original'!AJ32/'Base original'!AJ20*100-100)*'Base original'!AJ20/('Base original'!$AJ20)","v":19.59973356751405},{"$f":"('Base original'!AJ32/'Base original'!AJ20*100-100)*'Base original'!AJ20/('Base original'!$AU20)","v":11.444451484311678},{"$f":"('Base original'!AK32/'Base original'!AK20*100-100)*'Base original'!AK20/('Base original'!$AU20)","v":0.71938576750574279},{"$f":"('Base original'!AL32/'Base original'!AL20*100-100)*'Base original'!AL20/('Base original'!$AU20)","v":-2.5389485087619477},{"$f":"('Base original'!AM32/'Base original'!AM20*100-100)*'Base original'!AM20/('Base original'!$AU20)","v":0.15036943609546363},{"$f":"('Base original'!AN32/'Base original'!AN20*100-100)*'Base original'!AN20/('Base original'!$AU20)","v":-0.31883682809543179},{"$f":"('Base original'!AO32/'Base original'!AO20*100-100)*'Base original'!AO20/('Base original'!$AU20)","v":3.5780967493741093E-2},{"$f":"('Base original'!AP32/'Base original'!AP20*100-100)*'Base original'!AP20/('Base original'!$AU20)","v":2.1565932816365931},{"$f":"('Base original'!AQ32/'Base original'!AQ20*100-100)*'Base original'!AQ20/('Base original'!$AU20)","v":3.2623560442464696},{"$f":"('Base original'!AR32/'Base original'!AR20*100-100)*'Base original'!AR20/('Base original'!$AU20)","v":0.34890433155582884},{"$f":"-('Base original'!AS32/'Base original'!AS20*100-100)*'Base original'!AS20/('Base original'!$AU20)","v":-0.44242639645918463},{"$f":"-('Base original'!AT32/'Base original'!AT20*100-100)*'Base original'!AT20/('Base original'!$AU20)","v":-5.8251798105332306E-2},{"$f":"(('Base original'!AQ32-'Base original'!AS32)/('Base original'!AQ20-'Base original'!AS20)*100-100)*(('Base original'!AQ20-'Base original'!AS20)/'Base original'!AU20)","v":2.8199296477872848},{"$f":"(('Base original'!AR32-'Base original'!AT32)/('Base original'!AR20-'Base original'!AT20)*100-100)*(('Base original'!AR20-'Base original'!AT20)/'Base original'!AU20)","v":0.29065253345049669},{"$f":"('Base original'!AU32/'Base original'!AU20*100-100)*'Base original'!AU20/('Base original'!$AU20)","v":14.759361822026861}]
["2007-11-01",{"$f":"'Base original'!B33/'Base original'!B21*100-100","v":22.698203113868914},{"$f":"'Base original'!C33/'Base original'!C21*100-100","v":15.694917600053444},{"$f":"'Base original'!D33/'Base original'!D21*100-100","v":23.25184645539278},{"$f":"'Base original'!E33/'Base original'!E21*100-100","v":18.028021299883946},{"$f":"'Base original'!F33/'Base original'!F21*100-100","v":21.471026734848394},{"$f":"'Base original'!H33","v":25.34},{"$f":"'Base original'!I33","v":35.46},{"$f":"'Base original'!J33","v":27.11},{"$f":"'Base original'!K33","v":25.02},{"$f":"'Base original'!G33","v":28.918278266454799},{"$f":"'Base original'!M33","v":8.09},{"$f":"'Base original'!N33","v":10.45},{"$f":"'Base original'!O33","v":8.9700000000000006},{"$f":"'Base original'!P33","v":11.26},{"$f":"'Base original'!Q33","v":12.01},{"$f":"'Base original'!L33","v":10.1663921671149},{"$f":"'Base original'!S33","v":5.48},{"$f":"'Base original'!T33","v":5.68},{"$f":"'Base original'!U33","v":6.09},{"$f":"'Base original'!V33","v":5.68},{"$f":"'Base original'!W33","v":5.53},{"$f":"'Base original'!R33","v":5.6824301269678097},{"$f":"'Base original'!X33","v":4.8099999999999996},{"$f":"('Base original'!Z33/'Base original'!Z21*100-100)*'Base original'!Z21/'Base original'!$AC21","v":3.0124808224453972},{"$f":"('Base original'!AA33/'Base original'!AA21*100-100)*'Base original'!AA21/'Base original'!$AC21","v":6.5400068893021315},{"$f":"('Base original'!AB33/'Base original'!AB21*100-100)*'Base original'!AB21/'Base original'!$AC21","v":12.097843343370696},{"$f":"('Base original'!AC33/'Base original'!AC21*100-100)*'Base original'!AC21/'Base original'!$AC21","v":21.650331055118215},{"$f":"('Base original'!AC33/'Base original'!AC21*100-100)*'Base original'!AC21/('Base original'!$AJ21)","v":4.6135939980942},{"$f":"('Base original'!AD33/'Base original'!AD21*100-100)*'Base original'!AD21/('Base original'!$AJ21)","v":17.577075614847004},{"$f":"('Base original'!AE33/'Base original'!AE21*100-100)*'Base original'!AE21/('Base original'!$AJ21)","v":0.15899698095340897},{"$f":"('Base original'!AF33/'Base original'!AF21*100-100)*'Base original'!AF21/('Base original'!$AJ21)","v":4.7851861402304605},{"$f":"('Base original'!AG33/'Base original'!AG21*100-100)*'Base original'!AG21/('Base original'!$AJ21)","v":0.1407949415665781},{"$f":"-('Base original'!AH33/'Base original'!AH21*100-100)*'Base original'!AH21/('Base original'!$AJ21)","v":-5.1292371882833026},{"$f":"-('Base original'!AI33/'Base original'!AI21*100-100)*'Base original'!AI21/('Base original'!$AJ21)","v":-8.992674220874167E-3},{"$f":"(('Base original'!AF33-'Base original'!AH33)/('Base original'!AF21-'Base original'!AH21)*100-100)*(('Base original'!AF21-'Base original'!AH21)/'Base original'!AJ21)","v":-0.34405104805284092},{"$f":"(('Base original'!AG33-'Base original'!AI33)/('Base original'!AG21-'Base original'!AI21)*100-100)*(('Base original'!AG21-'Base original'!AI21)/'Base original'!AJ21)","v":0.13180226734570388},{"$f":"('Base original'!AJ33/'Base original'!AJ21*100-100)*'Base original'!AJ21/('Base original'!$AJ21)","v":22.137417813187483},{"$f":"('Base original'!AJ33/'Base original'!AJ21*100-100)*'Base original'!AJ21/('Base original'!$AU21)","v":12.939301221688895},{"$f":"('Base original'!AK33/'Base original'!AK21*100-100)*'Base original'!AK21/('Base original'!$AU21)","v":0.73759510653166371},{"$f":"('Base original'!AL33/'Base original'!AL21*100-100)*'Base original'!AL21/('Base original'!$AU21)","v":-2.522442592527506},{"$f":"('Base original'!AM33/'Base original'!AM21*100-100)*'Base original'!AM21/('Base original'!$AU21)","v":0.23592784300016856},{"$f":"('Base original'!AN33/'Base original'!AN21*100-100)*'Base original'!AN21/('Base original'!$AU21)","v":-0.43216496647266189},{"$f":"('Base original'!AO33/'Base original'!AO21*100-100)*'Base original'!AO21/('Base original'!$AU21)","v":5.9702314853954982E-2},{"$f":"('Base original'!AP33/'Base original'!AP21*100-100)*'Base original'!AP21/('Base original'!$AU21)","v":2.3618273752924539},{"$f":"('Base original'!AQ33/'Base original'!AQ21*100-100)*'Base original'!AQ21/('Base original'!$AU21)","v":3.2469605014804461},{"$f":"('Base original'!AR33/'Base original'!AR21*100-100)*'Base original'!AR21/('Base original'!$AU21)","v":0.32827565592594937},{"$f":"-('Base original'!AS33/'Base original'!AS21*100-100)*'Base original'!AS21/('Base original'!$AU21)","v":-0.58044708817039281},{"$f":"-('Base original'!AT33/'Base original'!AT21*100-100)*'Base original'!AT21/('Base original'!$AU21)","v":-7.0198903225254891E-2},{"$f":"(('Base original'!AQ33-'Base original'!AS33)/('Base original'!AQ21-'Base original'!AS21)*100-100)*(('Base original'!AQ21-'Base original'!AS21)/'Base original'!AU21)","v":2.6665134133100525},{"$f":"(('Base original'!AR33-'Base original'!AT33)/('Base original'!AR21-'Base original'!AT21)*100-100)*(('Base original'!AR21-'Base original'!AT21)/'Base original'!AU21)","v":0.25807675270069447},{"$f":"('Base original'!AU33/'Base original'!AU21*100-100)*'Base original'!AU21/('Base original'!$AU21)","v":16.304320636419405}]
["2007-12-01",{"$f":"'Base original'!B34/'Base original'!B22*100-100","v":22.595112091629517},{"$f":"'Base original'!C34/'Base original'!C22*100-100","v":15.338343844092321},{"$f":"'Base original'!D34/'Base original'!D22*100-100","v":24.371381241764766},{"$f":"'Base original'!E34/'Base original'!E22*100-100","v":12.434797573086968},{"$f":"'Base original'!F34/'Base original'!F22*100-100","v":21.086771179857351},{"$f":"'Base original'!H34","v":26.49},{"$f":"'Base original'!I34","v":35.96},{"$f":"'Base original'!J34","v":28.02},{"$f":"'Base original'!K34","v":26.24},{"$f":"'Base original'!G34","v":29.956424397723399},{"$f":"'Base original'!M34","v":8.8800000000000008},{"$f":"'Base original'!N34","v":9.75},{"$f":"'Base original'!O34","v":8.8800000000000008},{"$f":"'Base original'!P34","v":11.52},{"$f":"'Base original'!Q34","v":12.43},{"$f":"'Base original'!L34","v":10.207594462623099},{"$f":"'Base original'!S34","v":5.93},{"$f":"'Base original'!T34","v":5.97},{"$f":"'Base original'!U34","v":5.97},{"$f":"'Base original'!V34","v":5.86},{"$f":"'Base original'!W34","v":5.29},{"$f":"'Base original'!R34","v":5.8907807742312901},{"$f":"'Base original'!X34","v":4.83},{"$f":"('Base original'!Z34/'Base original'!Z22*100-100)*'Base original'!Z22/'Base original'!$AC22","v":2.9393459780376587},{"$f":"('Base original'!AA34/'Base original'!AA22*100-100)*'Base original'!AA22/'Base original'!$AC22","v":7.9089618584312182},{"$f":"('Base original'!AB34/'Base original'!AB22*100-100)*'Base original'!AB22/'Base original'!$AC22","v":7.2138683051791679},{"$f":"('Base original'!AC34/'Base original'!AC22*100-100)*'Base original'!AC22/'Base original'!$AC22","v":18.061476852359064},{"$f":"('Base original'!AC34/'Base original'!AC22*100-100)*'Base original'!AC22/('Base original'!$AJ22)","v":4.0572916707574729},{"$f":"('Base original'!AD34/'Base original'!AD22*100-100)*'Base original'!AD22/('Base original'!$AJ22)","v":16.419870125823948},{"$f":"('Base original'!AE34/'Base original'!AE22*100-100)*'Base original'!AE22/('Base original'!$AJ22)","v":0.1929812022014156},{"$f":"('Base original'!AF34/'Base original'!AF22*100-100)*'Base original'!AF22/('Base original'!$AJ22)","v":4.0920340470051011},{"$f":"('Base original'!AG34/'Base original'!AG22*100-100)*'Base original'!AG22/('Base original'!$AJ22)","v":0.12260629085730937},{"$f":"-('Base original'!AH34/'Base original'!AH22*100-100)*'Base original'!AH22/('Base original'!$AJ22)","v":-4.3589769770886218},{"$f":"-('Base original'!AI34/'Base original'!AI22*100-100)*'Base original'!AI22/('Base original'!$AJ22)","v":-9.6608416242466681E-3},{"$f":"(('Base original'!AF34-'Base original'!AH34)/('Base original'!AF22-'Base original'!AH22)*100-100)*(('Base original'!AF22-'Base original'!AH22)/'Base original'!AJ22)","v":-0.2669429300835206},{"$f":"(('Base original'!AG34-'Base original'!AI34)/('Base original'!AG22-'Base original'!AI22)*100-100)*(('Base original'!AG22-'Base original'!AI22)/'Base original'!AJ22)","v":0.11294544923306267},{"$f":"('Base original'!AJ34/'Base original'!AJ22*100-100)*'Base original'!AJ22/('Base original'!$AJ22)","v":20.516171699074988},{"$f":"('Base original'!AJ34/'Base original'!AJ22*100-100)*'Base original'!AJ22/('Base original'!$AU22)","v":12.131578075522485},{"$f":"('Base original'!AK34/'Base original'!AK22*100-100)*'Base original'!AK22/('Base original'!$AU22)","v":0.79352890852890789},{"$f":"('Base original'!AL34/'Base original'!AL22*100-100)*'Base original'!AL22/('Base original'!$AU22)","v":-2.7814924480297938},{"$f":"('Base original'!AM34/'Base original'!AM22*100-100)*'Base original'!AM22/('Base original'!$AU22)","v":0.41654191257542916},{"$f":"('Base original'!AN34/'Base original'!AN22*100-100)*'Base original'!AN22/('Base original'!$AU22)","v":-0.50973979831482141},{"$f":"('Base original'!AO34/'Base original'!AO22*100-100)*'Base original'!AO22/('Base original'!$AU22)","v":3.9183363589103216E-2},{"$f":"('Base original'!AP34/'Base original'!AP22*100-100)*'Base original'!AP22/('Base original'!$AU22)","v":2.2357274869050765},{"$f":"('Base original'!AQ34/'Base original'!AQ22*100-100)*'Base original'!AQ22/('Base original'!$AU22)","v":2.6864058343734234},{"$f":"('Base original'!AR34/'Base original'!AR22*100-100)*'Base original'!AR22/('Base original'!$AU22)","v":0.25956075619711749},{"$f":"-('Base original'!AS34/'Base original'!AS22*100-100)*'Base original'!AS22/('Base original'!$AU22)","v":-0.49719988345619881},{"$f":"-('Base original'!AT34/'Base original'!AT22*100-100)*'Base original'!AT22/('Base original'!$AU22)","v":-7.1090480284931631E-2},{"$f":"(('Base original'!AQ34-'Base original'!AS34)/('Base original'!AQ22-'Base original'!AS22)*100-100)*(('Base original'!AQ22-'Base original'!AS22)/'Base original'!AU22)","v":2.1892059509172257},{"$f":"(('Base original'!AR34-'Base original'!AT34)/('Base original'!AR22-'Base original'!AT22)*100-100)*(('Base original'!AR22-'Base original'!AT22)/'Base original'!AU22)","v":0.18847027591218571},{"$f":"('Base original'!AU34/'Base original'!AU22*100-100)*'Base original'!AU22/('Base original'!$AU22)","v":14.702972764853058}]
["2008-01-01",{"$f":"'Base original'!B35/'Base original'!B23*100-100","v":21.354915885682317},{"$f":"'Base original'!C35/'Base original'!C23*100-100","v":15.327279259120033},{"$f":"'Base original'!D35/'Base original'!D23*100-100","v":25.460520312908045},{"$f":"'Base original'!E35/'Base original'!E23*100-100","v":2.9379687934311107},{"$f":"'Base original'!F35/'Base original'!F23*100-100","v":19.695887865474219},{"$f":"'Base original'!H35","v":27.01},{"$f":"'Base original'!I35","v":36.35},{"$f":"'Base original'!J35","v":31.72},{"$f":"'Base original'!K35","v":29.85},{"$f":"'Base original'!G35","v":32.062977085834703},{"$f":"'Base original'!M35","v":9.1999999999999993},{"$f":"'Base original'!N35","v":10.65},{"$f":"'Base original'!O35","v":9.3699999999999992},{"$f":"'Base original'!P35","v":11.5},{"$f":"'Base original'!Q35","v":12.21},{"$f":"'Base original'!L35","v":10.546072555411},{"$f":"'Base original'!S35","v":4.91},{"$f":"'Base original'!T35","v":4.8600000000000003},{"$f":"'Base original'!U35","v":4.9800000000000004},{"$f":"'Base original'!V35","v":4.91},{"$f":"'Base original'!W35","v":4.91},{"$f":"'Base original'!R35","v":4.9099747135160499},{"$f":"'Base original'!X35","v":4.8},{"$f":"('Base original'!Z35/'Base original'!Z23*100-100)*'Base original'!Z23/'Base original'!$AC23","v":2.8014454229977845},{"$f":"('Base original'!AA35/'Base original'!AA23*100-100)*'Base original'!AA23/'Base original'!$AC23","v":6.0161125764767256},{"$f":"('Base original'!AB35/'Base original'!AB23*100-100)*'Base original'!AB23/'Base original'!$AC23","v":7.245541061137021},{"$f":"('Base original'!AC35/'Base original'!AC23*100-100)*'Base original'!AC23/'Base original'!$AC23","v":16.061506684000832},{"$f":"('Base original'!AC35/'Base original'!AC23*100-100)*'Base original'!AC23/('Base original'!$AJ23)","v":3.6069368355017559},{"$f":"('Base original'!AD35/'Base original'!AD23*100-100)*'Base original'!AD23/('Base original'!$AJ23)","v":18.480330954098402},{"$f":"('Base original'!AE35/'Base original'!AE23*100-100)*'Base original'!AE23/('Base original'!$AJ23)","v":0.22273398818488233},{"$f":"('Base original'!AF35/'Base original'!AF23*100-100)*'Base original'!AF23/('Base original'!$AJ23)","v":2.5767921401466758},{"$f":"('Base original'!AG35/'Base original'!AG23*100-100)*'Base original'!AG23/('Base original'!$AJ23)","v":0.15001338447360205},{"$f":"-('Base original'!AH35/'Base original'!AH23*100-100)*'Base original'!AH23/('Base original'!$AJ23)","v":-2.9707911960815161},{"$f":"-('Base original'!AI35/'Base original'!AI23*100-100)*'Base original'!AI23/('Base original'!$AJ23)","v":-1.6475163116886304E-2},{"$f":"(('Base original'!AF35-'Base original'!AH35)/('Base original'!AF23-'Base original'!AH23)*100-100)*(('Base original'!AF23-'Base original'!AH23)/'Base original'!AJ23)","v":-0.39399905593484141},{"$f":"(('Base original'!AG35-'Base original'!AI35)/('Base original'!AG23-'Base original'!AI23)*100-100)*(('Base original'!AG23-'Base original'!AI23)/'Base original'!AJ23)","v":0.13353822135671564},{"$f":"('Base original'!AJ35/'Base original'!AJ23*100-100)*'Base original'!AJ23/('Base original'!$AJ23)","v":22.049796372092473},{"$f":"('Base original'!AJ35/'Base original'!AJ23*100-100)*'Base original'!AJ23/('Base original'!$AU23)","v":13.20316247222468},{"$f":"('Base original'!AK35/'Base original'!AK23*100-100)*'Base original'!AK23/('Base original'!$AU23)","v":0.88426802826965778},{"$f":"('Base original'!AL35/'Base original'!AL23*100-100)*'Base original'!AL23/('Base original'!$AU23)","v":-1.8378367299993141},{"$f":"('Base original'!AM35/'Base original'!AM23*100-100)*'Base original'!AM23/('Base original'!$AU23)","v":0.54720154367211882},{"$f":"('Base original'!AN35/'Base original'!AN23*100-100)*'Base original'!AN23/('Base original'!$AU23)","v":-0.33845831008525973},{"$f":"('Base original'!AO35/'Base original'!AO23*100-100)*'Base original'!AO23/('Base original'!$AU23)","v":1.1715805753775855E-2},{"$f":"('Base original'!AP35/'Base original'!AP23*100-100)*'Base original'!AP23/('Base original'!$AU23)","v":1.9400823715972173},{"$f":"('Base original'!AQ35/'Base original'!AQ23*100-100)*'Base original'!AQ23/('Base original'!$AU23)","v":1.6954422762556418},{"$f":"('Base original'!AR35/'Base original'!AR23*100-100)*'Base original'!AR23/('Base original'!$AU23)","v":0.16489308333088615},{"$f":"-('Base original'!AS35/'Base original'!AS23*100-100)*'Base original'!AS23/('Base original'!$AU23)","v":-0.41071087716207083},{"$f":"-('Base original'!AT35/'Base original'!AT23*100-100)*'Base original'!AT23/('Base original'!$AU23)","v":-6.9973644025489654E-2},{"$f":"(('Base original'!AQ35-'Base original'!AS35)/('Base original'!AQ23-'Base original'!AS23)*100-100)*(('Base original'!AQ23-'Base original'!AS23)/'Base original'!AU23)","v":1.2847313990935707},{"$f":"(('Base original'!AR35-'Base original'!AT35)/('Base original'!AR23-'Base original'!AT23)*100-100)*(('Base original'!AR23-'Base original'!AT23)/'Base original'!AU23)","v":9.4919439305396355E-2},{"$f":"('Base original'!AU35/'Base original'!AU23*100-100)*'Base original'!AU23/('Base original'!$AU23)","v":15.789786019831809}]
["2008-02-01",{"$f":"'Base original'!B36/'Base original'!B24*100-100","v":21.175434866948706},{"$f":"'Base original'!C36/'Base original'!C24*100-100","v":15.171233180741865},{"$f":"'Base original'!D36/'Base original'!D24*100-100","v":25.151657909401564},{"$f":"'Base original'!E36/'Base original'!E24*100-100","v":4.3115513833416941},{"$f":"'Base original'!F36/'Base original'!F24*100-100","v":19.648714019045002},{"$f":"'Base original'!H36","v":26.98},{"$f":"'Base original'!I36","v":37.01},{"$f":"'Base original'!J36","v":30.71},{"$f":"'Base original'!K36","v":29.55},{"$f":"'Base original'!G36","v":31.960689431939102},{"$f":"'Base original'!M36","v":9.61},{"$f":"'Base original'!N36","v":10.72},{"$f":"'Base original'!O36","v":8.8800000000000008},{"$f":"'Base original'!P36","v":11.24},{"$f":"'Base original'!Q36","v":11.61},{"$f":"'Base original'!L36","v":10.5242958634587},{"$f":"'Base original'!S36","v":4.2},{"$f":"'Base original'!T36","v":4.08},{"$f":"'Base original'!U36","v":4.29},{"$f":"'Base original'!V36","v":4.21},{"$f":"'Base original'!W36","v":4.0599999999999996},{"$f":"'Base original'!R36","v":4.1944529702062496},{"$f":"'Base original'!X36","v":4.9000000000000004},{"$f":"('Base original'!Z36/'Base original'!Z24*100-100)*'Base original'!Z24/'Base original'!$AC24","v":2.9155152784214113},{"$f":"('Base original'!AA36/'Base original'!AA24*100-100)*'Base original'!AA24/'Base original'!$AC24","v":6.1048464148201456},{"$f":"('Base original'!AB36/'Base original'!AB24*100-100)*'Base original'!AB24/'Base original'!$AC24","v":7.1975925258454465},{"$f":"('Base original'!AC36/'Base original'!AC24*100-100)*'Base original'!AC24/'Base original'!$AC24","v":16.217839795410455},{"$f":"('Base original'!AC36/'Base original'!AC24*100-100)*'Base original'!AC24/('Base original'!$AJ24)","v":3.5930917117424501},{"$f":"('Base original'!AD36/'Base original'!AD24*100-100)*'Base original'!AD24/('Base original'!$AJ24)","v":18.213744022604775},{"$f":"('Base original'!AE36/'Base original'!AE24*100-100)*'Base original'!AE24/('Base original'!$AJ24)","v":0.25540903090842204},{"$f":"('Base original'!AF36/'Base original'!AF24*100-100)*'Base original'!AF24/('Base original'!$AJ24)","v":4.1015014501909306},{"$f":"('Base original'!AG36/'Base original'!AG24*100-100)*'Base original'!AG24/('Base original'!$AJ24)","v":0.17157402691694304},{"$f":"-('Base original'!AH36/'Base original'!AH24*100-100)*'Base original'!AH24/('Base original'!$AJ24)","v":-3.9531740814718064},{"$f":"-('Base original'!AI36/'Base original'!AI24*100-100)*'Base original'!AI24/('Base original'!$AJ24)","v":-1.1433198306669813E-2},{"$f":"(('Base original'!AF36-'Base original'!AH36)/('Base original'!AF24-'Base original'!AH24)*100-100)*(('Base original'!AF24-'Base original'!AH24)/'Base original'!AJ24)","v":0.14832736871912494},{"$f":"(('Base original'!AG36-'Base original'!AI36)/('Base original'!AG24-'Base original'!AI24)*100-100)*(('Base original'!AG24-'Base original'!AI24)/'Base original'!AJ24)","v":0.16014082861027321},{"$f":"('Base original'!AJ36/'Base original'!AJ24*100-100)*'Base original'!AJ24/('Base original'!$AJ24)","v":22.370966470308034},{"$f":"('Base original'!AJ36/'Base original'!AJ24*100-100)*'Base original'!AJ24/('Base original'!$AU24)","v":13.383248331031403},{"$f":"('Base original'!AK36/'Base original'!AK24*100-100)*'Base original'!AK24/('Base original'!$AU24)","v":0.76317806138334465},{"$f":"('Base original'!AL36/'Base original'!AL24*100-100)*'Base original'!AL24/('Base original'!$AU24)","v":-1.1879443890973613},{"$f":"('Base original'!AM36/'Base original'!AM24*100-100)*'Base original'!AM24/('Base original'!$AU24)","v":0.382680974978855},{"$f":"('Base original'!AN36/'Base original'!AN24*100-100)*'Base original'!AN24/('Base original'!$AU24)","v":-0.42752652021772714},{"$f":"('Base original'!AO36/'Base original'!AO24*100-100)*'Base original'!AO24/('Base original'!$AU24)","v":8.9933744763785167E-3},{"$f":"('Base original'!AP36/'Base original'!AP24*100-100)*'Base original'!AP24/('Base original'!$AU24)","v":1.7666748613041181},{"$f":"('Base original'!AQ36/'Base original'!AQ24*100-100)*'Base original'!AQ24/('Base original'!$AU24)","v":1.1163310429296387},{"$f":"('Base original'!AR36/'Base original'!AR24*100-100)*'Base original'!AR24/('Base original'!$AU24)","v":0.1097404008618473},{"$f":"-('Base original'!AS36/'Base original'!AS24*100-100)*'Base original'!AS24/('Base original'!$AU24)","v":-0.69241400521676377},{"$f":"-('Base original'!AT36/'Base original'!AT24*100-100)*'Base original'!AT24/('Base original'!$AU24)","v":-6.6532772053748537E-2},{"$f":"(('Base original'!AQ36-'Base original'!AS36)/('Base original'!AQ24-'Base original'!AS24)*100-100)*(('Base original'!AQ24-'Base original'!AS24)/'Base original'!AU24)","v":0.42391703771287409},{"$f":"(('Base original'!AR36-'Base original'!AT36)/('Base original'!AR24-'Base original'!AT24)*100-100)*(('Base original'!AR24-'Base original'!AT24)/'Base original'!AU24)","v":4.320762880809869E-2},{"$f":"('Base original'!AU36/'Base original'!AU24*100-100)*'Base original'!AU24/('Base original'!$AU24)","v":15.156444526272878}]
["2008-03-01",{"$f":"'Base original'!B37/'Base original'!B25*100-100","v":20.3520151581493},{"$f":"'Base original'!C37/'Base original'!C25*100-100","v":14.2047277011837},{"$f":"'Base original'!D37/'Base original'!D25*100-100","v":25.072411031963554},{"$f":"'Base original'!E37/'Base original'!E25*100-100","v":3.5419583520437783},{"$f":"'Base original'!F37/'Base original'!F25*100-100","v":18.983967703436178},{"$f":"'Base original'!H37","v":25.78},{"$f":"'Base original'!I37","v":36.89},{"$f":"'Base original'!J37","v":27.18},{"$f":"'Base original'!K37","v":26.54},{"$f":"'Base original'!G37","v":29.8751708037857},{"$f":"'Base original'!M37","v":8.83},{"$f":"'Base original'!N37","v":10.67},{"$f":"'Base original'!O37","v":9.52},{"$f":"'Base original'!P37","v":11.57},{"$f":"'Base original'!Q37","v":12.21},{"$f":"'Base original'!L37","v":10.6081632164383},{"$f":"'Base original'!S37","v":3.9},{"$f":"'Base original'!T37","v":3.77},{"$f":"'Base original'!U37","v":4.0599999999999996},{"$f":"'Base original'!V37","v":3.97},{"$f":"'Base original'!W37","v":4.24},{"$f":"'Base original'!R37","v":3.9099521988548198},{"$f":"'Base original'!X37","v":4.82},{"$f":"('Base original'!Z37/'Base original'!Z25*100-100)*'Base original'!Z25/'Base original'!$AC25","v":2.980108317884298},{"$f":"('Base original'!AA37/'Base original'!AA25*100-100)*'Base original'!AA25/'Base original'!$AC25","v":5.292339857610723},{"$f":"('Base original'!AB37/'Base original'!AB25*100-100)*'Base original'!AB25/'Base original'!$AC25","v":6.7609855196571029},{"$f":"('Base original'!AC37/'Base original'!AC25*100-100)*'Base original'!AC25/'Base original'!$AC25","v":15.033092070201674},{"$f":"('Base original'!AC37/'Base original'!AC25*100-100)*'Base original'!AC25/('Base original'!$AJ25)","v":3.2862045325894735},{"$f":"('Base original'!AD37/'Base original'!AD25*100-100)*'Base original'!AD25/('Base original'!$AJ25)","v":17.466565170224769},{"$f":"('Base original'!AE37/'Base original'!AE25*100-100)*'Base original'!AE25/('Base original'!$AJ25)","v":0.25667016328215286},{"$f":"('Base original'!AF37/'Base original'!AF25*100-100)*'Base original'!AF25/('Base original'!$AJ25)","v":2.9501759675476906},{"$f":"('Base original'!AG37/'Base original'!AG25*100-100)*'Base original'!AG25/('Base original'!$AJ25)","v":0.18582511578908581},{"$f":"-('Base original'!AH37/'Base original'!AH25*100-100)*'Base original'!AH25/('Base original'!$AJ25)","v":-2.6750602033546591},{"$f":"-('Base original'!AI37/'Base original'!AI25*100-100)*'Base original'!AI25/('Base original'!$AJ25)","v":-7.2189261324628138E-3},{"$f":"(('Base original'!AF37-'Base original'!AH37)/('Base original'!AF25-'Base original'!AH25)*100-100)*(('Base original'!AF25-'Base original'!AH25)/'Base original'!AJ25)","v":0.27511576419302997},{"$f":"(('Base original'!AG37-'Base original'!AI37)/('Base original'!AG25-'Base original'!AI25)*100-100)*(('Base original'!AG25-'Base original'!AI25)/'Base original'!AJ25)","v":0.17860618965662306},{"$f":"('Base original'!AJ37/'Base original'!AJ25*100-100)*'Base original'!AJ25/('Base original'!$AJ25)","v":21.463161819946052},{"$f":"('Base original'!AJ37/'Base original'!AJ25*100-100)*'Base original'!AJ25/('Base original'!$AU25)","v":12.912090257131537},{"$f":"('Base original'!AK37/'Base original'!AK25*100-100)*'Base original'!AK25/('Base original'!$AU25)","v":0.62119316829780757},{"$f":"('Base original'!AL37/'Base original'!AL25*100-100)*'Base original'!AL25/('Base original'!$AU25)","v":-1.1463942387968917},{"$f":"('Base original'!AM37/'Base original'!AM25*100-100)*'Base original'!AM25/('Base original'!$AU25)","v":0.45024936231146562},{"$f":"('Base original'!AN37/'Base original'!AN25*100-100)*'Base original'!AN25/('Base original'!$AU25)","v":-0.4816676807485531},{"$f":"('Base original'!AO37/'Base original'!AO25*100-100)*'Base original'!AO25/('Base original'!$AU25)","v":-5.8403928457883671E-3},{"$f":"('Base original'!AP37/'Base original'!AP25*100-100)*'Base original'!AP25/('Base original'!$AU25)","v":1.7767972573515178},{"$f":"('Base original'!AQ37/'Base original'!AQ25*100-100)*'Base original'!AQ25/('Base original'!$AU25)","v":1.1412277374333104},{"$f":"('Base original'!AR37/'Base original'!AR25*100-100)*'Base original'!AR25/('Base original'!$AU25)","v":9.5333181682790924E-2},{"$f":"-('Base original'!AS37/'Base original'!AS25*100-100)*'Base original'!AS25/('Base original'!$AU25)","v":-0.91876867147385954},{"$f":"-('Base original'!AT37/'Base original'!AT25*100-100)*'Base original'!AT25/('Base original'!$AU25)","v":-7.1192891253532481E-2},{"$f":"(('Base original'!AQ37-'Base original'!AS37)/('Base original'!AQ25-'Base original'!AS25)*100-100)*(('Base original'!AQ25-'Base original'!AS25)/'Base original'!AU25)","v":0.22245906595945103},{"$f":"(('Base original'!AR37-'Base original'!AT37)/('Base original'!AR25-'Base original'!AT25)*100-100)*(('Base original'!AR25-'Base original'!AT25)/'Base original'!AU25)","v":2.4140290429258304E-2},{"$f":"('Base original'!AU37/'Base original'!AU25*100-100)*'Base original'!AU25/('Base original'!$AU25)","v":14.373161867386244}]
["2008-04-01",{"$f":"'Base original'!B38/'Base original'!B26*100-100","v":21.227801295798017},{"$f":"'Base original'!C38/'Base original'!C26*100-100","v":14.165146235544015},{"$f":"'Base original'!D38/'Base original'!D26*100-100","v":25.823273661464825},{"$f":"'Base original'!E38/'Base original'!E26*100-100","v":13.141608434914431},{"$f":"'Base original'!F38/'Base original'!F26*100-100","v":20.505495859526391},{"$f":"'Base original'!H38","v":26.55},{"$f":"'Base original'!I38","v":36.76},{"$f":"'Base original'!J38","v":28.41},{"$f":"'Base original'!K38","v":26.91},{"$f":"'Base original'!G38","v":30.126329719934201},{"$f":"'Base original'!M38","v":8.77},{"$f":"'Base original'!N38","v":10.79},{"$f":"'Base original'!O38","v":9.84},{"$f":"'Base original'!P38","v":11.8},{"$f":"'Base original'!Q38","v":12.55},{"$f":"'Base original'!L38","v":10.592877402859299},{"$f":"'Base original'!S38","v":3.97},{"$f":"'Base original'!T38","v":3.96},{"$f":"'Base original'!U38","v":4.04},{"$f":"'Base original'!V38","v":4.08},{"$f":"'Base original'!W38","v":4.33},{"$f":"'Base original'!R38","v":4.01635492774912},{"$f":"'Base original'!X38","v":4.76},{"$f":"('Base original'!Z38/'Base original'!Z26*100-100)*'Base original'!Z26/'Base original'!$AC26","v":2.6789505628019401},{"$f":"('Base original'!AA38/'Base original'!AA26*100-100)*'Base original'!AA26/'Base original'!$AC26","v":3.9841886336907435},{"$f":"('Base original'!AB38/'Base original'!AB26*100-100)*'Base original'!AB26/'Base original'!$AC26","v":5.6231283472987048},{"$f":"('Base original'!AC38/'Base original'!AC26*100-100)*'Base original'!AC26/'Base original'!$AC26","v":12.285822904693816},{"$f":"('Base original'!AC38/'Base original'!AC26*100-100)*'Base original'!AC26/('Base original'!$AJ26)","v":2.7081117901019756},{"$f":"('Base original'!AD38/'Base original'!AD26*100-100)*'Base original'!AD26/('Base original'!$AJ26)","v":18.16552403447988},{"$f":"('Base original'!AE38/'Base original'!AE26*100-100)*'Base original'!AE26/('Base original'!$AJ26)","v":0.28256256707553196},{"$f":"('Base original'!AF38/'Base original'!AF26*100-100)*'Base original'!AF26/('Base original'!$AJ26)","v":2.0085170610748744},{"$f":"('Base original'!AG38/'Base original'!AG26*100-100)*'Base original'!AG26/('Base original'!$AJ26)","v":0.20462018710091587},{"$f":"-('Base original'!AH38/'Base original'!AH26*100-100)*'Base original'!AH26/('Base original'!$AJ26)","v":-2.0943002337536338},{"$f":"-('Base original'!AI38/'Base original'!AI26*100-100)*'Base original'!AI26/('Base original'!$AJ26)","v":-4.4594508504809905E-3},{"$f":"(('Base original'!AF38-'Base original'!AH38)/('Base original'!AF26-'Base original'!AH26)*100-100)*(('Base original'!AF26-'Base original'!AH26)/'Base original'!AJ26)","v":-8.578317267875836E-2},{"$f":"(('Base original'!AG38-'Base original'!AI38)/('Base original'!AG26-'Base original'!AI26)*100-100)*(('Base original'!AG26-'Base original'!AI26)/'Base original'!AJ26)","v":0.20016073625043498},{"$f":"('Base original'!AJ38/'Base original'!AJ26*100-100)*'Base original'!AJ26/('Base original'!$AJ26)","v":21.270845482478279},{"$f":"('Base original'!AJ38/'Base original'!AJ26*100-100)*'Base original'!AJ26/('Base original'!$AU26)","v":12.91943017650051},{"$f":"('Base original'!AK38/'Base original'!AK26*100-100)*'Base original'!AK26/('Base original'!$AU26)","v":0.9265986587520878},{"$f":"('Base original'!AL38/'Base original'!AL26*100-100)*'Base original'!AL26/('Base original'!$AU26)","v":-1.0529638447638434},{"$f":"('Base original'!AM38/'Base original'!AM26*100-100)*'Base original'!AM26/('Base original'!$AU26)","v":0.61636327215438724},{"$f":"('Base original'!AN38/'Base original'!AN26*100-100)*'Base original'!AN26/('Base original'!$AU26)","v":4.9840655747658974E-2},{"$f":"('Base original'!AO38/'Base original'!AO26*100-100)*'Base original'!AO26/('Base original'!$AU26)","v":4.3604992935395949E-3},{"$f":"('Base original'!AP38/'Base original'!AP26*100-100)*'Base original'!AP26/('Base original'!$AU26)","v":2.0838870770576148},{"$f":"('Base original'!AQ38/'Base original'!AQ26*100-100)*'Base original'!AQ26/('Base original'!$AU26)","v":1.0003402082383968},{"$f":"('Base original'!AR38/'Base original'!AR26*100-100)*'Base original'!AR26/('Base original'!$AU26)","v":5.6999018069135196E-2},{"$f":"-('Base original'!AS38/'Base original'!AS26*100-100)*'Base original'!AS26/('Base original'!$AU26)","v":-0.83560858134355176},{"$f":"-('Base original'!AT38/'Base original'!AT26*100-100)*'Base original'!AT26/('Base original'!$AU26)","v":-5.8427714083400743E-2},{"$f":"(('Base original'!AQ38-'Base original'!AS38)/('Base original'!AQ26-'Base original'!AS26)*100-100)*(('Base original'!AQ26-'Base original'!AS26)/'Base original'!AU26)","v":0.16473162689484552},{"$f":"(('Base original'!AR38-'Base original'!AT38)/('Base original'!AR26-'Base original'!AT26)*100-100)*(('Base original'!AR26-'Base original'!AT26)/'Base original'!AU26)","v":-1.428696014265375E-3},{"$f":"('Base original'!AU38/'Base original'!AU26*100-100)*'Base original'!AU26/('Base original'!$AU26)","v":15.710834307872673}]
["2008-05-01",{"$f":"'Base original'!B39/'Base original'!B27*100-100","v":21.444244360127044},{"$f":"'Base original'!C39/'Base original'!C27*100-100","v":13.473326754138498},{"$f":"'Base original'!D39/'Base original'!D27*100-100","v":25.070389970006033},{"$f":"'Base original'!E39/'Base original'!E27*100-100","v":19.102425910113439},{"$f":"'Base original'!F39/'Base original'!F27*100-100","v":20.949325194862752},{"$f":"'Base original'!H39","v":27.72},{"$f":"'Base original'!I39","v":36.92},{"$f":"'Base original'!J39","v":29.28},{"$f":"'Base original'!K39","v":28.37},{"$f":"'Base original'!G39","v":30.9324869049988},{"$f":"'Base original'!M39","v":8.94},{"$f":"'Base original'!N39","v":10.83},{"$f":"'Base original'!O39","v":9.32},{"$f":"'Base original'!P39","v":11.59},{"$f":"'Base original'!Q39","v":13.46},{"$f":"'Base original'!L39","v":10.6795696146953},{"$f":"'Base original'!S39","v":3.87},{"$f":"'Base original'!T39","v":3.91},{"$f":"'Base original'!U39","v":4.4400000000000004},{"$f":"'Base original'!V39","v":4.3499999999999996},{"$f":"'Base original'!W39","v":4.8899999999999997},{"$f":"'Base original'!R39","v":4.1160037726979901},{"$f":"'Base original'!X39","v":4.63},{"$f":"('Base original'!Z39/'Base original'!Z27*100-100)*'Base original'!Z27/'Base original'!$AC27","v":2.9981511585373219},{"$f":"('Base original'!AA39/'Base original'!AA27*100-100)*'Base original'!AA27/'Base original'!$AC27","v":5.1625002348349103},{"$f":"('Base original'!AB39/'Base original'!AB27*100-100)*'Base original'!AB27/'Base original'!$AC27","v":6.9517765123092179},{"$f":"('Base original'!AC39/'Base original'!AC27*100-100)*'Base original'!AC27/'Base original'!$AC27","v":15.113311990062899},{"$f":"('Base original'!AC39/'Base original'!AC27*100-100)*'Base original'!AC27/('Base original'!$AJ27)","v":3.298421010487687},{"$f":"('Base original'!AD39/'Base original'!AD27*100-100)*'Base original'!AD27/('Base original'!$AJ27)","v":16.070031421572924},{"$f":"('Base original'!AE39/'Base original'!AE27*100-100)*'Base original'!AE27/('Base original'!$AJ27)","v":0.32492434028685702},{"$f":"('Base original'!AF39/'Base original'!AF27*100-100)*'Base original'!AF27/('Base original'!$AJ27)","v":4.3646272390403151},{"$f":"('Base original'!AG39/'Base original'!AG27*100-100)*'Base original'!AG27/('Base original'!$AJ27)","v":0.20589957638278558},{"$f":"-('Base original'!AH39/'Base original'!AH27*100-100)*'Base original'!AH27/('Base original'!$AJ27)","v":-4.4225598596882536},{"$f":"-('Base original'!AI39/'Base original'!AI27*100-100)*'Base original'!AI27/('Base original'!$AJ27)","v":-4.5342767201550487E-3},{"$f":"(('Base original'!AF39-'Base original'!AH39)/('Base original'!AF27-'Base original'!AH27)*100-100)*(('Base original'!AF27-'Base original'!AH27)/'Base original'!AJ27)","v":-5.7932620647939567E-2},{"$f":"(('Base original'!AG39-'Base original'!AI39)/('Base original'!AG27-'Base original'!AI27)*100-100)*(('Base original'!AG27-'Base original'!AI27)/'Base original'!AJ27)","v":0.2013652996626305},{"$f":"('Base original'!AJ39/'Base original'!AJ27*100-100)*'Base original'!AJ27/('Base original'!$AJ27)","v":19.836592384923435},{"$f":"('Base original'!AJ39/'Base original'!AJ27*100-100)*'Base original'!AJ27/('Base original'!$AU27)","v":12.024301116298723},{"$f":"('Base original'!AK39/'Base original'!AK27*100-100)*'Base original'!AK27/('Base original'!$AU27)","v":1.3369122728532019},{"$f":"('Base original'!AL39/'Base original'!AL27*100-100)*'Base original'!AL27/('Base original'!$AU27)","v":-0.55951631685018255},{"$f":"('Base original'!AM39/'Base original'!AM27*100-100)*'Base original'!AM27/('Base original'!$AU27)","v":0.71511539082882125},{"$f":"('Base original'!AN39/'Base original'!AN27*100-100)*'Base original'!AN27/('Base original'!$AU27)","v":-0.29508707217747321},{"$f":"('Base original'!AO39/'Base original'!AO27*100-100)*'Base original'!AO27/('Base original'!$AU27)","v":3.4839104885003941E-2},{"$f":"('Base original'!AP39/'Base original'!AP27*100-100)*'Base original'!AP27/('Base original'!$AU27)","v":2.3931526465950728},{"$f":"('Base original'!AQ39/'Base original'!AQ27*100-100)*'Base original'!AQ27/('Base original'!$AU27)","v":0.9040623448925198},{"$f":"('Base original'!AR39/'Base original'!AR27*100-100)*'Base original'!AR27/('Base original'!$AU27)","v":4.3070080986664504E-2},{"$f":"-('Base original'!AS39/'Base original'!AS27*100-100)*'Base original'!AS27/('Base original'!$AU27)","v":-0.8907729003518261},{"$f":"-('Base original'!AT39/'Base original'!AT27*100-100)*'Base original'!AT27/('Base original'!$AU27)","v":-4.4064230853294882E-2},{"$f":"(('Base original'!AQ39-'Base original'!AS39)/('Base original'!AQ27-'Base original'!AS27)*100-100)*(('Base original'!AQ27-'Base original'!AS27)/'Base original'!AU27)","v":1.3289444540691919E-2},{"$f":"(('Base original'!AR39-'Base original'!AT39)/('Base original'!AR27-'Base original'!AT27)*100-100)*(('Base original'!AR27-'Base original'!AT27)/'Base original'!AU27)","v":-9.9414986663036399E-4},{"$f":"('Base original'!AU39/'Base original'!AU27*100-100)*'Base original'!AU27/('Base original'!$AU27)","v":15.661880858448411}]
["2008-06-01",{"$f":"'Base original'!B40/'Base original'!B28*100-100","v":22.024724614340158},{"$f":"'Base original'!C40/'Base original'!C28*100-100","v":13.126290554044658},{"$f":"'Base original'!D40/'Base original'!D28*100-100","v":24.878763966050485},{"$f":"'Base original'!E40/'Base original'!E28*100-100","v":32.759707009036731},{"$f":"'Base original'!F40/'Base original'!F28*100-100","v":22.488679070659259},{"$f":"'Base original'!H40","v":27.54},{"$f":"'Base original'!I40","v":36.89},{"$f":"'Base original'!J40","v":29.43},{"$f":"'Base original'!K40","v":28.09},{"$f":"'Base original'!G40","v":30.744248148501701},{"$f":"'Base original'!M40","v":9.16},{"$f":"'Base original'!N40","v":11.08},{"$f":"'Base original'!O40","v":9.7899999999999991},{"$f":"'Base original'!P40","v":12.05},{"$f":"'Base original'!Q40","v":13},{"$f":"'Base original'!L40","v":10.8763012727232},{"$f":"'Base original'!S40","v":4},{"$f":"'Base original'!T40","v":3.87},{"$f":"'Base original'!U40","v":4.6500000000000004},{"$f":"'Base original'!V40","v":4.91},{"$f":"'Base original'!W40","v":4.91},{"$f":"'Base original'!R40","v":4.2386793668557603},{"$f":"'Base original'!X40","v":4.72},{"$f":"('Base original'!Z40/'Base original'!Z28*100-100)*'Base original'!Z28/'Base original'!$AC28","v":2.9440908675994888},{"$f":"('Base original'!AA40/'Base original'!AA28*100-100)*'Base original'!AA28/'Base original'!$AC28","v":5.8656363998288796},{"$f":"('Base original'!AB40/'Base original'!AB28*100-100)*'Base original'!AB28/'Base original'!$AC28","v":6.5750996118903},{"$f":"('Base original'!AC40/'Base original'!AC28*100-100)*'Base original'!AC28/'Base original'!$AC28","v":15.385926651775733},{"$f":"('Base original'!AC40/'Base original'!AC28*100-100)*'Base original'!AC28/('Base original'!$AJ28)","v":3.3157505796004321},{"$f":"('Base original'!AD40/'Base original'!AD28*100-100)*'Base original'!AD28/('Base original'!$AJ28)","v":15.037994580125636},{"$f":"('Base original'!AE40/'Base original'!AE28*100-100)*'Base original'!AE28/('Base original'!$AJ28)","v":0.35847297386334992},{"$f":"('Base original'!AF40/'Base original'!AF28*100-100)*'Base original'!AF28/('Base original'!$AJ28)","v":2.9555474551855445},{"$f":"('Base original'!AG40/'Base original'!AG28*100-100)*'Base original'!AG28/('Base original'!$AJ28)","v":0.21394615107864229},{"$f":"-('Base original'!AH40/'Base original'!AH28*100-100)*'Base original'!AH28/('Base original'!$AJ28)","v":-3.0067409509571039},{"$f":"-('Base original'!AI40/'Base original'!AI28*100-100)*'Base original'!AI28/('Base original'!$AJ28)","v":-1.3153884330192354E-2},{"$f":"(('Base original'!AF40-'Base original'!AH40)/('Base original'!AF28-'Base original'!AH28)*100-100)*(('Base original'!AF28-'Base original'!AH28)/'Base original'!AJ28)","v":-5.1193495771560307E-2},{"$f":"(('Base original'!AG40-'Base original'!AI40)/('Base original'!AG28-'Base original'!AI28)*100-100)*(('Base original'!AG28-'Base original'!AI28)/'Base original'!AJ28)","v":0.20079226674844988},{"$f":"('Base original'!AJ40/'Base original'!AJ28*100-100)*'Base original'!AJ28/('Base original'!$AJ28)","v":18.861816904566325},{"$f":"('Base original'!AJ40/'Base original'!AJ28*100-100)*'Base original'!AJ28/('Base original'!$AU28)","v":11.476271752503827},{"$f":"('Base original'!AK40/'Base original'!AK28*100-100)*'Base original'!AK28/('Base original'!$AU28)","v":2.0734997989791486},{"$f":"('Base original'!AL40/'Base original'!AL28*100-100)*'Base original'!AL28/('Base original'!$AU28)","v":0.23226993206822052},{"$f":"('Base original'!AM40/'Base original'!AM28*100-100)*'Base original'!AM28/('Base original'!$AU28)","v":0.71702724481455637},{"$f":"('Base original'!AN40/'Base original'!AN28*100-100)*'Base original'!AN28/('Base original'!$AU28)","v":-0.18814340371851046},{"$f":"('Base original'!AO40/'Base original'!AO28*100-100)*'Base original'!AO28/('Base original'!$AU28)","v":4.510711786859057E-2},{"$f":"('Base original'!AP40/'Base original'!AP28*100-100)*'Base original'!AP28/('Base original'!$AU28)","v":2.4977345498026997},{"$f":"('Base original'!AQ40/'Base original'!AQ28*100-100)*'Base original'!AQ28/('Base original'!$AU28)","v":0.65346197129641348},{"$f":"('Base original'!AR40/'Base original'!AR28*100-100)*'Base original'!AR28/('Base original'!$AU28)","v":1.0353871684670017E-2},{"$f":"-('Base original'!AS40/'Base original'!AS28*100-100)*'Base original'!AS28/('Base original'!$AU28)","v":-0.93468927713824779},{"$f":"-('Base original'!AT40/'Base original'!AT28*100-100)*'Base original'!AT28/('Base original'!$AU28)","v":-3.1032774185807938E-2},{"$f":"(('Base original'!AQ40-'Base original'!AS40)/('Base original'!AQ28-'Base original'!AS28)*100-100)*(('Base original'!AQ28-'Base original'!AS28)/'Base original'!AU28)","v":-0.28122730584183414},{"$f":"(('Base original'!AR40-'Base original'!AT40)/('Base original'!AR28-'Base original'!AT28)*100-100)*(('Base original'!AR28-'Base original'!AT28)/'Base original'!AU28)","v":-2.0678902501137818E-2},{"$f":"('Base original'!AU40/'Base original'!AU28*100-100)*'Base original'!AU28/('Base original'!$AU28)","v":16.552149192657595}]
["2008-07-01",{"$f":"'Base original'!B41/'Base original'!B29*100-100","v":21.58154513120887},{"$f":"'Base original'!C41/'Base original'!C29*100-100","v":12.294786004141756},{"$f":"'Base original'!D41/'Base original'!D29*100-100","v":25.20579870004957},{"$f":"'Base original'!E41/'Base original'!E29*100-100","v":27.195672635264344},{"$f":"'Base original'!F41/'Base original'!F29*100-100","v":21.675957902137895},{"$f":"'Base original'!H41","v":22.76},{"$f":"'Base original'!I41","v":37.729999999999997},{"$f":"'Base original'!J41","v":30.04},{"$f":"'Base original'!K41","v":29.99},{"$f":"'Base original'!G41","v":31.240313742673901},{"$f":"'Base original'!M41","v":9.67},{"$f":"'Base original'!N41","v":10.4},{"$f":"'Base original'!O41","v":10.6},{"$f":"'Base original'!P41","v":12.96},{"$f":"'Base original'!Q41","v":13.61},{"$f":"'Base original'!L41","v":11.428753715123401},{"$f":"'Base original'!S41","v":4.1399999999999997},{"$f":"'Base original'!T41","v":4.26},{"$f":"'Base original'!U41","v":4.5199999999999996},{"$f":"'Base original'!V41","v":5.12},{"$f":"'Base original'!W41","v":5.31},{"$f":"'Base original'!R41","v":4.4044248683942699},{"$f":"'Base original'!X41","v":4.87},{"$f":"('Base original'!Z41/'Base original'!Z29*100-100)*'Base original'!Z29/'Base original'!$AC29","v":2.8781747711736227},{"$f":"('Base original'!AA41/'Base original'!AA29*100-100)*'Base original'!AA29/'Base original'!$AC29","v":2.9664563006429079},{"$f":"('Base original'!AB41/'Base original'!AB29*100-100)*'Base original'!AB29/'Base original'!$AC29","v":3.0055102114490291},{"$f":"('Base original'!AC41/'Base original'!AC29*100-100)*'Base original'!AC29/'Base original'!$AC29","v":8.8510164409306924},{"$f":"('Base original'!AC41/'Base original'!AC29*100-100)*'Base original'!AC29/('Base original'!$AJ29)","v":1.8909914447413974},{"$f":"('Base original'!AD41/'Base original'!AD29*100-100)*'Base original'!AD29/('Base original'!$AJ29)","v":14.491446494283849},{"$f":"('Base original'!AE41/'Base original'!AE29*100-100)*'Base original'!AE29/('Base original'!$AJ29)","v":0.4144526726272621},{"$f":"('Base original'!AF41/'Base original'!AF29*100-100)*'Base original'!AF29/('Base original'!$AJ29)","v":2.3450827421234015},{"$f":"('Base original'!AG41/'Base original'!AG29*100-100)*'Base original'!AG29/('Base original'!$AJ29)","v":0.22495386984928673},{"$f":"-('Base original'!AH41/'Base original'!AH29*100-100)*'Base original'!AH29/('Base original'!$AJ29)","v":-2.611358008533057},{"$f":"-('Base original'!AI41/'Base original'!AI29*100-100)*'Base original'!AI29/('Base original'!$AJ29)","v":-1.4677509637958656E-2},{"$f":"(('Base original'!AF41-'Base original'!AH41)/('Base original'!AF29-'Base original'!AH29)*100-100)*(('Base original'!AF29-'Base original'!AH29)/'Base original'!AJ29)","v":-0.2662752664096551},{"$f":"(('Base original'!AG41-'Base original'!AI41)/('Base original'!AG29-'Base original'!AI29)*100-100)*(('Base original'!AG29-'Base original'!AI29)/'Base original'!AJ29)","v":0.21027636021132795},{"$f":"('Base original'!AJ41/'Base original'!AJ29*100-100)*'Base original'!AJ29/('Base original'!$AJ29)","v":16.740657987147827},{"$f":"('Base original'!AJ41/'Base original'!AJ29*100-100)*'Base original'!AJ29/('Base original'!$AU29)","v":10.227216911949482},{"$f":"('Base original'!AK41/'Base original'!AK29*100-100)*'Base original'!AK29/('Base original'!$AU29)","v":2.7211800304299958},{"$f":"('Base original'!AL41/'Base original'!AL29*100-100)*'Base original'!AL29/('Base original'!$AU29)","v":1.1183936983409715},{"$f":"('Base original'!AM41/'Base original'!AM29*100-100)*'Base original'!AM29/('Base original'!$AU29)","v":0.74956993644425907},{"$f":"('Base original'!AN41/'Base original'!AN29*100-100)*'Base original'!AN29/('Base original'!$AU29)","v":-0.13398792852149471},{"$f":"('Base original'!AO41/'Base original'!AO29*100-100)*'Base original'!AO29/('Base original'!$AU29)","v":4.3705994160730718E-2},{"$f":"('Base original'!AP41/'Base original'!AP29*100-100)*'Base original'!AP29/('Base original'!$AU29)","v":2.5240961240593398},{"$f":"('Base original'!AQ41/'Base original'!AQ29*100-100)*'Base original'!AQ29/('Base original'!$AU29)","v":0.15644775498828056},{"$f":"('Base original'!AR41/'Base original'!AR29*100-100)*'Base original'!AR29/('Base original'!$AU29)","v":-4.6204703398930028E-2},{"$f":"-('Base original'!AS41/'Base original'!AS29*100-100)*'Base original'!AS29/('Base original'!$AU29)","v":-1.0012399309156872},{"$f":"-('Base original'!AT41/'Base original'!AT29*100-100)*'Base original'!AT29/('Base original'!$AU29)","v":-4.1264398276547459E-2},{"$f":"(('Base original'!AQ41-'Base original'!AS41)/('Base original'!AQ29-'Base original'!AS29)*100-100)*(('Base original'!AQ29-'Base original'!AS29)/'Base original'!AU29)","v":-0.84479217592740719},{"$f":"(('Base original'!AR41-'Base original'!AT41)/('Base original'!AR29-'Base original'!AT29)*100-100)*(('Base original'!AR29-'Base original'!AT29)/'Base original'!AU29)","v":-8.7469101675477307E-2},{"$f":"('Base original'!AU41/'Base original'!AU29*100-100)*'Base original'!AU29/('Base original'!$AU29)","v":16.31791348926042}]
["2008-08-01",{"$f":"'Base original'!B42/'Base original'!B30*100-100","v":20.734256172211005},{"$f":"'Base original'!C42/'Base original'!C30*100-100","v":11.167500211905775},{"$f":"'Base original'!D42/'Base original'!D30*100-100","v":24.760985488975962},{"$f":"'Base original'!E42/'Base original'!E30*100-100","v":25.127798665210932},{"$f":"'Base original'!F42/'Base original'!F30*100-100","v":20.771601713138523},{"$f":"'Base original'!H42","v":26.13},{"$f":"'Base original'!I42","v":37.340000000000003},{"$f":"'Base original'!J42","v":29.91},{"$f":"'Base original'!K42","v":31.11},{"$f":"'Base original'!G42","v":32.014571090938801},{"$f":"'Base original'!M42","v":9.93},{"$f":"'Base original'!N42","v":11.55},{"$f":"'Base original'!O42","v":10.53},{"$f":"'Base original'!P42","v":13.23},{"$f":"'Base original'!Q42","v":15.38},{"$f":"'Base original'!L42","v":11.872771857100901},{"$f":"'Base original'!S42","v":4.57},{"$f":"'Base original'!T42","v":4.34},{"$f":"'Base original'!U42","v":4.8600000000000003},{"$f":"'Base original'!V42","v":5.16},{"$f":"'Base original'!W42","v":5.47},{"$f":"'Base original'!R42","v":4.6828430653168001},{"$f":"'Base original'!X42","v":4.82},{"$f":"('Base original'!Z42/'Base original'!Z30*100-100)*'Base original'!Z30/'Base original'!$AC30","v":2.8734466559593059},{"$f":"('Base original'!AA42/'Base original'!AA30*100-100)*'Base original'!AA30/'Base original'!$AC30","v":2.5304090906599326},{"$f":"('Base original'!AB42/'Base original'!AB30*100-100)*'Base original'!AB30/'Base original'!$AC30","v":4.9163236108294139},{"$f":"('Base original'!AC42/'Base original'!AC30*100-100)*'Base original'!AC30/'Base original'!$AC30","v":10.319083040525356},{"$f":"('Base original'!AC42/'Base original'!AC30*100-100)*'Base original'!AC30/('Base original'!$AJ30)","v":2.1969934625877401},{"$f":"('Base original'!AD42/'Base original'!AD30*100-100)*'Base original'!AD30/('Base original'!$AJ30)","v":14.154543230762638},{"$f":"('Base original'!AE42/'Base original'!AE30*100-100)*'Base original'!AE30/('Base original'!$AJ30)","v":0.45846847906664984},{"$f":"('Base original'!AF42/'Base original'!AF30*100-100)*'Base original'!AF30/('Base original'!$AJ30)","v":2.1215312595115519},{"$f":"('Base original'!AG42/'Base original'!AG30*100-100)*'Base original'!AG30/('Base original'!$AJ30)","v":0.23474277028679846},{"$f":"-('Base original'!AH42/'Base original'!AH30*100-100)*'Base original'!AH30/('Base original'!$AJ30)","v":-2.1291638423775949},{"$f":"-('Base original'!AI42/'Base original'!AI30*100-100)*'Base original'!AI30/('Base original'!$AJ30)","v":-1.0480213170803665E-2},{"$f":"(('Base original'!AF42-'Base original'!AH42)/('Base original'!AF30-'Base original'!AH30)*100-100)*(('Base original'!AF30-'Base original'!AH30)/'Base original'!AJ30)","v":-7.6325828660428847E-3},{"$f":"(('Base original'!AG42-'Base original'!AI42)/('Base original'!AG30-'Base original'!AI30)*100-100)*(('Base original'!AG30-'Base original'!AI30)/'Base original'!AJ30)","v":0.22426255711599494},{"$f":"('Base original'!AJ42/'Base original'!AJ30*100-100)*'Base original'!AJ30/('Base original'!$AJ30)","v":17.026635146666976},{"$f":"('Base original'!AJ42/'Base original'!AJ30*100-100)*'Base original'!AJ30/('Base original'!$AU30)","v":10.360168627947235},{"$f":"('Base original'!AK42/'Base original'!AK30*100-100)*'Base original'!AK30/('Base original'!$AU30)","v":2.9617544964446409},{"$f":"('Base original'!AL42/'Base original'!AL30*100-100)*'Base original'!AL30/('Base original'!$AU30)","v":2.1496186016230778},{"$f":"('Base original'!AM42/'Base original'!AM30*100-100)*'Base original'!AM30/('Base original'!$AU30)","v":0.94775462170981828},{"$f":"('Base original'!AN42/'Base original'!AN30*100-100)*'Base original'!AN30/('Base original'!$AU30)","v":-0.1975127903272558},{"$f":"('Base original'!AO42/'Base original'!AO30*100-100)*'Base original'!AO30/('Base original'!$AU30)","v":5.4778660551680895E-2},{"$f":"('Base original'!AP42/'Base original'!AP30*100-100)*'Base original'!AP30/('Base original'!$AU30)","v":2.7877040725242765},{"$f":"('Base original'!AQ42/'Base original'!AQ30*100-100)*'Base original'!AQ30/('Base original'!$AU30)","v":-0.11819238089475885},{"$f":"('Base original'!AR42/'Base original'!AR30*100-100)*'Base original'!AR30/('Base original'!$AU30)","v":-7.4789843522206786E-2},{"$f":"-('Base original'!AS42/'Base original'!AS30*100-100)*'Base original'!AS30/('Base original'!$AU30)","v":-1.1381662115507274},{"$f":"-('Base original'!AT42/'Base original'!AT30*100-100)*'Base original'!AT30/('Base original'!$AU30)","v":-4.6768506403081396E-2},{"$f":"(('Base original'!AQ42-'Base original'!AS42)/('Base original'!AQ30-'Base original'!AS30)*100-100)*(('Base original'!AQ30-'Base original'!AS30)/'Base original'!AU30)","v":-1.2563585924454861},{"$f":"(('Base original'!AR42-'Base original'!AT42)/('Base original'!AR30-'Base original'!AT30)*100-100)*(('Base original'!AR30-'Base original'!AT30)/'Base original'!AU30)","v":-0.12155834992528823},{"$f":"('Base original'!AU42/'Base original'!AU30*100-100)*'Base original'!AU30/('Base original'!$AU30)","v":17.686207324092962}]
["2008-09-01",{"$f":"'Base original'!B43/'Base original'!B31*100-100","v":20.23680606588465},{"$f":"'Base original'!C43/'Base original'!C31*100-100","v":10.44001468610152},{"$f":"'Base original'!D43/'Base original'!D31*100-100","v":23.746253447441518},{"$f":"'Base original'!E43/'Base original'!E31*100-100","v":36.869184904918569},{"$f":"'Base original'!F43/'Base original'!F31*100-100","v":21.229827816531468},{"$f":"'Base original'!H43","v":27.59},{"$f":"'Base original'!I43","v":39.39},{"$f":"'Base original'!J43","v":31.78},{"$f":"'Base original'!K43","v":32.369999999999997},{"$f":"'Base original'!G43","v":34.024364909569798},{"$f":"'Base original'!M43","v":11.27},{"$f":"'Base original'!N43","v":12.36},{"$f":"'Base original'!O43","v":12.29},{"$f":"'Base original'!P43","v":13.81},{"$f":"'Base original'!Q43","v":15.58},{"$f":"'Base original'!L43","v":12.804720313383299},{"$f":"'Base original'!S43","v":4.75},{"$f":"'Base original'!T43","v":5.12},{"$f":"'Base original'!U43","v":5.23},{"$f":"'Base original'!V43","v":5.63},{"$f":"'Base original'!W43","v":5.49},{"$f":"'Base original'!R43","v":5.1263856274647104},{"$f":"'Base original'!X43","v":4.8},{"$f":"('Base original'!Z43/'Base original'!Z31*100-100)*'Base original'!Z31/'Base original'!$AC31","v":2.7175472568395662},{"$f":"('Base original'!AA43/'Base original'!AA31*100-100)*'Base original'!AA31/'Base original'!$AC31","v":3.2947470672383097},{"$f":"('Base original'!AB43/'Base original'!AB31*100-100)*'Base original'!AB31/'Base original'!$AC31","v":2.3207024599276003},{"$f":"('Base original'!AC43/'Base original'!AC31*100-100)*'Base original'!AC31/'Base original'!$AC31","v":8.3331030627406051},{"$f":"('Base original'!AC43/'Base original'!AC31*100-100)*'Base original'!AC31/('Base original'!$AJ31)","v":1.8130191087515528},{"$f":"('Base original'!AD43/'Base original'!AD31*100-100)*'Base original'!AD31/('Base original'!$AJ31)","v":14.218377143491383},{"$f":"('Base original'!AE43/'Base original'!AE31*100-100)*'Base original'!AE31/('Base original'!$AJ31)","v":0.47549899184224564},{"$f":"('Base original'!AF43/'Base original'!AF31*100-100)*'Base original'!AF31/('Base original'!$AJ31)","v":1.0835614791246602},{"$f":"('Base original'!AG43/'Base original'!AG31*100-100)*'Base original'!AG31/('Base original'!$AJ31)","v":0.22854658798719926},{"$f":"-('Base original'!AH43/'Base original'!AH31*100-100)*'Base original'!AH31/('Base original'!$AJ31)","v":-0.30154553358367642},{"$f":"-('Base original'!AI43/'Base original'!AI31*100-100)*'Base original'!AI31/('Base original'!$AJ31)","v":-6.4975304759614556E-3},{"$f":"(('Base original'!AF43-'Base original'!AH43)/('Base original'!AF31-'Base original'!AH31)*100-100)*(('Base original'!AF31-'Base original'!AH31)/'Base original'!AJ31)","v":0.78201594554098275},{"$f":"(('Base original'!AG43-'Base original'!AI43)/('Base original'!AG31-'Base original'!AI31)*100-100)*(('Base original'!AG31-'Base original'!AI31)/'Base original'!AJ31)","v":0.22204905751123785},{"$f":"('Base original'!AJ43/'Base original'!AJ31*100-100)*'Base original'!AJ31/('Base original'!$AJ31)","v":17.51096024713739},{"$f":"('Base original'!AJ43/'Base original'!AJ31*100-100)*'Base original'!AJ31/('Base original'!$AU31)","v":10.657975530706807},{"$f":"('Base original'!AK43/'Base original'!AK31*100-100)*'Base original'!AK31/('Base original'!$AU31)","v":3.1710608591091063},{"$f":"('Base original'!AL43/'Base original'!AL31*100-100)*'Base original'!AL31/('Base original'!$AU31)","v":3.2097071034076956},{"$f":"('Base original'!AM43/'Base original'!AM31*100-100)*'Base original'!AM31/('Base original'!$AU31)","v":1.1105236143892945},{"$f":"('Base original'!AN43/'Base original'!AN31*100-100)*'Base original'!AN31/('Base original'!$AU31)","v":-0.34411482860334347},{"$f":"('Base original'!AO43/'Base original'!AO31*100-100)*'Base original'!AO31/('Base original'!$AU31)","v":8.4540418609475532E-2},{"$f":"('Base original'!AP43/'Base original'!AP31*100-100)*'Base original'!AP31/('Base original'!$AU31)","v":3.0425965772600492},{"$f":"('Base original'!AQ43/'Base original'!AQ31*100-100)*'Base original'!AQ31/('Base original'!$AU31)","v":-0.64583982187261879},{"$f":"('Base original'!AR43/'Base original'!AR31*100-100)*'Base original'!AR31/('Base original'!$AU31)","v":-0.13989208606262465},{"$f":"-('Base original'!AS43/'Base original'!AS31*100-100)*'Base original'!AS31/('Base original'!$AU31)","v":-0.78647781141223816},{"$f":"-('Base original'!AT43/'Base original'!AT31*100-100)*'Base original'!AT31/('Base original'!$AU31)","v":-6.4654350439808647E-2},{"$f":"(('Base original'!AQ43-'Base original'!AS43)/('Base original'!AQ31-'Base original'!AS31)*100-100)*(('Base original'!AQ31-'Base original'!AS31)/'Base original'!AU31)","v":-1.4323176332848582},{"$f":"(('Base original'!AR43-'Base original'!AT43)/('Base original'!AR31-'Base original'!AT31)*100-100)*(('Base original'!AR31-'Base original'!AT31)/'Base original'!AU31)","v":-0.20454643650243329},{"$f":"('Base original'!AU43/'Base original'!AU31*100-100)*'Base original'!AU31/('Base original'!$AU31)","v":19.295298542237191}]
["2008-10-01",{"$f":"'Base original'!B44/'Base original'!B32*100-100","v":22.170368028786982},{"$f":"'Base original'!C44/'Base original'!C32*100-100","v":9.1482328450985619},{"$f":"'Base original'!D44/'Base original'!D32*100-100","v":23.135581434273121},{"$f":"'Base original'!E44/'Base original'!E32*100-100","v":61.59700315725425},{"$f":"'Base original'!F44/'Base original'!F32*100-100","v":24.147095820818549},{"$f":"'Base original'!H44","v":29.44},{"$f":"'Base original'!I44","v":39.96},{"$f":"'Base original'!J44","v":34.020000000000003},{"$f":"'Base original'!K44","v":35.08},{"$f":"'Base original'!G44","v":35.760897802525299},{"$f":"'Base original'!M44","v":14.18},{"$f":"'Base original'!N44","v":16.55},{"$f":"'Base original'!O44","v":13.55},{"$f":"'Base original'!P44","v":14.44},{"$f":"'Base original'!Q44","v":16.5},{"$f":"'Base original'!L44","v":15.1485057621497},{"$f":"'Base original'!S44","v":7.66},{"$f":"'Base original'!T44","v":8.57},{"$f":"'Base original'!U44","v":7.87},{"$f":"'Base original'!V44","v":7.79},{"$f":"'Base original'!W44","v":6.13},{"$f":"'Base original'!R44","v":8.0271257425205302},{"$f":"'Base original'!X44","v":5.34},{"$f":"('Base original'!Z44/'Base original'!Z32*100-100)*'Base original'!Z32/'Base original'!$AC32","v":3.1226573269835662},{"$f":"('Base original'!AA44/'Base original'!AA32*100-100)*'Base original'!AA32/'Base original'!$AC32","v":5.6660453993030018},{"$f":"('Base original'!AB44/'Base original'!AB32*100-100)*'Base original'!AB32/'Base original'!$AC32","v":4.547002520974579},{"$f":"('Base original'!AC44/'Base original'!AC32*100-100)*'Base original'!AC32/'Base original'!$AC32","v":13.335052426914046},{"$f":"('Base original'!AC44/'Base original'!AC32*100-100)*'Base original'!AC32/('Base original'!$AJ32)","v":2.8008750834988079},{"$f":"('Base original'!AD44/'Base original'!AD32*100-100)*'Base original'!AD32/('Base original'!$AJ32)","v":15.878907932723783},{"$f":"('Base original'!AE44/'Base original'!AE32*100-100)*'Base original'!AE32/('Base original'!$AJ32)","v":0.47033567034773577},{"$f":"('Base original'!AF44/'Base original'!AF32*100-100)*'Base original'!AF32/('Base original'!$AJ32)","v":1.2046224117083675},{"$f":"('Base original'!AG44/'Base original'!AG32*100-100)*'Base original'!AG32/('Base original'!$AJ32)","v":0.20926406556407473},{"$f":"-('Base original'!AH44/'Base original'!AH32*100-100)*'Base original'!AH32/('Base original'!$AJ32)","v":-0.11698402878917825},{"$f":"-('Base original'!AI44/'Base original'!AI32*100-100)*'Base original'!AI32/('Base original'!$AJ32)","v":-2.376702284445109E-3},{"$f":"(('Base original'!AF44-'Base original'!AH44)/('Base original'!AF32-'Base original'!AH32)*100-100)*(('Base original'!AF32-'Base original'!AH32)/'Base original'!AJ32)","v":1.0876383829191876},{"$f":"(('Base original'!AG44-'Base original'!AI44)/('Base original'!AG32-'Base original'!AI32)*100-100)*(('Base original'!AG32-'Base original'!AI32)/'Base original'!AJ32)","v":0.20688736327962967},{"$f":"('Base original'!AJ44/'Base original'!AJ32*100-100)*'Base original'!AJ32/('Base original'!$AJ32)","v":20.444644432769138},{"$f":"('Base original'!AJ44/'Base original'!AJ32*100-100)*'Base original'!AJ32/('Base original'!$AU32)","v":12.441320103667115},{"$f":"('Base original'!AK44/'Base original'!AK32*100-100)*'Base original'!AK32/('Base original'!$AU32)","v":3.4223055643477678},{"$f":"('Base original'!AL44/'Base original'!AL32*100-100)*'Base original'!AL32/('Base original'!$AU32)","v":3.1227244938885024},{"$f":"('Base original'!AM44/'Base original'!AM32*100-100)*'Base original'!AM32/('Base original'!$AU32)","v":1.3256830898987972},{"$f":"('Base original'!AN44/'Base original'!AN32*100-100)*'Base original'!AN32/('Base original'!$AU32)","v":-0.29394880170353255},{"$f":"('Base original'!AO44/'Base original'!AO32*100-100)*'Base original'!AO32/('Base original'!$AU32)","v":9.9614669376089302E-2},{"$f":"('Base original'!AP44/'Base original'!AP32*100-100)*'Base original'!AP32/('Base original'!$AU32)","v":3.0136531757373533},{"$f":"('Base original'!AQ44/'Base original'!AQ32*100-100)*'Base original'!AQ32/('Base original'!$AU32)","v":-1.8896609346395379},{"$f":"('Base original'!AR44/'Base original'!AR32*100-100)*'Base original'!AR32/('Base original'!$AU32)","v":-0.286453016865655},{"$f":"-('Base original'!AS44/'Base original'!AS32*100-100)*'Base original'!AS32/('Base original'!$AU32)","v":-0.23374610678114058},{"$f":"-('Base original'!AT44/'Base original'!AT32*100-100)*'Base original'!AT32/('Base original'!$AU32)","v":-5.2985046813192854E-2},{"$f":"(('Base original'!AQ44-'Base original'!AS44)/('Base original'!AQ32-'Base original'!AS32)*100-100)*(('Base original'!AQ32-'Base original'!AS32)/'Base original'!AU32)","v":-2.1234070414206783},{"$f":"(('Base original'!AR44-'Base original'!AT44)/('Base original'!AR32-'Base original'!AT32)*100-100)*(('Base original'!AR32-'Base original'!AT32)/'Base original'!AU32)","v":-0.33943806367884782},{"$f":"('Base original'!AU44/'Base original'!AU32*100-100)*'Base original'!AU32/('Base original'!$AU32)","v":20.668368121748244}]
["2008-11-01",{"$f":"'Base original'!B45/'Base original'!B33*100-100","v":19.537224889747606},{"$f":"'Base original'!C45/'Base original'!C33*100-100","v":8.0771603229327269},{"$f":"'Base original'!D45/'Base original'!D33*100-100","v":22.722753146790396},{"$f":"'Base original'!E45/'Base original'!E33*100-100","v":51.40255611334689},{"$f":"'Base original'!F45/'Base original'!F33*100-100","v":21.62517544784464},{"$f":"'Base original'!H45","v":29.36},{"$f":"'Base original'!I45","v":40.049999999999997},{"$f":"'Base original'!J45","v":34.97},{"$f":"'Base original'!K45","v":35.47},{"$f":"'Base original'!G45","v":36.071842036112699},{"$f":"'Base original'!M45","v":13.18},{"$f":"'Base original'!N45","v":17},{"$f":"'Base original'!O45","v":12.56},{"$f":"'Base original'!P45","v":14.1},{"$f":"'Base original'!Q45","v":18.32},{"$f":"'Base original'!L45","v":15.128786233759699},{"$f":"'Base original'!S45","v":5.78},{"$f":"'Base original'!T45","v":6.02},{"$f":"'Base original'!U45","v":5.82},{"$f":"'Base original'!V45","v":6.26},{"$f":"'Base original'!W45","v":7.64},{"$f":"'Base original'!R45","v":5.9275972440875204},{"$f":"'Base original'!X45","v":5.69},{"$f":"('Base original'!Z45/'Base original'!Z33*100-100)*'Base original'!Z33/'Base original'!$AC33","v":3.0290808479336606},{"$f":"('Base original'!AA45/'Base original'!AA33*100-100)*'Base original'!AA33/'Base original'!$AC33","v":5.5453390397218145},{"$f":"('Base original'!AB45/'Base original'!AB33*100-100)*'Base original'!AB33/'Base original'!$AC33","v":-1.1321176608265318},{"$f":"('Base original'!AC45/'Base original'!AC33*100-100)*'Base original'!AC33/'Base original'!$AC33","v":7.4419887655476629},{"$f":"('Base original'!AC45/'Base original'!AC33*100-100)*'Base original'!AC33/('Base original'!$AJ33)","v":1.5795319064380573},{"$f":"('Base original'!AD45/'Base original'!AD33*100-100)*'Base original'!AD33/('Base original'!$AJ33)","v":15.533919219087103},{"$f":"('Base original'!AE45/'Base original'!AE33*100-100)*'Base original'!AE33/('Base original'!$AJ33)","v":0.46201263909390189},{"$f":"('Base original'!AF45/'Base original'!AF33*100-100)*'Base original'!AF33/('Base original'!$AJ33)","v":-0.22496309753605184},{"$f":"('Base original'!AG45/'Base original'!AG33*100-100)*'Base original'!AG33/('Base original'!$AJ33)","v":0.22287846315430909},{"$f":"-('Base original'!AH45/'Base original'!AH33*100-100)*'Base original'!AH33/('Base original'!$AJ33)","v":1.087469484500964},{"$f":"-('Base original'!AI45/'Base original'!AI33*100-100)*'Base original'!AI33/('Base original'!$AJ33)","v":-5.89907176109912E-3},{"$f":"(('Base original'!AF45-'Base original'!AH45)/('Base original'!AF33-'Base original'!AH33)*100-100)*(('Base original'!AF33-'Base original'!AH33)/'Base original'!AJ33)","v":0.86250638696491233},{"$f":"(('Base original'!AG45-'Base original'!AI45)/('Base original'!AG33-'Base original'!AI33)*100-100)*(('Base original'!AG33-'Base original'!AI33)/'Base original'!AJ33)","v":0.21697939139320996},{"$f":"('Base original'!AJ45/'Base original'!AJ33*100-100)*'Base original'!AJ33/('Base original'!$AJ33)","v":18.654949542977178},{"$f":"('Base original'!AJ45/'Base original'!AJ33*100-100)*'Base original'!AJ33/('Base original'!$AU33)","v":11.450668062041546},{"$f":"('Base original'!AK45/'Base original'!AK33*100-100)*'Base original'!AK33/('Base original'!$AU33)","v":3.6920170962462913},{"$f":"('Base original'!AL45/'Base original'!AL33*100-100)*'Base original'!AL33/('Base original'!$AU33)","v":2.7635065545684054},{"$f":"('Base original'!AM45/'Base original'!AM33*100-100)*'Base original'!AM33/('Base original'!$AU33)","v":1.4452148832848226},{"$f":"('Base original'!AN45/'Base original'!AN33*100-100)*'Base original'!AN33/('Base original'!$AU33)","v":-0.3029195878017592},{"$f":"('Base original'!AO45/'Base original'!AO33*100-100)*'Base original'!AO33/('Base original'!$AU33)","v":0.11062901586594594},{"$f":"('Base original'!AP45/'Base original'!AP33*100-100)*'Base original'!AP33/('Base original'!$AU33)","v":2.9033752807924231},{"$f":"('Base original'!AQ45/'Base original'!AQ33*100-100)*'Base original'!AQ33/('Base original'!$AU33)","v":-2.6795853188339929},{"$f":"('Base original'!AR45/'Base original'!AR33*100-100)*'Base original'!AR33/('Base original'!$AU33)","v":-0.35105348716216078},{"$f":"-('Base original'!AS45/'Base original'!AS33*100-100)*'Base original'!AS33/('Base original'!$AU33)","v":3.4439696092143195E-3},{"$f":"-('Base original'!AT45/'Base original'!AT33*100-100)*'Base original'!AT33/('Base original'!$AU33)","v":-1.7560161248562845E-2},{"$f":"(('Base original'!AQ45-'Base original'!AS45)/('Base original'!AQ33-'Base original'!AS33)*100-100)*(('Base original'!AQ33-'Base original'!AS33)/'Base original'!AU33)","v":-2.6761413492247788},{"$f":"(('Base original'!AR45-'Base original'!AT45)/('Base original'!AR33-'Base original'!AT33)*100-100)*(('Base original'!AR33-'Base original'!AT33)/'Base original'!AU33)","v":-0.36861364841072369},{"$f":"('Base original'!AU45/'Base original'!AU33*100-100)*'Base original'!AU33/('Base original'!$AU33)","v":19.017736307362171}]
["2008-12-01",{"$f":"'Base original'!B46/'Base original'!B34*100-100","v":15.253573325265492},{"$f":"'Base original'!C46/'Base original'!C34*100-100","v":6.7645485344274334},{"$f":"'Base original'!D46/'Base original'!D34*100-100","v":21.169572403209756},{"$f":"'Base original'!E46/'Base original'!E34*100-100","v":44.878598765652583},{"$f":"'Base original'!F46/'Base original'!F34*100-100","v":17.986616265955831},{"$f":"'Base original'!H46","v":30.17},{"$f":"'Base original'!I46","v":41.1},{"$f":"'Base original'!J46","v":32.93},{"$f":"'Base original'!K46","v":37.18},{"$f":"'Base original'!G46","v":36.851581681413002},{"$f":"'Base original'!M46","v":13.21},{"$f":"'Base original'!N46","v":16.47},{"$f":"'Base original'!O46","v":12.06},{"$f":"'Base original'!P46","v":14.93},{"$f":"'Base original'!Q46","v":16.95},{"$f":"'Base original'!L46","v":14.910910610780199},{"$f":"'Base original'!S46","v":5.26},{"$f":"'Base original'!T46","v":5.87},{"$f":"'Base original'!U46","v":5.96},{"$f":"'Base original'!V46","v":6.2},{"$f":"'Base original'!W46","v":4.4400000000000004},{"$f":"'Base original'!R46","v":5.8315002485440504},{"$f":"'Base original'!X46","v":5.77},{"$f":"('Base original'!Z46/'Base original'!Z34*100-100)*'Base original'!Z34/'Base original'!$AC34","v":2.7098157522724957},{"$f":"('Base original'!AA46/'Base original'!AA34*100-100)*'Base original'!AA34/'Base original'!$AC34","v":2.0157277903698398},{"$f":"('Base original'!AB46/'Base original'!AB34*100-100)*'Base original'!AB34/'Base original'!$AC34","v":1.9679481610765817},{"$f":"('Base original'!AC46/'Base original'!AC34*100-100)*'Base original'!AC34/'Base original'!$AC34","v":6.692701957780173},{"$f":"('Base original'!AC46/'Base original'!AC34*100-100)*'Base original'!AC34/('Base original'!$AJ34)","v":1.4728120878516882},{"$f":"('Base original'!AD46/'Base original'!AD34*100-100)*'Base original'!AD34/('Base original'!$AJ34)","v":15.637016862520975},{"$f":"('Base original'!AE46/'Base original'!AE34*100-100)*'Base original'!AE34/('Base original'!$AJ34)","v":0.44982074297977837},{"$f":"('Base original'!AF46/'Base original'!AF34*100-100)*'Base original'!AF34/('Base original'!$AJ34)","v":0.72828120291964005},{"$f":"('Base original'!AG46/'Base original'!AG34*100-100)*'Base original'!AG34/('Base original'!$AJ34)","v":0.26331871079193975},{"$f":"-('Base original'!AH46/'Base original'!AH34*100-100)*'Base original'!AH34/('Base original'!$AJ34)","v":7.0647013241103312E-2},{"$f":"-('Base original'!AI46/'Base original'!AI34*100-100)*'Base original'!AI34/('Base original'!$AJ34)","v":-1.2252434030744483E-2},{"$f":"(('Base original'!AF46-'Base original'!AH46)/('Base original'!AF34-'Base original'!AH34)*100-100)*(('Base original'!AF34-'Base original'!AH34)/'Base original'!AJ34)","v":0.79892821616074383},{"$f":"(('Base original'!AG46-'Base original'!AI46)/('Base original'!AG34-'Base original'!AI34)*100-100)*(('Base original'!AG34-'Base original'!AI34)/'Base original'!AJ34)","v":0.2510662767611952},{"$f":"('Base original'!AJ46/'Base original'!AJ34*100-100)*'Base original'!AJ34/('Base original'!$AJ34)","v":18.60964418627438},{"$f":"('Base original'!AJ46/'Base original'!AJ34*100-100)*'Base original'!AJ34/('Base original'!$AU34)","v":11.561912968036319},{"$f":"('Base original'!AK46/'Base original'!AK34*100-100)*'Base original'!AK34/('Base original'!$AU34)","v":3.4060979655542223},{"$f":"('Base original'!AL46/'Base original'!AL34*100-100)*'Base original'!AL34/('Base original'!$AU34)","v":3.033974194415674},{"$f":"('Base original'!AM46/'Base original'!AM34*100-100)*'Base original'!AM34/('Base original'!$AU34)","v":1.3606926838828068},{"$f":"('Base original'!AN46/'Base original'!AN34*100-100)*'Base original'!AN34/('Base original'!$AU34)","v":-0.4338722116361326},{"$f":"('Base original'!AO46/'Base original'!AO34*100-100)*'Base original'!AO34/('Base original'!$AU34)","v":0.15368950643627946},{"$f":"('Base original'!AP46/'Base original'!AP34*100-100)*'Base original'!AP34/('Base original'!$AU34)","v":2.9792171620443746},{"$f":"('Base original'!AQ46/'Base original'!AQ34*100-100)*'Base original'!AQ34/('Base original'!$AU34)","v":-2.7033939642282849},{"$f":"('Base original'!AR46/'Base original'!AR34*100-100)*'Base original'!AR34/('Base original'!$AU34)","v":-0.33290170161156007},{"$f":"-('Base original'!AS46/'Base original'!AS34*100-100)*'Base original'!AS34/('Base original'!$AU34)","v":8.7001190698889522E-2},{"$f":"-('Base original'!AT46/'Base original'!AT34*100-100)*'Base original'!AT34/('Base original'!$AU34)","v":-2.9693239146380643E-4},{"$f":"(('Base original'!AQ46-'Base original'!AS46)/('Base original'!AQ34-'Base original'!AS34)*100-100)*(('Base original'!AQ34-'Base original'!AS34)/'Base original'!AU34)","v":-2.6163927735293955},{"$f":"(('Base original'!AR46-'Base original'!AT46)/('Base original'!AR34-'Base original'!AT34)*100-100)*(('Base original'!AR34-'Base original'!AT34)/'Base original'!AU34)","v":-0.33319863400302374},{"$f":"('Base original'!AU46/'Base original'!AU34*100-100)*'Base original'!AU34/('Base original'!$AU34)","v":19.112134358128003}]
["2009-01-01",{"$f":"'Base original'!B47/'Base original'!B35*100-100","v":13.926050673060146},{"$f":"'Base original'!C47/'Base original'!C35*100-100","v":5.3804837092024513},{"$f":"'Base original'!D47/'Base original'!D35*100-100","v":18.634299654171627},{"$f":"'Base original'!E47/'Base original'!E35*100-100","v":46.958229600124781},{"$f":"'Base original'!F47/'Base original'!F35*100-100","v":16.538155933640894},{"$f":"'Base original'!H47","v":30.6},{"$f":"'Base original'!I47","v":41.71},{"$f":"'Base original'!J47","v":33.18},{"$f":"'Base original'!K47","v":34.79},{"$f":"'Base original'!G47","v":36.334171451960003},{"$f":"'Base original'!M47","v":12.2},{"$f":"'Base original'!N47","v":13.97},{"$f":"'Base original'!O47","v":10.8},{"$f":"'Base original'!P47","v":14.35},{"$f":"'Base original'!Q47","v":16.14},{"$f":"'Base original'!L47","v":13.5112458646691},{"$f":"'Base original'!S47","v":5.23},{"$f":"'Base original'!T47","v":4.92},{"$f":"'Base original'!U47","v":6.1},{"$f":"'Base original'!V47","v":5.94},{"$f":"'Base original'!W47","v":6.26},{"$f":"'Base original'!R47","v":5.3235662820483602},{"$f":"'Base original'!X47","v":5.92},{"$f":"('Base original'!Z47/'Base original'!Z35*100-100)*'Base original'!Z35/'Base original'!$AC35","v":2.4970599764798118},{"$f":"('Base original'!AA47/'Base original'!AA35*100-100)*'Base original'!AA35/'Base original'!$AC35","v":1.2887103096824806},{"$f":"('Base original'!AB47/'Base original'!AB35*100-100)*'Base original'!AB35/'Base original'!$AC35","v":1.5915327322618571},{"$f":"('Base original'!AC47/'Base original'!AC35*100-100)*'Base original'!AC35/'Base original'!$AC35","v":5.3782830262641994},{"$f":"('Base original'!AC47/'Base original'!AC35*100-100)*'Base original'!AC35/('Base original'!$AJ35)","v":1.1485424519121075},{"$f":"('Base original'!AD47/'Base original'!AD35*100-100)*'Base original'!AD35/('Base original'!$AJ35)","v":11.749957620290353},{"$f":"('Base original'!AE47/'Base original'!AE35*100-100)*'Base original'!AE35/('Base original'!$AJ35)","v":0.40203171467258769},{"$f":"('Base original'!AF47/'Base original'!AF35*100-100)*'Base original'!AF35/('Base original'!$AJ35)","v":4.3750510126134543},{"$f":"('Base original'!AG47/'Base original'!AG35*100-100)*'Base original'!AG35/('Base original'!$AJ35)","v":0.2500926075136608},{"$f":"-('Base original'!AH47/'Base original'!AH35*100-100)*'Base original'!AH35/('Base original'!$AJ35)","v":-3.4267919292290214},{"$f":"-('Base original'!AI47/'Base original'!AI35*100-100)*'Base original'!AI35/('Base original'!$AJ35)","v":-1.3394081071861332E-2},{"$f":"(('Base original'!AF47-'Base original'!AH47)/('Base original'!AF35-'Base original'!AH35)*100-100)*(('Base original'!AF35-'Base original'!AH35)/'Base original'!AJ35)","v":0.94825908338443399},{"$f":"(('Base original'!AG47-'Base original'!AI47)/('Base original'!AG35-'Base original'!AI35)*100-100)*(('Base original'!AG35-'Base original'!AI35)/'Base original'!AJ35)","v":0.23669852644179953},{"$f":"('Base original'!AJ47/'Base original'!AJ35*100-100)*'Base original'!AJ35/('Base original'!$AJ35)","v":14.485280114184533},{"$f":"('Base original'!AJ47/'Base original'!AJ35*100-100)*'Base original'!AJ35/('Base original'!$AU35)","v":9.142544653353653},{"$f":"('Base original'!AK47/'Base original'!AK35*100-100)*'Base original'!AK35/('Base original'!$AU35)","v":3.0905325115513564},{"$f":"('Base original'!AL47/'Base original'!AL35*100-100)*'Base original'!AL35/('Base original'!$AU35)","v":2.5217487788189481},{"$f":"('Base original'!AM47/'Base original'!AM35*100-100)*'Base original'!AM35/('Base original'!$AU35)","v":1.2588269793171951},{"$f":"('Base original'!AN47/'Base original'!AN35*100-100)*'Base original'!AN35/('Base original'!$AU35)","v":-0.60893938873581033},{"$f":"('Base original'!AO47/'Base original'!AO35*100-100)*'Base original'!AO35/('Base original'!$AU35)","v":0.17396381235684638},{"$f":"('Base original'!AP47/'Base original'!AP35*100-100)*'Base original'!AP35/('Base original'!$AU35)","v":3.2618545044342926},{"$f":"('Base original'!AQ47/'Base original'!AQ35*100-100)*'Base original'!AQ35/('Base original'!$AU35)","v":-2.0205956246185877},{"$f":"('Base original'!AR47/'Base original'!AR35*100-100)*'Base original'!AR35/('Base original'!$AU35)","v":-0.28122168299751404},{"$f":"-('Base original'!AS47/'Base original'!AS35*100-100)*'Base original'!AS35/('Base original'!$AU35)","v":-0.20553355507004828},{"$f":"-('Base original'!AT47/'Base original'!AT35*100-100)*'Base original'!AT35/('Base original'!$AU35)","v":1.9549464106919736E-2},{"$f":"(('Base original'!AQ47-'Base original'!AS47)/('Base original'!AQ35-'Base original'!AS35)*100-100)*(('Base original'!AQ35-'Base original'!AS35)/'Base original'!AU35)","v":-2.2261291796886367},{"$f":"(('Base original'!AR47-'Base original'!AT47)/('Base original'!AR35-'Base original'!AT35)*100-100)*(('Base original'!AR35-'Base original'!AT35)/'Base original'!AU35)","v":-0.26167221889059433},{"$f":"('Base original'!AU47/'Base original'!AU35*100-100)*'Base original'!AU35/('Base original'!$AU35)","v":16.352730452517264}]
["2009-02-01",{"$f":"'Base original'!B48/'Base original'!B36*100-100","v":11.426824592664261},{"$f":"'Base original'!C48/'Base original'!C36*100-100","v":3.8502626047412605},{"$f":"'Base original'!D48/'Base original'!D36*100-100","v":16.59682268912745},{"$f":"'Base original'!E48/'Base original'!E36*100-100","v":36.021299317779551},{"$f":"'Base original'!F48/'Base original'!F36*100-100","v":13.601158631138972},{"$f":"'Base original'!H48","v":30.19},{"$f":"'Base original'!I48","v":42.67},{"$f":"'Base original'!J48","v":33.020000000000003},{"$f":"'Base original'!K48","v":33.74},{"$f":"'Base original'!G48","v":36.189776794957403},{"$f":"'Base original'!M48","v":10.88},{"$f":"'Base original'!N48","v":12.88},{"$f":"'Base original'!O48","v":10.11},{"$f":"'Base original'!P48","v":12.06},{"$f":"'Base original'!Q48","v":15.67},{"$f":"'Base original'!L48","v":12.2157947060754},{"$f":"'Base original'!S48","v":5.03},{"$f":"'Base original'!T48","v":5.0599999999999996},{"$f":"'Base original'!U48","v":5.32},{"$f":"'Base original'!V48","v":5.0999999999999996},{"$f":"'Base original'!W48","v":7},{"$f":"'Base original'!R48","v":5.1172565620763102},{"$f":"'Base original'!X48","v":5.53},{"$f":"('Base original'!Z48/'Base original'!Z36*100-100)*'Base original'!Z36/'Base original'!$AC36","v":2.1384688090737241},{"$f":"('Base original'!AA48/'Base original'!AA36*100-100)*'Base original'!AA36/'Base original'!$AC36","v":2.7410207939508582},{"$f":"('Base original'!AB48/'Base original'!AB36*100-100)*'Base original'!AB36/'Base original'!$AC36","v":-1.1539067422810381},{"$f":"('Base original'!AC48/'Base original'!AC36*100-100)*'Base original'!AC36/'Base original'!$AC36","v":3.7255828607435575},{"$f":"('Base original'!AC48/'Base original'!AC36*100-100)*'Base original'!AC36/('Base original'!$AJ36)","v":0.78390589814609901},{"$f":"('Base original'!AD48/'Base original'!AD36*100-100)*'Base original'!AD36/('Base original'!$AJ36)","v":10.27612795233587},{"$f":"('Base original'!AE48/'Base original'!AE36*100-100)*'Base original'!AE36/('Base original'!$AJ36)","v":0.34492688171597485},{"$f":"('Base original'!AF48/'Base original'!AF36*100-100)*'Base original'!AF36/('Base original'!$AJ36)","v":5.0096227349283495},{"$f":"('Base original'!AG48/'Base original'!AG36*100-100)*'Base original'!AG36/('Base original'!$AJ36)","v":0.23927360263180245},{"$f":"-('Base original'!AH48/'Base original'!AH36*100-100)*'Base original'!AH36/('Base original'!$AJ36)","v":-4.1668824617628344},{"$f":"-('Base original'!AI48/'Base original'!AI36*100-100)*'Base original'!AI36/('Base original'!$AJ36)","v":-1.8851859601293531E-2},{"$f":"(('Base original'!AF48-'Base original'!AH48)/('Base original'!AF36-'Base original'!AH36)*100-100)*(('Base original'!AF36-'Base original'!AH36)/'Base original'!AJ36)","v":0.8427402731655157},{"$f":"(('Base original'!AG48-'Base original'!AI48)/('Base original'!AG36-'Base original'!AI36)*100-100)*(('Base original'!AG36-'Base original'!AI36)/'Base original'!AJ36)","v":0.22042174303050888},{"$f":"('Base original'!AJ48/'Base original'!AJ36*100-100)*'Base original'!AJ36/('Base original'!$AJ36)","v":12.467708421809336},{"$f":"('Base original'!AJ48/'Base original'!AJ36*100-100)*'Base original'!AJ36/('Base original'!$AU36)","v":7.9259908970225759},{"$f":"('Base original'!AK48/'Base original'!AK36*100-100)*'Base original'!AK36/('Base original'!$AU36)","v":3.0235265608866975},{"$f":"('Base original'!AL48/'Base original'!AL36*100-100)*'Base original'!AL36/('Base original'!$AU36)","v":2.3028741808373887},{"$f":"('Base original'!AM48/'Base original'!AM36*100-100)*'Base original'!AM36/('Base original'!$AU36)","v":1.5059685610131281},{"$f":"('Base original'!AN48/'Base original'!AN36*100-100)*'Base original'!AN36/('Base original'!$AU36)","v":-0.48557114861874984},{"$f":"('Base original'!AO48/'Base original'!AO36*100-100)*'Base original'!AO36/('Base original'!$AU36)","v":0.20966348483890682},{"$f":"('Base original'!AP48/'Base original'!AP36*100-100)*'Base original'!AP36/('Base original'!$AU36)","v":3.4736709020797778},{"$f":"('Base original'!AQ48/'Base original'!AQ36*100-100)*'Base original'!AQ36/('Base original'!$AU36)","v":-1.2391480708852227},{"$f":"('Base original'!AR48/'Base original'!AR36*100-100)*'Base original'!AR36/('Base original'!$AU36)","v":-0.25312388056556451},{"$f":"-('Base original'!AS48/'Base original'!AS36*100-100)*'Base original'!AS36/('Base original'!$AU36)","v":-0.57855005584002406},{"$f":"-('Base original'!AT48/'Base original'!AT36*100-100)*'Base original'!AT36/('Base original'!$AU36)","v":1.3169816886866029E-2},{"$f":"(('Base original'!AQ48-'Base original'!AS48)/('Base original'!AQ36-'Base original'!AS36)*100-100)*(('Base original'!AQ36-'Base original'!AS36)/'Base original'!AU36)","v":-1.8176981267252459},{"$f":"(('Base original'!AR48-'Base original'!AT48)/('Base original'!AR36-'Base original'!AT36)*100-100)*(('Base original'!AR36-'Base original'!AT36)/'Base original'!AU36)","v":-0.23995406367869851},{"$f":"('Base original'!AU48/'Base original'!AU36*100-100)*'Base original'!AU36/('Base original'!$AU36)","v":15.89833954948692}]
["2009-03-01",{"$f":"'Base original'!B49/'Base original'!B37*100-100","v":9.1165123696176096},{"$f":"'Base original'!C49/'Base original'!C37*100-100","v":2.8200315586999238},{"$f":"'Base original'!D49/'Base original'!D37*100-100","v":15.106332198349961},{"$f":"'Base original'!E49/'Base original'!E37*100-100","v":30.726654615906256},{"$f":"'Base original'!F49/'Base original'!F37*100-100","v":11.366673377021669},{"$f":"'Base original'!H49","v":28.89},{"$f":"'Base original'!I49","v":42.45},{"$f":"'Base original'!J49","v":29.17},{"$f":"'Base original'!K49","v":31.64},{"$f":"'Base original'!G49","v":32.2310900560189},{"$f":"'Base original'!M49","v":8.39},{"$f":"'Base original'!N49","v":10.3},{"$f":"'Base original'!O49","v":7.83},{"$f":"'Base original'!P49","v":12.65},{"$f":"'Base original'!Q49","v":14.25},{"$f":"'Base original'!L49","v":10.0588162851225},{"$f":"'Base original'!S49","v":5.01},{"$f":"'Base original'!T49","v":4.68},{"$f":"'Base original'!U49","v":5.25},{"$f":"'Base original'!V49","v":4.41},{"$f":"'Base original'!W49","v":4.43},{"$f":"'Base original'!R49","v":4.6835907984627498},{"$f":"'Base original'!X49","v":4.9000000000000004},{"$f":"('Base original'!Z49/'Base original'!Z37*100-100)*'Base original'!Z37/'Base original'!$AC37","v":2.2827840858469375},{"$f":"('Base original'!AA49/'Base original'!AA37*100-100)*'Base original'!AA37/'Base original'!$AC37","v":5.4921448865042528},{"$f":"('Base original'!AB49/'Base original'!AB37*100-100)*'Base original'!AB37/'Base original'!$AC37","v":-2.421374620113447},{"$f":"('Base original'!AC49/'Base original'!AC37*100-100)*'Base original'!AC37/'Base original'!$AC37","v":5.3535543522377509},{"$f":"('Base original'!AC49/'Base original'!AC37*100-100)*'Base original'!AC37/('Base original'!$AJ37)","v":1.1083239060220045},{"$f":"('Base original'!AD49/'Base original'!AD37*100-100)*'Base original'!AD37/('Base original'!$AJ37)","v":3.6065614086862454},{"$f":"('Base original'!AE49/'Base original'!AE37*100-100)*'Base original'!AE37/('Base original'!$AJ37)","v":0.31438033872739413},{"$f":"('Base original'!AF49/'Base original'!AF37*100-100)*'Base original'!AF37/('Base original'!$AJ37)","v":4.403579099240897},{"$f":"('Base original'!AG49/'Base original'!AG37*100-100)*'Base original'!AG37/('Base original'!$AJ37)","v":0.23035430295279785},{"$f":"-('Base original'!AH49/'Base original'!AH37*100-100)*'Base original'!AH37/('Base original'!$AJ37)","v":-3.7660059351073043},{"$f":"-('Base original'!AI49/'Base original'!AI37*100-100)*'Base original'!AI37/('Base original'!$AJ37)","v":-2.2748512124342129E-2},{"$f":"(('Base original'!AF49-'Base original'!AH49)/('Base original'!AF37-'Base original'!AH37)*100-100)*(('Base original'!AF37-'Base original'!AH37)/'Base original'!AJ37)","v":0.63757316413358978},{"$f":"(('Base original'!AG49-'Base original'!AI49)/('Base original'!AG37-'Base original'!AI37)*100-100)*(('Base original'!AG37-'Base original'!AI37)/'Base original'!AJ37)","v":0.20760579082845579},{"$f":"('Base original'!AJ49/'Base original'!AJ37*100-100)*'Base original'!AJ37/('Base original'!$AJ37)","v":5.8744446083976811},{"$f":"('Base original'!AJ49/'Base original'!AJ37*100-100)*'Base original'!AJ37/('Base original'!$AU37)","v":3.753099868803861},{"$f":"('Base original'!AK49/'Base original'!AK37*100-100)*'Base original'!AK37/('Base original'!$AU37)","v":3.0326995241848702},{"$f":"('Base original'!AL49/'Base original'!AL37*100-100)*'Base original'!AL37/('Base original'!$AU37)","v":2.9921099009875065},{"$f":"('Base original'!AM49/'Base original'!AM37*100-100)*'Base original'!AM37/('Base original'!$AU37)","v":1.5243367524635278},{"$f":"('Base original'!AN49/'Base original'!AN37*100-100)*'Base original'!AN37/('Base original'!$AU37)","v":-0.63018663370614614},{"$f":"('Base original'!AO49/'Base original'!AO37*100-100)*'Base original'!AO37/('Base original'!$AU37)","v":0.25348874358094747},{"$f":"('Base original'!AP49/'Base original'!AP37*100-100)*'Base original'!AP37/('Base original'!$AU37)","v":3.5055031672999508},{"$f":"('Base original'!AQ49/'Base original'!AQ37*100-100)*'Base original'!AQ37/('Base original'!$AU37)","v":-1.0964435634023018},{"$f":"('Base original'!AR49/'Base original'!AR37*100-100)*'Base original'!AR37/('Base original'!$AU37)","v":-0.25309594077581166},{"$f":"-('Base original'!AS49/'Base original'!AS37*100-100)*'Base original'!AS37/('Base original'!$AU37)","v":-0.74331384158524749},{"$f":"-('Base original'!AT49/'Base original'!AT37*100-100)*'Base original'!AT37/('Base original'!$AU37)","v":2.1866022819224257E-2},{"$f":"(('Base original'!AQ49-'Base original'!AS49)/('Base original'!AQ37-'Base original'!AS37)*100-100)*(('Base original'!AQ37-'Base original'!AS37)/'Base original'!AU37)","v":-1.8397574049875487},{"$f":"(('Base original'!AR49-'Base original'!AT49)/('Base original'!AR37-'Base original'!AT37)*100-100)*(('Base original'!AR37-'Base original'!AT37)/'Base original'!AU37)","v":-0.23122991795658737},{"$f":"('Base original'!AU49/'Base original'!AU37*100-100)*'Base original'!AU37/('Base original'!$AU37)","v":12.359671197865254}]
["2009-04-01",{"$f":"'Base original'!B50/'Base original'!B38*100-100","v":7.7294743446649505},{"$f":"'Base original'!C50/'Base original'!C38*100-100","v":2.0225450144623522},{"$f":"'Base original'!D50/'Base original'!D38*100-100","v":13.139920898412583},{"$f":"'Base original'!E50/'Base original'!E38*100-100","v":9.9657637161243713},{"$f":"'Base original'!F50/'Base original'!F38*100-100","v":8.3938579433057896},{"$f":"'Base original'!H50","v":28.32},{"$f":"'Base original'!I50","v":40.549999999999997},{"$f":"'Base original'!J50","v":22.84},{"$f":"'Base original'!K50","v":25.95},{"$f":"'Base original'!G50","v":29.9749702923983},{"$f":"'Base original'!M50","v":6.64},{"$f":"'Base original'!N50","v":8.6999999999999993},{"$f":"'Base original'!O50","v":5.93},{"$f":"'Base original'!P50","v":10.99},{"$f":"'Base original'!Q50","v":9.91},{"$f":"'Base original'!L50","v":8.7663514466743102},{"$f":"'Base original'!S50","v":4.45},{"$f":"'Base original'!T50","v":3.35},{"$f":"'Base original'!U50","v":4.96},{"$f":"'Base original'!V50","v":4.6500000000000004},{"$f":"'Base original'!W50","v":4.71},{"$f":"'Base original'!R50","v":3.94729968911175},{"$f":"'Base original'!X50","v":4.42},{"$f":"('Base original'!Z50/'Base original'!Z38*100-100)*'Base original'!Z38/'Base original'!$AC38","v":2.4630493104847844},{"$f":"('Base original'!AA50/'Base original'!AA38*100-100)*'Base original'!AA38/'Base original'!$AC38","v":6.8407036718046195},{"$f":"('Base original'!AB50/'Base original'!AB38*100-100)*'Base original'!AB38/'Base original'!$AC38","v":-1.4978270123647432},{"$f":"('Base original'!AC50/'Base original'!AC38*100-100)*'Base original'!AC38/'Base original'!$AC38","v":7.8049359983368731},{"$f":"('Base original'!AC50/'Base original'!AC38*100-100)*'Base original'!AC38/('Base original'!$AJ38)","v":1.592942883178132},{"$f":"('Base original'!AD50/'Base original'!AD38*100-100)*'Base original'!AD38/('Base original'!$AJ38)","v":0.45682951025694596},{"$f":"('Base original'!AE50/'Base original'!AE38*100-100)*'Base original'!AE38/('Base original'!$AJ38)","v":0.31721465329650694},{"$f":"('Base original'!AF50/'Base original'!AF38*100-100)*'Base original'!AF38/('Base original'!$AJ38)","v":5.6720808675113599},{"$f":"('Base original'!AG50/'Base original'!AG38*100-100)*'Base original'!AG38/('Base original'!$AJ38)","v":0.21356426021299854},{"$f":"-('Base original'!AH50/'Base original'!AH38*100-100)*'Base original'!AH38/('Base original'!$AJ38)","v":-5.5047854962186795},{"$f":"-('Base original'!AI50/'Base original'!AI38*100-100)*'Base original'!AI38/('Base original'!$AJ38)","v":-1.2122852992223191E-2},{"$f":"(('Base original'!AF50-'Base original'!AH50)/('Base original'!AF38-'Base original'!AH38)*100-100)*(('Base original'!AF38-'Base original'!AH38)/'Base original'!AJ38)","v":0.16729537129267857},{"$f":"(('Base original'!AG50-'Base original'!AI50)/('Base original'!AG38-'Base original'!AI38)*100-100)*(('Base original'!AG38-'Base original'!AI38)/'Base original'!AJ38)","v":0.20144140722077533},{"$f":"('Base original'!AJ50/'Base original'!AJ38*100-100)*'Base original'!AJ38/('Base original'!$AJ38)","v":2.7355217776951548},{"$f":"('Base original'!AJ50/'Base original'!AJ38*100-100)*'Base original'!AJ38/('Base original'!$AU38)","v":1.7413303254367427},{"$f":"('Base original'!AK50/'Base original'!AK38*100-100)*'Base original'!AK38/('Base original'!$AU38)","v":2.3444101611685526},{"$f":"('Base original'!AL50/'Base original'!AL38*100-100)*'Base original'!AL38/('Base original'!$AU38)","v":3.1748828630922596},{"$f":"('Base original'!AM50/'Base original'!AM38*100-100)*'Base original'!AM38/('Base original'!$AU38)","v":1.432652226533712},{"$f":"('Base original'!AN50/'Base original'!AN38*100-100)*'Base original'!AN38/('Base original'!$AU38)","v":-0.7747820282466189},{"$f":"('Base original'!AO50/'Base original'!AO38*100-100)*'Base original'!AO38/('Base original'!$AU38)","v":0.26533454918206734},{"$f":"('Base original'!AP50/'Base original'!AP38*100-100)*'Base original'!AP38/('Base original'!$AU38)","v":3.8336533725011526},{"$f":"('Base original'!AQ50/'Base original'!AQ38*100-100)*'Base original'!AQ38/('Base original'!$AU38)","v":-1.1508548454101497},{"$f":"('Base original'!AR50/'Base original'!AR38*100-100)*'Base original'!AR38/('Base original'!$AU38)","v":-0.23009379955730422},{"$f":"-('Base original'!AS50/'Base original'!AS38*100-100)*'Base original'!AS38/('Base original'!$AU38)","v":-0.71446118308598416},{"$f":"-('Base original'!AT50/'Base original'!AT38*100-100)*'Base original'!AT38/('Base original'!$AU38)","v":2.3665320915899343E-2},{"$f":"(('Base original'!AQ50-'Base original'!AS50)/('Base original'!AQ38-'Base original'!AS38)*100-100)*(('Base original'!AQ38-'Base original'!AS38)/'Base original'!AU38)","v":-1.8653160284961336},{"$f":"(('Base original'!AR50-'Base original'!AT50)/('Base original'!AR38-'Base original'!AT38)*100-100)*(('Base original'!AR38-'Base original'!AT38)/'Base original'!AU38)","v":-0.2064284786414049},{"$f":"('Base original'!AU50/'Base original'!AU38*100-100)*'Base original'!AU38/('Base original'!$AU38)","v":9.9456083466558027}]
["2009-05-01",{"$f":"'Base original'!B51/'Base original'!B39*100-100","v":5.8085295833944883},{"$f":"'Base original'!C51/'Base original'!C39*100-100","v":1.336348610294209},{"$f":"'Base original'!D51/'Base original'!D39*100-100","v":12.170297178094259},{"$f":"'Base original'!E51/'Base original'!E39*100-100","v":-2.399493264783672},{"$f":"'Base original'!F51/'Base original'!F39*100-100","v":5.8671669964797815},{"$f":"'Base original'!H51","v":26.246660314748901},{"$f":"'Base original'!I51","v":38.5576622867273},{"$f":"'Base original'!J51","v":22.918997339925401},{"$f":"'Base original'!K51","v":26.7668769351245},{"$f":"'Base original'!G51","v":29.566587019095401},{"$f":"'Base original'!M51","v":6.0941051747233796},{"$f":"'Base original'!N51","v":6.8351419818429502},{"$f":"'Base original'!O51","v":5.2772960918011096},{"$f":"'Base original'!P51","v":9.98514056581174},{"$f":"'Base original'!Q51","v":11.6870110959903},{"$f":"'Base original'!L51","v":8.0713683339428606},{"$f":"'Base original'!S51","v":3.67797130082843},{"$f":"'Base original'!T51","v":3.9236723147402901},{"$f":"'Base original'!U51","v":4.1697048529362704},{"$f":"'Base original'!V51","v":3.1396791153004},{"$f":"'Base original'!W51","v":5.3391932053440803},{"$f":"'Base original'!R51","v":3.7768421556343399},{"$f":"'Base original'!X51","v":4.4556453691489804},{"$f":"('Base original'!Z51/'Base original'!Z39*100-100)*'Base original'!Z39/'Base original'!$AC39","v":2.268516296260743},{"$f":"('Base original'!AA51/'Base original'!AA39*100-100)*'Base original'!AA39/'Base original'!$AC39","v":6.2717803484855708},{"$f":"('Base original'!AB51/'Base original'!AB39*100-100)*'Base original'!AB39/'Base original'!$AC39","v":0.2716843469495453},{"$f":"('Base original'!AC51/'Base original'!AC39*100-100)*'Base original'!AC39/'Base original'!$AC39","v":8.8110209763356124},{"$f":"('Base original'!AC51/'Base original'!AC39*100-100)*'Base original'!AC39/('Base original'!$AJ39)","v":1.8471781124085753},{"$f":"('Base original'!AD51/'Base original'!AD39*100-100)*'Base original'!AD39/('Base original'!$AJ39)","v":0.29907459959024574},{"$f":"('Base original'!AE51/'Base original'!AE39*100-100)*'Base original'!AE39/('Base original'!$AJ39)","v":0.32704994908083829},{"$f":"('Base original'!AF51/'Base original'!AF39*100-100)*'Base original'!AF39/('Base original'!$AJ39)","v":4.6076809441579796},{"$f":"('Base original'!AG51/'Base original'!AG39*100-100)*'Base original'!AG39/('Base original'!$AJ39)","v":0.19904763054827648},{"$f":"-('Base original'!AH51/'Base original'!AH39*100-100)*'Base original'!AH39/('Base original'!$AJ39)","v":-4.6596064129966646},{"$f":"-('Base original'!AI51/'Base original'!AI39*100-100)*'Base original'!AI39/('Base original'!$AJ39)","v":-8.4529832993201371E-3},{"$f":"(('Base original'!AF51-'Base original'!AH51)/('Base original'!AF39-'Base original'!AH39)*100-100)*(('Base original'!AF39-'Base original'!AH39)/'Base original'!AJ39)","v":-5.1925468838683042E-2},{"$f":"(('Base original'!AG51-'Base original'!AI51)/('Base original'!AG39-'Base original'!AI39)*100-100)*(('Base original'!AG39-'Base original'!AI39)/'Base original'!AJ39)","v":0.1905946472489565},{"$f":"('Base original'!AJ51/'Base original'!AJ39*100-100)*'Base original'!AJ39/('Base original'!$AJ39)","v":2.6121731009970688},{"$f":"('Base original'!AJ51/'Base original'!AJ39*100-100)*'Base original'!AJ39/('Base original'!$AU39)","v":1.640566835497131},{"$f":"('Base original'!AK51/'Base original'!AK39*100-100)*'Base original'!AK39/('Base original'!$AU39)","v":1.2185117724163821},{"$f":"('Base original'!AL51/'Base original'!AL39*100-100)*'Base original'!AL39/('Base original'!$AU39)","v":2.7702182577051286},{"$f":"('Base original'!AM51/'Base original'!AM39*100-100)*'Base original'!AM39/('Base original'!$AU39)","v":1.3140714093403225},{"$f":"('Base original'!AN51/'Base original'!AN39*100-100)*'Base original'!AN39/('Base original'!$AU39)","v":-0.65501327849187674},{"$f":"('Base original'!AO51/'Base original'!AO39*100-100)*'Base original'!AO39/('Base original'!$AU39)","v":0.25811214100355329},{"$f":"('Base original'!AP51/'Base original'!AP39*100-100)*'Base original'!AP39/('Base original'!$AU39)","v":3.9831683581312265},{"$f":"('Base original'!AQ51/'Base original'!AQ39*100-100)*'Base original'!AQ39/('Base original'!$AU39)","v":-1.116758455321446},{"$f":"('Base original'!AR51/'Base original'!AR39*100-100)*'Base original'!AR39/('Base original'!$AU39)","v":-0.21627319944029361},{"$f":"-('Base original'!AS51/'Base original'!AS39*100-100)*'Base original'!AS39/('Base original'!$AU39)","v":-0.57474823954121201},{"$f":"-('Base original'!AT51/'Base original'!AT39*100-100)*'Base original'!AT39/('Base original'!$AU39)","v":3.6024466300691782E-2},{"$f":"(('Base original'!AQ51-'Base original'!AS51)/('Base original'!AQ39-'Base original'!AS39)*100-100)*(('Base original'!AQ39-'Base original'!AS39)/'Base original'!AU39)","v":-1.6915066948626583},{"$f":"(('Base original'!AR51-'Base original'!AT51)/('Base original'!AR39-'Base original'!AT39)*100-100)*(('Base original'!AR39-'Base original'!AT39)/'Base original'!AU39)","v":-0.18024873313960177},{"$f":"('Base original'!AU51/'Base original'!AU39*100-100)*'Base original'!AU39/('Base original'!$AU39)","v":8.6581328708718956}]
["2009-06-01",{"$f":"'Base original'!B52/'Base original'!B40*100-100","v":2.8482618713180869},{"$f":"'Base original'!C52/'Base original'!C40*100-100","v":0.16224256091280154},{"$f":"'Base original'!D52/'Base original'!D40*100-100","v":10.738033433344469},{"$f":"'Base original'!E52/'Base original'!E40*100-100","v":-23.012163922237633},{"$f":"'Base original'!F52/'Base original'!F40*100-100","v":1.6025548793120237},{"$f":"'Base original'!H52","v":24.19},{"$f":"'Base original'!I52","v":38.479999999999997},{"$f":"'Base original'!J52","v":21.24},{"$f":"'Base original'!K52","v":25.39},{"$f":"'Base original'!G52","v":28.9061914956599},{"$f":"'Base original'!M52","v":5.84},{"$f":"'Base original'!N52","v":5.42},{"$f":"'Base original'!O52","v":5.03},{"$f":"'Base original'!P52","v":11.53},{"$f":"'Base original'!Q52","v":9.14},{"$f":"'Base original'!L52","v":7.9845183487956701},{"$f":"'Base original'!S52","v":3.6},{"$f":"'Base original'!T52","v":3.27},{"$f":"'Base original'!U52","v":4.12},{"$f":"'Base original'!V52","v":3.57},{"$f":"'Base original'!W52","v":3.12},{"$f":"'Base original'!R52","v":3.49696459618111},{"$f":"'Base original'!X52","v":4.6100000000000003},{"$f":"('Base original'!Z52/'Base original'!Z40*100-100)*'Base original'!Z40/'Base original'!$AC40","v":2.1979069368459214},{"$f":"('Base original'!AA52/'Base original'!AA40*100-100)*'Base original'!AA40/'Base original'!$AC40","v":6.7271583522369838},{"$f":"('Base original'!AB52/'Base original'!AB40*100-100)*'Base original'!AB40/'Base original'!$AC40","v":1.7804380563868951},{"$f":"('Base original'!AC52/'Base original'!AC40*100-100)*'Base original'!AC40/'Base original'!$AC40","v":10.703597094874098},{"$f":"('Base original'!AC52/'Base original'!AC40*100-100)*'Base original'!AC40/('Base original'!$AJ40)","v":2.2392285727958665},{"$f":"('Base original'!AD52/'Base original'!AD40*100-100)*'Base original'!AD40/('Base original'!$AJ40)","v":-0.48832331030962589},{"$f":"('Base original'!AE52/'Base original'!AE40*100-100)*'Base original'!AE40/('Base original'!$AJ40)","v":0.31744006125476493},{"$f":"('Base original'!AF52/'Base original'!AF40*100-100)*'Base original'!AF40/('Base original'!$AJ40)","v":4.0627143518001558},{"$f":"('Base original'!AG52/'Base original'!AG40*100-100)*'Base original'!AG40/('Base original'!$AJ40)","v":0.15513088420616064},{"$f":"-('Base original'!AH52/'Base original'!AH40*100-100)*'Base original'!AH40/('Base original'!$AJ40)","v":-3.6003126545326936},{"$f":"-('Base original'!AI52/'Base original'!AI40*100-100)*'Base original'!AI40/('Base original'!$AJ40)","v":-8.5740720062530973E-3},{"$f":"(('Base original'!AF52-'Base original'!AH52)/('Base original'!AF40-'Base original'!AH40)*100-100)*(('Base original'!AF40-'Base original'!AH40)/'Base original'!AJ40)","v":0.46240169726746427},{"$f":"(('Base original'!AG52-'Base original'!AI52)/('Base original'!AG40-'Base original'!AI40)*100-100)*(('Base original'!AG40-'Base original'!AI40)/'Base original'!AJ40)","v":0.14655681219990754},{"$f":"('Base original'!AJ52/'Base original'!AJ40*100-100)*'Base original'!AJ40/('Base original'!$AJ40)","v":2.6775032302317925},{"$f":"('Base original'!AJ52/'Base original'!AJ40*100-100)*'Base original'!AJ40/('Base original'!$AU40)","v":1.6613815399576695},{"$f":"('Base original'!AK52/'Base original'!AK40*100-100)*'Base original'!AK40/('Base original'!$AU40)","v":4.2066556716239397E-3},{"$f":"('Base original'!AL52/'Base original'!AL40*100-100)*'Base original'!AL40/('Base original'!$AU40)","v":2.5207765486369804},{"$f":"('Base original'!AM52/'Base original'!AM40*100-100)*'Base original'!AM40/('Base original'!$AU40)","v":1.2653372809909889},{"$f":"('Base original'!AN52/'Base original'!AN40*100-100)*'Base original'!AN40/('Base original'!$AU40)","v":-0.8014916306110903},{"$f":"('Base original'!AO52/'Base original'!AO40*100-100)*'Base original'!AO40/('Base original'!$AU40)","v":0.22864410826941906},{"$f":"('Base original'!AP52/'Base original'!AP40*100-100)*'Base original'!AP40/('Base original'!$AU40)","v":3.7446658987457995},{"$f":"('Base original'!AQ52/'Base original'!AQ40*100-100)*'Base original'!AQ40/('Base original'!$AU40)","v":-1.0167734208647636},{"$f":"('Base original'!AR52/'Base original'!AR40*100-100)*'Base original'!AR40/('Base original'!$AU40)","v":-0.18670127671999628},{"$f":"-('Base original'!AS52/'Base original'!AS40*100-100)*'Base original'!AS40/('Base original'!$AU40)","v":-0.45332901120083979},{"$f":"-('Base original'!AT52/'Base original'!AT40*100-100)*'Base original'!AT40/('Base original'!$AU40)","v":5.1964570061231584E-2},{"$f":"(('Base original'!AQ52-'Base original'!AS52)/('Base original'!AQ40-'Base original'!AS40)*100-100)*(('Base original'!AQ40-'Base original'!AS40)/'Base original'!AU40)","v":-1.4701024320656033},{"$f":"(('Base original'!AR52-'Base original'!AT52)/('Base original'!AR40-'Base original'!AT40)*100-100)*(('Base original'!AR40-'Base original'!AT40)/'Base original'!AU40)","v":-0.13473670665876472},{"$f":"('Base original'!AU52/'Base original'!AU40*100-100)*'Base original'!AU40/('Base original'!$AU40)","v":7.0185575377701932}]
["2009-07-01",{"$f":"'Base original'!B53/'Base original'!B41*100-100","v":1.7684456582876606},{"$f":"'Base original'!C53/'Base original'!C41*100-100","v":-0.20002631485553479},{"$f":"'Base original'!D53/'Base original'!D41*100-100","v":9.2314420787089375},{"$f":"'Base original'!E53/'Base original'!E41*100-100","v":-19.890239153391477},{"$f":"'Base original'!F53/'Base original'!F41*100-100","v":1.0823944056955099},{"$f":"'Base original'!H53","v":24.23},{"$f":"'Base original'!I53","v":36.83},{"$f":"'Base original'!J53","v":22.73},{"$f":"'Base original'!K53","v":25.36},{"$f":"'Base original'!G53","v":27.909352390439899},{"$f":"'Base original'!M53","v":5.1100000000000003},{"$f":"'Base original'!N53","v":4.82},{"$f":"'Base original'!O53","v":4.5199999999999996},{"$f":"'Base original'!P53","v":8.6999999999999993},{"$f":"'Base original'!Q53","v":12.15},{"$f":"'Base original'!L53","v":7.2408472343698298},{"$f":"'Base original'!S53","v":2.38},{"$f":"'Base original'!T53","v":2.64},{"$f":"'Base original'!U53","v":3.09},{"$f":"'Base original'!V53","v":3.91},{"$f":"'Base original'!W53","v":2.64},{"$f":"'Base original'!R53","v":2.7133157939572001},{"$f":"'Base original'!X53","v":4.62},{"$f":"('Base original'!Z53/'Base original'!Z41*100-100)*'Base original'!Z41/'Base original'!$AC41","v":2.3376179612674983},{"$f":"('Base original'!AA53/'Base original'!AA41*100-100)*'Base original'!AA41/'Base original'!$AC41","v":9.5102660221299811},{"$f":"('Base original'!AB53/'Base original'!AB41*100-100)*'Base original'!AB41/'Base original'!$AC41","v":4.7536255188285814},{"$f":"('Base original'!AC53/'Base original'!AC41*100-100)*'Base original'!AC41/'Base original'!$AC41","v":16.601509502226079},{"$f":"('Base original'!AC53/'Base original'!AC41*100-100)*'Base original'!AC41/('Base original'!$AJ41)","v":3.3071534536019551},{"$f":"('Base original'!AD53/'Base original'!AD41*100-100)*'Base original'!AD41/('Base original'!$AJ41)","v":-0.52192923624556076},{"$f":"('Base original'!AE53/'Base original'!AE41*100-100)*'Base original'!AE41/('Base original'!$AJ41)","v":0.28368765928651718},{"$f":"('Base original'!AF53/'Base original'!AF41*100-100)*'Base original'!AF41/('Base original'!$AJ41)","v":7.4489532385839237},{"$f":"('Base original'!AG53/'Base original'!AG41*100-100)*'Base original'!AG41/('Base original'!$AJ41)","v":0.11992160050291002},{"$f":"-('Base original'!AH53/'Base original'!AH41*100-100)*'Base original'!AH41/('Base original'!$AJ41)","v":-6.5534451934261337},{"$f":"-('Base original'!AI53/'Base original'!AI41*100-100)*'Base original'!AI41/('Base original'!$AJ41)","v":-1.0010150292396464E-3},{"$f":"(('Base original'!AF53-'Base original'!AH53)/('Base original'!AF41-'Base original'!AH41)*100-100)*(('Base original'!AF41-'Base original'!AH41)/'Base original'!AJ41)","v":0.89550804515779225},{"$f":"(('Base original'!AG53-'Base original'!AI53)/('Base original'!AG41-'Base original'!AI41)*100-100)*(('Base original'!AG41-'Base original'!AI41)/'Base original'!AJ41)","v":0.11892058547367039},{"$f":"('Base original'!AJ53/'Base original'!AJ41*100-100)*'Base original'!AJ41/('Base original'!$AJ41)","v":4.0835407102802037},{"$f":"('Base original'!AJ53/'Base original'!AJ41*100-100)*'Base original'!AJ41/('Base original'!$AU41)","v":2.5037869209447905},{"$f":"('Base original'!AK53/'Base original'!AK41*100-100)*'Base original'!AK41/('Base original'!$AU41)","v":-0.84748467432479935},{"$f":"('Base original'!AL53/'Base original'!AL41*100-100)*'Base original'!AL41/('Base original'!$AU41)","v":1.255882923380218},{"$f":"('Base original'!AM53/'Base original'!AM41*100-100)*'Base original'!AM41/('Base original'!$AU41)","v":1.3411960532550335},{"$f":"('Base original'!AN53/'Base original'!AN41*100-100)*'Base original'!AN41/('Base original'!$AU41)","v":-0.814341444013719},{"$f":"('Base original'!AO53/'Base original'!AO41*100-100)*'Base original'!AO41/('Base original'!$AU41)","v":0.23212536488241511},{"$f":"('Base original'!AP53/'Base original'!AP41*100-100)*'Base original'!AP41/('Base original'!$AU41)","v":3.5336821146853996},{"$f":"('Base original'!AQ53/'Base original'!AQ41*100-100)*'Base original'!AQ41/('Base original'!$AU41)","v":-0.65905927237106643},{"$f":"('Base original'!AR53/'Base original'!AR41*100-100)*'Base original'!AR41/('Base original'!$AU41)","v":-0.1362555023899952},{"$f":"-('Base original'!AS53/'Base original'!AS41*100-100)*'Base original'!AS41/('Base original'!$AU41)","v":-0.49641193843706288},{"$f":"-('Base original'!AT53/'Base original'!AT41*100-100)*'Base original'!AT41/('Base original'!$AU41)","v":6.9846289062979502E-2},{"$f":"(('Base original'!AQ53-'Base original'!AS53)/('Base original'!AQ41-'Base original'!AS41)*100-100)*(('Base original'!AQ41-'Base original'!AS41)/'Base original'!AU41)","v":-1.1554712108081295},{"$f":"(('Base original'!AR53-'Base original'!AT53)/('Base original'!AR41-'Base original'!AT41)*100-100)*(('Base original'!AR41-'Base original'!AT41)/'Base original'!AU41)","v":-6.6409213327015729E-2},{"$f":"('Base original'!AU53/'Base original'!AU41*100-100)*'Base original'!AU41/('Base original'!$AU41)","v":5.9829668346742153}]
["2009-08-01",{"$f":"'Base original'!B54/'Base original'!B42*100-100","v":1.4775135503445966},{"$f":"'Base original'!C54/'Base original'!C42*100-100","v":-0.82355648258108261},{"$f":"'Base original'!D54/'Base original'!D42*100-100","v":7.8153888356481218},{"$f":"'Base original'!E54/'Base original'!E42*100-100","v":-19.640616038706426},{"$f":"'Base original'!F54/'Base original'!F42*100-100","v":0.59274798600704059},{"$f":"'Base original'!H54","v":21.67},{"$f":"'Base original'!I54","v":35.270000000000003},{"$f":"'Base original'!J54","v":19.579999999999998},{"$f":"'Base original'!K54","v":21.54},{"$f":"'Base original'!G54","v":24.5737435113694},{"$f":"'Base original'!M54","v":4.87},{"$f":"'Base original'!N54","v":3.94},{"$f":"'Base original'!O54","v":4.25},{"$f":"'Base original'!P54","v":7.82},{"$f":"'Base original'!Q54","v":7.89},{"$f":"'Base original'!L54","v":5.9873966986875997},{"$f":"'Base original'!S54","v":3.87},{"$f":"'Base original'!T54","v":3.5},{"$f":"'Base original'!U54","v":2.81},{"$f":"'Base original'!V54","v":3.27},{"$f":"'Base original'!W54","v":2.96},{"$f":"'Base original'!R54","v":3.3949739058076802},{"$f":"'Base original'!X54","v":4.5599999999999996},{"$f":"('Base original'!Z54/'Base original'!Z42*100-100)*'Base original'!Z42/'Base original'!$AC42","v":2.7209397080306483},{"$f":"('Base original'!AA54/'Base original'!AA42*100-100)*'Base original'!AA42/'Base original'!$AC42","v":10.310354079918898},{"$f":"('Base original'!AB54/'Base original'!AB42*100-100)*'Base original'!AB42/'Base original'!$AC42","v":3.7176900831784745},{"$f":"('Base original'!AC54/'Base original'!AC42*100-100)*'Base original'!AC42/'Base original'!$AC42","v":16.749977640195965},{"$f":"('Base original'!AC54/'Base original'!AC42*100-100)*'Base original'!AC42/('Base original'!$AJ42)","v":3.3617685834697908},{"$f":"('Base original'!AD54/'Base original'!AD42*100-100)*'Base original'!AD42/('Base original'!$AJ42)","v":-0.76948698872895982},{"$f":"('Base original'!AE54/'Base original'!AE42*100-100)*'Base original'!AE42/('Base original'!$AJ42)","v":0.25769237673348883},{"$f":"('Base original'!AF54/'Base original'!AF42*100-100)*'Base original'!AF42/('Base original'!$AJ42)","v":7.8193281249688376},{"$f":"('Base original'!AG54/'Base original'!AG42*100-100)*'Base original'!AG42/('Base original'!$AJ42)","v":8.8157918356193812E-2},{"$f":"-('Base original'!AH54/'Base original'!AH42*100-100)*'Base original'!AH42/('Base original'!$AJ42)","v":-7.1505645497463926},{"$f":"-('Base original'!AI54/'Base original'!AI42*100-100)*'Base original'!AI42/('Base original'!$AJ42)","v":5.5846645112520967E-3},{"$f":"(('Base original'!AF54-'Base original'!AH54)/('Base original'!AF42-'Base original'!AH42)*100-100)*(('Base original'!AF42-'Base original'!AH42)/'Base original'!AJ42)","v":0.66876357522244123},{"$f":"(('Base original'!AG54-'Base original'!AI54)/('Base original'!AG42-'Base original'!AI42)*100-100)*(('Base original'!AG42-'Base original'!AI42)/'Base original'!AJ42)","v":9.3742582867445828E-2},{"$f":"('Base original'!AJ54/'Base original'!AJ42*100-100)*'Base original'!AJ42/('Base original'!$AJ42)","v":3.6124801295642044},{"$f":"('Base original'!AJ54/'Base original'!AJ42*100-100)*'Base original'!AJ42/('Base original'!$AU42)","v":2.1857606958905884},{"$f":"('Base original'!AK54/'Base original'!AK42*100-100)*'Base original'!AK42/('Base original'!$AU42)","v":-0.82557359323032009},{"$f":"('Base original'!AL54/'Base original'!AL42*100-100)*'Base original'!AL42/('Base original'!$AU42)","v":-0.15579820331243191},{"$f":"('Base original'!AM54/'Base original'!AM42*100-100)*'Base original'!AM42/('Base original'!$AU42)","v":1.3025019429520321},{"$f":"('Base original'!AN54/'Base original'!AN42*100-100)*'Base original'!AN42/('Base original'!$AU42)","v":-0.84283086904261939},{"$f":"('Base original'!AO54/'Base original'!AO42*100-100)*'Base original'!AO42/('Base original'!$AU42)","v":0.21469016552503156},{"$f":"('Base original'!AP54/'Base original'!AP42*100-100)*'Base original'!AP42/('Base original'!$AU42)","v":3.1784764359743019},{"$f":"('Base original'!AQ54/'Base original'!AQ42*100-100)*'Base original'!AQ42/('Base original'!$AU42)","v":-9.4371955840683627E-2},{"$f":"('Base original'!AR54/'Base original'!AR42*100-100)*'Base original'!AR42/('Base original'!$AU42)","v":-8.0735087541453657E-2},{"$f":"-('Base original'!AS54/'Base original'!AS42*100-100)*'Base original'!AS42/('Base original'!$AU42)","v":-0.57335186981980091},{"$f":"-('Base original'!AT54/'Base original'!AT42*100-100)*'Base original'!AT42/('Base original'!$AU42)","v":7.8804203534483155E-2},{"$f":"(('Base original'!AQ54-'Base original'!AS54)/('Base original'!AQ42-'Base original'!AS42)*100-100)*(('Base original'!AQ42-'Base original'!AS42)/'Base original'!AU42)","v":-0.66772382566048427},{"$f":"(('Base original'!AR54-'Base original'!AT54)/('Base original'!AR42-'Base original'!AT42)*100-100)*(('Base original'!AR42-'Base original'!AT42)/'Base original'!AU42)","v":-1.930884006970464E-3},{"$f":"('Base original'!AU54/'Base original'!AU42*100-100)*'Base original'!AU42/('Base original'!$AU42)","v":4.3875718650891287}]
["2009-09-01",{"$f":"'Base original'!B55/'Base original'!B43*100-100","v":0.19040925602686798},{"$f":"'Base original'!C55/'Base original'!C43*100-100","v":-0.88472493277458852},{"$f":"'Base original'!D55/'Base original'!D43*100-100","v":6.790161494633324},{"$f":"'Base original'!E55/'Base original'!E43*100-100","v":-27.820902425585373},{"$f":"'Base original'!F55/'Base original'!F43*100-100","v":-1.312811187995834},{"$f":"'Base original'!H55","v":20.52},{"$f":"'Base original'!I55","v":34.33},{"$f":"'Base original'!J55","v":20.8},{"$f":"'Base original'!K55","v":24.63},{"$f":"'Base original'!G55","v":26.523264242632901},{"$f":"'Base original'!M55","v":4.05},{"$f":"'Base original'!N55","v":3.72},{"$f":"'Base original'!O55","v":4.43},{"$f":"'Base original'!P55","v":7.88},{"$f":"'Base original'!Q55","v":9.41},{"$f":"'Base original'!L55","v":5.7749809206789102},{"$f":"'Base original'!S55","v":2.14},{"$f":"'Base original'!T55","v":2.2599999999999998},{"$f":"'Base original'!U55","v":2.94},{"$f":"'Base original'!V55","v":3.21},{"$f":"'Base original'!W55","v":3.03},{"$f":"'Base original'!R55","v":2.5450470118040398},{"$f":"'Base original'!X55","v":4.49},{"$f":"('Base original'!Z55/'Base original'!Z43*100-100)*'Base original'!Z43/'Base original'!$AC43","v":2.9195648121805493},{"$f":"('Base original'!AA55/'Base original'!AA43*100-100)*'Base original'!AA43/'Base original'!$AC43","v":11.694936870297154},{"$f":"('Base original'!AB55/'Base original'!AB43*100-100)*'Base original'!AB43/'Base original'!$AC43","v":6.0274886445017808},{"$f":"('Base original'!AC55/'Base original'!AC43*100-100)*'Base original'!AC43/'Base original'!$AC43","v":20.641990326979482},{"$f":"('Base original'!AC55/'Base original'!AC43*100-100)*'Base original'!AC43/('Base original'!$AJ43)","v":4.1402828009334858},{"$f":"('Base original'!AD55/'Base original'!AD43*100-100)*'Base original'!AD43/('Base original'!$AJ43)","v":-1.9535539017949597},{"$f":"('Base original'!AE55/'Base original'!AE43*100-100)*'Base original'!AE43/('Base original'!$AJ43)","v":0.22982987079940762},{"$f":"('Base original'!AF55/'Base original'!AF43*100-100)*'Base original'!AF43/('Base original'!$AJ43)","v":6.1949775876521533},{"$f":"('Base original'!AG55/'Base original'!AG43*100-100)*'Base original'!AG43/('Base original'!$AJ43)","v":7.0247657427558313E-2},{"$f":"-('Base original'!AH55/'Base original'!AH43*100-100)*'Base original'!AH43/('Base original'!$AJ43)","v":-5.9035580340100999},{"$f":"-('Base original'!AI55/'Base original'!AI43*100-100)*'Base original'!AI43/('Base original'!$AJ43)","v":2.5580379455413427E-3},{"$f":"(('Base original'!AF55-'Base original'!AH55)/('Base original'!AF43-'Base original'!AH43)*100-100)*(('Base original'!AF43-'Base original'!AH43)/'Base original'!AJ43)","v":0.29141955364205463},{"$f":"(('Base original'!AG55-'Base original'!AI55)/('Base original'!AG43-'Base original'!AI43)*100-100)*(('Base original'!AG43-'Base original'!AI43)/'Base original'!AJ43)","v":7.280569537309961E-2},{"$f":"('Base original'!AJ55/'Base original'!AJ43*100-100)*'Base original'!AJ43/('Base original'!$AJ43)","v":2.7807840189530992},{"$f":"('Base original'!AJ55/'Base original'!AJ43*100-100)*'Base original'!AJ43/('Base original'!$AU43)","v":1.6671975461570259},{"$f":"('Base original'!AK55/'Base original'!AK43*100-100)*'Base original'!AK43/('Base original'!$AU43)","v":-1.0048958886332799},{"$f":"('Base original'!AL55/'Base original'!AL43*100-100)*'Base original'!AL43/('Base original'!$AU43)","v":-0.46233704948976662},{"$f":"('Base original'!AM55/'Base original'!AM43*100-100)*'Base original'!AM43/('Base original'!$AU43)","v":1.2577124992626676},{"$f":"('Base original'!AN55/'Base original'!AN43*100-100)*'Base original'!AN43/('Base original'!$AU43)","v":-0.82699227275408427},{"$f":"('Base original'!AO55/'Base original'!AO43*100-100)*'Base original'!AO43/('Base original'!$AU43)","v":0.17625199079808876},{"$f":"('Base original'!AP55/'Base original'!AP43*100-100)*'Base original'!AP43/('Base original'!$AU43)","v":2.1631569633693144},{"$f":"('Base original'!AQ55/'Base original'!AQ43*100-100)*'Base original'!AQ43/('Base original'!$AU43)","v":0.86026072081637472},{"$f":"('Base original'!AR55/'Base original'!AR43*100-100)*'Base original'!AR43/('Base original'!$AU43)","v":-1.4156786409486044E-3},{"$f":"-('Base original'!AS55/'Base original'!AS43*100-100)*'Base original'!AS43/('Base original'!$AU43)","v":-0.97729015513478512},{"$f":"-('Base original'!AT55/'Base original'!AT43*100-100)*'Base original'!AT43/('Base original'!$AU43)","v":8.3525039815961793E-2},{"$f":"(('Base original'!AQ55-'Base original'!AS55)/('Base original'!AQ43-'Base original'!AS43)*100-100)*(('Base original'!AQ43-'Base original'!AS43)/'Base original'!AU43)","v":-0.11702943431840991},{"$f":"(('Base original'!AR55-'Base original'!AT55)/('Base original'!AR43-'Base original'!AT43)*100-100)*(('Base original'!AR43-'Base original'!AT43)/'Base original'!AU43)","v":8.210936117501319E-2},{"$f":"('Base original'!AU55/'Base original'!AU43*100-100)*'Base original'!AU43/('Base original'!$AU43)","v":2.9351737155665774}]
["2009-10-01",{"$f":"'Base original'!B56/'Base original'!B44*100-100","v":-3.1248495223663326},{"$f":"'Base original'!C56/'Base original'!C44*100-100","v":-0.30103087100995651},{"$f":"'Base original'!D56/'Base original'!D44*100-100","v":6.6654999428540833},{"$f":"'Base original'!E56/'Base original'!E44*100-100","v":-38.268903639298671},{"$f":"'Base original'!F56/'Base original'!F44*100-100","v":-4.686929542154644},{"$f":"'Base original'!H56","v":19.940000000000001},{"$f":"'Base original'!I56","v":34.49},{"$f":"'Base original'!J56","v":21.97},{"$f":"'Base original'!K56","v":24.64},{"$f":"'Base original'!G56","v":26.667814255904599},{"$f":"'Base original'!M56","v":3.81},{"$f":"'Base original'!N56","v":3.61},{"$f":"'Base original'!O56","v":4.26},{"$f":"'Base original'!P56","v":8.15},{"$f":"'Base original'!Q56","v":8.59},{"$f":"'Base original'!L56","v":5.6134654537822497},{"$f":"'Base original'!S56","v":2.61},{"$f":"'Base original'!T56","v":2.38},{"$f":"'Base original'!U56","v":3.24},{"$f":"'Base original'!V56","v":2.94},{"$f":"'Base original'!W56","v":3.46},{"$f":"'Base original'!R56","v":2.6609289121842599},{"$f":"'Base original'!X56","v":4.3499999999999996},{"$f":"('Base original'!Z56/'Base original'!Z44*100-100)*'Base original'!Z44/'Base original'!$AC44","v":2.5469207507320091},{"$f":"('Base original'!AA56/'Base original'!AA44*100-100)*'Base original'!AA44/'Base original'!$AC44","v":9.6606345701531247},{"$f":"('Base original'!AB56/'Base original'!AB44*100-100)*'Base original'!AB44/'Base original'!$AC44","v":6.2986607785724589},{"$f":"('Base original'!AC56/'Base original'!AC44*100-100)*'Base original'!AC44/'Base original'!$AC44","v":18.506216099457589},{"$f":"('Base original'!AC56/'Base original'!AC44*100-100)*'Base original'!AC44/('Base original'!$AJ44)","v":3.6575763267892745},{"$f":"('Base original'!AD56/'Base original'!AD44*100-100)*'Base original'!AD44/('Base original'!$AJ44)","v":-6.9988596755862389},{"$f":"('Base original'!AE56/'Base original'!AE44*100-100)*'Base original'!AE44/('Base original'!$AJ44)","v":0.20226053661655674},{"$f":"('Base original'!AF56/'Base original'!AF44*100-100)*'Base original'!AF44/('Base original'!$AJ44)","v":6.8280956202814567},{"$f":"('Base original'!AG56/'Base original'!AG44*100-100)*'Base original'!AG44/('Base original'!$AJ44)","v":6.0526370713585166E-2},{"$f":"-('Base original'!AH56/'Base original'!AH44*100-100)*'Base original'!AH44/('Base original'!$AJ44)","v":-6.2879119920006525},{"$f":"-('Base original'!AI56/'Base original'!AI44*100-100)*'Base original'!AI44/('Base original'!$AJ44)","v":-1.2712435228245127E-2},{"$f":"(('Base original'!AF56-'Base original'!AH56)/('Base original'!AF44-'Base original'!AH44)*100-100)*(('Base original'!AF44-'Base original'!AH44)/'Base original'!AJ44)","v":0.54018362828080568},{"$f":"(('Base original'!AG56-'Base original'!AI56)/('Base original'!AG44-'Base original'!AI44)*100-100)*(('Base original'!AG44-'Base original'!AI44)/'Base original'!AJ44)","v":4.7813935485340048E-2},{"$f":"('Base original'!AJ56/'Base original'!AJ44*100-100)*'Base original'!AJ44/('Base original'!$AJ44)","v":-2.5512149862534983},{"$f":"('Base original'!AJ56/'Base original'!AJ44*100-100)*'Base original'!AJ44/('Base original'!$AU44)","v":-1.5496299950097472},{"$f":"('Base original'!AK56/'Base original'!AK44*100-100)*'Base original'!AK44/('Base original'!$AU44)","v":-1.4799047126223512},{"$f":"('Base original'!AL56/'Base original'!AL44*100-100)*'Base original'!AL44/('Base original'!$AU44)","v":-0.44197761645562822},{"$f":"('Base original'!AM56/'Base original'!AM44*100-100)*'Base original'!AM44/('Base original'!$AU44)","v":1.2267039764155674},{"$f":"('Base original'!AN56/'Base original'!AN44*100-100)*'Base original'!AN44/('Base original'!$AU44)","v":-0.85733285236334111},{"$f":"('Base original'!AO56/'Base original'!AO44*100-100)*'Base original'!AO44/('Base original'!$AU44)","v":0.14578922681000489},{"$f":"('Base original'!AP56/'Base original'!AP44*100-100)*'Base original'!AP44/('Base original'!$AU44)","v":1.3933531637414687},{"$f":"('Base original'!AQ56/'Base original'!AQ44*100-100)*'Base original'!AQ44/('Base original'!$AU44)","v":2.0929109556282133},{"$f":"('Base original'!AR56/'Base original'!AR44*100-100)*'Base original'!AR44/('Base original'!$AU44)","v":0.11132995501854928},{"$f":"-('Base original'!AS56/'Base original'!AS44*100-100)*'Base original'!AS44/('Base original'!$AU44)","v":-1.5778658531666225},{"$f":"-('Base original'!AT56/'Base original'!AT44*100-100)*'Base original'!AT44/('Base original'!$AU44)","v":8.7127790884082026E-2},{"$f":"(('Base original'!AQ56-'Base original'!AS56)/('Base original'!AQ44-'Base original'!AS44)*100-100)*(('Base original'!AQ44-'Base original'!AS44)/'Base original'!AU44)","v":0.51504510246158997},{"$f":"(('Base original'!AR56-'Base original'!AT56)/('Base original'!AR44-'Base original'!AT44)*100-100)*(('Base original'!AR44-'Base original'!AT44)/'Base original'!AU44)","v":0.19845774590263121},{"$f":"('Base original'!AU56/'Base original'!AU44*100-100)*'Base original'!AU44/('Base original'!$AU44)","v":-0.84938071271916726}]
["2009-11-01",{"$f":"'Base original'!B57/'Base original'!B45*100-100","v":-4.1589298953574172},{"$f":"'Base original'!C57/'Base original'!C45*100-100","v":-0.2367642624623727},{"$f":"'Base original'!D57/'Base original'!D45*100-100","v":6.8865164757758066},{"$f":"'Base original'!E57/'Base original'!E45*100-100","v":-42.583719472286653},{"$f":"'Base original'!F57/'Base original'!F45*100-100","v":-5.6255162561757999},{"$f":"'Base original'!H57","v":19.46},{"$f":"'Base original'!I57","v":34.85},{"$f":"'Base original'!J57","v":22.24},{"$f":"'Base original'!K57","v":25.47},{"$f":"'Base original'!G57","v":27.258339937912599},{"$f":"'Base original'!M57","v":3.09},{"$f":"'Base original'!N57","v":3.58},{"$f":"'Base original'!O57","v":4.21},{"$f":"'Base original'!P57","v":7.4},{"$f":"'Base original'!Q57","v":8.59},{"$f":"'Base original'!L57","v":5.2475719388473099},{"$f":"'Base original'!S57","v":2.56705380671908},{"$f":"'Base original'!T57","v":2.17},{"$f":"'Base original'!U57","v":2.94},{"$f":"'Base original'!V57","v":2.73},{"$f":"'Base original'!W57","v":4.74},{"$f":"'Base original'!R57","v":2.5465993614059901},{"$f":"'Base original'!X57","v":4.28},{"$f":"('Base original'!Z57/'Base original'!Z45*100-100)*'Base original'!Z45/'Base original'!$AC45","v":2.4730618119578329},{"$f":"('Base original'!AA57/'Base original'!AA45*100-100)*'Base original'!AA45/'Base original'!$AC45","v":11.490061072859536},{"$f":"('Base original'!AB57/'Base original'!AB45*100-100)*'Base original'!AB45/'Base original'!$AC45","v":5.8719414945345632},{"$f":"('Base original'!AC57/'Base original'!AC45*100-100)*'Base original'!AC45/'Base original'!$AC45","v":19.835064379351934},{"$f":"('Base original'!AC57/'Base original'!AC45*100-100)*'Base original'!AC45/('Base original'!$AJ45)","v":3.81207280991782},{"$f":"('Base original'!AD57/'Base original'!AD45*100-100)*'Base original'!AD45/('Base original'!$AJ45)","v":-8.7489276442563728},{"$f":"('Base original'!AE57/'Base original'!AE45*100-100)*'Base original'!AE45/('Base original'!$AJ45)","v":0.13438322957103946},{"$f":"('Base original'!AF57/'Base original'!AF45*100-100)*'Base original'!AF45/('Base original'!$AJ45)","v":5.9764091081551385},{"$f":"('Base original'!AG57/'Base original'!AG45*100-100)*'Base original'!AG45/('Base original'!$AJ45)","v":3.2521115362115216E-2},{"$f":"-('Base original'!AH57/'Base original'!AH45*100-100)*'Base original'!AH45/('Base original'!$AJ45)","v":-5.3669185495582559},{"$f":"-('Base original'!AI57/'Base original'!AI45*100-100)*'Base original'!AI45/('Base original'!$AJ45)","v":-1.0279662901818008E-2},{"$f":"(('Base original'!AF57-'Base original'!AH57)/('Base original'!AF45-'Base original'!AH45)*100-100)*(('Base original'!AF45-'Base original'!AH45)/'Base original'!AJ45)","v":0.60949055859688128},{"$f":"(('Base original'!AG57-'Base original'!AI57)/('Base original'!AG45-'Base original'!AI45)*100-100)*(('Base original'!AG45-'Base original'!AI45)/'Base original'!AJ45)","v":2.2241452460297167E-2},{"$f":"('Base original'!AJ57/'Base original'!AJ45*100-100)*'Base original'!AJ45/('Base original'!$AJ45)","v":-4.1707395937103371},{"$f":"('Base original'!AJ57/'Base original'!AJ45*100-100)*'Base original'!AJ45/('Base original'!$AU45)","v":-2.5522545964029364},{"$f":"('Base original'!AK57/'Base original'!AK45*100-100)*'Base original'!AK45/('Base original'!$AU45)","v":-1.7056586509593121},{"$f":"('Base original'!AL57/'Base original'!AL45*100-100)*'Base original'!AL45/('Base original'!$AU45)","v":-6.839561947788371E-2},{"$f":"('Base original'!AM57/'Base original'!AM45*100-100)*'Base original'!AM45/('Base original'!$AU45)","v":1.2616589940811485},{"$f":"('Base original'!AN57/'Base original'!AN45*100-100)*'Base original'!AN45/('Base original'!$AU45)","v":-1.0891830840934429},{"$f":"('Base original'!AO57/'Base original'!AO45*100-100)*'Base original'!AO45/('Base original'!$AU45)","v":5.3412632602293293E-2},{"$f":"('Base original'!AP57/'Base original'!AP45*100-100)*'Base original'!AP45/('Base original'!$AU45)","v":1.413204472021274},{"$f":"('Base original'!AQ57/'Base original'!AQ45*100-100)*'Base original'!AQ45/('Base original'!$AU45)","v":2.6492437022846187},{"$f":"('Base original'!AR57/'Base original'!AR45*100-100)*'Base original'!AR45/('Base original'!$AU45)","v":0.17110342264032261},{"$f":"-('Base original'!AS57/'Base original'!AS45*100-100)*'Base original'!AS45/('Base original'!$AU45)","v":-1.4915506247676784},{"$f":"-('Base original'!AT57/'Base original'!AT45*100-100)*'Base original'!AT45/('Base original'!$AU45)","v":8.1891745060475224E-2},{"$f":"(('Base original'!AQ57-'Base original'!AS57)/('Base original'!AQ45-'Base original'!AS45)*100-100)*(('Base original'!AQ45-'Base original'!AS45)/'Base original'!AU45)","v":1.1576930775169405},{"$f":"(('Base original'!AR57-'Base original'!AT57)/('Base original'!AR45-'Base original'!AT45)*100-100)*(('Base original'!AR45-'Base original'!AT45)/'Base original'!AU45)","v":0.25299516770079783},{"$f":"('Base original'!AU57/'Base original'!AU45*100-100)*'Base original'!AU45/('Base original'!$AU45)","v":-1.2765276070111184}]
["2009-12-01",{"$f":"'Base original'!B58/'Base original'!B46*100-100","v":0.53953450855439655},{"$f":"'Base original'!C58/'Base original'!C46*100-100","v":0.80779557560781257},{"$f":"'Base original'!D58/'Base original'!D46*100-100","v":7.1319000877443841},{"$f":"'Base original'!E58/'Base original'!E46*100-100","v":-40.92991793839871},{"$f":"'Base original'!F58/'Base original'!F46*100-100","v":-2.3390240260607271},{"$f":"'Base original'!H58","v":19.816031664504798},{"$f":"'Base original'!I58","v":34.000434537032199},{"$f":"'Base original'!J58","v":21.0952728256309},{"$f":"'Base original'!K58","v":25.1289374358884},{"$f":"'Base original'!G58","v":26.556523975162101},{"$f":"'Base original'!M58","v":2.59397322470979},{"$f":"'Base original'!N58","v":3.4477342232283399},{"$f":"'Base original'!O58","v":4.5839415196085502},{"$f":"'Base original'!P58","v":7.1128206396779401},{"$f":"'Base original'!Q58","v":6.4534057026165597},{"$f":"'Base original'!L58","v":4.7397666361242097},{"$f":"'Base original'!S58","v":2.5612671042393802},{"$f":"'Base original'!T58","v":1.5461237135515},{"$f":"'Base original'!U58","v":2.6957596560885202},{"$f":"'Base original'!V58","v":2.8096117215723799},{"$f":"'Base original'!W58","v":2.0872220849496101},{"$f":"'Base original'!R58","v":2.2207973644244801},{"$f":"'Base original'!X58","v":4.5414325420879997},{"$f":"('Base original'!Z58/'Base original'!Z46*100-100)*'Base original'!Z46/'Base original'!$AC46","v":2.4954199744628869},{"$f":"('Base original'!AA58/'Base original'!AA46*100-100)*'Base original'!AA46/'Base original'!$AC46","v":15.139066229945049},{"$f":"('Base original'!AB58/'Base original'!AB46*100-100)*'Base original'!AB46/'Base original'!$AC46","v":5.230481689150432},{"$f":"('Base original'!AC58/'Base original'!AC46*100-100)*'Base original'!AC46/'Base original'!$AC46","v":22.865893151242631},{"$f":"('Base original'!AC58/'Base original'!AC46*100-100)*'Base original'!AC46/('Base original'!$AJ46)","v":4.5263562767866974},{"$f":"('Base original'!AD58/'Base original'!AD46*100-100)*'Base original'!AD46/('Base original'!$AJ46)","v":-10.374372687644227},{"$f":"('Base original'!AE58/'Base original'!AE46*100-100)*'Base original'!AE46/('Base original'!$AJ46)","v":0.11813619546503526},{"$f":"('Base original'!AF58/'Base original'!AF46*100-100)*'Base original'!AF46/('Base original'!$AJ46)","v":5.3778526685959225},{"$f":"('Base original'!AG58/'Base original'!AG46*100-100)*'Base original'!AG46/('Base original'!$AJ46)","v":6.7768050111726005E-3},{"$f":"-('Base original'!AH58/'Base original'!AH46*100-100)*'Base original'!AH46/('Base original'!$AJ46)","v":-4.9300340671819498},{"$f":"-('Base original'!AI58/'Base original'!AI46*100-100)*'Base original'!AI46/('Base original'!$AJ46)","v":-3.2968240594893603E-3},{"$f":"(('Base original'!AF58-'Base original'!AH58)/('Base original'!AF46-'Base original'!AH46)*100-100)*(('Base original'!AF46-'Base original'!AH46)/'Base original'!AJ46)","v":0.44781860141397278},{"$f":"(('Base original'!AG58-'Base original'!AI58)/('Base original'!AG46-'Base original'!AI46)*100-100)*(('Base original'!AG46-'Base original'!AI46)/'Base original'!AJ46)","v":3.4799809516832089E-3},{"$f":"('Base original'!AJ58/'Base original'!AJ46*100-100)*'Base original'!AJ46/('Base original'!$AJ46)","v":-5.2785816330268469},{"$f":"('Base original'!AJ58/'Base original'!AJ46*100-100)*'Base original'!AJ46/('Base original'!$AU46)","v":-3.2656742733534778},{"$f":"('Base original'!AK58/'Base original'!AK46*100-100)*'Base original'!AK46/('Base original'!$AU46)","v":-1.4488171845627205},{"$f":"('Base original'!AL58/'Base original'!AL46*100-100)*'Base original'!AL46/('Base original'!$AU46)","v":-0.13166944849537648},{"$f":"('Base original'!AM58/'Base original'!AM46*100-100)*'Base original'!AM46/('Base original'!$AU46)","v":1.2640040429999329},{"$f":"('Base original'!AN58/'Base original'!AN46*100-100)*'Base original'!AN46/('Base original'!$AU46)","v":-0.96497162081465115},{"$f":"('Base original'!AO58/'Base original'!AO46*100-100)*'Base original'!AO46/('Base original'!$AU46)","v":-7.3653305956965578E-3},{"$f":"('Base original'!AP58/'Base original'!AP46*100-100)*'Base original'!AP46/('Base original'!$AU46)","v":1.3630394113174549},{"$f":"('Base original'!AQ58/'Base original'!AQ46*100-100)*'Base original'!AQ46/('Base original'!$AU46)","v":2.7842082779517119},{"$f":"('Base original'!AR58/'Base original'!AR46*100-100)*'Base original'!AR46/('Base original'!$AU46)","v":0.18617289490353126},{"$f":"-('Base original'!AS58/'Base original'!AS46*100-100)*'Base original'!AS46/('Base original'!$AU46)","v":-1.2671768007950026},{"$f":"-('Base original'!AT58/'Base original'!AT46*100-100)*'Base original'!AT46/('Base original'!$AU46)","v":7.7392627644012071E-2},{"$f":"(('Base original'!AQ58-'Base original'!AS58)/('Base original'!AQ46-'Base original'!AS46)*100-100)*(('Base original'!AQ46-'Base original'!AS46)/'Base original'!AU46)","v":1.5170314771567095},{"$f":"(('Base original'!AR58-'Base original'!AT58)/('Base original'!AR46-'Base original'!AT46)*100-100)*(('Base original'!AR46-'Base original'!AT46)/'Base original'!AU46)","v":0.26356552254754334},{"$f":"('Base original'!AU58/'Base original'!AU46*100-100)*'Base original'!AU46/('Base original'!$AU46)","v":-1.4109707165786745}]
["2010-01-01",{"$f":"'Base original'!B59/'Base original'!B47*100-100","v":1.7022024242270106},{"$f":"'Base original'!C59/'Base original'!C47*100-100","v":1.4064852978419111},{"$f":"'Base original'!D59/'Base original'!D47*100-100","v":7.4818988417938499},{"$f":"'Base original'!E59/'Base original'!E47*100-100","v":-29.953398635007261},{"$f":"'Base original'!F59/'Base original'!F47*100-100","v":-0.27167636702625941},{"$f":"'Base original'!H59","v":22.311540998683},{"$f":"'Base original'!I59","v":36.916725812834301},{"$f":"'Base original'!J59","v":25.946474500005198},{"$f":"'Base original'!K59","v":27.499965713182799},{"$f":"'Base original'!G59","v":30.353914964528101},{"$f":"'Base original'!M59","v":3.4014147675275499},{"$f":"'Base original'!N59","v":3.86754704397134},{"$f":"'Base original'!O59","v":4.9726946239129202},{"$f":"'Base original'!P59","v":10.6048716142729},{"$f":"'Base original'!Q59","v":13.358822945418799},{"$f":"'Base original'!L59","v":7.0406248867057499},{"$f":"'Base original'!S59","v":1.8042224647867999},{"$f":"'Base original'!T59","v":1.23755270976146},{"$f":"'Base original'!U59","v":2.65300387389407},{"$f":"'Base original'!V59","v":2.5426283649699299},{"$f":"'Base original'!W59","v":6.51719513381643},{"$f":"'Base original'!R59","v":1.83706570409307},{"$f":"'Base original'!X59","v":4.5838309984722203},{"$f":"('Base original'!Z59/'Base original'!Z47*100-100)*'Base original'!Z47/'Base original'!$AC47","v":2.7797410906926596},{"$f":"('Base original'!AA59/'Base original'!AA47*100-100)*'Base original'!AA47/'Base original'!$AC47","v":17.136931775909527},{"$f":"('Base original'!AB59/'Base original'!AB47*100-100)*'Base original'!AB47/'Base original'!$AC47","v":8.2415742876274098},{"$f":"('Base original'!AC59/'Base original'!AC47*100-100)*'Base original'!AC47/'Base original'!$AC47","v":28.159177144557702},{"$f":"('Base original'!AC59/'Base original'!AC47*100-100)*'Base original'!AC47/('Base original'!$AJ47)","v":5.5350917762418277},{"$f":"('Base original'!AD59/'Base original'!AD47*100-100)*'Base original'!AD47/('Base original'!$AJ47)","v":-9.4931421457780729},{"$f":"('Base original'!AE59/'Base original'!AE47*100-100)*'Base original'!AE47/('Base original'!$AJ47)","v":0.18609344523313784},{"$f":"('Base original'!AF59/'Base original'!AF47*100-100)*'Base original'!AF47/('Base original'!$AJ47)","v":3.7885919965194312},{"$f":"('Base original'!AG59/'Base original'!AG47*100-100)*'Base original'!AG47/('Base original'!$AJ47)","v":5.4840897416445177E-3},{"$f":"-('Base original'!AH59/'Base original'!AH47*100-100)*'Base original'!AH47/('Base original'!$AJ47)","v":-3.3189711116432732},{"$f":"-('Base original'!AI59/'Base original'!AI47*100-100)*'Base original'!AI47/('Base original'!$AJ47)","v":-1.8280299138815657E-4},{"$f":"(('Base original'!AF59-'Base original'!AH59)/('Base original'!AF47-'Base original'!AH47)*100-100)*(('Base original'!AF47-'Base original'!AH47)/'Base original'!AJ47)","v":0.46962088487615961},{"$f":"(('Base original'!AG59-'Base original'!AI59)/('Base original'!AG47-'Base original'!AI47)*100-100)*(('Base original'!AG47-'Base original'!AI47)/'Base original'!AJ47)","v":5.3012867502563914E-3},{"$f":"('Base original'!AJ59/'Base original'!AJ47*100-100)*'Base original'!AJ47/('Base original'!$AJ47)","v":-3.2968519496853048},{"$f":"('Base original'!AJ59/'Base original'!AJ47*100-100)*'Base original'!AJ47/('Base original'!$AU47)","v":-2.0474471903938567},{"$f":"('Base original'!AK59/'Base original'!AK47*100-100)*'Base original'!AK47/('Base original'!$AU47)","v":-1.1751109435967184},{"$f":"('Base original'!AL59/'Base original'!AL47*100-100)*'Base original'!AL47/('Base original'!$AU47)","v":-0.25929411604433417},{"$f":"('Base original'!AM59/'Base original'!AM47*100-100)*'Base original'!AM47/('Base original'!$AU47)","v":1.3375671082462117},{"$f":"('Base original'!AN59/'Base original'!AN47*100-100)*'Base original'!AN47/('Base original'!$AU47)","v":-0.96701719810229447},{"$f":"('Base original'!AO59/'Base original'!AO47*100-100)*'Base original'!AO47/('Base original'!$AU47)","v":-6.016894987018166E-3},{"$f":"('Base original'!AP59/'Base original'!AP47*100-100)*'Base original'!AP47/('Base original'!$AU47)","v":1.0441015697284302},{"$f":"('Base original'!AQ59/'Base original'!AQ47*100-100)*'Base original'!AQ47/('Base original'!$AU47)","v":2.8341845915266224},{"$f":"('Base original'!AR59/'Base original'!AR47*100-100)*'Base original'!AR47/('Base original'!$AU47)","v":0.20695848228932631},{"$f":"-('Base original'!AS59/'Base original'!AS47*100-100)*'Base original'!AS47/('Base original'!$AU47)","v":-1.1694346275712284},{"$f":"-('Base original'!AT59/'Base original'!AT47*100-100)*'Base original'!AT47/('Base original'!$AU47)","v":2.3386422025014373E-2},{"$f":"(('Base original'!AQ59-'Base original'!AS59)/('Base original'!AQ47-'Base original'!AS47)*100-100)*(('Base original'!AQ47-'Base original'!AS47)/'Base original'!AU47)","v":1.6647499639553938},{"$f":"(('Base original'!AR59-'Base original'!AT59)/('Base original'!AR47-'Base original'!AT47)*100-100)*(('Base original'!AR47-'Base original'!AT47)/'Base original'!AU47)","v":0.23034490431434079},{"$f":"('Base original'!AU59/'Base original'!AU47*100-100)*'Base original'!AU47/('Base original'!$AU47)","v":-0.17823632320035188}]
["2010-02-01",{"$f":"'Base original'!B60/'Base original'!B48*100-100","v":3.5174415884268342},{"$f":"'Base original'!C60/'Base original'!C48*100-100","v":2.3118128147396675},{"$f":"'Base original'!D60/'Base original'!D48*100-100","v":8.937570740927697},{"$f":"'Base original'!E60/'Base original'!E48*100-100","v":-27.590566856748978},{"$f":"'Base original'!F60/'Base original'!F48*100-100","v":1.5578769430916424},{"$f":"'Base original'!H60","v":21.222349361218601},{"$f":"'Base original'!I60","v":35.9642488806955},{"$f":"'Base original'!J60","v":26.2886865810442},{"$f":"'Base original'!K60","v":28.008286243892599},{"$f":"'Base original'!G60","v":29.5461259997262},{"$f":"'Base original'!M60","v":3.2594007356548},{"$f":"'Base original'!N60","v":3.9010887857974401},{"$f":"'Base original'!O60","v":4.5057290518972604},{"$f":"'Base original'!P60","v":9.2297451851229209},{"$f":"'Base original'!Q60","v":9.5544823860210801},{"$f":"'Base original'!L60","v":5.6279494904808596},{"$f":"'Base original'!S60","v":1.53364406516065},{"$f":"'Base original'!T60","v":1.82807238489033},{"$f":"'Base original'!U60","v":2.6068751504826801},{"$f":"'Base original'!V60","v":2.4345982065629501},{"$f":"'Base original'!W60","v":0},{"$f":"'Base original'!R60","v":1.9782439184533001},{"$f":"'Base original'!X60","v":4.6029839655247002},{"$f":"('Base original'!Z60/'Base original'!Z48*100-100)*'Base original'!Z48/'Base original'!$AC48","v":3.377249601336473},{"$f":"('Base original'!AA60/'Base original'!AA48*100-100)*'Base original'!AA48/'Base original'!$AC48","v":16.217062798997652},{"$f":"('Base original'!AB60/'Base original'!AB48*100-100)*'Base original'!AB48/'Base original'!$AC48","v":12.117472852912142},{"$f":"('Base original'!AC60/'Base original'!AC48*100-100)*'Base original'!AC48/'Base original'!$AC48","v":31.710836054370105},{"$f":"('Base original'!AC60/'Base original'!AC48*100-100)*'Base original'!AC48/('Base original'!$AJ48)","v":6.1536874601671769},{"$f":"('Base original'!AD60/'Base original'!AD48*100-100)*'Base original'!AD48/('Base original'!$AJ48)","v":-9.1732456059562164},{"$f":"('Base original'!AE60/'Base original'!AE48*100-100)*'Base original'!AE48/('Base original'!$AJ48)","v":0.1711199608026617},{"$f":"('Base original'!AF60/'Base original'!AF48*100-100)*'Base original'!AF48/('Base original'!$AJ48)","v":1.2127597652580451},{"$f":"('Base original'!AG60/'Base original'!AG48*100-100)*'Base original'!AG48/('Base original'!$AJ48)","v":4.4207524857523247E-3},{"$f":"-('Base original'!AH60/'Base original'!AH48*100-100)*'Base original'!AH48/('Base original'!$AJ48)","v":-0.9359101408378081},{"$f":"-('Base original'!AI60/'Base original'!AI48*100-100)*'Base original'!AI48/('Base original'!$AJ48)","v":9.209901011983957E-4},{"$f":"(('Base original'!AF60-'Base original'!AH60)/('Base original'!AF48-'Base original'!AH48)*100-100)*(('Base original'!AF48-'Base original'!AH48)/'Base original'!AJ48)","v":0.27684962442023875},{"$f":"(('Base original'!AG60-'Base original'!AI60)/('Base original'!AG48-'Base original'!AI48)*100-100)*(('Base original'!AG48-'Base original'!AI48)/'Base original'!AJ48)","v":5.3417425869507502E-3},{"$f":"('Base original'!AJ60/'Base original'!AJ48*100-100)*'Base original'!AJ48/('Base original'!$AJ48)","v":-2.5662468179792057},{"$f":"('Base original'!AJ60/'Base original'!AJ48*100-100)*'Base original'!AJ48/('Base original'!$AU48)","v":-1.583127847914279},{"$f":"('Base original'!AK60/'Base original'!AK48*100-100)*'Base original'!AK48/('Base original'!$AU48)","v":-1.1060986557276451},{"$f":"('Base original'!AL60/'Base original'!AL48*100-100)*'Base original'!AL48/('Base original'!$AU48)","v":-0.11442791723009464},{"$f":"('Base original'!AM60/'Base original'!AM48*100-100)*'Base original'!AM48/('Base original'!$AU48)","v":1.357340090678727},{"$f":"('Base original'!AN60/'Base original'!AN48*100-100)*'Base original'!AN48/('Base original'!$AU48)","v":-1.0701907889503768},{"$f":"('Base original'!AO60/'Base original'!AO48*100-100)*'Base original'!AO48/('Base original'!$AU48)","v":-5.8179834778359786E-2},{"$f":"('Base original'!AP60/'Base original'!AP48*100-100)*'Base original'!AP48/('Base original'!$AU48)","v":0.79258661636534899},{"$f":"('Base original'!AQ60/'Base original'!AQ48*100-100)*'Base original'!AQ48/('Base original'!$AU48)","v":2.6111609831483009},{"$f":"('Base original'!AR60/'Base original'!AR48*100-100)*'Base original'!AR48/('Base original'!$AU48)","v":0.21896980784745967},{"$f":"-('Base original'!AS60/'Base original'!AS48*100-100)*'Base original'!AS48/('Base original'!$AU48)","v":-0.7742917855073117},{"$f":"-('Base original'!AT60/'Base original'!AT48*100-100)*'Base original'!AT48/('Base original'!$AU48)","v":2.2385600490892329E-2},{"$f":"(('Base original'!AQ60-'Base original'!AS60)/('Base original'!AQ48-'Base original'!AS48)*100-100)*(('Base original'!AQ48-'Base original'!AS48)/'Base original'!AU48)","v":1.8368691976409892},{"$f":"(('Base original'!AR60-'Base original'!AT60)/('Base original'!AR48-'Base original'!AT48)*100-100)*(('Base original'!AR48-'Base original'!AT48)/'Base original'!AU48)","v":0.24135540833835198},{"$f":"('Base original'!AU60/'Base original'!AU48*100-100)*'Base original'!AU48/('Base original'!$AU48)","v":0.29623990091248231}]
["2010-03-01",{"$f":"'Base original'!B61/'Base original'!B49*100-100","v":4.8614049734068772},{"$f":"'Base original'!C61/'Base original'!C49*100-100","v":2.9526078120792647},{"$f":"'Base original'!D61/'Base original'!D49*100-100","v":9.4825979533006404},{"$f":"'Base original'!E61/'Base original'!E49*100-100","v":-23.646317707537079},{"$f":"'Base original'!F61/'Base original'!F49*100-100","v":3.0046348715761013},{"$f":"'Base original'!H61","v":20.898732654136499},{"$f":"'Base original'!I61","v":34.857622328029599},{"$f":"'Base original'!J61","v":26.725392637322699},{"$f":"'Base original'!K61","v":25.3719735959194},{"$f":"'Base original'!G61","v":27.982459031962598},{"$f":"'Base original'!M61","v":3.6639223799178602},{"$f":"'Base original'!N61","v":3.7611780094025198},{"$f":"'Base original'!O61","v":3.8382090594390599},{"$f":"'Base original'!P61","v":8.2888999415268891},{"$f":"'Base original'!Q61","v":7.4516739477309804},{"$f":"'Base original'!L61","v":5.4203586919209599},{"$f":"'Base original'!S61","v":1.71234895036056},{"$f":"'Base original'!T61","v":2.17772993326854},{"$f":"'Base original'!U61","v":2.8755383224372202},{"$f":"'Base original'!V61","v":2.43573166472199},{"$f":"'Base original'!W61","v":1.8300593988215501},{"$f":"'Base original'!R61","v":2.2012315029075702},{"$f":"'Base original'!X61","v":4.2755855149842201},{"$f":"('Base original'!Z61/'Base original'!Z49*100-100)*'Base original'!Z49/'Base original'!$AC49","v":3.8515386422363203},{"$f":"('Base original'!AA61/'Base original'!AA49*100-100)*'Base original'!AA49/'Base original'!$AC49","v":16.228329809725153},{"$f":"('Base original'!AB61/'Base original'!AB49*100-100)*'Base original'!AB49/'Base original'!$AC49","v":13.391590321822877},{"$f":"('Base original'!AC61/'Base original'!AC49*100-100)*'Base original'!AC49/'Base original'!$AC49","v":33.471458773784377},{"$f":"('Base original'!AC61/'Base original'!AC49*100-100)*'Base original'!AC49/('Base original'!$AJ49)","v":6.895363602576813},{"$f":"('Base original'!AD61/'Base original'!AD49*100-100)*'Base original'!AD49/('Base original'!$AJ49)","v":-4.5789070242814711},{"$f":"('Base original'!AE61/'Base original'!AE49*100-100)*'Base original'!AE49/('Base original'!$AJ49)","v":0.23460728444004059},{"$f":"('Base original'!AF61/'Base original'!AF49*100-100)*'Base original'!AF49/('Base original'!$AJ49)","v":1.9618356665014869},{"$f":"('Base original'!AG61/'Base original'!AG49*100-100)*'Base original'!AG49/('Base original'!$AJ49)","v":9.6785183349849693E-4},{"$f":"-('Base original'!AH61/'Base original'!AH49*100-100)*'Base original'!AH49/('Base original'!$AJ49)","v":-1.2456253097125891},{"$f":"-('Base original'!AI61/'Base original'!AI49*100-100)*'Base original'!AI49/('Base original'!$AJ49)","v":6.5813924677898877E-3},{"$f":"(('Base original'!AF61-'Base original'!AH61)/('Base original'!AF49-'Base original'!AH49)*100-100)*(('Base original'!AF49-'Base original'!AH49)/'Base original'!AJ49)","v":0.71621035678889966},{"$f":"(('Base original'!AG61-'Base original'!AI61)/('Base original'!AG49-'Base original'!AI49)*100-100)*(('Base original'!AG49-'Base original'!AI49)/'Base original'!AJ49)","v":7.5492443012884144E-3},{"$f":"('Base original'!AJ61/'Base original'!AJ49*100-100)*'Base original'!AJ49/('Base original'!$AJ49)","v":3.2748234638255695},{"$f":"('Base original'!AJ61/'Base original'!AJ49*100-100)*'Base original'!AJ49/('Base original'!$AU49)","v":1.9714777809629687},{"$f":"('Base original'!AK61/'Base original'!AK49*100-100)*'Base original'!AK49/('Base original'!$AU49)","v":-1.0588040618175634},{"$f":"('Base original'!AL61/'Base original'!AL49*100-100)*'Base original'!AL49/('Base original'!$AU49)","v":-0.46892224793681253},{"$f":"('Base original'!AM61/'Base original'!AM49*100-100)*'Base original'!AM49/('Base original'!$AU49)","v":1.6401790854151663},{"$f":"('Base original'!AN61/'Base original'!AN49*100-100)*'Base original'!AN49/('Base original'!$AU49)","v":-0.76899053532182482},{"$f":"('Base original'!AO61/'Base original'!AO49*100-100)*'Base original'!AO49/('Base original'!$AU49)","v":-0.10953949131724727},{"$f":"('Base original'!AP61/'Base original'!AP49*100-100)*'Base original'!AP49/('Base original'!$AU49)","v":0.70116927580412636},{"$f":"('Base original'!AQ61/'Base original'!AQ49*100-100)*'Base original'!AQ49/('Base original'!$AU49)","v":2.8314793191771024},{"$f":"('Base original'!AR61/'Base original'!AR49*100-100)*'Base original'!AR49/('Base original'!$AU49)","v":0.24692998095877347},{"$f":"-('Base original'!AS61/'Base original'!AS49*100-100)*'Base original'!AS49/('Base original'!$AU49)","v":-0.76164905877609468},{"$f":"-('Base original'!AT61/'Base original'!AT49*100-100)*'Base original'!AT49/('Base original'!$AU49)","v":2.2257492384674723E-2},{"$f":"(('Base original'!AQ61-'Base original'!AS61)/('Base original'!AQ49-'Base original'!AS49)*100-100)*(('Base original'!AQ49-'Base original'!AS49)/'Base original'!AU49)","v":2.0698302604010075},{"$f":"(('Base original'!AR61-'Base original'!AT61)/('Base original'!AR49-'Base original'!AT49)*100-100)*(('Base original'!AR49-'Base original'!AT49)/'Base original'!AU49)","v":0.26918747334344828},{"$f":"('Base original'!AU61/'Base original'!AU49*100-100)*'Base original'!AU49/('Base original'!$AU49)","v":4.2459371336544933}]
["2010-04-01",{"$f":"'Base original'!B62/'Base original'!B50*100-100","v":4.553444536309101},{"$f":"'Base original'!C62/'Base original'!C50*100-100","v":3.9336442785218111},{"$f":"'Base original'!D62/'Base original'!D50*100-100","v":9.8934363733884823},{"$f":"'Base original'!E62/'Base original'!E50*100-100","v":-16.448253981031385},{"$f":"'Base original'!F62/'Base original'!F50*100-100","v":3.8160146536283293},{"$f":"'Base original'!H62","v":21.356400247854801},{"$f":"'Base original'!I62","v":34.7726496747513},{"$f":"'Base original'!J62","v":23.1168847646417},{"$f":"'Base original'!K62","v":25.143844943902899},{"$f":"'Base original'!G62","v":27.308355461376799},{"$f":"'Base original'!M62","v":3.7875585942182299},{"$f":"'Base original'!N62","v":3.5390376749091299},{"$f":"'Base original'!O62","v":4.0130261800013098},{"$f":"'Base original'!P62","v":7.8438024380514602},{"$f":"'Base original'!Q62","v":8.6999999999999993},{"$f":"'Base original'!L62","v":5.4443365264185601},{"$f":"'Base original'!S62","v":1.8750564353536201},{"$f":"'Base original'!T62","v":2.2000890434302902},{"$f":"'Base original'!U62","v":1.41002267248617},{"$f":"'Base original'!V62","v":2.1146815588240799},{"$f":"'Base original'!W62","v":3.4469696398860901},{"$f":"'Base original'!R62","v":1.82082148908182},{"$f":"'Base original'!X62","v":4.1275277843385396},{"$f":"('Base original'!Z62/'Base original'!Z50*100-100)*'Base original'!Z50/'Base original'!$AC50","v":4.1874431802529006},{"$f":"('Base original'!AA62/'Base original'!AA50*100-100)*'Base original'!AA50/'Base original'!$AC50","v":15.274984618492702},{"$f":"('Base original'!AB62/'Base original'!AB50*100-100)*'Base original'!AB50/'Base original'!$AC50","v":12.163787799480241},{"$f":"('Base original'!AC62/'Base original'!AC50*100-100)*'Base original'!AC50/'Base original'!$AC50","v":31.627133897168878},{"$f":"('Base original'!AC62/'Base original'!AC50*100-100)*'Base original'!AC50/('Base original'!$AJ50)","v":6.7734309853836585},{"$f":"('Base original'!AD62/'Base original'!AD50*100-100)*'Base original'!AD50/('Base original'!$AJ50)","v":-2.6902169637659505},{"$f":"('Base original'!AE62/'Base original'!AE50*100-100)*'Base original'!AE50/('Base original'!$AJ50)","v":0.34888843436806749},{"$f":"('Base original'!AF62/'Base original'!AF50*100-100)*'Base original'!AF50/('Base original'!$AJ50)","v":2.6459667395648143},{"$f":"('Base original'!AG62/'Base original'!AG50*100-100)*'Base original'!AG50/('Base original'!$AJ50)","v":2.2813448921474435E-2},{"$f":"-('Base original'!AH62/'Base original'!AH50*100-100)*'Base original'!AH50/('Base original'!$AJ50)","v":-0.95954152834374395},{"$f":"-('Base original'!AI62/'Base original'!AI50*100-100)*'Base original'!AI50/('Base original'!$AJ50)","v":2.1633442942777625E-3},{"$f":"(('Base original'!AF62-'Base original'!AH62)/('Base original'!AF50-'Base original'!AH50)*100-100)*(('Base original'!AF50-'Base original'!AH50)/'Base original'!AJ50)","v":1.6864252112210705},{"$f":"(('Base original'!AG62-'Base original'!AI62)/('Base original'!AG50-'Base original'!AI50)*100-100)*(('Base original'!AG50-'Base original'!AI50)/'Base original'!AJ50)","v":2.4976793215752319E-2},{"$f":"('Base original'!AJ62/'Base original'!AJ50*100-100)*'Base original'!AJ50/('Base original'!$AJ50)","v":6.1435044604226059},{"$f":"('Base original'!AJ62/'Base original'!AJ50*100-100)*'Base original'!AJ50/('Base original'!$AU50)","v":3.6542639123014129},{"$f":"('Base original'!AK62/'Base original'!AK50*100-100)*'Base original'!AK50/('Base original'!$AU50)","v":-0.62912578655346041},{"$f":"('Base original'!AL62/'Base original'!AL50*100-100)*'Base original'!AL50/('Base original'!$AU50)","v":-0.26706845866521933},{"$f":"('Base original'!AM62/'Base original'!AM50*100-100)*'Base original'!AM50/('Base original'!$AU50)","v":1.8685433597282286},{"$f":"('Base original'!AN62/'Base original'!AN50*100-100)*'Base original'!AN50/('Base original'!$AU50)","v":-0.87256400927896194},{"$f":"('Base original'!AO62/'Base original'!AO50*100-100)*'Base original'!AO50/('Base original'!$AU50)","v":-0.13172101815901752},{"$f":"('Base original'!AP62/'Base original'!AP50*100-100)*'Base original'!AP50/('Base original'!$AU50)","v":0.15406445907231472},{"$f":"('Base original'!AQ62/'Base original'!AQ50*100-100)*'Base original'!AQ50/('Base original'!$AU50)","v":3.2286857026544249},{"$f":"('Base original'!AR62/'Base original'!AR50*100-100)*'Base original'!AR50/('Base original'!$AU50)","v":0.26016655806896527},{"$f":"-('Base original'!AS62/'Base original'!AS50*100-100)*'Base original'!AS50/('Base original'!$AU50)","v":-1.2988441071221761},{"$f":"-('Base original'!AT62/'Base original'!AT50*100-100)*'Base original'!AT50/('Base original'!$AU50)","v":1.0879267041552967E-2},{"$f":"(('Base original'!AQ62-'Base original'!AS62)/('Base original'!AQ50-'Base original'!AS50)*100-100)*(('Base original'!AQ50-'Base original'!AS50)/'Base original'!AU50)","v":1.9298415955322474},{"$f":"(('Base original'!AR62-'Base original'!AT62)/('Base original'!AR50-'Base original'!AT50)*100-100)*(('Base original'!AR50-'Base original'!AT50)/'Base original'!AU50)","v":0.27104582511051822},{"$f":"('Base original'!AU62/'Base original'!AU50*100-100)*'Base original'!AU50/('Base original'!$AU50)","v":5.9772798790880728}]
["2010-05-01",{"$f":"'Base original'!B63/'Base original'!B51*100-100","v":5.6505067440419054},{"$f":"'Base original'!C63/'Base original'!C51*100-100","v":4.8357446863036557},{"$f":"'Base original'!D63/'Base original'!D51*100-100","v":10.698265960912764},{"$f":"'Base original'!E63/'Base original'!E51*100-100","v":-8.8741830502587646},{"$f":"'Base original'!F63/'Base original'!F51*100-100","v":5.4507006336250896},{"$f":"'Base original'!H63","v":20.8755195691324},{"$f":"'Base original'!I63","v":34.666437160364097},{"$f":"'Base original'!J63","v":23.0602683860015},{"$f":"'Base original'!K63","v":25.487037577212998},{"$f":"'Base original'!G63","v":27.3045490031868},{"$f":"'Base original'!M63","v":2.61093736363545},{"$f":"'Base original'!N63","v":3.6392556424576799},{"$f":"'Base original'!O63","v":4.3982137452557399},{"$f":"'Base original'!P63","v":8.8014575452271906},{"$f":"'Base original'!Q63","v":7.1339363119659698},{"$f":"'Base original'!L63","v":5.1043360239322801},{"$f":"'Base original'!S63","v":2.6939593237574901},{"$f":"'Base original'!T63","v":2.0671218126207598},{"$f":"'Base original'!U63","v":2.35503395053719},{"$f":"'Base original'!V63","v":2.5852900200397699},{"$f":"'Base original'!W63","v":2.5986258039345098},{"$f":"'Base original'!R63","v":2.3431927319747898},{"$f":"'Base original'!X63","v":4.18098759676288},{"$f":"('Base original'!Z63/'Base original'!Z51*100-100)*'Base original'!Z51/'Base original'!$AC51","v":4.310808783956662},{"$f":"('Base original'!AA63/'Base original'!AA51*100-100)*'Base original'!AA51/'Base original'!$AC51","v":15.732775733834464},{"$f":"('Base original'!AB63/'Base original'!AB51*100-100)*'Base original'!AB51/'Base original'!$AC51","v":12.533636836858037},{"$f":"('Base original'!AC63/'Base original'!AC51*100-100)*'Base original'!AC51/'Base original'!$AC51","v":32.576339076961091},{"$f":"('Base original'!AC63/'Base original'!AC51*100-100)*'Base original'!AC51/('Base original'!$AJ51)","v":7.2420049230648544},{"$f":"('Base original'!AD63/'Base original'!AD51*100-100)*'Base original'!AD51/('Base original'!$AJ51)","v":-1.3535486275240642},{"$f":"('Base original'!AE63/'Base original'!AE51*100-100)*'Base original'!AE51/('Base original'!$AJ51)","v":0.29106885425962831},{"$f":"('Base original'!AF63/'Base original'!AF51*100-100)*'Base original'!AF51/('Base original'!$AJ51)","v":1.6189233982877189},{"$f":"('Base original'!AG63/'Base original'!AG51*100-100)*'Base original'!AG51/('Base original'!$AJ51)","v":4.707313006894244E-2},{"$f":"-('Base original'!AH63/'Base original'!AH51*100-100)*'Base original'!AH51/('Base original'!$AJ51)","v":-0.28204650432974643},{"$f":"-('Base original'!AI63/'Base original'!AI51*100-100)*'Base original'!AI51/('Base original'!$AJ51)","v":7.8455216781570252E-4},{"$f":"(('Base original'!AF63-'Base original'!AH63)/('Base original'!AF51-'Base original'!AH51)*100-100)*(('Base original'!AF51-'Base original'!AH51)/'Base original'!AJ51)","v":1.3368768939579718},{"$f":"(('Base original'!AG63-'Base original'!AI63)/('Base original'!AG51-'Base original'!AI51)*100-100)*(('Base original'!AG51-'Base original'!AI51)/'Base original'!AJ51)","v":4.7857682236758174E-2},{"$f":"('Base original'!AJ63/'Base original'!AJ51*100-100)*'Base original'!AJ51/('Base original'!$AJ51)","v":7.564259725995143},{"$f":"('Base original'!AJ63/'Base original'!AJ51*100-100)*'Base original'!AJ51/('Base original'!$AU51)","v":4.4863696537796596},{"$f":"('Base original'!AK63/'Base original'!AK51*100-100)*'Base original'!AK51/('Base original'!$AU51)","v":0.11842359351625105},{"$f":"('Base original'!AL63/'Base original'!AL51*100-100)*'Base original'!AL51/('Base original'!$AU51)","v":-0.87212345834118588},{"$f":"('Base original'!AM63/'Base original'!AM51*100-100)*'Base original'!AM51/('Base original'!$AU51)","v":2.0913746210561341},{"$f":"('Base original'!AN63/'Base original'!AN51*100-100)*'Base original'!AN51/('Base original'!$AU51)","v":-0.82419563856840061},{"$f":"('Base original'!AO63/'Base original'!AO51*100-100)*'Base original'!AO51/('Base original'!$AU51)","v":-0.15657972187904973},{"$f":"('Base original'!AP63/'Base original'!AP51*100-100)*'Base original'!AP51/('Base original'!$AU51)","v":-0.30873891669167702},{"$f":"('Base original'!AQ63/'Base original'!AQ51*100-100)*'Base original'!AQ51/('Base original'!$AU51)","v":3.2086046722644497},{"$f":"('Base original'!AR63/'Base original'!AR51*100-100)*'Base original'!AR51/('Base original'!$AU51)","v":0.225912199026088},{"$f":"-('Base original'!AS63/'Base original'!AS51*100-100)*'Base original'!AS51/('Base original'!$AU51)","v":-1.2798589153887854},{"$f":"-('Base original'!AT63/'Base original'!AT51*100-100)*'Base original'!AT51/('Base original'!$AU51)","v":-9.3063727714145297E-3},{"$f":"(('Base original'!AQ63-'Base original'!AS63)/('Base original'!AQ51-'Base original'!AS51)*100-100)*(('Base original'!AQ51-'Base original'!AS51)/'Base original'!AU51)","v":1.9287457568756639},{"$f":"(('Base original'!AR63-'Base original'!AT63)/('Base original'!AR51-'Base original'!AT51)*100-100)*(('Base original'!AR51-'Base original'!AT51)/'Base original'!AU51)","v":0.21660582625467337},{"$f":"('Base original'!AU63/'Base original'!AU51*100-100)*'Base original'!AU51/('Base original'!$AU51)","v":6.6796490566827913}]
["2010-06-01",{"$f":"'Base original'!B64/'Base original'!B52*100-100","v":7.1738427552971586},{"$f":"'Base original'!C64/'Base original'!C52*100-100","v":6.2691507530492316},{"$f":"'Base original'!D64/'Base original'!D52*100-100","v":11.283072227321213},{"$f":"'Base original'!E64/'Base original'!E52*100-100","v":8.3030123702168623},{"$f":"'Base original'!F64/'Base original'!F52*100-100","v":8.1141264486020361},{"$f":"'Base original'!H64","v":22.023491016068999},{"$f":"'Base original'!I64","v":35.216347009705899},{"$f":"'Base original'!J64","v":23.062834946786101},{"$f":"'Base original'!K64","v":24.7881089070519},{"$f":"'Base original'!G64","v":27.305817463765901},{"$f":"'Base original'!M64","v":3.12064672848074},{"$f":"'Base original'!N64","v":3.4645841504742698},{"$f":"'Base original'!O64","v":4.40219682606463},{"$f":"'Base original'!P64","v":7.4688939286188498},{"$f":"'Base original'!Q64","v":8.8494416215382401},{"$f":"'Base original'!L64","v":5.2645016387231296},{"$f":"'Base original'!S64","v":1.8764670747796199},{"$f":"'Base original'!T64","v":1.9906389244050899},{"$f":"'Base original'!U64","v":2.7292472373597398},{"$f":"'Base original'!V64","v":2.3814394296886001},{"$f":"'Base original'!W64","v":2.31826976231299},{"$f":"'Base original'!R64","v":2.1711366096890399},{"$f":"'Base original'!X64","v":4.0648042155850499},{"$f":"('Base original'!Z64/'Base original'!Z52*100-100)*'Base original'!Z52/'Base original'!$AC52","v":4.3444570720115721},{"$f":"('Base original'!AA64/'Base original'!AA52*100-100)*'Base original'!AA52/'Base original'!$AC52","v":15.555153769328776},{"$f":"('Base original'!AB64/'Base original'!AB52*100-100)*'Base original'!AB52/'Base original'!$AC52","v":12.020869924578983},{"$f":"('Base original'!AC64/'Base original'!AC52*100-100)*'Base original'!AC52/'Base original'!$AC52","v":31.921341736405282},{"$f":"('Base original'!AC64/'Base original'!AC52*100-100)*'Base original'!AC52/('Base original'!$AJ52)","v":7.2000621431623113},{"$f":"('Base original'!AD64/'Base original'!AD52*100-100)*'Base original'!AD52/('Base original'!$AJ52)","v":-1.3605468598283263},{"$f":"('Base original'!AE64/'Base original'!AE52*100-100)*'Base original'!AE52/('Base original'!$AJ52)","v":0.33188332621276334},{"$f":"('Base original'!AF64/'Base original'!AF52*100-100)*'Base original'!AF52/('Base original'!$AJ52)","v":0.22099662096554878},{"$f":"('Base original'!AG64/'Base original'!AG52*100-100)*'Base original'!AG52/('Base original'!$AJ52)","v":6.9328465452285618E-2},{"$f":"-('Base original'!AH64/'Base original'!AH52*100-100)*'Base original'!AH52/('Base original'!$AJ52)","v":2.0779119897464792E-2},{"$f":"-('Base original'!AI64/'Base original'!AI52*100-100)*'Base original'!AI52/('Base original'!$AJ52)","v":6.6027109954557859E-3},{"$f":"(('Base original'!AF64-'Base original'!AH64)/('Base original'!AF52-'Base original'!AH52)*100-100)*(('Base original'!AF52-'Base original'!AH52)/'Base original'!AJ52)","v":0.24177574086301126},{"$f":"(('Base original'!AG64-'Base original'!AI64)/('Base original'!AG52-'Base original'!AI52)*100-100)*(('Base original'!AG52-'Base original'!AI52)/'Base original'!AJ52)","v":7.5931176447741652E-2},{"$f":"('Base original'!AJ64/'Base original'!AJ52*100-100)*'Base original'!AJ52/('Base original'!$AJ52)","v":6.4889113294752869},{"$f":"('Base original'!AJ64/'Base original'!AJ52*100-100)*'Base original'!AJ52/('Base original'!$AU52)","v":3.8630241511266332},{"$f":"('Base original'!AK64/'Base original'!AK52*100-100)*'Base original'!AK52/('Base original'!$AU52)","v":0.92095679618946358},{"$f":"('Base original'!AL64/'Base original'!AL52*100-100)*'Base original'!AL52/('Base original'!$AU52)","v":-2.0496664624206615},{"$f":"('Base original'!AM64/'Base original'!AM52*100-100)*'Base original'!AM52/('Base original'!$AU52)","v":2.2659745424696807},{"$f":"('Base original'!AN64/'Base original'!AN52*100-100)*'Base original'!AN52/('Base original'!$AU52)","v":-0.6530862342046545},{"$f":"('Base original'!AO64/'Base original'!AO52*100-100)*'Base original'!AO52/('Base original'!$AU52)","v":-0.16301143392256373},{"$f":"('Base original'!AP64/'Base original'!AP52*100-100)*'Base original'!AP52/('Base original'!$AU52)","v":-0.24775425737309015},{"$f":"('Base original'!AQ64/'Base original'!AQ52*100-100)*'Base original'!AQ52/('Base original'!$AU52)","v":3.2060071447564651},{"$f":"('Base original'!AR64/'Base original'!AR52*100-100)*'Base original'!AR52/('Base original'!$AU52)","v":0.19792593962796406},{"$f":"-('Base original'!AS64/'Base original'!AS52*100-100)*'Base original'!AS52/('Base original'!$AU52)","v":-0.92118801808155182},{"$f":"-('Base original'!AT64/'Base original'!AT52*100-100)*'Base original'!AT52/('Base original'!$AU52)","v":-2.8671514619004121E-2},{"$f":"(('Base original'!AQ64-'Base original'!AS64)/('Base original'!AQ52-'Base original'!AS52)*100-100)*(('Base original'!AQ52-'Base original'!AS52)/'Base original'!AU52)","v":2.2848191266749129},{"$f":"(('Base original'!AR64-'Base original'!AT64)/('Base original'!AR52-'Base original'!AT52)*100-100)*(('Base original'!AR52-'Base original'!AT52)/'Base original'!AU52)","v":0.16925442500895987},{"$f":"('Base original'!AU64/'Base original'!AU52*100-100)*'Base original'!AU52/('Base original'!$AU52)","v":6.3902794316565794}]
["2010-07-01",{"$f":"'Base original'!B65/'Base original'!B53*100-100","v":6.222826541513669},{"$f":"'Base original'!C65/'Base original'!C53*100-100","v":7.126986628044321},{"$f":"'Base original'!D65/'Base original'!D53*100-100","v":11.193379609157134},{"$f":"'Base original'!E65/'Base original'!E53*100-100","v":3.9436598914136596},{"$f":"'Base original'!F65/'Base original'!F53*100-100","v":7.3221570039791857},{"$f":"'Base original'!H65","v":23.394033963014301},{"$f":"'Base original'!I65","v":35.592548912355397},{"$f":"'Base original'!J65","v":24.824892955273},{"$f":"'Base original'!K65","v":25.5362434634756},{"$f":"'Base original'!G65","v":28.120906910575101},{"$f":"'Base original'!M65","v":3.3813709713006399},{"$f":"'Base original'!N65","v":4.0105509569561599},{"$f":"'Base original'!O65","v":5.3775521785017801},{"$f":"'Base original'!P65","v":8.3397028089478997},{"$f":"'Base original'!Q65","v":8.8700932522265905},{"$f":"'Base original'!L65","v":5.8647111374861103},{"$f":"'Base original'!S65","v":2.4320254083291402},{"$f":"'Base original'!T65","v":1.7096964178637699},{"$f":"'Base original'!U65","v":1.9046180435237401},{"$f":"'Base original'!V65","v":3.1622836511299099},{"$f":"'Base original'!W65","v":1.2849606670089999},{"$f":"'Base original'!R65","v":2.04966951250272},{"$f":"'Base original'!X65","v":4.0258767077034898},{"$f":"('Base original'!Z65/'Base original'!Z53*100-100)*'Base original'!Z53/'Base original'!$AC53","v":4.4663943045284533},{"$f":"('Base original'!AA65/'Base original'!AA53*100-100)*'Base original'!AA53/'Base original'!$AC53","v":14.246436020754684},{"$f":"('Base original'!AB65/'Base original'!AB53*100-100)*'Base original'!AB53/'Base original'!$AC53","v":11.826205374842701},{"$f":"('Base original'!AC65/'Base original'!AC53*100-100)*'Base original'!AC53/'Base original'!$AC53","v":30.538173794625127},{"$f":"('Base original'!AC65/'Base original'!AC53*100-100)*'Base original'!AC53/('Base original'!$AJ53)","v":6.8150955009713527},{"$f":"('Base original'!AD65/'Base original'!AD53*100-100)*'Base original'!AD53/('Base original'!$AJ53)","v":-2.6738348496797388},{"$f":"('Base original'!AE65/'Base original'!AE53*100-100)*'Base original'!AE53/('Base original'!$AJ53)","v":0.38046509838619685},{"$f":"('Base original'!AF65/'Base original'!AF53*100-100)*'Base original'!AF53/('Base original'!$AJ53)","v":-1.3474004116255367},{"$f":"('Base original'!AG65/'Base original'!AG53*100-100)*'Base original'!AG53/('Base original'!$AJ53)","v":7.3092384927580897E-2},{"$f":"-('Base original'!AH65/'Base original'!AH53*100-100)*'Base original'!AH53/('Base original'!$AJ53)","v":1.2531497047452342},{"$f":"-('Base original'!AI65/'Base original'!AI53*100-100)*'Base original'!AI53/('Base original'!$AJ53)","v":7.6939352555347904E-4},{"$f":"(('Base original'!AF65-'Base original'!AH65)/('Base original'!AF53-'Base original'!AH53)*100-100)*(('Base original'!AF53-'Base original'!AH53)/'Base original'!AJ53)","v":-9.4250706880301502E-2},{"$f":"(('Base original'!AG65-'Base original'!AI65)/('Base original'!AG53-'Base original'!AI53)*100-100)*(('Base original'!AG53-'Base original'!AI53)/'Base original'!AJ53)","v":7.3861778453134283E-2},{"$f":"('Base original'!AJ65/'Base original'!AJ53*100-100)*'Base original'!AJ53/('Base original'!$AJ53)","v":4.5015291696320503},{"$f":"('Base original'!AJ65/'Base original'!AJ53*100-100)*'Base original'!AJ53/('Base original'!$AU53)","v":2.7106068432891042},{"$f":"('Base original'!AK65/'Base original'!AK53*100-100)*'Base original'!AK53/('Base original'!$AU53)","v":1.0168105575026705},{"$f":"('Base original'!AL65/'Base original'!AL53*100-100)*'Base original'!AL53/('Base original'!$AU53)","v":-2.1164345958817949},{"$f":"('Base original'!AM65/'Base original'!AM53*100-100)*'Base original'!AM53/('Base original'!$AU53)","v":2.3422895437266762},{"$f":"('Base original'!AN65/'Base original'!AN53*100-100)*'Base original'!AN53/('Base original'!$AU53)","v":-0.64965148844201781},{"$f":"('Base original'!AO65/'Base original'!AO53*100-100)*'Base original'!AO53/('Base original'!$AU53)","v":-0.22979293155089375},{"$f":"('Base original'!AP65/'Base original'!AP53*100-100)*'Base original'!AP53/('Base original'!$AU53)","v":-6.8103953503995618E-2},{"$f":"('Base original'!AQ65/'Base original'!AQ53*100-100)*'Base original'!AQ53/('Base original'!$AU53)","v":3.2104991278524313},{"$f":"('Base original'!AR65/'Base original'!AR53*100-100)*'Base original'!AR53/('Base original'!$AU53)","v":0.20118463815720911},{"$f":"-('Base original'!AS65/'Base original'!AS53*100-100)*'Base original'!AS53/('Base original'!$AU53)","v":-1.2052546601404233},{"$f":"-('Base original'!AT65/'Base original'!AT53*100-100)*'Base original'!AT53/('Base original'!$AU53)","v":-2.6639301540678208E-2},{"$f":"(('Base original'!AQ65-'Base original'!AS65)/('Base original'!AQ53-'Base original'!AS53)*100-100)*(('Base original'!AQ53-'Base original'!AS53)/'Base original'!AU53)","v":2.0052444677120076},{"$f":"(('Base original'!AR65-'Base original'!AT65)/('Base original'!AR53-'Base original'!AT53)*100-100)*(('Base original'!AR53-'Base original'!AT53)/'Base original'!AU53)","v":0.17454533661653079},{"$f":"('Base original'!AU65/'Base original'!AU53*100-100)*'Base original'!AU53/('Base original'!$AU53)","v":5.1853979564181003}]
["2010-08-01",{"$f":"'Base original'!B66/'Base original'!B54*100-100","v":5.6624471383373418},{"$f":"'Base original'!C66/'Base original'!C54*100-100","v":8.6020547155698495},{"$f":"'Base original'!D66/'Base original'!D54*100-100","v":11.926454941377386},{"$f":"'Base original'!E66/'Base original'!E54*100-100","v":2.1682592350613845},{"$f":"'Base original'!F66/'Base original'!F54*100-100","v":7.2068589138805521},{"$f":"'Base original'!H66","v":23.204820547541502},{"$f":"'Base original'!I66","v":34.915307048449002},{"$f":"'Base original'!J66","v":24.130919217433199},{"$f":"'Base original'!K66","v":25.032811865701799},{"$f":"'Base original'!G66","v":27.5146327566252},{"$f":"'Base original'!M66","v":4.1334810824522803},{"$f":"'Base original'!N66","v":4.8266280976467},{"$f":"'Base original'!O66","v":6.0200025868924696},{"$f":"'Base original'!P66","v":9.7614073761519702},{"$f":"'Base original'!Q66","v":10.7855540238156},{"$f":"'Base original'!L66","v":6.9137059213616698},{"$f":"'Base original'!S66","v":2.2226278445535699},{"$f":"'Base original'!T66","v":1.5452883407929201},{"$f":"'Base original'!U66","v":2.46707203236573},{"$f":"'Base original'!V66","v":2.99118831462612},{"$f":"'Base original'!W66","v":3.21242385143954},{"$f":"'Base original'!R66","v":2.1077787977831299},{"$f":"'Base original'!X66","v":4.0647273420175303},{"$f":"('Base original'!Z66/'Base original'!Z54*100-100)*'Base original'!Z54/'Base original'!$AC54","v":3.7878143034677656},{"$f":"('Base original'!AA66/'Base original'!AA54*100-100)*'Base original'!AA54/'Base original'!$AC54","v":13.516964300914182},{"$f":"('Base original'!AB66/'Base original'!AB54*100-100)*'Base original'!AB54/'Base original'!$AC54","v":11.443455167600137},{"$f":"('Base original'!AC66/'Base original'!AC54*100-100)*'Base original'!AC54/'Base original'!$AC54","v":28.748233771982083},{"$f":"('Base original'!AC66/'Base original'!AC54*100-100)*'Base original'!AC54/('Base original'!$AJ54)","v":6.5014389250892703},{"$f":"('Base original'!AD66/'Base original'!AD54*100-100)*'Base original'!AD54/('Base original'!$AJ54)","v":-3.9250411465201167},{"$f":"('Base original'!AE66/'Base original'!AE54*100-100)*'Base original'!AE54/('Base original'!$AJ54)","v":0.34495702474566226},{"$f":"('Base original'!AF66/'Base original'!AF54*100-100)*'Base original'!AF54/('Base original'!$AJ54)","v":-2.9906542056074774},{"$f":"('Base original'!AG66/'Base original'!AG54*100-100)*'Base original'!AG54/('Base original'!$AJ54)","v":7.2956870746989741E-2},{"$f":"-('Base original'!AH66/'Base original'!AH54*100-100)*'Base original'!AH54/('Base original'!$AJ54)","v":2.8897850756037209},{"$f":"-('Base original'!AI66/'Base original'!AI54*100-100)*'Base original'!AI54/('Base original'!$AJ54)","v":-2.5024784161236553E-3},{"$f":"(('Base original'!AF66-'Base original'!AH66)/('Base original'!AF54-'Base original'!AH54)*100-100)*(('Base original'!AF54-'Base original'!AH54)/'Base original'!AJ54)","v":-0.10086913000375484},{"$f":"(('Base original'!AG66-'Base original'!AI66)/('Base original'!AG54-'Base original'!AI54)*100-100)*(('Base original'!AG54-'Base original'!AI54)/'Base original'!AJ54)","v":7.0454392330866214E-2},{"$f":"('Base original'!AJ66/'Base original'!AJ54*100-100)*'Base original'!AJ54/('Base original'!$AJ54)","v":2.8909400656419422},{"$f":"('Base original'!AJ66/'Base original'!AJ54*100-100)*'Base original'!AJ54/('Base original'!$AU54)","v":1.7361990212637608},{"$f":"('Base original'!AK66/'Base original'!AK54*100-100)*'Base original'!AK54/('Base original'!$AU54)","v":0.69214432949168248},{"$f":"('Base original'!AL66/'Base original'!AL54*100-100)*'Base original'!AL54/('Base original'!$AU54)","v":-2.00036300871799},{"$f":"('Base original'!AM66/'Base original'!AM54*100-100)*'Base original'!AM54/('Base original'!$AU54)","v":2.2815213533519918},{"$f":"('Base original'!AN66/'Base original'!AN54*100-100)*'Base original'!AN54/('Base original'!$AU54)","v":-0.61029395613606141},{"$f":"('Base original'!AO66/'Base original'!AO54*100-100)*'Base original'!AO54/('Base original'!$AU54)","v":-0.29769027032588696},{"$f":"('Base original'!AP66/'Base original'!AP54*100-100)*'Base original'!AP54/('Base original'!$AU54)","v":-9.8382299047507671E-2},{"$f":"('Base original'!AQ66/'Base original'!AQ54*100-100)*'Base original'!AQ54/('Base original'!$AU54)","v":3.1021060286037008},{"$f":"('Base original'!AR66/'Base original'!AR54*100-100)*'Base original'!AR54/('Base original'!$AU54)","v":0.18751596833731582},{"$f":"-('Base original'!AS66/'Base original'!AS54*100-100)*'Base original'!AS54/('Base original'!$AU54)","v":-1.0237077063051379},{"$f":"-('Base original'!AT66/'Base original'!AT54*100-100)*'Base original'!AT54/('Base original'!$AU54)","v":-3.1445341176171364E-2},{"$f":"(('Base original'!AQ66-'Base original'!AS66)/('Base original'!AQ54-'Base original'!AS54)*100-100)*(('Base original'!AQ54-'Base original'!AS54)/'Base original'!AU54)","v":2.0783983222985629},{"$f":"(('Base original'!AR66-'Base original'!AT66)/('Base original'!AR54-'Base original'!AT54)*100-100)*(('Base original'!AR54-'Base original'!AT54)/'Base original'!AU54)","v":0.15607062716114453},{"$f":"('Base original'!AU66/'Base original'!AU54*100-100)*'Base original'!AU54/('Base original'!$AU54)","v":3.9376041193396958}]
["2010-09-01",{"$f":"'Base original'!B67/'Base original'!B55*100-100","v":5.9634056589052733},{"$f":"'Base original'!C67/'Base original'!C55*100-100","v":9.2511837128430159},{"$f":"'Base original'!D67/'Base original'!D55*100-100","v":12.136183492239965},{"$f":"'Base original'!E67/'Base original'!E55*100-100","v":1.4130090492484868},{"$f":"'Base original'!F67/'Base original'!F55*100-100","v":7.4632624711362467},{"$f":"'Base original'!H67","v":23.542126294458999},{"$f":"'Base original'!I67","v":35.506714317431303},{"$f":"'Base original'!J67","v":25.518939390562601},{"$f":"'Base original'!K67","v":25.094024434545201},{"$f":"'Base original'!G67","v":28.002971261041601},{"$f":"'Base original'!M67","v":4.7483856808173996},{"$f":"'Base original'!N67","v":5.5371780365233496},{"$f":"'Base original'!O67","v":6.6594487781909297},{"$f":"'Base original'!P67","v":8.6051572238839302},{"$f":"'Base original'!Q67","v":8.8409014224944595},{"$f":"'Base original'!L67","v":6.8686859812019003},{"$f":"'Base original'!S67","v":1.8315567771793499},{"$f":"'Base original'!T67","v":1.7393246746462201},{"$f":"'Base original'!U67","v":2.264431359514},{"$f":"'Base original'!V67","v":2.2119309183077198},{"$f":"'Base original'!W67","v":1.3139038578120501},{"$f":"'Base original'!R67","v":1.95942499863764},{"$f":"'Base original'!X67","v":4.0002791868918797},{"$f":"('Base original'!Z67/'Base original'!Z55*100-100)*'Base original'!Z55/'Base original'!$AC55","v":3.6080797566965401},{"$f":"('Base original'!AA67/'Base original'!AA55*100-100)*'Base original'!AA55/'Base original'!$AC55","v":10.728284027518013},{"$f":"('Base original'!AB67/'Base original'!AB55*100-100)*'Base original'!AB55/'Base original'!$AC55","v":12.916551466163579},{"$f":"('Base original'!AC67/'Base original'!AC55*100-100)*'Base original'!AC55/'Base original'!$AC55","v":27.252915250378123},{"$f":"('Base original'!AC67/'Base original'!AC55*100-100)*'Base original'!AC55/('Base original'!$AJ55)","v":6.4162011280138751},{"$f":"('Base original'!AD67/'Base original'!AD55*100-100)*'Base original'!AD55/('Base original'!$AJ55)","v":-3.2303085765046942},{"$f":"('Base original'!AE67/'Base original'!AE55*100-100)*'Base original'!AE55/('Base original'!$AJ55)","v":0.39457511860227312},{"$f":"('Base original'!AF67/'Base original'!AF55*100-100)*'Base original'!AF55/('Base original'!$AJ55)","v":-3.2305000248882876},{"$f":"('Base original'!AG67/'Base original'!AG55*100-100)*'Base original'!AG55/('Base original'!$AJ55)","v":7.7153698591322803E-2},{"$f":"-('Base original'!AH67/'Base original'!AH55*100-100)*'Base original'!AH55/('Base original'!$AJ55)","v":3.0735123503352284},{"$f":"-('Base original'!AI67/'Base original'!AI55*100-100)*'Base original'!AI55/('Base original'!$AJ55)","v":-7.6579353440518446E-4},{"$f":"(('Base original'!AF67-'Base original'!AH67)/('Base original'!AF55-'Base original'!AH55)*100-100)*(('Base original'!AF55-'Base original'!AH55)/'Base original'!AJ55)","v":-0.15698767455306192},{"$f":"(('Base original'!AG67-'Base original'!AI67)/('Base original'!AG55-'Base original'!AI55)*100-100)*(('Base original'!AG55-'Base original'!AI55)/'Base original'!AJ55)","v":7.6387905056917602E-2},{"$f":"('Base original'!AJ67/'Base original'!AJ55*100-100)*'Base original'!AJ55/('Base original'!$AJ55)","v":3.4998679006153139},{"$f":"('Base original'!AJ67/'Base original'!AJ55*100-100)*'Base original'!AJ55/('Base original'!$AU55)","v":2.0951715127273554},{"$f":"('Base original'!AK67/'Base original'!AK55*100-100)*'Base original'!AK55/('Base original'!$AU55)","v":1.0595624219224551},{"$f":"('Base original'!AL67/'Base original'!AL55*100-100)*'Base original'!AL55/('Base original'!$AU55)","v":-2.4126391069648032},{"$f":"('Base original'!AM67/'Base original'!AM55*100-100)*'Base original'!AM55/('Base original'!$AU55)","v":2.2940185437749987},{"$f":"('Base original'!AN67/'Base original'!AN55*100-100)*'Base original'!AN55/('Base original'!$AU55)","v":-0.53339140201483071},{"$f":"('Base original'!AO67/'Base original'!AO55*100-100)*'Base original'!AO55/('Base original'!$AU55)","v":-0.30291222078323954},{"$f":"('Base original'!AP67/'Base original'!AP55*100-100)*'Base original'!AP55/('Base original'!$AU55)","v":0.50703127686154248},{"$f":"('Base original'!AQ67/'Base original'!AQ55*100-100)*'Base original'!AQ55/('Base original'!$AU55)","v":2.7333157599165636},{"$f":"('Base original'!AR67/'Base original'!AR55*100-100)*'Base original'!AR55/('Base original'!$AU55)","v":0.16927784718003969},{"$f":"-('Base original'!AS67/'Base original'!AS55*100-100)*'Base original'!AS55/('Base original'!$AU55)","v":-0.18864680870571701},{"$f":"-('Base original'!AT67/'Base original'!AT55*100-100)*'Base original'!AT55/('Base original'!$AU55)","v":-3.0715276265572515E-2},{"$f":"(('Base original'!AQ67-'Base original'!AS67)/('Base original'!AQ55-'Base original'!AS55)*100-100)*(('Base original'!AQ55-'Base original'!AS55)/'Base original'!AU55)","v":2.5446689512108462},{"$f":"(('Base original'!AR67-'Base original'!AT67)/('Base original'!AR55-'Base original'!AT55)*100-100)*(('Base original'!AR55-'Base original'!AT55)/'Base original'!AU55)","v":0.13856257091446714},{"$f":"('Base original'!AU67/'Base original'!AU55*100-100)*'Base original'!AU55/('Base original'!$AU55)","v":5.3903017661283741}]
["2010-10-01",{"$f":"'Base original'!B68/'Base original'!B56*100-100","v":7.0834825471705472},{"$f":"'Base original'!C68/'Base original'!C56*100-100","v":9.8272422891534603},{"$f":"'Base original'!D68/'Base original'!D56*100-100","v":11.82372393152022},{"$f":"'Base original'!E68/'Base original'!E56*100-100","v":9.2366733943575667},{"$f":"'Base original'!F68/'Base original'!F56*100-100","v":8.6863538457360363},{"$f":"'Base original'!H68","v":23.2788069088421},{"$f":"'Base original'!I68","v":34.750530419751897},{"$f":"'Base original'!J68","v":25.027358432870201},{"$f":"'Base original'!K68","v":24.922296446115901},{"$f":"'Base original'!G68","v":27.252425282524701},{"$f":"'Base original'!M68","v":4.9153248833432599},{"$f":"'Base original'!N68","v":5.5667227289778598},{"$f":"'Base original'!O68","v":7.0150824654616697},{"$f":"'Base original'!P68","v":8.4737101126253798},{"$f":"'Base original'!Q68","v":9.9844254188867705},{"$f":"'Base original'!L68","v":7.1399747697498004},{"$f":"'Base original'!S68","v":1.9915477552648899},{"$f":"'Base original'!T68","v":1.31070100374579},{"$f":"'Base original'!U68","v":2.2064206518741498},{"$f":"'Base original'!V68","v":2.5292104372245898},{"$f":"'Base original'!W68","v":2.3920106238463501},{"$f":"'Base original'!R68","v":1.7650550466581301},{"$f":"'Base original'!X68","v":4.1404423827680903},{"$f":"('Base original'!Z68/'Base original'!Z56*100-100)*'Base original'!Z56/'Base original'!$AC56","v":3.6802708964533992},{"$f":"('Base original'!AA68/'Base original'!AA56*100-100)*'Base original'!AA56/'Base original'!$AC56","v":10.667357949482341},{"$f":"('Base original'!AB68/'Base original'!AB56*100-100)*'Base original'!AB56/'Base original'!$AC56","v":10.804264350869238},{"$f":"('Base original'!AC68/'Base original'!AC56*100-100)*'Base original'!AC56/'Base original'!$AC56","v":25.151893196804977},{"$f":"('Base original'!AC68/'Base original'!AC56*100-100)*'Base original'!AC56/('Base original'!$AJ56)","v":6.0452066503503721},{"$f":"('Base original'!AD68/'Base original'!AD56*100-100)*'Base original'!AD56/('Base original'!$AJ56)","v":-0.34151289824512676},{"$f":"('Base original'!AE68/'Base original'!AE56*100-100)*'Base original'!AE56/('Base original'!$AJ56)","v":0.34930110573075851},{"$f":"('Base original'!AF68/'Base original'!AF56*100-100)*'Base original'!AF56/('Base original'!$AJ56)","v":-2.8956555431593243},{"$f":"('Base original'!AG68/'Base original'!AG56*100-100)*'Base original'!AG56/('Base original'!$AJ56)","v":8.2944409722019302E-2},{"$f":"-('Base original'!AH68/'Base original'!AH56*100-100)*'Base original'!AH56/('Base original'!$AJ56)","v":2.6976403678370384},{"$f":"-('Base original'!AI68/'Base original'!AI56*100-100)*'Base original'!AI56/('Base original'!$AJ56)","v":5.8411556142267179E-3},{"$f":"(('Base original'!AF68-'Base original'!AH68)/('Base original'!AF56-'Base original'!AH56)*100-100)*(('Base original'!AF56-'Base original'!AH56)/'Base original'!AJ56)","v":-0.19801517532228735},{"$f":"(('Base original'!AG68-'Base original'!AI68)/('Base original'!AG56-'Base original'!AI56)*100-100)*(('Base original'!AG56-'Base original'!AI56)/'Base original'!AJ56)","v":8.8785565336246042E-2},{"$f":"('Base original'!AJ68/'Base original'!AJ56*100-100)*'Base original'!AJ56/('Base original'!$AJ56)","v":5.9435705426628402},{"$f":"('Base original'!AJ68/'Base original'!AJ56*100-100)*'Base original'!AJ56/('Base original'!$AU56)","v":3.5482104935250982},{"$f":"('Base original'!AK68/'Base original'!AK56*100-100)*'Base original'!AK56/('Base original'!$AU56)","v":1.7300519224800963},{"$f":"('Base original'!AL68/'Base original'!AL56*100-100)*'Base original'!AL56/('Base original'!$AU56)","v":-2.2760109308037353},{"$f":"('Base original'!AM68/'Base original'!AM56*100-100)*'Base original'!AM56/('Base original'!$AU56)","v":2.4008480555513585},{"$f":"('Base original'!AN68/'Base original'!AN56*100-100)*'Base original'!AN56/('Base original'!$AU56)","v":-0.56304565388965255},{"$f":"('Base original'!AO68/'Base original'!AO56*100-100)*'Base original'!AO56/('Base original'!$AU56)","v":-0.29826076545847424},{"$f":"('Base original'!AP68/'Base original'!AP56*100-100)*'Base original'!AP56/('Base original'!$AU56)","v":1.0805269196032667},{"$f":"('Base original'!AQ68/'Base original'!AQ56*100-100)*'Base original'!AQ56/('Base original'!$AU56)","v":2.3129738783547067},{"$f":"('Base original'!AR68/'Base original'!AR56*100-100)*'Base original'!AR56/('Base original'!$AU56)","v":0.16935539176656159},{"$f":"-('Base original'!AS68/'Base original'!AS56*100-100)*'Base original'!AS56/('Base original'!$AU56)","v":0.24270010844789336},{"$f":"-('Base original'!AT68/'Base original'!AT56*100-100)*'Base original'!AT56/('Base original'!$AU56)","v":-3.6149297762114375E-2},{"$f":"(('Base original'!AQ68-'Base original'!AS68)/('Base original'!AQ56-'Base original'!AS56)*100-100)*(('Base original'!AQ56-'Base original'!AS56)/'Base original'!AU56)","v":2.5556739868026002},{"$f":"(('Base original'!AR68-'Base original'!AT68)/('Base original'!AR56-'Base original'!AT56)*100-100)*(('Base original'!AR56-'Base original'!AT56)/'Base original'!AU56)","v":0.13320609400444725},{"$f":"('Base original'!AU68/'Base original'!AU56*100-100)*'Base original'!AU56/('Base original'!$AU56)","v":8.3113163574991091}]
["2010-11-01",{"$f":"'Base original'!B69/'Base original'!B57*100-100","v":7.916894991597772},{"$f":"'Base original'!C69/'Base original'!C57*100-100","v":10.983849433468933},{"$f":"'Base original'!D69/'Base original'!D57*100-100","v":11.288977093021018},{"$f":"'Base original'!E69/'Base original'!E57*100-100","v":20.856961231225426},{"$f":"'Base original'!F69/'Base original'!F57*100-100","v":9.9645593344987304},{"$f":"'Base original'!H69","v":22.108543486676499},{"$f":"'Base original'!I69","v":35.481903112942099},{"$f":"'Base original'!J69","v":26.7898038485997},{"$f":"'Base original'!K69","v":24.695419539695699},{"$f":"'Base original'!G69","v":27.341910117002001},{"$f":"'Base original'!M69","v":5.1374704827587196},{"$f":"'Base original'!N69","v":5.5710378145507304},{"$f":"'Base original'!O69","v":6.8103989583942601},{"$f":"'Base original'!P69","v":8.2484557125956304},{"$f":"'Base original'!Q69","v":11.5115350404384},{"$f":"'Base original'!L69","v":7.1872391337535504},{"$f":"'Base original'!S69","v":1.8237639179724101},{"$f":"'Base original'!T69","v":1.59736715845165},{"$f":"'Base original'!U69","v":2.27543714827608},{"$f":"'Base original'!V69","v":2.0681432254897301},{"$f":"'Base original'!W69","v":1.8022451647856399},{"$f":"'Base original'!R69","v":1.8657389296077},{"$f":"'Base original'!X69","v":4.3502802608229301},{"$f":"('Base original'!Z69/'Base original'!Z57*100-100)*'Base original'!Z57/'Base original'!$AC57","v":3.6510744660131151},{"$f":"('Base original'!AA69/'Base original'!AA57*100-100)*'Base original'!AA57/'Base original'!$AC57","v":11.084691293903788},{"$f":"('Base original'!AB69/'Base original'!AB57*100-100)*'Base original'!AB57/'Base original'!$AC57","v":9.8195156787638727},{"$f":"('Base original'!AC69/'Base original'!AC57*100-100)*'Base original'!AC57/'Base original'!$AC57","v":24.554469908459396},{"$f":"('Base original'!AC69/'Base original'!AC57*100-100)*'Base original'!AC57/('Base original'!$AJ57)","v":5.9012486298617981},{"$f":"('Base original'!AD69/'Base original'!AD57*100-100)*'Base original'!AD57/('Base original'!$AJ57)","v":0.87591326293781036},{"$f":"('Base original'!AE69/'Base original'!AE57*100-100)*'Base original'!AE57/('Base original'!$AJ57)","v":0.42498663993353114},{"$f":"('Base original'!AF69/'Base original'!AF57*100-100)*'Base original'!AF57/('Base original'!$AJ57)","v":-2.4159290999801022},{"$f":"('Base original'!AG69/'Base original'!AG57*100-100)*'Base original'!AG57/('Base original'!$AJ57)","v":0.10180955761601804},{"$f":"-('Base original'!AH69/'Base original'!AH57*100-100)*'Base original'!AH57/('Base original'!$AJ57)","v":1.9965985465807983},{"$f":"-('Base original'!AI69/'Base original'!AI57*100-100)*'Base original'!AI57/('Base original'!$AJ57)","v":1.9503746669735245E-3},{"$f":"(('Base original'!AF69-'Base original'!AH69)/('Base original'!AF57-'Base original'!AH57)*100-100)*(('Base original'!AF57-'Base original'!AH57)/'Base original'!AJ57)","v":-0.41933055339930631},{"$f":"(('Base original'!AG69-'Base original'!AI69)/('Base original'!AG57-'Base original'!AI57)*100-100)*(('Base original'!AG57-'Base original'!AI57)/'Base original'!AJ57)","v":0.10375993228299159},{"$f":"('Base original'!AJ69/'Base original'!AJ57*100-100)*'Base original'!AJ57/('Base original'!$AJ57)","v":6.8863828741501294},{"$f":"('Base original'!AJ69/'Base original'!AJ57*100-100)*'Base original'!AJ57/('Base original'!$AU57)","v":4.0905320425782383},{"$f":"('Base original'!AK69/'Base original'!AK57*100-100)*'Base original'!AK57/('Base original'!$AU57)","v":1.8275785366396187},{"$f":"('Base original'!AL69/'Base original'!AL57*100-100)*'Base original'!AL57/('Base original'!$AU57)","v":-2.0986741801094575},{"$f":"('Base original'!AM69/'Base original'!AM57*100-100)*'Base original'!AM57/('Base original'!$AU57)","v":2.6457312862909022},{"$f":"('Base original'!AN69/'Base original'!AN57*100-100)*'Base original'!AN57/('Base original'!$AU57)","v":-0.37513149297236725},{"$f":"('Base original'!AO69/'Base original'!AO57*100-100)*'Base original'!AO57/('Base original'!$AU57)","v":-0.22568133054668651},{"$f":"('Base original'!AP69/'Base original'!AP57*100-100)*'Base original'!AP57/('Base original'!$AU57)","v":0.89507903480682549},{"$f":"('Base original'!AQ69/'Base original'!AQ57*100-100)*'Base original'!AQ57/('Base original'!$AU57)","v":2.3820502245228035},{"$f":"('Base original'!AR69/'Base original'!AR57*100-100)*'Base original'!AR57/('Base original'!$AU57)","v":0.17493778702540888},{"$f":"-('Base original'!AS69/'Base original'!AS57*100-100)*'Base original'!AS57/('Base original'!$AU57)","v":0.29739423794319458},{"$f":"-('Base original'!AT69/'Base original'!AT57*100-100)*'Base original'!AT57/('Base original'!$AU57)","v":-5.3871570176698753E-2},{"$f":"(('Base original'!AQ69-'Base original'!AS69)/('Base original'!AQ57-'Base original'!AS57)*100-100)*(('Base original'!AQ57-'Base original'!AS57)/'Base original'!AU57)","v":2.6794444624659977},{"$f":"(('Base original'!AR69-'Base original'!AT69)/('Base original'!AR57-'Base original'!AT57)*100-100)*(('Base original'!AR57-'Base original'!AT57)/'Base original'!AU57)","v":0.12106621684871005},{"$f":"('Base original'!AU69/'Base original'!AU57*100-100)*'Base original'!AU57/('Base original'!$AU57)","v":9.5599445760017829}]
["2010-12-01",{"$f":"'Base original'!B70/'Base original'!B58*100-100","v":5.4972714014115667},{"$f":"'Base original'!C70/'Base original'!C58*100-100","v":11.474994866011002},{"$f":"'Base original'!D70/'Base original'!D58*100-100","v":11.732182242389968},{"$f":"'Base original'!E70/'Base original'!E58*100-100","v":14.268152149442813},{"$f":"'Base original'!F70/'Base original'!F58*100-100","v":8.2328128838838239},{"$f":"'Base original'!H70","v":20.850936175817001},{"$f":"'Base original'!I70","v":34.079782837142098},{"$f":"'Base original'!J70","v":25.809484780786601},{"$f":"'Base original'!K70","v":25.052724631444001},{"$f":"'Base original'!G70","v":26.441702931038801},{"$f":"'Base original'!M70","v":5.1068604241131199},{"$f":"'Base original'!N70","v":5.9934619967263503},{"$f":"'Base original'!O70","v":6.7803990140217696},{"$f":"'Base original'!P70","v":9.9919992630383891},{"$f":"'Base original'!Q70","v":10.9031697879864},{"$f":"'Base original'!L70","v":7.3797969271821202},{"$f":"'Base original'!S70","v":1.8104851961330799},{"$f":"'Base original'!T70","v":1.6433577637100301},{"$f":"'Base original'!U70","v":2.2895210229948599},{"$f":"'Base original'!V70","v":2.3537129603769902},{"$f":"'Base original'!W70","v":1.9358078199203499},{"$f":"'Base original'!R70","v":1.93437911813958},{"$f":"'Base original'!X70","v":4.37113062194567},{"$f":"('Base original'!Z70/'Base original'!Z58*100-100)*'Base original'!Z58/'Base original'!$AC58","v":3.4241778433779362},{"$f":"('Base original'!AA70/'Base original'!AA58*100-100)*'Base original'!AA58/'Base original'!$AC58","v":7.2030483993644081},{"$f":"('Base original'!AB70/'Base original'!AB58*100-100)*'Base original'!AB58/'Base original'!$AC58","v":10.656595703022047},{"$f":"('Base original'!AC70/'Base original'!AC58*100-100)*'Base original'!AC58/'Base original'!$AC58","v":21.283821945764387},{"$f":"('Base original'!AC70/'Base original'!AC58*100-100)*'Base original'!AC58/('Base original'!$AJ58)","v":5.4650398329337131},{"$f":"('Base original'!AD70/'Base original'!AD58*100-100)*'Base original'!AD58/('Base original'!$AJ58)","v":3.4503828602366635},{"$f":"('Base original'!AE70/'Base original'!AE58*100-100)*'Base original'!AE58/('Base original'!$AJ58)","v":0.41128470879418377},{"$f":"('Base original'!AF70/'Base original'!AF58*100-100)*'Base original'!AF58/('Base original'!$AJ58)","v":-2.3180447057003657},{"$f":"('Base original'!AG70/'Base original'!AG58*100-100)*'Base original'!AG58/('Base original'!$AJ58)","v":0.11350452471188802},{"$f":"-('Base original'!AH70/'Base original'!AH58*100-100)*'Base original'!AH58/('Base original'!$AJ58)","v":2.1482713280222763},{"$f":"-('Base original'!AI70/'Base original'!AI58*100-100)*'Base original'!AI58/('Base original'!$AJ58)","v":1.353546291283164E-3},{"$f":"(('Base original'!AF70-'Base original'!AH70)/('Base original'!AF58-'Base original'!AH58)*100-100)*(('Base original'!AF58-'Base original'!AH58)/'Base original'!AJ58)","v":-0.16977337767809014},{"$f":"(('Base original'!AG70-'Base original'!AI70)/('Base original'!AG58-'Base original'!AI58)*100-100)*(('Base original'!AG58-'Base original'!AI58)/'Base original'!AJ58)","v":0.11485807100317104},{"$f":"('Base original'!AJ70/'Base original'!AJ58*100-100)*'Base original'!AJ58/('Base original'!$AJ58)","v":9.2717920952896549},{"$f":"('Base original'!AJ70/'Base original'!AJ58*100-100)*'Base original'!AJ58/('Base original'!$AU58)","v":5.5111078418639581},{"$f":"('Base original'!AK70/'Base original'!AK58*100-100)*'Base original'!AK58/('Base original'!$AU58)","v":1.7696460363123971},{"$f":"('Base original'!AL70/'Base original'!AL58*100-100)*'Base original'!AL58/('Base original'!$AU58)","v":-2.1210007114443701},{"$f":"('Base original'!AM70/'Base original'!AM58*100-100)*'Base original'!AM58/('Base original'!$AU58)","v":3.0026630316724927},{"$f":"('Base original'!AN70/'Base original'!AN58*100-100)*'Base original'!AN58/('Base original'!$AU58)","v":-0.44939377813739501},{"$f":"('Base original'!AO70/'Base original'!AO58*100-100)*'Base original'!AO58/('Base original'!$AU58)","v":-0.1971126162418497},{"$f":"('Base original'!AP70/'Base original'!AP58*100-100)*'Base original'!AP58/('Base original'!$AU58)","v":0.72914427838967477},{"$f":"('Base original'!AQ70/'Base original'!AQ58*100-100)*'Base original'!AQ58/('Base original'!$AU58)","v":2.4170719064525361},{"$f":"('Base original'!AR70/'Base original'!AR58*100-100)*'Base original'!AR58/('Base original'!$AU58)","v":0.17113742599656803},{"$f":"-('Base original'!AS70/'Base original'!AS58*100-100)*'Base original'!AS58/('Base original'!$AU58)","v":0.38629475404598068},{"$f":"-('Base original'!AT70/'Base original'!AT58*100-100)*'Base original'!AT58/('Base original'!$AU58)","v":-6.7811337366000757E-2},{"$f":"(('Base original'!AQ70-'Base original'!AS70)/('Base original'!AQ58-'Base original'!AS58)*100-100)*(('Base original'!AQ58-'Base original'!AS58)/'Base original'!AU58)","v":2.8033666604985168},{"$f":"(('Base original'!AR70-'Base original'!AT70)/('Base original'!AR58-'Base original'!AT58)*100-100)*(('Base original'!AR58-'Base original'!AT58)/'Base original'!AU58)","v":0.10332608863056728},{"$f":"('Base original'!AU70/'Base original'!AU58*100-100)*'Base original'!AU58/('Base original'!$AU58)","v":11.151631897073869}]
["2011-01-01",{"$f":"'Base original'!B71/'Base original'!B59*100-100","v":6.6413992101191042},{"$f":"'Base original'!C71/'Base original'!C59*100-100","v":12.475975450034611},{"$f":"'Base original'!D71/'Base original'!D59*100-100","v":12.10419442552633},{"$f":"'Base original'!E71/'Base original'!E59*100-100","v":14.5819435022688},{"$f":"'Base original'!F71/'Base original'!F59*100-100","v":9.1784800783972287},{"$f":"'Base original'!H71","v":21.184236997741301},{"$f":"'Base original'!I71","v":34.264604829377099},{"$f":"'Base original'!J71","v":27.1533917213686},{"$f":"'Base original'!K71","v":26.096409064673299},{"$f":"'Base original'!G71","v":27.0938928234382},{"$f":"'Base original'!M71","v":5.3882025056248004},{"$f":"'Base original'!N71","v":6.3957449385559997},{"$f":"'Base original'!O71","v":7.0712293365334098},{"$f":"'Base original'!P71","v":9.7585915680663504},{"$f":"'Base original'!Q71","v":11.6873250803565},{"$f":"'Base original'!L71","v":7.5991038176093504},{"$f":"'Base original'!S71","v":1.81990769253322},{"$f":"'Base original'!T71","v":1.2601139227892699},{"$f":"'Base original'!U71","v":2.32363166283911},{"$f":"'Base original'!V71","v":2.2886956564145802},{"$f":"'Base original'!W71","v":2.5},{"$f":"'Base original'!R71","v":1.7777270464467601},{"$f":"'Base original'!X71","v":4.3373107206554904},{"$f":"('Base original'!Z71/'Base original'!Z59*100-100)*'Base original'!Z59/'Base original'!$AC59","v":3.2719673166094578},{"$f":"('Base original'!AA71/'Base original'!AA59*100-100)*'Base original'!AA59/'Base original'!$AC59","v":7.2238710660561471},{"$f":"('Base original'!AB71/'Base original'!AB59*100-100)*'Base original'!AB59/'Base original'!$AC59","v":9.1345142119050582},{"$f":"('Base original'!AC71/'Base original'!AC59*100-100)*'Base original'!AC59/'Base original'!$AC59","v":19.630352594570667},{"$f":"('Base original'!AC71/'Base original'!AC59*100-100)*'Base original'!AC59/('Base original'!$AJ59)","v":5.1137802881652625},{"$f":"('Base original'!AD71/'Base original'!AD59*100-100)*'Base original'!AD59/('Base original'!$AJ59)","v":2.7166248898869982},{"$f":"('Base original'!AE71/'Base original'!AE59*100-100)*'Base original'!AE59/('Base original'!$AJ59)","v":0.38733312917531387},{"$f":"('Base original'!AF71/'Base original'!AF59*100-100)*'Base original'!AF59/('Base original'!$AJ59)","v":-2.6470599355011886},{"$f":"('Base original'!AG71/'Base original'!AG59*100-100)*'Base original'!AG59/('Base original'!$AJ59)","v":0.12381805739864882},{"$f":"-('Base original'!AH71/'Base original'!AH59*100-100)*'Base original'!AH59/('Base original'!$AJ59)","v":2.1635078884389838},{"$f":"-('Base original'!AI71/'Base original'!AI59*100-100)*'Base original'!AI59/('Base original'!$AJ59)","v":5.2929856597895676E-3},{"$f":"(('Base original'!AF71-'Base original'!AH71)/('Base original'!AF59-'Base original'!AH59)*100-100)*(('Base original'!AF59-'Base original'!AH59)/'Base original'!AJ59)","v":-0.48355204706220273},{"$f":"(('Base original'!AG71-'Base original'!AI71)/('Base original'!AG59-'Base original'!AI59)*100-100)*(('Base original'!AG59-'Base original'!AI59)/'Base original'!AJ59)","v":0.1291110430584384},{"$f":"('Base original'!AJ71/'Base original'!AJ59*100-100)*'Base original'!AJ59/('Base original'!$AJ59)","v":7.8629192328195359},{"$f":"('Base original'!AJ71/'Base original'!AJ59*100-100)*'Base original'!AJ59/('Base original'!$AU59)","v":4.7305588758113144},{"$f":"('Base original'!AK71/'Base original'!AK59*100-100)*'Base original'!AK59/('Base original'!$AU59)","v":1.7334578287081632},{"$f":"('Base original'!AL71/'Base original'!AL59*100-100)*'Base original'!AL59/('Base original'!$AU59)","v":-1.6133599762533797},{"$f":"('Base original'!AM71/'Base original'!AM59*100-100)*'Base original'!AM59/('Base original'!$AU59)","v":3.8858933926847214},{"$f":"('Base original'!AN71/'Base original'!AN59*100-100)*'Base original'!AN59/('Base original'!$AU59)","v":-0.55158578068721908},{"$f":"('Base original'!AO71/'Base original'!AO59*100-100)*'Base original'!AO59/('Base original'!$AU59)","v":-0.21358311260424689},{"$f":"('Base original'!AP71/'Base original'!AP59*100-100)*'Base original'!AP59/('Base original'!$AU59)","v":0.83613580610565752},{"$f":"('Base original'!AQ71/'Base original'!AQ59*100-100)*'Base original'!AQ59/('Base original'!$AU59)","v":2.1532316671651786},{"$f":"('Base original'!AR71/'Base original'!AR59*100-100)*'Base original'!AR59/('Base original'!$AU59)","v":0.1606991150744414},{"$f":"-('Base original'!AS71/'Base original'!AS59*100-100)*'Base original'!AS59/('Base original'!$AU59)","v":0.90949102848570917},{"$f":"-('Base original'!AT71/'Base original'!AT59*100-100)*'Base original'!AT59/('Base original'!$AU59)","v":-2.6043947170592437E-2},{"$f":"(('Base original'!AQ71-'Base original'!AS71)/('Base original'!AQ59-'Base original'!AS59)*100-100)*(('Base original'!AQ59-'Base original'!AS59)/'Base original'!AU59)","v":3.0627226956508888},{"$f":"(('Base original'!AR71-'Base original'!AT71)/('Base original'!AR59-'Base original'!AT59)*100-100)*(('Base original'!AR59-'Base original'!AT59)/'Base original'!AU59)","v":0.13465516790384904},{"$f":"('Base original'!AU71/'Base original'!AU59*100-100)*'Base original'!AU59/('Base original'!$AU59)","v":12.005008626346706}]
["2011-02-01",{"$f":"'Base original'!B72/'Base original'!B60*100-100","v":6.4575175252161756},{"$f":"'Base original'!C72/'Base original'!C60*100-100","v":13.512796300290518},{"$f":"'Base original'!D72/'Base original'!D60*100-100","v":12.243384170295471},{"$f":"'Base original'!E72/'Base original'!E60*100-100","v":20.792284002031352},{"$f":"'Base original'!F72/'Base original'!F60*100-100","v":9.6433676184100676},{"$f":"'Base original'!H72","v":19.1523824901832},{"$f":"'Base original'!I72","v":35.849285501014798},{"$f":"'Base original'!J72","v":25.2757210208845},{"$f":"'Base original'!K72","v":25.1946569828897},{"$f":"'Base original'!G72","v":26.447192406930501},{"$f":"'Base original'!M72","v":5.6132071554351901},{"$f":"'Base original'!N72","v":6.9217555405731002},{"$f":"'Base original'!O72","v":7.0877533068552703},{"$f":"'Base original'!P72","v":10.2776242806958},{"$f":"'Base original'!Q72","v":11.7355420341694},{"$f":"'Base original'!L72","v":7.9065708323920303},{"$f":"'Base original'!S72","v":1.8610315856369699},{"$f":"'Base original'!T72","v":1.51835620990875},{"$f":"'Base original'!U72","v":1.6811919819321599},{"$f":"'Base original'!V72","v":2.2693648327496101},{"$f":"'Base original'!W72","v":2.7257170544289102},{"$f":"'Base original'!R72","v":1.74237777338487},{"$f":"'Base original'!X72","v":4.3533094044596599},{"$f":"('Base original'!Z72/'Base original'!Z60*100-100)*'Base original'!Z60/'Base original'!$AC60","v":2.9979821274142382},{"$f":"('Base original'!AA72/'Base original'!AA60*100-100)*'Base original'!AA60/'Base original'!$AC60","v":9.6764197174978346},{"$f":"('Base original'!AB72/'Base original'!AB60*100-100)*'Base original'!AB60/'Base original'!$AC60","v":3.3374171230902325},{"$f":"('Base original'!AC72/'Base original'!AC60*100-100)*'Base original'!AC60/'Base original'!$AC60","v":16.012539636782932},{"$f":"('Base original'!AC72/'Base original'!AC60*100-100)*'Base original'!AC60/('Base original'!$AJ60)","v":4.2004907724940539},{"$f":"('Base original'!AD72/'Base original'!AD60*100-100)*'Base original'!AD60/('Base original'!$AJ60)","v":2.3825908099258712},{"$f":"('Base original'!AE72/'Base original'!AE60*100-100)*'Base original'!AE60/('Base original'!$AJ60)","v":0.3913324586643282},{"$f":"('Base original'!AF72/'Base original'!AF60*100-100)*'Base original'!AF60/('Base original'!$AJ60)","v":-2.7743013675840631},{"$f":"('Base original'!AG72/'Base original'!AG60*100-100)*'Base original'!AG60/('Base original'!$AJ60)","v":0.12987700439729138},{"$f":"-('Base original'!AH72/'Base original'!AH60*100-100)*'Base original'!AH60/('Base original'!$AJ60)","v":1.9734876985492356},{"$f":"-('Base original'!AI72/'Base original'!AI60*100-100)*'Base original'!AI60/('Base original'!$AJ60)","v":3.4028909449072007E-3},{"$f":"(('Base original'!AF72-'Base original'!AH72)/('Base original'!AF60-'Base original'!AH60)*100-100)*(('Base original'!AF60-'Base original'!AH60)/'Base original'!AJ60)","v":-0.80081366903482742},{"$f":"(('Base original'!AG72-'Base original'!AI72)/('Base original'!AG60-'Base original'!AI60)*100-100)*(('Base original'!AG60-'Base original'!AI60)/'Base original'!AJ60)","v":0.13327989534219856},{"$f":"('Base original'!AJ72/'Base original'!AJ60*100-100)*'Base original'!AJ60/('Base original'!$AJ60)","v":6.3070693168885583},{"$f":"('Base original'!AJ72/'Base original'!AJ60*100-100)*'Base original'!AJ60/('Base original'!$AU60)","v":3.7798098198919887},{"$f":"('Base original'!AK72/'Base original'!AK60*100-100)*'Base original'!AK60/('Base original'!$AU60)","v":1.5996383564251213},{"$f":"('Base original'!AL72/'Base original'!AL60*100-100)*'Base original'!AL60/('Base original'!$AU60)","v":-1.0674830083035272},{"$f":"('Base original'!AM72/'Base original'!AM60*100-100)*'Base original'!AM60/('Base original'!$AU60)","v":4.0013051798191102},{"$f":"('Base original'!AN72/'Base original'!AN60*100-100)*'Base original'!AN60/('Base original'!$AU60)","v":-0.50360453957855833},{"$f":"('Base original'!AO72/'Base original'!AO60*100-100)*'Base original'!AO60/('Base original'!$AU60)","v":-0.19385092625847319},{"$f":"('Base original'!AP72/'Base original'!AP60*100-100)*'Base original'!AP60/('Base original'!$AU60)","v":1.1003390974998768},{"$f":"('Base original'!AQ72/'Base original'!AQ60*100-100)*'Base original'!AQ60/('Base original'!$AU60)","v":1.6941279370794573},{"$f":"('Base original'!AR72/'Base original'!AR60*100-100)*'Base original'!AR60/('Base original'!$AU60)","v":0.15317735377057612},{"$f":"-('Base original'!AS72/'Base original'!AS60*100-100)*'Base original'!AS60/('Base original'!$AU60)","v":1.318322254788775},{"$f":"-('Base original'!AT72/'Base original'!AT60*100-100)*'Base original'!AT60/('Base original'!$AU60)","v":-2.7644433668654222E-2},{"$f":"(('Base original'!AQ72-'Base original'!AS72)/('Base original'!AQ60-'Base original'!AS60)*100-100)*(('Base original'!AQ60-'Base original'!AS60)/'Base original'!AU60)","v":3.0124501918682323},{"$f":"(('Base original'!AR72-'Base original'!AT72)/('Base original'!AR60-'Base original'!AT60)*100-100)*(('Base original'!AR60-'Base original'!AT60)/'Base original'!AU60)","v":0.12553292010192191},{"$f":"('Base original'!AU72/'Base original'!AU60*100-100)*'Base original'!AU60/('Base original'!$AU60)","v":11.861501387320047}]
["2011-03-01",{"$f":"'Base original'!B73/'Base original'!B61*100-100","v":8.2035231140571625},{"$f":"'Base original'!C73/'Base original'!C61*100-100","v":15.24757224739632},{"$f":"'Base original'!D73/'Base original'!D61*100-100","v":12.639898219269341},{"$f":"'Base original'!E73/'Base original'!E61*100-100","v":25.89001155491178},{"$f":"'Base original'!F73/'Base original'!F61*100-100","v":11.314920048241177},{"$f":"'Base original'!H73","v":21.721501045773099},{"$f":"'Base original'!I73","v":34.896891500121498},{"$f":"'Base original'!J73","v":23.400063236228998},{"$f":"'Base original'!K73","v":24.2204774350162},{"$f":"'Base original'!G73","v":25.8812617644417},{"$f":"'Base original'!M73","v":5.7650783846614297},{"$f":"'Base original'!N73","v":6.8612653828066996},{"$f":"'Base original'!O73","v":7.60272800090861},{"$f":"'Base original'!P73","v":10.0503123501513},{"$f":"'Base original'!Q73","v":12.4205350293003},{"$f":"'Base original'!L73","v":8.2523413456186905},{"$f":"'Base original'!S73","v":1.8916047563368199},{"$f":"'Base original'!T73","v":1.5183642793695},{"$f":"'Base original'!U73","v":2.17403814461654},{"$f":"'Base original'!V73","v":2.1378037576099098},{"$f":"'Base original'!W73","v":3.58932612013077},{"$f":"'Base original'!R73","v":1.89461768162144},{"$f":"'Base original'!X73","v":4.3926488605217502},{"$f":"('Base original'!Z73/'Base original'!Z61*100-100)*'Base original'!Z61/'Base original'!$AC61","v":2.142248692334225},{"$f":"('Base original'!AA73/'Base original'!AA61*100-100)*'Base original'!AA61/'Base original'!$AC61","v":7.7748914091814614},{"$f":"('Base original'!AB73/'Base original'!AB61*100-100)*'Base original'!AB61/'Base original'!$AC61","v":2.9081923588671375},{"$f":"('Base original'!AC73/'Base original'!AC61*100-100)*'Base original'!AC61/'Base original'!$AC61","v":12.825332460382825},{"$f":"('Base original'!AC73/'Base original'!AC61*100-100)*'Base original'!AC61/('Base original'!$AJ61)","v":3.4146414607722946},{"$f":"('Base original'!AD73/'Base original'!AD61*100-100)*'Base original'!AD61/('Base original'!$AJ61)","v":2.8630282310515307},{"$f":"('Base original'!AE73/'Base original'!AE61*100-100)*'Base original'!AE61/('Base original'!$AJ61)","v":0.32388299726723635},{"$f":"('Base original'!AF73/'Base original'!AF61*100-100)*'Base original'!AF61/('Base original'!$AJ61)","v":-3.0768884740387543},{"$f":"('Base original'!AG73/'Base original'!AG61*100-100)*'Base original'!AG61/('Base original'!$AJ61)","v":0.14638461855654641},{"$f":"-('Base original'!AH73/'Base original'!AH61*100-100)*'Base original'!AH61/('Base original'!$AJ61)","v":2.1858353669736825},{"$f":"-('Base original'!AI73/'Base original'!AI61*100-100)*'Base original'!AI61/('Base original'!$AJ61)","v":-1.4994583206816544E-3},{"$f":"(('Base original'!AF73-'Base original'!AH73)/('Base original'!AF61-'Base original'!AH61)*100-100)*(('Base original'!AF61-'Base original'!AH61)/'Base original'!AJ61)","v":-0.89105310706507201},{"$f":"(('Base original'!AG73-'Base original'!AI73)/('Base original'!AG61-'Base original'!AI61)*100-100)*(('Base original'!AG61-'Base original'!AI61)/'Base original'!AJ61)","v":0.14488516023586481},{"$f":"('Base original'!AJ73/'Base original'!AJ61*100-100)*'Base original'!AJ61/('Base original'!$AJ61)","v":5.855572174551952},{"$f":"('Base original'!AJ73/'Base original'!AJ61*100-100)*'Base original'!AJ61/('Base original'!$AU61)","v":3.4922767708428872},{"$f":"('Base original'!AK73/'Base original'!AK61*100-100)*'Base original'!AK61/('Base original'!$AU61)","v":1.3180575335299267},{"$f":"('Base original'!AL73/'Base original'!AL61*100-100)*'Base original'!AL61/('Base original'!$AU61)","v":-1.0853210578442922},{"$f":"('Base original'!AM73/'Base original'!AM61*100-100)*'Base original'!AM61/('Base original'!$AU61)","v":4.0305217902599457},{"$f":"('Base original'!AN73/'Base original'!AN61*100-100)*'Base original'!AN61/('Base original'!$AU61)","v":-0.48984209243729399},{"$f":"('Base original'!AO73/'Base original'!AO61*100-100)*'Base original'!AO61/('Base original'!$AU61)","v":-0.17773823071093056},{"$f":"('Base original'!AP73/'Base original'!AP61*100-100)*'Base original'!AP61/('Base original'!$AU61)","v":1.1422196486819418},{"$f":"('Base original'!AQ73/'Base original'!AQ61*100-100)*'Base original'!AQ61/('Base original'!$AU61)","v":1.2113028100526073},{"$f":"('Base original'!AR73/'Base original'!AR61*100-100)*'Base original'!AR61/('Base original'!$AU61)","v":-0.15090981852814864},{"$f":"-('Base original'!AS73/'Base original'!AS61*100-100)*'Base original'!AS61/('Base original'!$AU61)","v":1.4236944064996306},{"$f":"-('Base original'!AT73/'Base original'!AT61*100-100)*'Base original'!AT61/('Base original'!$AU61)","v":-3.1299814213245652E-2},{"$f":"(('Base original'!AQ73-'Base original'!AS73)/('Base original'!AQ61-'Base original'!AS61)*100-100)*(('Base original'!AQ61-'Base original'!AS61)/'Base original'!AU61)","v":2.6349972165522368},{"$f":"(('Base original'!AR73-'Base original'!AT73)/('Base original'!AR61-'Base original'!AT61)*100-100)*(('Base original'!AR61-'Base original'!AT61)/'Base original'!AU61)","v":-0.18220963274139423},{"$f":"('Base original'!AU73/'Base original'!AU61*100-100)*'Base original'!AU61/('Base original'!$AU61)","v":10.984222657935533}]
["2011-04-01",{"$f":"'Base original'!B74/'Base original'!B62*100-100","v":8.8543120419594601},{"$f":"'Base original'!C74/'Base original'!C62*100-100","v":15.582002455314381},{"$f":"'Base original'!D74/'Base original'!D62*100-100","v":13.169709934082704},{"$f":"'Base original'!E74/'Base original'!E62*100-100","v":22.283118630898556},{"$f":"'Base original'!F74/'Base original'!F62*100-100","v":11.629987680018132},{"$f":"'Base original'!H74","v":22.279210606505799},{"$f":"'Base original'!I74","v":36.259782721346703},{"$f":"'Base original'!J74","v":26.697226351466899},{"$f":"'Base original'!K74","v":25.053270189381099},{"$f":"'Base original'!G74","v":27.117885715615099},{"$f":"'Base original'!M74","v":6.4663750809739504},{"$f":"'Base original'!N74","v":7.1537848242211304},{"$f":"'Base original'!O74","v":7.7653166316198101},{"$f":"'Base original'!P74","v":10.2531278980642},{"$f":"'Base original'!Q74","v":11.9230210159599},{"$f":"'Base original'!L74","v":8.4234255582339106},{"$f":"'Base original'!S74","v":1.6813773407575301},{"$f":"'Base original'!T74","v":1.2729906373067801},{"$f":"'Base original'!U74","v":1.77123865106221},{"$f":"'Base original'!V74","v":2.40919742264657},{"$f":"'Base original'!W74","v":3.4209182480891198},{"$f":"'Base original'!R74","v":1.6399518332446801},{"$f":"'Base original'!X74","v":4.3059766507292601},{"$f":"('Base original'!Z74/'Base original'!Z62*100-100)*'Base original'!Z62/'Base original'!$AC62","v":1.961796592669077},{"$f":"('Base original'!AA74/'Base original'!AA62*100-100)*'Base original'!AA62/'Base original'!$AC62","v":7.9671824638267523},{"$f":"('Base original'!AB74/'Base original'!AB62*100-100)*'Base original'!AB62/'Base original'!$AC62","v":3.7987135302571535},{"$f":"('Base original'!AC74/'Base original'!AC62*100-100)*'Base original'!AC62/'Base original'!$AC62","v":13.727692586752994},{"$f":"('Base original'!AC74/'Base original'!AC62*100-100)*'Base original'!AC62/('Base original'!$AJ62)","v":3.645846843675308},{"$f":"('Base original'!AD74/'Base original'!AD62*100-100)*'Base original'!AD62/('Base original'!$AJ62)","v":4.1639028367085897},{"$f":"('Base original'!AE74/'Base original'!AE62*100-100)*'Base original'!AE62/('Base original'!$AJ62)","v":0.26347482907487363},{"$f":"('Base original'!AF74/'Base original'!AF62*100-100)*'Base original'!AF62/('Base original'!$AJ62)","v":-3.5758092308832512},{"$f":"('Base original'!AG74/'Base original'!AG62*100-100)*'Base original'!AG62/('Base original'!$AJ62)","v":0.17490874729021158},{"$f":"-('Base original'!AH74/'Base original'!AH62*100-100)*'Base original'!AH62/('Base original'!$AJ62)","v":2.3079060977191461},{"$f":"-('Base original'!AI74/'Base original'!AI62*100-100)*'Base original'!AI62/('Base original'!$AJ62)","v":1.2969928294824979E-3},{"$f":"(('Base original'!AF74-'Base original'!AH74)/('Base original'!AF62-'Base original'!AH62)*100-100)*(('Base original'!AF62-'Base original'!AH62)/'Base original'!AJ62)","v":-1.2679031331641053},{"$f":"(('Base original'!AG74-'Base original'!AI74)/('Base original'!AG62-'Base original'!AI62)*100-100)*(('Base original'!AG62-'Base original'!AI62)/'Base original'!AJ62)","v":0.17620574011969398},{"$f":"('Base original'!AJ74/'Base original'!AJ62*100-100)*'Base original'!AJ62/('Base original'!$AJ62)","v":6.9813418317244498},{"$f":"('Base original'!AJ74/'Base original'!AJ62*100-100)*'Base original'!AJ62/('Base original'!$AU62)","v":4.1591375962681596},{"$f":"('Base original'!AK74/'Base original'!AK62*100-100)*'Base original'!AK62/('Base original'!$AU62)","v":1.0745827781966215},{"$f":"('Base original'!AL74/'Base original'!AL62*100-100)*'Base original'!AL62/('Base original'!$AU62)","v":-1.3609174188378179},{"$f":"('Base original'!AM74/'Base original'!AM62*100-100)*'Base original'!AM62/('Base original'!$AU62)","v":3.9192743834257064},{"$f":"('Base original'!AN74/'Base original'!AN62*100-100)*'Base original'!AN62/('Base original'!$AU62)","v":-0.40499683751447396},{"$f":"('Base original'!AO74/'Base original'!AO62*100-100)*'Base original'!AO62/('Base original'!$AU62)","v":-0.20023555825872327},{"$f":"('Base original'!AP74/'Base original'!AP62*100-100)*'Base original'!AP62/('Base original'!$AU62)","v":1.1605714771401396},{"$f":"('Base original'!AQ74/'Base original'!AQ62*100-100)*'Base original'!AQ62/('Base original'!$AU62)","v":0.92435091778310297},{"$f":"('Base original'!AR74/'Base original'!AR62*100-100)*'Base original'!AR62/('Base original'!$AU62)","v":0.13378472800968724},{"$f":"-('Base original'!AS74/'Base original'!AS62*100-100)*'Base original'!AS62/('Base original'!$AU62)","v":1.495143680603312},{"$f":"-('Base original'!AT74/'Base original'!AT62*100-100)*'Base original'!AT62/('Base original'!$AU62)","v":-3.7199218926785967E-2},{"$f":"(('Base original'!AQ74-'Base original'!AS74)/('Base original'!AQ62-'Base original'!AS62)*100-100)*(('Base original'!AQ62-'Base original'!AS62)/'Base original'!AU62)","v":2.419494598386414},{"$f":"(('Base original'!AR74-'Base original'!AT74)/('Base original'!AR62-'Base original'!AT62)*100-100)*(('Base original'!AR62-'Base original'!AT62)/'Base original'!AU62)","v":9.6585509082901089E-2},{"$f":"('Base original'!AU74/'Base original'!AU62*100-100)*'Base original'!AU62/('Base original'!$AU62)","v":10.863496527888913}]
["2011-05-01",{"$f":"'Base original'!B75/'Base original'!B63*100-100","v":9.9920773991111389},{"$f":"'Base original'!C75/'Base original'!C63*100-100","v":16.123681239131656},{"$f":"'Base original'!D75/'Base original'!D63*100-100","v":12.939603793113434},{"$f":"'Base original'!E75/'Base original'!E63*100-100","v":23.691101925593699},{"$f":"'Base original'!F75/'Base original'!F63*100-100","v":12.427053581933407},{"$f":"'Base original'!H75","v":23},{"$f":"'Base original'!I75","v":36.04},{"$f":"'Base original'!J75","v":27.52},{"$f":"'Base original'!K75","v":25.27},{"$f":"'Base original'!G75","v":27.319752293923599},{"$f":"'Base original'!M75","v":6.91},{"$f":"'Base original'!N75","v":7.67},{"$f":"'Base original'!O75","v":8.33},{"$f":"'Base original'!P75","v":9.92},{"$f":"'Base original'!Q75","v":11.15},{"$f":"'Base original'!L75","v":8.6587811839057807},{"$f":"'Base original'!S75","v":1.74},{"$f":"'Base original'!T75","v":1.28},{"$f":"'Base original'!U75","v":1.81},{"$f":"'Base original'!V75","v":1.86},{"$f":"'Base original'!W75","v":2.0299999999999998},{"$f":"'Base original'!R75","v":1.6287831033851501},{"$f":"'Base original'!X75","v":4.16},{"$f":"('Base original'!Z75/'Base original'!Z63*100-100)*'Base original'!Z63/'Base original'!$AC63","v":1.7868313524017403},{"$f":"('Base original'!AA75/'Base original'!AA63*100-100)*'Base original'!AA63/'Base original'!$AC63","v":6.5264264703925035},{"$f":"('Base original'!AB75/'Base original'!AB63*100-100)*'Base original'!AB63/'Base original'!$AC63","v":2.0210826134987299},{"$f":"('Base original'!AC75/'Base original'!AC63*100-100)*'Base original'!AC63/'Base original'!$AC63","v":10.334340436292976},{"$f":"('Base original'!AC75/'Base original'!AC63*100-100)*'Base original'!AC63/('Base original'!$AJ63)","v":2.8316353975394373},{"$f":"('Base original'!AD75/'Base original'!AD63*100-100)*'Base original'!AD63/('Base original'!$AJ63)","v":4.4528647310137828},{"$f":"('Base original'!AE75/'Base original'!AE63*100-100)*'Base original'!AE63/('Base original'!$AJ63)","v":0.25528299031201063},{"$f":"('Base original'!AF75/'Base original'!AF63*100-100)*'Base original'!AF63/('Base original'!$AJ63)","v":-3.1235697314605289},{"$f":"('Base original'!AG75/'Base original'!AG63*100-100)*'Base original'!AG63/('Base original'!$AJ63)","v":0.16994553355056707},{"$f":"-('Base original'!AH75/'Base original'!AH63*100-100)*'Base original'!AH63/('Base original'!$AJ63)","v":2.2840533833201735},{"$f":"-('Base original'!AI75/'Base original'!AI63*100-100)*'Base original'!AI63/('Base original'!$AJ63)","v":0},{"$f":"(('Base original'!AF75-'Base original'!AH75)/('Base original'!AF63-'Base original'!AH63)*100-100)*(('Base original'!AF63-'Base original'!AH63)/'Base original'!AJ63)","v":-0.83951634814035392},{"$f":"(('Base original'!AG75-'Base original'!AI75)/('Base original'!AG63-'Base original'!AI63)*100-100)*(('Base original'!AG63-'Base original'!AI63)/'Base original'!AJ63)","v":0.16994553355056713},{"$f":"('Base original'!AJ75/'Base original'!AJ63*100-100)*'Base original'!AJ63/('Base original'!$AJ63)","v":6.8703946492685324},{"$f":"('Base original'!AJ75/'Base original'!AJ63*100-100)*'Base original'!AJ63/('Base original'!$AU63)","v":4.1086270481524432},{"$f":"('Base original'!AK75/'Base original'!AK63*100-100)*'Base original'!AK63/('Base original'!$AU63)","v":0.91238607441720365},{"$f":"('Base original'!AL75/'Base original'!AL63*100-100)*'Base original'!AL63/('Base original'!$AU63)","v":-0.3643219642198976},{"$f":"('Base original'!AM75/'Base original'!AM63*100-100)*'Base original'!AM63/('Base original'!$AU63)","v":3.739943252574025},{"$f":"('Base original'!AN75/'Base original'!AN63*100-100)*'Base original'!AN63/('Base original'!$AU63)","v":-0.64773195673935657},{"$f":"('Base original'!AO75/'Base original'!AO63*100-100)*'Base original'!AO63/('Base original'!$AU63)","v":-0.21536542332663791},{"$f":"('Base original'!AP75/'Base original'!AP63*100-100)*'Base original'!AP63/('Base original'!$AU63)","v":1.1542496232468176},{"$f":"('Base original'!AQ75/'Base original'!AQ63*100-100)*'Base original'!AQ63/('Base original'!$AU63)","v":0.84575910041589941},{"$f":"('Base original'!AR75/'Base original'!AR63*100-100)*'Base original'!AR63/('Base original'!$AU63)","v":0.14503089267059666},{"$f":"-('Base original'!AS75/'Base original'!AS63*100-100)*'Base original'!AS63/('Base original'!$AU63)","v":1.1792211077743098},{"$f":"-('Base original'!AT75/'Base original'!AT63*100-100)*'Base original'!AT63/('Base original'!$AU63)","v":-3.5985108707741999E-2},{"$f":"(('Base original'!AQ75-'Base original'!AS75)/('Base original'!AQ63-'Base original'!AS63)*100-100)*(('Base original'!AQ63-'Base original'!AS63)/'Base original'!AU63)","v":2.0249802081902106},{"$f":"(('Base original'!AR75-'Base original'!AT75)/('Base original'!AR63-'Base original'!AT63)*100-100)*(('Base original'!AR63-'Base original'!AT63)/'Base original'!AU63)","v":0.10904578396285466},{"$f":"('Base original'!AU75/'Base original'!AU63*100-100)*'Base original'!AU63/('Base original'!$AU63)","v":10.821921692041613}]
["2011-06-01",{"$f":"'Base original'!B76/'Base original'!B64*100-100","v":10.020583411672206},{"$f":"'Base original'!C76/'Base original'!C64*100-100","v":16.739563119408942},{"$f":"'Base original'!D76/'Base original'!D64*100-100","v":12.676304603767093},{"$f":"'Base original'!E76/'Base original'!E64*100-100","v":16.28320501983373},{"$f":"'Base original'!F76/'Base original'!F64*100-100","v":11.908836515628423},{"$f":"'Base original'!H76","v":22.97},{"$f":"'Base original'!I76","v":35.229999999999997},{"$f":"'Base original'!J76","v":26.91},{"$f":"'Base original'!K76","v":24.72},{"$f":"'Base original'!G76","v":26.940850667834901},{"$f":"'Base original'!M76","v":7.03},{"$f":"'Base original'!N76","v":8.5299999999999994},{"$f":"'Base original'!O76","v":8.5399999999999991},{"$f":"'Base original'!P76","v":9.9600000000000009},{"$f":"'Base original'!Q76","v":11.54},{"$f":"'Base original'!L76","v":9.0991380381480607},{"$f":"'Base original'!S76","v":1.69},{"$f":"'Base original'!T76","v":1.4},{"$f":"'Base original'!U76","v":1.86},{"$f":"'Base original'!V76","v":2.1800000000000002},{"$f":"'Base original'!W76","v":2.6},{"$f":"'Base original'!R76","v":1.7759442266732399},{"$f":"'Base original'!X76","v":4.13},{"$f":"('Base original'!Z76/'Base original'!Z64*100-100)*'Base original'!Z64/'Base original'!$AC64","v":1.8273899650185359},{"$f":"('Base original'!AA76/'Base original'!AA64*100-100)*'Base original'!AA64/'Base original'!$AC64","v":7.2527802433039241},{"$f":"('Base original'!AB76/'Base original'!AB64*100-100)*'Base original'!AB64/'Base original'!$AC64","v":-4.3726831305800011E-2},{"$f":"('Base original'!AC76/'Base original'!AC64*100-100)*'Base original'!AC64/'Base original'!$AC64","v":9.0364433770166528},{"$f":"('Base original'!AC76/'Base original'!AC64*100-100)*'Base original'!AC64/('Base original'!$AJ64)","v":2.5250112153827633},{"$f":"('Base original'!AD76/'Base original'!AD64*100-100)*'Base original'!AD64/('Base original'!$AJ64)","v":6.8846037413787542},{"$f":"('Base original'!AE76/'Base original'!AE64*100-100)*'Base original'!AE64/('Base original'!$AJ64)","v":0.21920146474722421},{"$f":"('Base original'!AF76/'Base original'!AF64*100-100)*'Base original'!AF64/('Base original'!$AJ64)","v":-2.4053804659034128},{"$f":"('Base original'!AG76/'Base original'!AG64*100-100)*'Base original'!AG64/('Base original'!$AJ64)","v":0.16139209342869748},{"$f":"-('Base original'!AH76/'Base original'!AH64*100-100)*'Base original'!AH64/('Base original'!$AJ64)","v":2.254018389580454},{"$f":"-('Base original'!AI76/'Base original'!AI64*100-100)*'Base original'!AI64/('Base original'!$AJ64)","v":-2.917823158032953E-3},{"$f":"(('Base original'!AF76-'Base original'!AH76)/('Base original'!AF64-'Base original'!AH64)*100-100)*(('Base original'!AF64-'Base original'!AH64)/'Base original'!AJ64)","v":-0.15136207632295923},{"$f":"(('Base original'!AG76-'Base original'!AI76)/('Base original'!AG64-'Base original'!AI64)*100-100)*(('Base original'!AG64-'Base original'!AI64)/'Base original'!AJ64)","v":0.15847427027066455},{"$f":"('Base original'!AJ76/'Base original'!AJ64*100-100)*'Base original'!AJ64/('Base original'!$AJ64)","v":9.6357462515090457},{"$f":"('Base original'!AJ76/'Base original'!AJ64*100-100)*'Base original'!AJ64/('Base original'!$AU64)","v":5.7417380607751776},{"$f":"('Base original'!AK76/'Base original'!AK64*100-100)*'Base original'!AK64/('Base original'!$AU64)","v":0.65352232668727051},{"$f":"('Base original'!AL76/'Base original'!AL64*100-100)*'Base original'!AL64/('Base original'!$AU64)","v":0.91584405874963637},{"$f":"('Base original'!AM76/'Base original'!AM64*100-100)*'Base original'!AM64/('Base original'!$AU64)","v":3.5912214586566176},{"$f":"('Base original'!AN76/'Base original'!AN64*100-100)*'Base original'!AN64/('Base original'!$AU64)","v":-0.8429286145848276},{"$f":"('Base original'!AO76/'Base original'!AO64*100-100)*'Base original'!AO64/('Base original'!$AU64)","v":-0.17984360669561553},{"$f":"('Base original'!AP76/'Base original'!AP64*100-100)*'Base original'!AP64/('Base original'!$AU64)","v":1.2702065973806931},{"$f":"('Base original'!AQ76/'Base original'!AQ64*100-100)*'Base original'!AQ64/('Base original'!$AU64)","v":0.70296573517458338},{"$f":"('Base original'!AR76/'Base original'!AR64*100-100)*'Base original'!AR64/('Base original'!$AU64)","v":0.1434402180291314},{"$f":"-('Base original'!AS76/'Base original'!AS64*100-100)*'Base original'!AS64/('Base original'!$AU64)","v":0.77490317785283036},{"$f":"-('Base original'!AT76/'Base original'!AT64*100-100)*'Base original'!AT64/('Base original'!$AU64)","v":-3.6186055002803634E-2},{"$f":"(('Base original'!AQ76-'Base original'!AS76)/('Base original'!AQ64-'Base original'!AS64)*100-100)*(('Base original'!AQ64-'Base original'!AS64)/'Base original'!AU64)","v":1.4778689130274159},{"$f":"(('Base original'!AR76-'Base original'!AT76)/('Base original'!AR64-'Base original'!AT64)*100-100)*(('Base original'!AR64-'Base original'!AT64)/'Base original'!AU64)","v":0.10725416302632784},{"$f":"('Base original'!AU76/'Base original'!AU64*100-100)*'Base original'!AU64/('Base original'!$AU64)","v":12.735100690686394}]
["2011-07-01",{"$f":"'Base original'!B77/'Base original'!B65*100-100","v":11.248296822379118},{"$f":"'Base original'!C77/'Base original'!C65*100-100","v":17.020027254733122},{"$f":"'Base original'!D77/'Base original'!D65*100-100","v":12.826064611698868},{"$f":"'Base original'!E77/'Base original'!E65*100-100","v":24.93166533780186},{"$f":"'Base original'!F77/'Base original'!F65*100-100","v":13.309131062443598},{"$f":"'Base original'!H77","v":22.82},{"$f":"'Base original'!I77","v":36},{"$f":"'Base original'!J77","v":27.37},{"$f":"'Base original'!K77","v":25.36},{"$f":"'Base original'!G77","v":27.438141379244001},{"$f":"'Base original'!M77","v":7.98},{"$f":"'Base original'!N77","v":8.5399999999999991},{"$f":"'Base original'!O77","v":8.11},{"$f":"'Base original'!P77","v":10.51},{"$f":"'Base original'!Q77","v":11.56},{"$f":"'Base original'!L77","v":9.4809083494664108},{"$f":"'Base original'!S77","v":1.92},{"$f":"'Base original'!T77","v":1.59},{"$f":"'Base original'!U77","v":1.77},{"$f":"'Base original'!V77","v":2.1},{"$f":"'Base original'!W77","v":1.74},{"$f":"'Base original'!R77","v":1.7864255577894801},{"$f":"'Base original'!X77","v":4.13},{"$f":"('Base original'!Z77/'Base original'!Z65*100-100)*'Base original'!Z65/'Base original'!$AC65","v":1.8679062151294479},{"$f":"('Base original'!AA77/'Base original'!AA65*100-100)*'Base original'!AA65/'Base original'!$AC65","v":6.0236509015998321},{"$f":"('Base original'!AB77/'Base original'!AB65*100-100)*'Base original'!AB65/'Base original'!$AC65","v":-0.27599321241573532},{"$f":"('Base original'!AC77/'Base original'!AC65*100-100)*'Base original'!AC65/'Base original'!$AC65","v":7.6155639043135466},{"$f":"('Base original'!AC77/'Base original'!AC65*100-100)*'Base original'!AC65/('Base original'!$AJ65)","v":2.1229796813137654},{"$f":"('Base original'!AD77/'Base original'!AD65*100-100)*'Base original'!AD65/('Base original'!$AJ65)","v":10.641219378861869},{"$f":"('Base original'!AE77/'Base original'!AE65*100-100)*'Base original'!AE65/('Base original'!$AJ65)","v":0.17559585711577366},{"$f":"('Base original'!AF77/'Base original'!AF65*100-100)*'Base original'!AF65/('Base original'!$AJ65)","v":-3.8839079465408184},{"$f":"('Base original'!AG77/'Base original'!AG65*100-100)*'Base original'!AG65/('Base original'!$AJ65)","v":0.16473615526060517},{"$f":"-('Base original'!AH77/'Base original'!AH65*100-100)*'Base original'!AH65/('Base original'!$AJ65)","v":3.5225927814273312},{"$f":"-('Base original'!AI77/'Base original'!AI65*100-100)*'Base original'!AI65/('Base original'!$AJ65)","v":-1.2884392031555702E-3},{"$f":"(('Base original'!AF77-'Base original'!AH77)/('Base original'!AF65-'Base original'!AH65)*100-100)*(('Base original'!AF65-'Base original'!AH65)/'Base original'!AJ65)","v":-0.36131516511348422},{"$f":"(('Base original'!AG77-'Base original'!AI77)/('Base original'!AG65-'Base original'!AI65)*100-100)*(('Base original'!AG65-'Base original'!AI65)/'Base original'!AJ65)","v":0.16344771605744957},{"$f":"('Base original'!AJ77/'Base original'!AJ65*100-100)*'Base original'!AJ65/('Base original'!$AJ65)","v":12.741743405492059},{"$f":"('Base original'!AJ77/'Base original'!AJ65*100-100)*'Base original'!AJ65/('Base original'!$AU65)","v":7.6225890706002026},{"$f":"('Base original'!AK77/'Base original'!AK65*100-100)*'Base original'!AK65/('Base original'!$AU65)","v":0.77266460828315808},{"$f":"('Base original'!AL77/'Base original'!AL65*100-100)*'Base original'!AL65/('Base original'!$AU65)","v":2.1488598875083142},{"$f":"('Base original'!AM77/'Base original'!AM65*100-100)*'Base original'!AM65/('Base original'!$AU65)","v":3.7371332678526596},{"$f":"('Base original'!AN77/'Base original'!AN65*100-100)*'Base original'!AN65/('Base original'!$AU65)","v":-0.69899885041776921},{"$f":"('Base original'!AO77/'Base original'!AO65*100-100)*'Base original'!AO65/('Base original'!$AU65)","v":-0.11198516554424567},{"$f":"('Base original'!AP77/'Base original'!AP65*100-100)*'Base original'!AP65/('Base original'!$AU65)","v":1.4014112112896921},{"$f":"('Base original'!AQ77/'Base original'!AQ65*100-100)*'Base original'!AQ65/('Base original'!$AU65)","v":0.14490902444073533},{"$f":"('Base original'!AR77/'Base original'!AR65*100-100)*'Base original'!AR65/('Base original'!$AU65)","v":0.10603905055959537},{"$f":"-('Base original'!AS77/'Base original'!AS65*100-100)*'Base original'!AS65/('Base original'!$AU65)","v":1.2154299481586861},{"$f":"-('Base original'!AT77/'Base original'!AT65*100-100)*'Base original'!AT65/('Base original'!$AU65)","v":-5.307458190002598E-2},{"$f":"(('Base original'!AQ77-'Base original'!AS77)/('Base original'!AQ65-'Base original'!AS65)*100-100)*(('Base original'!AQ65-'Base original'!AS65)/'Base original'!AU65)","v":1.3603389725994217},{"$f":"(('Base original'!AR77-'Base original'!AT77)/('Base original'!AR65-'Base original'!AT65)*100-100)*(('Base original'!AR65-'Base original'!AT65)/'Base original'!AU65)","v":5.2964468659569393E-2},{"$f":"('Base original'!AU77/'Base original'!AU65*100-100)*'Base original'!AU65/('Base original'!$AU65)","v":16.284867357590542}]
["2011-08-01",{"$f":"'Base original'!B78/'Base original'!B66*100-100","v":11.737279838085229},{"$f":"'Base original'!C78/'Base original'!C66*100-100","v":17.274914686564429},{"$f":"'Base original'!D78/'Base original'!D66*100-100","v":12.256788858208949},{"$f":"'Base original'!E78/'Base original'!E66*100-100","v":31.110256444694727},{"$f":"'Base original'!F78/'Base original'!F66*100-100","v":13.911022206568774},{"$f":"'Base original'!H78","v":23.57},{"$f":"'Base original'!I78","v":35.71},{"$f":"'Base original'!J78","v":27.53},{"$f":"'Base original'!K78","v":25.6},{"$f":"'Base original'!G78","v":27.68},{"$f":"'Base original'!M78","v":8.2200000000000006},{"$f":"'Base original'!N78","v":9.09},{"$f":"'Base original'!O78","v":7.71},{"$f":"'Base original'!P78","v":9.86},{"$f":"'Base original'!Q78","v":13.08},{"$f":"'Base original'!L78","v":9.61},{"$f":"'Base original'!S78","v":1.75},{"$f":"'Base original'!T78","v":1.38},{"$f":"'Base original'!U78","v":1.87},{"$f":"'Base original'!V78","v":2.1800000000000002},{"$f":"'Base original'!W78","v":2.0099999999999998},{"$f":"'Base original'!R78","v":1.75},{"$f":"'Base original'!X78","v":4.17},{"$f":"('Base original'!Z78/'Base original'!Z66*100-100)*'Base original'!Z66/'Base original'!$AC66","v":2.1394192627069319},{"$f":"('Base original'!AA78/'Base original'!AA66*100-100)*'Base original'!AA66/'Base original'!$AC66","v":7.2221928386311935},{"$f":"('Base original'!AB78/'Base original'!AB66*100-100)*'Base original'!AB66/'Base original'!$AC66","v":-6.3468556619238642E-2},{"$f":"('Base original'!AC78/'Base original'!AC66*100-100)*'Base original'!AC66/'Base original'!$AC66","v":9.2981435447188971},{"$f":"('Base original'!AC78/'Base original'!AC66*100-100)*'Base original'!AC66/('Base original'!$AJ66)","v":2.6312293850549042},{"$f":"('Base original'!AD78/'Base original'!AD66*100-100)*'Base original'!AD66/('Base original'!$AJ66)","v":14.595427902182031},{"$f":"('Base original'!AE78/'Base original'!AE66*100-100)*'Base original'!AE66/('Base original'!$AJ66)","v":0.19382491772730917},{"$f":"('Base original'!AF78/'Base original'!AF66*100-100)*'Base original'!AF66/('Base original'!$AJ66)","v":-2.7520893241010813},{"$f":"('Base original'!AG78/'Base original'!AG66*100-100)*'Base original'!AG66/('Base original'!$AJ66)","v":0.16613564376626516},{"$f":"-('Base original'!AH78/'Base original'!AH66*100-100)*'Base original'!AH66/('Base original'!$AJ66)","v":1.8490073956554047},{"$f":"-('Base original'!AI78/'Base original'!AI66*100-100)*'Base original'!AI66/('Base original'!$AJ66)","v":-5.4256009788532572E-3},{"$f":"(('Base original'!AF78-'Base original'!AH78)/('Base original'!AF66-'Base original'!AH66)*100-100)*(('Base original'!AF66-'Base original'!AH66)/'Base original'!AJ66)","v":-0.90308192844567714},{"$f":"(('Base original'!AG78-'Base original'!AI78)/('Base original'!AG66-'Base original'!AI66)*100-100)*(('Base original'!AG66-'Base original'!AI66)/'Base original'!AJ66)","v":0.16071004278741191},{"$f":"('Base original'!AJ78/'Base original'!AJ66*100-100)*'Base original'!AJ66/('Base original'!$AJ66)","v":16.678110319305972},{"$f":"('Base original'!AJ78/'Base original'!AJ66*100-100)*'Base original'!AJ66/('Base original'!$AU66)","v":9.9154332391972435},{"$f":"('Base original'!AK78/'Base original'!AK66*100-100)*'Base original'!AK66/('Base original'!$AU66)","v":0.88415254718019842},{"$f":"('Base original'!AL78/'Base original'!AL66*100-100)*'Base original'!AL66/('Base original'!$AU66)","v":2.8910420186574104},{"$f":"('Base original'!AM78/'Base original'!AM66*100-100)*'Base original'!AM66/('Base original'!$AU66)","v":4.1977502994817888},{"$f":"('Base original'!AN78/'Base original'!AN66*100-100)*'Base original'!AN66/('Base original'!$AU66)","v":-0.66558923667458925},{"$f":"('Base original'!AO78/'Base original'!AO66*100-100)*'Base original'!AO66/('Base original'!$AU66)","v":-6.1397937607682751E-2},{"$f":"('Base original'!AP78/'Base original'!AP66*100-100)*'Base original'!AP66/('Base original'!$AU66)","v":1.3784504361811811},{"$f":"('Base original'!AQ78/'Base original'!AQ66*100-100)*'Base original'!AQ66/('Base original'!$AU66)","v":-0.63978430637571004},{"$f":"('Base original'!AR78/'Base original'!AR66*100-100)*'Base original'!AR66/('Base original'!$AU66)","v":6.4178641303682893E-2},{"$f":"-('Base original'!AS78/'Base original'!AS66*100-100)*'Base original'!AS66/('Base original'!$AU66)","v":1.3467504140467801},{"$f":"-('Base original'!AT78/'Base original'!AT66*100-100)*'Base original'!AT66/('Base original'!$AU66)","v":-7.7192334600963475E-2},{"$f":"(('Base original'!AQ78-'Base original'!AS78)/('Base original'!AQ66-'Base original'!AS66)*100-100)*(('Base original'!AQ66-'Base original'!AS66)/'Base original'!AU66)","v":0.70696610767107082},{"$f":"(('Base original'!AR78-'Base original'!AT78)/('Base original'!AR66-'Base original'!AT66)*100-100)*(('Base original'!AR66-'Base original'!AT66)/'Base original'!AU66)","v":-1.3013693297280512E-2},{"$f":"('Base original'!AU78/'Base original'!AU66*100-100)*'Base original'!AU66/('Base original'!$AU66)","v":19.234016237085001}]
["2011-09-01",{"$f":"'Base original'!B79/'Base original'!B67*100-100","v":13.754569266109158},{"$f":"'Base original'!C79/'Base original'!C67*100-100","v":17.352151178709292},{"$f":"'Base original'!D79/'Base original'!D67*100-100","v":12.13321307685311},{"$f":"'Base original'!E79/'Base original'!E67*100-100","v":53.739933410933929},{"$f":"'Base original'!F79/'Base original'!F67*100-100","v":16.553744090807541},{"$f":"'Base original'!H79","v":27.28},{"$f":"'Base original'!I79","v":36.72},{"$f":"'Base original'!J79","v":27.76},{"$f":"'Base original'!K79","v":25.89},{"$f":"'Base original'!G79","v":28.74},{"$f":"'Base original'!M79","v":7.83},{"$f":"'Base original'!N79","v":8.98},{"$f":"'Base original'!O79","v":7.62},{"$f":"'Base original'!P79","v":9.91},{"$f":"'Base original'!Q79","v":11.84},{"$f":"'Base original'!L79","v":9.3000000000000007},{"$f":"'Base original'!S79","v":1.93},{"$f":"'Base original'!T79","v":1.44},{"$f":"'Base original'!U79","v":1.95},{"$f":"'Base original'!V79","v":2.2799999999999998},{"$f":"'Base original'!W79","v":2.4500000000000002},{"$f":"'Base original'!R79","v":1.81},{"$f":"'Base original'!X79","v":4.17},{"$f":"('Base original'!Z79/'Base original'!Z67*100-100)*'Base original'!Z67/'Base original'!$AC67","v":2.1579929451459505},{"$f":"('Base original'!AA79/'Base original'!AA67*100-100)*'Base original'!AA67/'Base original'!$AC67","v":6.3519247482235057},{"$f":"('Base original'!AB79/'Base original'!AB67*100-100)*'Base original'!AB67/'Base original'!$AC67","v":-1.0767598793517716},{"$f":"('Base original'!AC79/'Base original'!AC67*100-100)*'Base original'!AC67/'Base original'!$AC67","v":7.4331578140177044},{"$f":"('Base original'!AC79/'Base original'!AC67*100-100)*'Base original'!AC67/('Base original'!$AJ67)","v":2.1516236138471969},{"$f":"('Base original'!AD79/'Base original'!AD67*100-100)*'Base original'!AD67/('Base original'!$AJ67)","v":14.070641769096316},{"$f":"('Base original'!AE79/'Base original'!AE67*100-100)*'Base original'!AE67/('Base original'!$AJ67)","v":0.17480092117310828},{"$f":"('Base original'!AF79/'Base original'!AF67*100-100)*'Base original'!AF67/('Base original'!$AJ67)","v":1.7173034414509392},{"$f":"('Base original'!AG79/'Base original'!AG67*100-100)*'Base original'!AG67/('Base original'!$AJ67)","v":0.17184132885694986},{"$f":"-('Base original'!AH79/'Base original'!AH67*100-100)*'Base original'!AH67/('Base original'!$AJ67)","v":-2.4475828454630371},{"$f":"-('Base original'!AI79/'Base original'!AI67*100-100)*'Base original'!AI67/('Base original'!$AJ67)","v":-1.1283445705354089E-2},{"$f":"(('Base original'!AF79-'Base original'!AH79)/('Base original'!AF67-'Base original'!AH67)*100-100)*(('Base original'!AF67-'Base original'!AH67)/'Base original'!AJ67)","v":-0.73027940401209768},{"$f":"(('Base original'!AG79-'Base original'!AI79)/('Base original'!AG67-'Base original'!AI67)*100-100)*(('Base original'!AG67-'Base original'!AI67)/'Base original'!AJ67)","v":0.16055788315159583},{"$f":"('Base original'!AJ79/'Base original'!AJ67*100-100)*'Base original'!AJ67/('Base original'!$AJ67)","v":15.827344783256109},{"$f":"('Base original'!AJ79/'Base original'!AJ67*100-100)*'Base original'!AJ67/('Base original'!$AU67)","v":9.3049734547534602},{"$f":"('Base original'!AK79/'Base original'!AK67*100-100)*'Base original'!AK67/('Base original'!$AU67)","v":0.7715629832463714},{"$f":"('Base original'!AL79/'Base original'!AL67*100-100)*'Base original'!AL67/('Base original'!$AU67)","v":3.7234030984316449},{"$f":"('Base original'!AM79/'Base original'!AM67*100-100)*'Base original'!AM67/('Base original'!$AU67)","v":4.3629467072367065},{"$f":"('Base original'!AN79/'Base original'!AN67*100-100)*'Base original'!AN67/('Base original'!$AU67)","v":-0.57636135464492877},{"$f":"('Base original'!AO79/'Base original'!AO67*100-100)*'Base original'!AO67/('Base original'!$AU67)","v":-3.5560408107338029E-2},{"$f":"('Base original'!AP79/'Base original'!AP67*100-100)*'Base original'!AP67/('Base original'!$AU67)","v":1.3024679140721354},{"$f":"('Base original'!AQ79/'Base original'!AQ67*100-100)*'Base original'!AQ67/('Base original'!$AU67)","v":-1.1466328534671939},{"$f":"('Base original'!AR79/'Base original'!AR67*100-100)*'Base original'!AR67/('Base original'!$AU67)","v":1.6747103512324342E-2},{"$f":"-('Base original'!AS79/'Base original'!AS67*100-100)*'Base original'!AS67/('Base original'!$AU67)","v":0.57625260721952387},{"$f":"-('Base original'!AT79/'Base original'!AT67*100-100)*'Base original'!AT67/('Base original'!$AU67)","v":-9.341403842264033E-2},{"$f":"(('Base original'!AQ79-'Base original'!AS79)/('Base original'!AQ67-'Base original'!AS67)*100-100)*(('Base original'!AQ67-'Base original'!AS67)/'Base original'!AU67)","v":-0.57038024624767047},{"$f":"(('Base original'!AR79-'Base original'!AT79)/('Base original'!AR67-'Base original'!AT67)*100-100)*(('Base original'!AR67-'Base original'!AT67)/'Base original'!AU67)","v":-7.6666934910315981E-2},{"$f":"('Base original'!AU79/'Base original'!AU67*100-100)*'Base original'!AU67/('Base original'!$AU67)","v":18.206276466404674}]
["2011-10-01",{"$f":"'Base original'!B80/'Base original'!B68*100-100","v":14.015088342973428},{"$f":"'Base original'!C80/'Base original'!C68*100-100","v":17.234479025918944},{"$f":"'Base original'!D80/'Base original'!D68*100-100","v":11.884133383645917},{"$f":"'Base original'!E80/'Base original'!E68*100-100","v":35.634797748585015},{"$f":"'Base original'!F80/'Base original'!F68*100-100","v":15.454617394643861},{"$f":"'Base original'!H80","v":25.25},{"$f":"'Base original'!I80","v":35.72},{"$f":"'Base original'!J80","v":27.09},{"$f":"'Base original'!K80","v":25.55},{"$f":"'Base original'!G80","v":27.73},{"$f":"'Base original'!M80","v":7.93},{"$f":"'Base original'!N80","v":9.11},{"$f":"'Base original'!O80","v":7.93},{"$f":"'Base original'!P80","v":10.49},{"$f":"'Base original'!Q80","v":11.84},{"$f":"'Base original'!L80","v":9.59},{"$f":"'Base original'!S80","v":2.2799999999999998},{"$f":"'Base original'!T80","v":1.53},{"$f":"'Base original'!U80","v":2.35},{"$f":"'Base original'!V80","v":2.54},{"$f":"'Base original'!W80","v":3.01},{"$f":"'Base original'!R80","v":2.02},{"$f":"'Base original'!X80","v":4.1100000000000003},{"$f":"('Base original'!Z80/'Base original'!Z68*100-100)*'Base original'!Z68/'Base original'!$AC68","v":2.4383455239821323},{"$f":"('Base original'!AA80/'Base original'!AA68*100-100)*'Base original'!AA68/'Base original'!$AC68","v":8.0652469415496135},{"$f":"('Base original'!AB80/'Base original'!AB68*100-100)*'Base original'!AB68/'Base original'!$AC68","v":-0.99423910932746717},{"$f":"('Base original'!AC80/'Base original'!AC68*100-100)*'Base original'!AC68/'Base original'!$AC68","v":9.5087060651174955},{"$f":"('Base original'!AC80/'Base original'!AC68*100-100)*'Base original'!AC68/('Base original'!$AJ68)","v":2.6997572240100154},{"$f":"('Base original'!AD80/'Base original'!AD68*100-100)*'Base original'!AD68/('Base original'!$AJ68)","v":17.907715718688596},{"$f":"('Base original'!AE80/'Base original'!AE68*100-100)*'Base original'!AE68/('Base original'!$AJ68)","v":0.23854900454492828},{"$f":"('Base original'!AF80/'Base original'!AF68*100-100)*'Base original'!AF68/('Base original'!$AJ68)","v":2.6106229657632567},{"$f":"('Base original'!AG80/'Base original'!AG68*100-100)*'Base original'!AG68/('Base original'!$AJ68)","v":0.1801063362511785},{"$f":"-('Base original'!AH80/'Base original'!AH68*100-100)*'Base original'!AH68/('Base original'!$AJ68)","v":-3.3659668861636045},{"$f":"-('Base original'!AI80/'Base original'!AI68*100-100)*'Base original'!AI68/('Base original'!$AJ68)","v":-1.3048520279422113E-2},{"$f":"(('Base original'!AF80-'Base original'!AH80)/('Base original'!AF68-'Base original'!AH68)*100-100)*(('Base original'!AF68-'Base original'!AH68)/'Base original'!AJ68)","v":-0.75534392040034726},{"$f":"(('Base original'!AG80-'Base original'!AI80)/('Base original'!AG68-'Base original'!AI68)*100-100)*(('Base original'!AG68-'Base original'!AI68)/'Base original'!AJ68)","v":0.1670578159717564},{"$f":"('Base original'!AJ80/'Base original'!AJ68*100-100)*'Base original'!AJ68/('Base original'!$AJ68)","v":20.25810340676648},{"$f":"('Base original'!AJ80/'Base original'!AJ68*100-100)*'Base original'!AJ68/('Base original'!$AU68)","v":11.829367102191933},{"$f":"('Base original'!AK80/'Base original'!AK68*100-100)*'Base original'!AK68/('Base original'!$AU68)","v":0.47830869530223075},{"$f":"('Base original'!AL80/'Base original'!AL68*100-100)*'Base original'!AL68/('Base original'!$AU68)","v":4.7538969227054446},{"$f":"('Base original'!AM80/'Base original'!AM68*100-100)*'Base original'!AM68/('Base original'!$AU68)","v":4.5376546025272981},{"$f":"('Base original'!AN80/'Base original'!AN68*100-100)*'Base original'!AN68/('Base original'!$AU68)","v":-0.67416092077375023},{"$f":"('Base original'!AO80/'Base original'!AO68*100-100)*'Base original'!AO68/('Base original'!$AU68)","v":-3.1336356075443349E-2},{"$f":"('Base original'!AP80/'Base original'!AP68*100-100)*'Base original'!AP68/('Base original'!$AU68)","v":1.4187213264293204},{"$f":"('Base original'!AQ80/'Base original'!AQ68*100-100)*'Base original'!AQ68/('Base original'!$AU68)","v":-1.2498054892281267},{"$f":"('Base original'!AR80/'Base original'!AR68*100-100)*'Base original'!AR68/('Base original'!$AU68)","v":-1.6097443189440015E-2},{"$f":"-('Base original'!AS80/'Base original'!AS68*100-100)*'Base original'!AS68/('Base original'!$AU68)","v":0.32441713841118242},{"$f":"-('Base original'!AT80/'Base original'!AT68*100-100)*'Base original'!AT68/('Base original'!$AU68)","v":-9.6477342848710818E-2},{"$f":"(('Base original'!AQ80-'Base original'!AS80)/('Base original'!AQ68-'Base original'!AS68)*100-100)*(('Base original'!AQ68-'Base original'!AS68)/'Base original'!AU68)","v":-0.92538835081694426},{"$f":"(('Base original'!AR80-'Base original'!AT80)/('Base original'!AR68-'Base original'!AT68)*100-100)*(('Base original'!AR68-'Base original'!AT68)/'Base original'!AU68)","v":-0.11257478603815102},{"$f":"('Base original'!AU80/'Base original'!AU68*100-100)*'Base original'!AU68/('Base original'!$AU68)","v":21.274488235451955}]
["2011-11-01",{"$f":"'Base original'!B81/'Base original'!B69*100-100","v":15.287564811146126},{"$f":"'Base original'!C81/'Base original'!C69*100-100","v":18.101772472356743},{"$f":"'Base original'!D81/'Base original'!D69*100-100","v":12.247254713659288},{"$f":"'Base original'!E81/'Base original'!E69*100-100","v":38.36536602609857},{"$f":"'Base original'!F81/'Base original'!F69*100-100","v":16.585731333614319},{"$f":"'Base original'!H81","v":24.21},{"$f":"'Base original'!I81","v":34.090000000000003},{"$f":"'Base original'!J81","v":26.53},{"$f":"'Base original'!K81","v":25.32},{"$f":"'Base original'!G81","v":26.96},{"$f":"'Base original'!M81","v":7.67},{"$f":"'Base original'!N81","v":9.1},{"$f":"'Base original'!O81","v":7.29},{"$f":"'Base original'!P81","v":10.7},{"$f":"'Base original'!Q81","v":13.29},{"$f":"'Base original'!L81","v":9.5},{"$f":"'Base original'!S81","v":2.36},{"$f":"'Base original'!T81","v":1.78},{"$f":"'Base original'!U81","v":2.58},{"$f":"'Base original'!V81","v":2.41},{"$f":"'Base original'!W81","v":2.88},{"$f":"'Base original'!R81","v":2.2200000000000002},{"$f":"'Base original'!X81","v":4.1500000000000004},{"$f":"('Base original'!Z81/'Base original'!Z69*100-100)*'Base original'!Z69/'Base original'!$AC69","v":2.7586476501977395},{"$f":"('Base original'!AA81/'Base original'!AA69*100-100)*'Base original'!AA69/'Base original'!$AC69","v":8.34956769893342},{"$f":"('Base original'!AB81/'Base original'!AB69*100-100)*'Base original'!AB69/'Base original'!$AC69","v":-1.6073650810197984},{"$f":"('Base original'!AC81/'Base original'!AC69*100-100)*'Base original'!AC69/'Base original'!$AC69","v":9.5015018145568604},{"$f":"('Base original'!AC81/'Base original'!AC69*100-100)*'Base original'!AC69/('Base original'!$AJ69)","v":2.6609857124609992},{"$f":"('Base original'!AD81/'Base original'!AD69*100-100)*'Base original'!AD69/('Base original'!$AJ69)","v":17.972738718683274},{"$f":"('Base original'!AE81/'Base original'!AE69*100-100)*'Base original'!AE69/('Base original'!$AJ69)","v":0.23429374304326395},{"$f":"('Base original'!AF81/'Base original'!AF69*100-100)*'Base original'!AF69/('Base original'!$AJ69)","v":1.7603050927868893},{"$f":"('Base original'!AG81/'Base original'!AG69*100-100)*'Base original'!AG69/('Base original'!$AJ69)","v":0.17736255314490068},{"$f":"-('Base original'!AH81/'Base original'!AH69*100-100)*'Base original'!AH69/('Base original'!$AJ69)","v":-2.4418371257047959},{"$f":"-('Base original'!AI81/'Base original'!AI69*100-100)*'Base original'!AI69/('Base original'!$AJ69)","v":-7.2988704997901544E-3},{"$f":"(('Base original'!AF81-'Base original'!AH81)/('Base original'!AF69-'Base original'!AH69)*100-100)*(('Base original'!AF69-'Base original'!AH69)/'Base original'!AJ69)","v":-0.68153203291790754},{"$f":"(('Base original'!AG81-'Base original'!AI81)/('Base original'!AG69-'Base original'!AI69)*100-100)*(('Base original'!AG69-'Base original'!AI69)/'Base original'!AJ69)","v":0.17006368264511063},{"$f":"('Base original'!AJ81/'Base original'!AJ69*100-100)*'Base original'!AJ69/('Base original'!$AJ69)","v":20.356914767439733},{"$f":"('Base original'!AJ81/'Base original'!AJ69*100-100)*'Base original'!AJ69/('Base original'!$AU69)","v":11.796988839800269},{"$f":"('Base original'!AK81/'Base original'!AK69*100-100)*'Base original'!AK69/('Base original'!$AU69)","v":0.22290791196194989},{"$f":"('Base original'!AL81/'Base original'!AL69*100-100)*'Base original'!AL69/('Base original'!$AU69)","v":4.8573410512201756},{"$f":"('Base original'!AM81/'Base original'!AM69*100-100)*'Base original'!AM69/('Base original'!$AU69)","v":4.0733565828682368},{"$f":"('Base original'!AN81/'Base original'!AN69*100-100)*'Base original'!AN69/('Base original'!$AU69)","v":-0.58508039700449022},{"$f":"('Base original'!AO81/'Base original'!AO69*100-100)*'Base original'!AO69/('Base original'!$AU69)","v":-5.3294870791661467E-2},{"$f":"('Base original'!AP81/'Base original'!AP69*100-100)*'Base original'!AP69/('Base original'!$AU69)","v":1.5511556738946066},{"$f":"('Base original'!AQ81/'Base original'!AQ69*100-100)*'Base original'!AQ69/('Base original'!$AU69)","v":-1.3610283372211802},{"$f":"('Base original'!AR81/'Base original'!AR69*100-100)*'Base original'!AR69/('Base original'!$AU69)","v":-3.3415038036041761E-2},{"$f":"-('Base original'!AS81/'Base original'!AS69*100-100)*'Base original'!AS69/('Base original'!$AU69)","v":0.289420756660273},{"$f":"-('Base original'!AT81/'Base original'!AT69*100-100)*'Base original'!AT69/('Base original'!$AU69)","v":-8.2903132342584479E-2},{"$f":"(('Base original'!AQ81-'Base original'!AS81)/('Base original'!AQ69-'Base original'!AS69)*100-100)*(('Base original'!AQ69-'Base original'!AS69)/'Base original'!AU69)","v":-1.0716075805609078},{"$f":"(('Base original'!AR81-'Base original'!AT81)/('Base original'!AR69-'Base original'!AT69)*100-100)*(('Base original'!AR69-'Base original'!AT69)/'Base original'!AU69)","v":-0.11631817037862632},{"$f":"('Base original'!AU81/'Base original'!AU69*100-100)*'Base original'!AU69/('Base original'!$AU69)","v":20.675449041009571}]
["2011-12-01",{"$f":"'Base original'!B82/'Base original'!B70*100-100","v":15.569854725386008},{"$f":"'Base original'!C82/'Base original'!C70*100-100","v":17.71566490830692},{"$f":"'Base original'!D82/'Base original'!D70*100-100","v":12.392925608811893},{"$f":"'Base original'!E82/'Base original'!E70*100-100","v":43.920502370324016},{"$f":"'Base original'!F82/'Base original'!F70*100-100","v":16.937997631403405},{"$f":"'Base original'!H82","v":24.9},{"$f":"'Base original'!I82","v":33.58},{"$f":"'Base original'!J82","v":27.49},{"$f":"'Base original'!K82","v":25.97},{"$f":"'Base original'!G82","v":27.48},{"$f":"'Base original'!M82","v":9.15},{"$f":"'Base original'!N82","v":9.36},{"$f":"'Base original'!O82","v":7.81},{"$f":"'Base original'!P82","v":9.44},{"$f":"'Base original'!Q82","v":10.17},{"$f":"'Base original'!L82","v":9.2799999999999994},{"$f":"'Base original'!S82","v":2.6},{"$f":"'Base original'!T82","v":2.52},{"$f":"'Base original'!U82","v":2.86},{"$f":"'Base original'!V82","v":3.23},{"$f":"'Base original'!W82","v":3.29},{"$f":"'Base original'!R82","v":2.75},{"$f":"'Base original'!X82","v":4.26},{"$f":"('Base original'!Z82/'Base original'!Z70*100-100)*'Base original'!Z70/'Base original'!$AC70","v":2.717722006283608},{"$f":"('Base original'!AA82/'Base original'!AA70*100-100)*'Base original'!AA70/'Base original'!$AC70","v":9.8948178871682764},{"$f":"('Base original'!AB82/'Base original'!AB70*100-100)*'Base original'!AB70/'Base original'!$AC70","v":-0.79228084990127845},{"$f":"('Base original'!AC82/'Base original'!AC70*100-100)*'Base original'!AC70/'Base original'!$AC70","v":11.820259043550593},{"$f":"('Base original'!AC82/'Base original'!AC70*100-100)*'Base original'!AC70/('Base original'!$AJ70)","v":3.368724673072494},{"$f":"('Base original'!AD82/'Base original'!AD70*100-100)*'Base original'!AD70/('Base original'!$AJ70)","v":15.279680062288762},{"$f":"('Base original'!AE82/'Base original'!AE70*100-100)*'Base original'!AE70/('Base original'!$AJ70)","v":0.25481764612199376},{"$f":"('Base original'!AF82/'Base original'!AF70*100-100)*'Base original'!AF70/('Base original'!$AJ70)","v":1.7099325794977986},{"$f":"('Base original'!AG82/'Base original'!AG70*100-100)*'Base original'!AG70/('Base original'!$AJ70)","v":0.16899364725451688},{"$f":"-('Base original'!AH82/'Base original'!AH70*100-100)*'Base original'!AH70/('Base original'!$AJ70)","v":-2.3039762170196947},{"$f":"-('Base original'!AI82/'Base original'!AI70*100-100)*'Base original'!AI70/('Base original'!$AJ70)","v":-1.6280016280016286E-2},{"$f":"(('Base original'!AF82-'Base original'!AH82)/('Base original'!AF70-'Base original'!AH70)*100-100)*(('Base original'!AF70-'Base original'!AH70)/'Base original'!AJ70)","v":-0.59404363752189637},{"$f":"(('Base original'!AG82-'Base original'!AI82)/('Base original'!AG70-'Base original'!AI70)*100-100)*(('Base original'!AG70-'Base original'!AI70)/'Base original'!AJ70)","v":0.15271363097450061},{"$f":"('Base original'!AJ82/'Base original'!AJ70*100-100)*'Base original'!AJ70/('Base original'!$AJ70)","v":18.461892374935857},{"$f":"('Base original'!AJ82/'Base original'!AJ70*100-100)*'Base original'!AJ70/('Base original'!$AU70)","v":10.788067671264326},{"$f":"('Base original'!AK82/'Base original'!AK70*100-100)*'Base original'!AK70/('Base original'!$AU70)","v":0.16317042830686321},{"$f":"('Base original'!AL82/'Base original'!AL70*100-100)*'Base original'!AL70/('Base original'!$AU70)","v":4.7155012940924648},{"$f":"('Base original'!AM82/'Base original'!AM70*100-100)*'Base original'!AM70/('Base original'!$AU70)","v":3.7799081158158478},{"$f":"('Base original'!AN82/'Base original'!AN70*100-100)*'Base original'!AN70/('Base original'!$AU70)","v":-0.49664611353476984},{"$f":"('Base original'!AO82/'Base original'!AO70*100-100)*'Base original'!AO70/('Base original'!$AU70)","v":-5.1184640058236766E-2},{"$f":"('Base original'!AP82/'Base original'!AP70*100-100)*'Base original'!AP70/('Base original'!$AU70)","v":1.639976548128556},{"$f":"('Base original'!AQ82/'Base original'!AQ70*100-100)*'Base original'!AQ70/('Base original'!$AU70)","v":-1.4716359541592434},{"$f":"('Base original'!AR82/'Base original'!AR70*100-100)*'Base original'!AR70/('Base original'!$AU70)","v":-5.0564220178742951E-2},{"$f":"-('Base original'!AS82/'Base original'!AS70*100-100)*'Base original'!AS70/('Base original'!$AU70)","v":-3.443330331190439E-2},{"$f":"-('Base original'!AT82/'Base original'!AT70*100-100)*'Base original'!AT70/('Base original'!$AU70)","v":-7.0417656322543931E-2},{"$f":"(('Base original'!AQ82-'Base original'!AS82)/('Base original'!AQ70-'Base original'!AS70)*100-100)*(('Base original'!AQ70-'Base original'!AS70)/'Base original'!AU70)","v":-1.5060692574711478},{"$f":"(('Base original'!AR82-'Base original'!AT82)/('Base original'!AR70-'Base original'!AT70)*100-100)*(('Base original'!AR70-'Base original'!AT70)/'Base original'!AU70)","v":-0.12098187650128683},{"$f":"('Base original'!AU82/'Base original'!AU70*100-100)*'Base original'!AU70/('Base original'!$AU70)","v":18.91205237998237}]
["2012-01-01",{"$f":"'Base original'!B83/'Base original'!B71*100-100","v":15.911833992965072},{"$f":"'Base original'!C83/'Base original'!C71*100-100","v":17.243628373664066},{"$f":"'Base original'!D83/'Base original'!D71*100-100","v":12.765775683884712},{"$f":"'Base original'!E83/'Base original'!E71*100-100","v":17.367214764393182},{"$f":"'Base original'!F83/'Base original'!F71*100-100","v":15.41046539919806},{"$f":"'Base original'!H83","v":23.96},{"$f":"'Base original'!I83","v":34.450000000000003},{"$f":"'Base original'!J83","v":28.19},{"$f":"'Base original'!K83","v":27.1},{"$f":"'Base original'!G83","v":28.04},{"$f":"'Base original'!M83","v":9.02},{"$f":"'Base original'!N83","v":9.1199999999999992},{"$f":"'Base original'!O83","v":7.89},{"$f":"'Base original'!P83","v":9.33},{"$f":"'Base original'!Q83","v":11.74},{"$f":"'Base original'!L83","v":9.39},{"$f":"'Base original'!S83","v":2.62},{"$f":"'Base original'!T83","v":2.4900000000000002},{"$f":"'Base original'!U83","v":2.82},{"$f":"'Base original'!V83","v":3.2},{"$f":"'Base original'!W83","v":1.62},{"$f":"'Base original'!R83","v":2.7},{"$f":"'Base original'!X83","v":4.33},{"$f":"('Base original'!Z83/'Base original'!Z71*100-100)*'Base original'!Z71/'Base original'!$AC71","v":2.6733693641232827},{"$f":"('Base original'!AA83/'Base original'!AA71*100-100)*'Base original'!AA71/'Base original'!$AC71","v":9.0495453690729661},{"$f":"('Base original'!AB83/'Base original'!AB71*100-100)*'Base original'!AB71/'Base original'!$AC71","v":-1.3958291631030215},{"$f":"('Base original'!AC83/'Base original'!AC71*100-100)*'Base original'!AC71/'Base original'!$AC71","v":10.326478991137861},{"$f":"('Base original'!AC83/'Base original'!AC71*100-100)*'Base original'!AC71/('Base original'!$AJ71)","v":2.983564582358472},{"$f":"('Base original'!AD83/'Base original'!AD71*100-100)*'Base original'!AD71/('Base original'!$AJ71)","v":16.90434054157312},{"$f":"('Base original'!AE83/'Base original'!AE71*100-100)*'Base original'!AE71/('Base original'!$AJ71)","v":0.24075836360864147},{"$f":"('Base original'!AF83/'Base original'!AF71*100-100)*'Base original'!AF71/('Base original'!$AJ71)","v":1.9908414627929483},{"$f":"('Base original'!AG83/'Base original'!AG71*100-100)*'Base original'!AG71/('Base original'!$AJ71)","v":0.15332301628469849},{"$f":"-('Base original'!AH83/'Base original'!AH71*100-100)*'Base original'!AH71/('Base original'!$AJ71)","v":-2.0771004156833843},{"$f":"-('Base original'!AI83/'Base original'!AI71*100-100)*'Base original'!AI71/('Base original'!$AJ71)","v":-1.5865254138209633E-2},{"$f":"(('Base original'!AF83-'Base original'!AH83)/('Base original'!AF71-'Base original'!AH71)*100-100)*(('Base original'!AF71-'Base original'!AH71)/'Base original'!AJ71)","v":-8.6258952890435975E-2},{"$f":"(('Base original'!AG83-'Base original'!AI83)/('Base original'!AG71-'Base original'!AI71)*100-100)*(('Base original'!AG71-'Base original'!AI71)/'Base original'!AJ71)","v":0.1374577621464888},{"$f":"('Base original'!AJ83/'Base original'!AJ71*100-100)*'Base original'!AJ71/('Base original'!$AJ71)","v":20.180037551836165},{"$f":"('Base original'!AJ83/'Base original'!AJ71*100-100)*'Base original'!AJ71/('Base original'!$AU71)","v":11.691906497561595},{"$f":"('Base original'!AK83/'Base original'!AK71*100-100)*'Base original'!AK71/('Base original'!$AU71)","v":0.37933026752541699},{"$f":"('Base original'!AL83/'Base original'!AL71*100-100)*'Base original'!AL71/('Base original'!$AU71)","v":4.8225449590339968},{"$f":"('Base original'!AM83/'Base original'!AM71*100-100)*'Base original'!AM71/('Base original'!$AU71)","v":3.0006000968684292},{"$f":"('Base original'!AN83/'Base original'!AN71*100-100)*'Base original'!AN71/('Base original'!$AU71)","v":1.0523526132644753E-2},{"$f":"('Base original'!AO83/'Base original'!AO71*100-100)*'Base original'!AO71/('Base original'!$AU71)","v":-3.3223185773134968E-2},{"$f":"('Base original'!AP83/'Base original'!AP71*100-100)*'Base original'!AP71/('Base original'!$AU71)","v":1.606109409998163},{"$f":"('Base original'!AQ83/'Base original'!AQ71*100-100)*'Base original'!AQ71/('Base original'!$AU71)","v":-1.3037173616496076},{"$f":"('Base original'!AR83/'Base original'!AR71*100-100)*'Base original'!AR71/('Base original'!$AU71)","v":-5.0468208066073612E-2},{"$f":"-('Base original'!AS83/'Base original'!AS71*100-100)*'Base original'!AS71/('Base original'!$AU71)","v":-0.45635099528386525},{"$f":"-('Base original'!AT83/'Base original'!AT71*100-100)*'Base original'!AT71/('Base original'!$AU71)","v":-6.6243485147788855E-2},{"$f":"(('Base original'!AQ83-'Base original'!AS83)/('Base original'!AQ71-'Base original'!AS71)*100-100)*(('Base original'!AQ71-'Base original'!AS71)/'Base original'!AU71)","v":-1.7600683569334727},{"$f":"(('Base original'!AR83-'Base original'!AT83)/('Base original'!AR71-'Base original'!AT71)*100-100)*(('Base original'!AR71-'Base original'!AT71)/'Base original'!AU71)","v":-0.11671169321386254},{"$f":"('Base original'!AU83/'Base original'!AU71*100-100)*'Base original'!AU71/('Base original'!$AU71)","v":19.60101152119978}]
["2012-02-01",{"$f":"'Base original'!B84/'Base original'!B72*100-100","v":16.240271690980833},{"$f":"'Base original'!C84/'Base original'!C72*100-100","v":16.970955624196421},{"$f":"'Base original'!D84/'Base original'!D72*100-100","v":12.82149959847149},{"$f":"'Base original'!E84/'Base original'!E72*100-100","v":15.729348733939744},{"$f":"'Base original'!F84/'Base original'!F72*100-100","v":15.45308765383831},{"$f":"'Base original'!H84","v":27.12},{"$f":"'Base original'!I84","v":36.22},{"$f":"'Base original'!J84","v":28.78},{"$f":"'Base original'!K84","v":28.38},{"$f":"'Base original'!G84","v":29.81},{"$f":"'Base original'!M84","v":9.0399999999999991},{"$f":"'Base original'!N84","v":8.5299999999999994},{"$f":"'Base original'!O84","v":7.4},{"$f":"'Base original'!P84","v":10.34},{"$f":"'Base original'!Q84","v":12.44},{"$f":"'Base original'!L84","v":9.4600000000000009},{"$f":"'Base original'!S84","v":2.2799999999999998},{"$f":"'Base original'!T84","v":2.23},{"$f":"'Base original'!U84","v":2.85},{"$f":"'Base original'!V84","v":3.06},null,{"$f":"'Base original'!R84","v":2.5},{"$f":"'Base original'!X84","v":4.32},{"$f":"('Base original'!Z84/'Base original'!Z72*100-100)*'Base original'!Z72/'Base original'!$AC72","v":2.7538871529826836},{"$f":"('Base original'!AA84/'Base original'!AA72*100-100)*'Base original'!AA72/'Base original'!$AC72","v":6.3080712391057272},{"$f":"('Base original'!AB84/'Base original'!AB72*100-100)*'Base original'!AB72/'Base original'!$AC72","v":1.1144683468029934},{"$f":"('Base original'!AC84/'Base original'!AC72*100-100)*'Base original'!AC72/'Base original'!$AC72","v":10.176451586852963},{"$f":"('Base original'!AC84/'Base original'!AC72*100-100)*'Base original'!AC72/('Base original'!$AJ72)","v":2.9132581927856593},{"$f":"('Base original'!AD84/'Base original'!AD72*100-100)*'Base original'!AD72/('Base original'!$AJ72)","v":16.936456562408861},{"$f":"('Base original'!AE84/'Base original'!AE72*100-100)*'Base original'!AE72/('Base original'!$AJ72)","v":0.30616157233196578},{"$f":"('Base original'!AF84/'Base original'!AF72*100-100)*'Base original'!AF72/('Base original'!$AJ72)","v":2.140738697002289},{"$f":"('Base original'!AG84/'Base original'!AG72*100-100)*'Base original'!AG72/('Base original'!$AJ72)","v":0.1450337838932714},{"$f":"-('Base original'!AH84/'Base original'!AH72*100-100)*'Base original'!AH72/('Base original'!$AJ72)","v":-2.3133710832010506},{"$f":"-('Base original'!AI84/'Base original'!AI72*100-100)*'Base original'!AI72/('Base original'!$AJ72)","v":-2.8923224822344482E-3},{"$f":"(('Base original'!AF84-'Base original'!AH84)/('Base original'!AF72-'Base original'!AH72)*100-100)*(('Base original'!AF72-'Base original'!AH72)/'Base original'!AJ72)","v":-0.17263238619876267},{"$f":"(('Base original'!AG84-'Base original'!AI84)/('Base original'!AG72-'Base original'!AI72)*100-100)*(('Base original'!AG72-'Base original'!AI72)/'Base original'!AJ72)","v":0.14214146141103698},{"$f":"('Base original'!AJ84/'Base original'!AJ72*100-100)*'Base original'!AJ72/('Base original'!$AJ72)","v":20.125385402738758},{"$f":"('Base original'!AJ84/'Base original'!AJ72*100-100)*'Base original'!AJ72/('Base original'!$AU72)","v":11.462201856530049},{"$f":"('Base original'!AK84/'Base original'!AK72*100-100)*'Base original'!AK72/('Base original'!$AU72)","v":0.32117901696594175},{"$f":"('Base original'!AL84/'Base original'!AL72*100-100)*'Base original'!AL72/('Base original'!$AU72)","v":4.6250963456024365},{"$f":"('Base original'!AM84/'Base original'!AM72*100-100)*'Base original'!AM72/('Base original'!$AU72)","v":2.6383978625202693},{"$f":"('Base original'!AN84/'Base original'!AN72*100-100)*'Base original'!AN72/('Base original'!$AU72)","v":0.10652658530928343},{"$f":"('Base original'!AO84/'Base original'!AO72*100-100)*'Base original'!AO72/('Base original'!$AU72)","v":-1.4439231119047222E-2},{"$f":"('Base original'!AP84/'Base original'!AP72*100-100)*'Base original'!AP72/('Base original'!$AU72)","v":1.4813125592653327},{"$f":"('Base original'!AQ84/'Base original'!AQ72*100-100)*'Base original'!AQ72/('Base original'!$AU72)","v":-0.89994754756980155},{"$f":"('Base original'!AR84/'Base original'!AR72*100-100)*'Base original'!AR72/('Base original'!$AU72)","v":-3.7150386749732457E-2},{"$f":"-('Base original'!AS84/'Base original'!AS72*100-100)*'Base original'!AS72/('Base original'!$AU72)","v":-0.70152632329206199},{"$f":"-('Base original'!AT84/'Base original'!AT72*100-100)*'Base original'!AT72/('Base original'!$AU72)","v":-6.4866601807731322E-2},{"$f":"(('Base original'!AQ84-'Base original'!AS84)/('Base original'!AQ72-'Base original'!AS72)*100-100)*(('Base original'!AQ72-'Base original'!AS72)/'Base original'!AU72)","v":-1.6014738708618637},{"$f":"(('Base original'!AR84-'Base original'!AT84)/('Base original'!AR72-'Base original'!AT72)*100-100)*(('Base original'!AR72-'Base original'!AT72)/'Base original'!AU72)","v":-0.10201698855746366},{"$f":"('Base original'!AU84/'Base original'!AU72*100-100)*'Base original'!AU72/('Base original'!$AU72)","v":18.910200730494964}]
["2012-03-01",{"$f":"'Base original'!B85/'Base original'!B73*100-100","v":16.926108453098053},{"$f":"'Base original'!C85/'Base original'!C73*100-100","v":15.955980007815882},{"$f":"'Base original'!D85/'Base original'!D73*100-100","v":12.863688810817138},{"$f":"'Base original'!E85/'Base original'!E73*100-100","v":15.531903244831071},{"$f":"'Base original'!F85/'Base original'!F73*100-100","v":15.713502917011283},{"$f":"'Base original'!H85","v":24.31},{"$f":"'Base original'!I85","v":35.36},{"$f":"'Base original'!J85","v":25.22},{"$f":"'Base original'!K85","v":27.09},{"$f":"'Base original'!G85","v":27.97},{"$f":"'Base original'!M85","v":8.52},{"$f":"'Base original'!N85","v":9.1199999999999992},{"$f":"'Base original'!O85","v":8.52},{"$f":"'Base original'!P85","v":10.15},{"$f":"'Base original'!Q85","v":9.99},{"$f":"'Base original'!L85","v":9.33},{"$f":"'Base original'!S85","v":2.25},{"$f":"'Base original'!T85","v":2.0099999999999998},{"$f":"'Base original'!U85","v":2.72},{"$f":"'Base original'!V85","v":3.02},{"$f":"'Base original'!W85","v":3.48},{"$f":"'Base original'!R85","v":2.34},{"$f":"'Base original'!X85","v":4.29},{"$f":"('Base original'!Z85/'Base original'!Z73*100-100)*'Base original'!Z73/'Base original'!$AC73","v":2.9290300439896422},{"$f":"('Base original'!AA85/'Base original'!AA73*100-100)*'Base original'!AA73/'Base original'!$AC73","v":6.882787882569497},{"$f":"('Base original'!AB85/'Base original'!AB73*100-100)*'Base original'!AB73/'Base original'!$AC73","v":1.6497238947992419},{"$f":"('Base original'!AC85/'Base original'!AC73*100-100)*'Base original'!AC73/'Base original'!$AC73","v":11.461541821358395},{"$f":"('Base original'!AC85/'Base original'!AC73*100-100)*'Base original'!AC73/('Base original'!$AJ73)","v":3.2524634052627071},{"$f":"('Base original'!AD85/'Base original'!AD73*100-100)*'Base original'!AD73/('Base original'!$AJ73)","v":18.297821933646965},{"$f":"('Base original'!AE85/'Base original'!AE73*100-100)*'Base original'!AE73/('Base original'!$AJ73)","v":0.36373761214801958},{"$f":"('Base original'!AF85/'Base original'!AF73*100-100)*'Base original'!AF73/('Base original'!$AJ73)","v":2.6196537203616383},{"$f":"('Base original'!AG85/'Base original'!AG73*100-100)*'Base original'!AG73/('Base original'!$AJ73)","v":0.12541874812090653},{"$f":"-('Base original'!AH85/'Base original'!AH73*100-100)*'Base original'!AH73/('Base original'!$AJ73)","v":-3.3568203856112118},{"$f":"-('Base original'!AI85/'Base original'!AI73*100-100)*'Base original'!AI73/('Base original'!$AJ73)","v":-6.7500694126958524E-3},{"$f":"(('Base original'!AF85-'Base original'!AH85)/('Base original'!AF73-'Base original'!AH73)*100-100)*(('Base original'!AF73-'Base original'!AH73)/'Base original'!AJ73)","v":-0.73716666524957364},{"$f":"(('Base original'!AG85-'Base original'!AI85)/('Base original'!AG73-'Base original'!AI73)*100-100)*(('Base original'!AG73-'Base original'!AI73)/'Base original'!AJ73)","v":0.11866867870821061},{"$f":"('Base original'!AJ85/'Base original'!AJ73*100-100)*'Base original'!AJ73/('Base original'!$AJ73)","v":21.295347900346485},{"$f":"('Base original'!AJ85/'Base original'!AJ73*100-100)*'Base original'!AJ73/('Base original'!$AU73)","v":12.113692238833988},{"$f":"('Base original'!AK85/'Base original'!AK73*100-100)*'Base original'!AK73/('Base original'!$AU73)","v":0.7286354443231311},{"$f":"('Base original'!AL85/'Base original'!AL73*100-100)*'Base original'!AL73/('Base original'!$AU73)","v":4.5693347138903091},{"$f":"('Base original'!AM85/'Base original'!AM73*100-100)*'Base original'!AM73/('Base original'!$AU73)","v":2.3599577372295126},{"$f":"('Base original'!AN85/'Base original'!AN73*100-100)*'Base original'!AN73/('Base original'!$AU73)","v":-0.2772159752466673},{"$f":"('Base original'!AO85/'Base original'!AO73*100-100)*'Base original'!AO73/('Base original'!$AU73)","v":-2.2059693141666892E-2},{"$f":"('Base original'!AP85/'Base original'!AP73*100-100)*'Base original'!AP73/('Base original'!$AU73)","v":1.4783021300169401},{"$f":"('Base original'!AQ85/'Base original'!AQ73*100-100)*'Base original'!AQ73/('Base original'!$AU73)","v":-0.73771176537390148},{"$f":"('Base original'!AR85/'Base original'!AR73*100-100)*'Base original'!AR73/('Base original'!$AU73)","v":0.22413002701352486},{"$f":"-('Base original'!AS85/'Base original'!AS73*100-100)*'Base original'!AS73/('Base original'!$AU73)","v":-0.43271174549326358},{"$f":"-('Base original'!AT85/'Base original'!AT73*100-100)*'Base original'!AT73/('Base original'!$AU73)","v":-5.4360357522273771E-2},{"$f":"(('Base original'!AQ85-'Base original'!AS85)/('Base original'!AQ73-'Base original'!AS73)*100-100)*(('Base original'!AQ73-'Base original'!AS73)/'Base original'!AU73)","v":-1.1704235108671655},{"$f":"(('Base original'!AR85-'Base original'!AT85)/('Base original'!AR73-'Base original'!AT73)*100-100)*(('Base original'!AR73-'Base original'!AT73)/'Base original'!AU73)","v":0.16976966949125116},{"$f":"('Base original'!AU85/'Base original'!AU73*100-100)*'Base original'!AU73/('Base original'!$AU73)","v":19.678447403635829}]
["2012-04-01",{"$f":"'Base original'!B86/'Base original'!B74*100-100","v":16.60369835011241},{"$f":"'Base original'!C86/'Base original'!C74*100-100","v":15.053279982913523},{"$f":"'Base original'!D86/'Base original'!D74*100-100","v":12.603150529816858},{"$f":"'Base original'!E86/'Base original'!E74*100-100","v":17.825094980350315},{"$f":"'Base original'!F86/'Base original'!F74*100-100","v":15.543699419605034},{"$f":"'Base original'!H86","v":25.78},{"$f":"'Base original'!I86","v":36.78},{"$f":"'Base original'!J86","v":26.19},{"$f":"'Base original'!K86","v":27.1},{"$f":"'Base original'!G86","v":28.97},{"$f":"'Base original'!M86","v":8.33},{"$f":"'Base original'!N86","v":9.83},{"$f":"'Base original'!O86","v":8.49},{"$f":"'Base original'!P86","v":11.19},{"$f":"'Base original'!Q86","v":10.99},{"$f":"'Base original'!L86","v":9.84},{"$f":"'Base original'!S86","v":2.36},{"$f":"'Base original'!T86","v":1.81},{"$f":"'Base original'!U86","v":3.03},{"$f":"'Base original'!V86","v":2.88},{"$f":"'Base original'!W86","v":3.03},{"$f":"'Base original'!R86","v":2.4500000000000002},{"$f":"'Base original'!X86","v":4.37},{"$f":"('Base original'!Z86/'Base original'!Z74*100-100)*'Base original'!Z74/'Base original'!$AC74","v":2.9753642302855559},{"$f":"('Base original'!AA86/'Base original'!AA74*100-100)*'Base original'!AA74/'Base original'!$AC74","v":7.7133760696868405},{"$f":"('Base original'!AB86/'Base original'!AB74*100-100)*'Base original'!AB74/'Base original'!$AC74","v":1.385688433579735},{"$f":"('Base original'!AC86/'Base original'!AC74*100-100)*'Base original'!AC74/'Base original'!$AC74","v":12.074428733552111},{"$f":"('Base original'!AC86/'Base original'!AC74*100-100)*'Base original'!AC74/('Base original'!$AJ74)","v":3.4089894334668607},{"$f":"('Base original'!AD86/'Base original'!AD74*100-100)*'Base original'!AD74/('Base original'!$AJ74)","v":18.098515905221621},{"$f":"('Base original'!AE86/'Base original'!AE74*100-100)*'Base original'!AE74/('Base original'!$AJ74)","v":0.33433265961076469},{"$f":"('Base original'!AF86/'Base original'!AF74*100-100)*'Base original'!AF74/('Base original'!$AJ74)","v":2.5354713824554564},{"$f":"('Base original'!AG86/'Base original'!AG74*100-100)*'Base original'!AG74/('Base original'!$AJ74)","v":2.4711992477342053E-2},{"$f":"-('Base original'!AH86/'Base original'!AH74*100-100)*'Base original'!AH74/('Base original'!$AJ74)","v":-3.2148566439756916},{"$f":"-('Base original'!AI86/'Base original'!AI74*100-100)*'Base original'!AI74/('Base original'!$AJ74)","v":-1.2813304542518123E-2},{"$f":"(('Base original'!AF86-'Base original'!AH86)/('Base original'!AF74-'Base original'!AH74)*100-100)*(('Base original'!AF74-'Base original'!AH74)/'Base original'!AJ74)","v":-0.67938526152023504},{"$f":"(('Base original'!AG86-'Base original'!AI86)/('Base original'!AG74-'Base original'!AI74)*100-100)*(('Base original'!AG74-'Base original'!AI74)/'Base original'!AJ74)","v":1.1898687934823833E-2},{"$f":"('Base original'!AJ86/'Base original'!AJ74*100-100)*'Base original'!AJ74/('Base original'!$AJ74)","v":21.174524618176076},{"$f":"('Base original'!AJ86/'Base original'!AJ74*100-100)*'Base original'!AJ74/('Base original'!$AU74)","v":12.172997229811617},{"$f":"('Base original'!AK86/'Base original'!AK74*100-100)*'Base original'!AK74/('Base original'!$AU74)","v":0.90497426691319505},{"$f":"('Base original'!AL86/'Base original'!AL74*100-100)*'Base original'!AL74/('Base original'!$AU74)","v":4.5194548906804313},{"$f":"('Base original'!AM86/'Base original'!AM74*100-100)*'Base original'!AM74/('Base original'!$AU74)","v":2.211701310998468},{"$f":"('Base original'!AN86/'Base original'!AN74*100-100)*'Base original'!AN74/('Base original'!$AU74)","v":-0.27491738429569768},{"$f":"('Base original'!AO86/'Base original'!AO74*100-100)*'Base original'!AO74/('Base original'!$AU74)","v":-2.2261576404218015E-2},{"$f":"('Base original'!AP86/'Base original'!AP74*100-100)*'Base original'!AP74/('Base original'!$AU74)","v":1.55014968209009},{"$f":"('Base original'!AQ86/'Base original'!AQ74*100-100)*'Base original'!AQ74/('Base original'!$AU74)","v":-0.93705033215218081},{"$f":"('Base original'!AR86/'Base original'!AR74*100-100)*'Base original'!AR74/('Base original'!$AU74)","v":-5.8296809176889584E-2},{"$f":"-('Base original'!AS86/'Base original'!AS74*100-100)*'Base original'!AS74/('Base original'!$AU74)","v":9.0518287319574842E-2},{"$f":"-('Base original'!AT86/'Base original'!AT74*100-100)*'Base original'!AT74/('Base original'!$AU74)","v":-4.4375197923340361E-2},{"$f":"(('Base original'!AQ86-'Base original'!AS86)/('Base original'!AQ74-'Base original'!AS74)*100-100)*(('Base original'!AQ74-'Base original'!AS74)/'Base original'!AU74)","v":-0.84653204483260558},{"$f":"(('Base original'!AR86-'Base original'!AT86)/('Base original'!AR74-'Base original'!AT74)*100-100)*(('Base original'!AR74-'Base original'!AT74)/'Base original'!AU74)","v":-0.10267200710022995},{"$f":"('Base original'!AU86/'Base original'!AU74*100-100)*'Base original'!AU74/('Base original'!$AU74)","v":20.112993934844241}]
["2012-05-01",{"$f":"'Base original'!B87/'Base original'!B75*100-100","v":17.101473198999557},{"$f":"'Base original'!C87/'Base original'!C75*100-100","v":14.970362432029944},{"$f":"'Base original'!D87/'Base original'!D75*100-100","v":12.317496482761285},{"$f":"'Base original'!E87/'Base original'!E75*100-100","v":23.03168363836572},{"$f":"'Base original'!F87/'Base original'!F75*100-100","v":16.185675977461727},{"$f":"'Base original'!H87","v":25.45},{"$f":"'Base original'!I87","v":36.32},{"$f":"'Base original'!J87","v":24.59},{"$f":"'Base original'!K87","v":25.45},{"$f":"'Base original'!G87","v":27.931544579865701},{"$f":"'Base original'!M87","v":7.86},{"$f":"'Base original'!N87","v":9.41},{"$f":"'Base original'!O87","v":8.56},{"$f":"'Base original'!P87","v":11.23},{"$f":"'Base original'!Q87","v":12.58},{"$f":"'Base original'!L87","v":9.9690185256623103},{"$f":"'Base original'!S87","v":2.41},{"$f":"'Base original'!T87","v":1.69},{"$f":"'Base original'!U87","v":2.56},{"$f":"'Base original'!V87","v":2.64},{"$f":"'Base original'!W87","v":3.32},{"$f":"'Base original'!R87","v":2.2949663942874898},{"$f":"'Base original'!X87","v":4.3499999999999996},{"$f":"('Base original'!Z87/'Base original'!Z75*100-100)*'Base original'!Z75/'Base original'!$AC75","v":3.0108447178744826},{"$f":"('Base original'!AA87/'Base original'!AA75*100-100)*'Base original'!AA75/'Base original'!$AC75","v":8.007081033806811},{"$f":"('Base original'!AB87/'Base original'!AB75*100-100)*'Base original'!AB75/'Base original'!$AC75","v":2.0054826743870513},{"$f":"('Base original'!AC87/'Base original'!AC75*100-100)*'Base original'!AC75/'Base original'!$AC75","v":13.024011580566366},{"$f":"('Base original'!AC87/'Base original'!AC75*100-100)*'Base original'!AC75/('Base original'!$AJ75)","v":3.6842800325547835},{"$f":"('Base original'!AD87/'Base original'!AD75*100-100)*'Base original'!AD75/('Base original'!$AJ75)","v":18.398681770174843},{"$f":"('Base original'!AE87/'Base original'!AE75*100-100)*'Base original'!AE75/('Base original'!$AJ75)","v":0.37388007623415587},{"$f":"('Base original'!AF87/'Base original'!AF75*100-100)*'Base original'!AF75/('Base original'!$AJ75)","v":1.6005732352012845},{"$f":"('Base original'!AG87/'Base original'!AG75*100-100)*'Base original'!AG75/('Base original'!$AJ75)","v":2.3329712448962495E-2},{"$f":"-('Base original'!AH87/'Base original'!AH75*100-100)*'Base original'!AH75/('Base original'!$AJ75)","v":-2.5139188097792862},{"$f":"-('Base original'!AI87/'Base original'!AI75*100-100)*'Base original'!AI75/('Base original'!$AJ75)","v":-7.3140048107028077E-3},{"$f":"(('Base original'!AF87-'Base original'!AH87)/('Base original'!AF75-'Base original'!AH75)*100-100)*(('Base original'!AF75-'Base original'!AH75)/'Base original'!AJ75)","v":-0.91334557457800158},{"$f":"(('Base original'!AG87-'Base original'!AI87)/('Base original'!AG75-'Base original'!AI75)*100-100)*(('Base original'!AG75-'Base original'!AI75)/'Base original'!AJ75)","v":1.6015707638259689E-2},{"$f":"('Base original'!AJ87/'Base original'!AJ75*100-100)*'Base original'!AJ75/('Base original'!$AJ75)","v":21.559341389473502},{"$f":"('Base original'!AJ87/'Base original'!AJ75*100-100)*'Base original'!AJ75/('Base original'!$AU75)","v":12.433181180546395},{"$f":"('Base original'!AK87/'Base original'!AK75*100-100)*'Base original'!AK75/('Base original'!$AU75)","v":0.91671061746276683},{"$f":"('Base original'!AL87/'Base original'!AL75*100-100)*'Base original'!AL75/('Base original'!$AU75)","v":4.221569082779685},{"$f":"('Base original'!AM87/'Base original'!AM75*100-100)*'Base original'!AM75/('Base original'!$AU75)","v":2.0789087345319421},{"$f":"('Base original'!AN87/'Base original'!AN75*100-100)*'Base original'!AN75/('Base original'!$AU75)","v":-0.14148056456437541},{"$f":"('Base original'!AO87/'Base original'!AO75*100-100)*'Base original'!AO75/('Base original'!$AU75)","v":-5.851972078780826E-3},{"$f":"('Base original'!AP87/'Base original'!AP75*100-100)*'Base original'!AP75/('Base original'!$AU75)","v":1.571124039155732},{"$f":"('Base original'!AQ87/'Base original'!AQ75*100-100)*'Base original'!AQ75/('Base original'!$AU75)","v":-1.156643099919531},{"$f":"('Base original'!AR87/'Base original'!AR75*100-100)*'Base original'!AR75/('Base original'!$AU75)","v":-7.6516107146792911E-2},{"$f":"-('Base original'!AS87/'Base original'!AS75*100-100)*'Base original'!AS75/('Base original'!$AU75)","v":0.26793393020410783},{"$f":"-('Base original'!AT87/'Base original'!AT75*100-100)*'Base original'!AT75/('Base original'!$AU75)","v":-4.5664373890954547E-2},{"$f":"(('Base original'!AQ87-'Base original'!AS87)/('Base original'!AQ75-'Base original'!AS75)*100-100)*(('Base original'!AQ75-'Base original'!AS75)/'Base original'!AU75)","v":-0.88870916971542357},{"$f":"(('Base original'!AR87-'Base original'!AT87)/('Base original'!AR75-'Base original'!AT75)*100-100)*(('Base original'!AR75-'Base original'!AT75)/'Base original'!AU75)","v":-0.12218048103774741},{"$f":"('Base original'!AU87/'Base original'!AU75*100-100)*'Base original'!AU75/('Base original'!$AU75)","v":20.063271467080199}]
["2012-06-01",{"$f":"'Base original'!B88/'Base original'!B76*100-100","v":17.778368799612323},{"$f":"'Base original'!C88/'Base original'!C76*100-100","v":14.427674486855153},{"$f":"'Base original'!D88/'Base original'!D76*100-100","v":11.972170720233734},{"$f":"'Base original'!E88/'Base original'!E76*100-100","v":22.189943622983051},{"$f":"'Base original'!F88/'Base original'!F76*100-100","v":16.326171398016683},{"$f":"'Base original'!H88","v":24.44},{"$f":"'Base original'!I88","v":36.590000000000003},{"$f":"'Base original'!J88","v":28.96},{"$f":"'Base original'!K88","v":24.97},{"$f":"'Base original'!G88","v":28.013292606401102},{"$f":"'Base original'!M88","v":8.27},{"$f":"'Base original'!N88","v":9.6199999999999992},{"$f":"'Base original'!O88","v":8.75},{"$f":"'Base original'!P88","v":10.8},{"$f":"'Base original'!Q88","v":9.18},{"$f":"'Base original'!L88","v":9.4490771800013693},{"$f":"'Base original'!S88","v":2.29},{"$f":"'Base original'!T88","v":1.81},{"$f":"'Base original'!U88","v":2.75},{"$f":"'Base original'!V88","v":2.81},{"$f":"'Base original'!W88","v":2.99},{"$f":"'Base original'!R88","v":2.3694759377230001},{"$f":"'Base original'!X88","v":4.3},{"$f":"('Base original'!Z88/'Base original'!Z76*100-100)*'Base original'!Z76/'Base original'!$AC76","v":2.9862752139821636},{"$f":"('Base original'!AA88/'Base original'!AA76*100-100)*'Base original'!AA76/'Base original'!$AC76","v":5.788435984916501},{"$f":"('Base original'!AB88/'Base original'!AB76*100-100)*'Base original'!AB76/'Base original'!$AC76","v":1.5407015023642776},{"$f":"('Base original'!AC88/'Base original'!AC76*100-100)*'Base original'!AC76/'Base original'!$AC76","v":10.315412701262943},{"$f":"('Base original'!AC88/'Base original'!AC76*100-100)*'Base original'!AC76/('Base original'!$AJ76)","v":2.8666316251713262},{"$f":"('Base original'!AD88/'Base original'!AD76*100-100)*'Base original'!AD76/('Base original'!$AJ76)","v":16.134777242544811},{"$f":"('Base original'!AE88/'Base original'!AE76*100-100)*'Base original'!AE76/('Base original'!$AJ76)","v":0.45874861940944056},{"$f":"('Base original'!AF88/'Base original'!AF76*100-100)*'Base original'!AF76/('Base original'!$AJ76)","v":3.38237465165711},{"$f":"('Base original'!AG88/'Base original'!AG76*100-100)*'Base original'!AG76/('Base original'!$AJ76)","v":0.10122055600623452},{"$f":"-('Base original'!AH88/'Base original'!AH76*100-100)*'Base original'!AH76/('Base original'!$AJ76)","v":-4.1085902931932106},{"$f":"-('Base original'!AI88/'Base original'!AI76*100-100)*'Base original'!AI76/('Base original'!$AJ76)","v":-6.6495713083341186E-3},{"$f":"(('Base original'!AF88-'Base original'!AH88)/('Base original'!AF76-'Base original'!AH76)*100-100)*(('Base original'!AF76-'Base original'!AH76)/'Base original'!AJ76)","v":-0.72621564153609919},{"$f":"(('Base original'!AG88-'Base original'!AI88)/('Base original'!AG76-'Base original'!AI76)*100-100)*(('Base original'!AG76-'Base original'!AI76)/'Base original'!AJ76)","v":9.4570984697900373E-2},{"$f":"('Base original'!AJ88/'Base original'!AJ76*100-100)*'Base original'!AJ76/('Base original'!$AJ76)","v":18.828679166499455},{"$f":"('Base original'!AJ88/'Base original'!AJ76*100-100)*'Base original'!AJ76/('Base original'!$AU76)","v":10.911159303463089},{"$f":"('Base original'!AK88/'Base original'!AK76*100-100)*'Base original'!AK76/('Base original'!$AU76)","v":0.8215777713945317},{"$f":"('Base original'!AL88/'Base original'!AL76*100-100)*'Base original'!AL76/('Base original'!$AU76)","v":3.6863224597518118},{"$f":"('Base original'!AM88/'Base original'!AM76*100-100)*'Base original'!AM76/('Base original'!$AU76)","v":1.9700743562506853},{"$f":"('Base original'!AN88/'Base original'!AN76*100-100)*'Base original'!AN76/('Base original'!$AU76)","v":-0.14755002226639077},{"$f":"('Base original'!AO88/'Base original'!AO76*100-100)*'Base original'!AO76/('Base original'!$AU76)","v":-3.2292445428064129E-2},{"$f":"('Base original'!AP88/'Base original'!AP76*100-100)*'Base original'!AP76/('Base original'!$AU76)","v":1.2656644647733173},{"$f":"('Base original'!AQ88/'Base original'!AQ76*100-100)*'Base original'!AQ76/('Base original'!$AU76)","v":-1.2136595794257907},{"$f":"('Base original'!AR88/'Base original'!AR76*100-100)*'Base original'!AR76/('Base original'!$AU76)","v":-7.9990343037367087E-2},{"$f":"-('Base original'!AS88/'Base original'!AS76*100-100)*'Base original'!AS76/('Base original'!$AU76)","v":0.1484746980804709},{"$f":"-('Base original'!AT88/'Base original'!AT76*100-100)*'Base original'!AT76/('Base original'!$AU76)","v":-4.5409556167507692E-2},{"$f":"(('Base original'!AQ88-'Base original'!AS88)/('Base original'!AQ76-'Base original'!AS76)*100-100)*(('Base original'!AQ76-'Base original'!AS76)/'Base original'!AU76)","v":-1.0651848813453204},{"$f":"(('Base original'!AR88-'Base original'!AT88)/('Base original'!AR76-'Base original'!AT76)*100-100)*(('Base original'!AR76-'Base original'!AT76)/'Base original'!AU76)","v":-0.12539989920487474},{"$f":"('Base original'!AU88/'Base original'!AU76*100-100)*'Base original'!AU76/('Base original'!$AU76)","v":17.284274716086358}]
["2012-07-01",{"$f":"'Base original'!B89/'Base original'!B77*100-100","v":17.357014853357072},{"$f":"'Base original'!C89/'Base original'!C77*100-100","v":13.990203996619229},{"$f":"'Base original'!D89/'Base original'!D77*100-100","v":11.406169049521935},{"$f":"'Base original'!E89/'Base original'!E77*100-100","v":16.608365352964412},{"$f":"'Base original'!F89/'Base original'!F77*100-100","v":15.450783860249402},{"$f":"'Base original'!H89","v":23.35},{"$f":"'Base original'!I89","v":36.56},{"$f":"'Base original'!J89","v":29.2},{"$f":"'Base original'!K89","v":24.95},{"$f":"'Base original'!G89","v":28.0070344328368},{"$f":"'Base original'!M89","v":9.16},{"$f":"'Base original'!N89","v":8.15},{"$f":"'Base original'!O89","v":8.32},{"$f":"'Base original'!P89","v":11.19},{"$f":"'Base original'!Q89","v":10.71},{"$f":"'Base original'!L89","v":9.4289346983885807},{"$f":"'Base original'!S89","v":2.38},{"$f":"'Base original'!T89","v":1.47},{"$f":"'Base original'!U89","v":2.73},{"$f":"'Base original'!V89","v":2.98},{"$f":"'Base original'!W89","v":3.18},{"$f":"'Base original'!R89","v":2.17729347799188},{"$f":"'Base original'!X89","v":4.3499999999999996},{"$f":"('Base original'!Z89/'Base original'!Z77*100-100)*'Base original'!Z77/'Base original'!$AC77","v":3.2749728505954492},{"$f":"('Base original'!AA89/'Base original'!AA77*100-100)*'Base original'!AA77/'Base original'!$AC77","v":7.9588924270033816},{"$f":"('Base original'!AB89/'Base original'!AB77*100-100)*'Base original'!AB77/'Base original'!$AC77","v":1.2893298238509843},{"$f":"('Base original'!AC89/'Base original'!AC77*100-100)*'Base original'!AC77/'Base original'!$AC77","v":12.523195101449787},{"$f":"('Base original'!AC89/'Base original'!AC77*100-100)*'Base original'!AC77/('Base original'!$AJ77)","v":3.332339621039702},{"$f":"('Base original'!AD89/'Base original'!AD77*100-100)*'Base original'!AD77/('Base original'!$AJ77)","v":15.136830264579981},{"$f":"('Base original'!AE89/'Base original'!AE77*100-100)*'Base original'!AE77/('Base original'!$AJ77)","v":0.37381758576890789},{"$f":"('Base original'!AF89/'Base original'!AF77*100-100)*'Base original'!AF77/('Base original'!$AJ77)","v":4.4250126312624065},{"$f":"('Base original'!AG89/'Base original'!AG77*100-100)*'Base original'!AG77/('Base original'!$AJ77)","v":9.5682377690125012E-2},{"$f":"-('Base original'!AH89/'Base original'!AH77*100-100)*'Base original'!AH77/('Base original'!$AJ77)","v":-4.9537017424440846},{"$f":"-('Base original'!AI89/'Base original'!AI77*100-100)*'Base original'!AI77/('Base original'!$AJ77)","v":-1.068102130141476E-2},{"$f":"(('Base original'!AF89-'Base original'!AH89)/('Base original'!AF77-'Base original'!AH77)*100-100)*(('Base original'!AF77-'Base original'!AH77)/'Base original'!AJ77)","v":-0.52868911118167761},{"$f":"(('Base original'!AG89-'Base original'!AI89)/('Base original'!AG77-'Base original'!AI77)*100-100)*(('Base original'!AG77-'Base original'!AI77)/'Base original'!AJ77)","v":8.5001356388710314E-2},{"$f":"('Base original'!AJ89/'Base original'!AJ77*100-100)*'Base original'!AJ77/('Base original'!$AJ77)","v":18.399299716595635},{"$f":"('Base original'!AJ89/'Base original'!AJ77*100-100)*'Base original'!AJ77/('Base original'!$AU77)","v":10.671770851144764},{"$f":"('Base original'!AK89/'Base original'!AK77*100-100)*'Base original'!AK77/('Base original'!$AU77)","v":0.71444669181703824},{"$f":"('Base original'!AL89/'Base original'!AL77*100-100)*'Base original'!AL77/('Base original'!$AU77)","v":2.9899322758056441},{"$f":"('Base original'!AM89/'Base original'!AM77*100-100)*'Base original'!AM77/('Base original'!$AU77)","v":1.7238799751526437},{"$f":"('Base original'!AN89/'Base original'!AN77*100-100)*'Base original'!AN77/('Base original'!$AU77)","v":-0.30110373770889226},{"$f":"('Base original'!AO89/'Base original'!AO77*100-100)*'Base original'!AO77/('Base original'!$AU77)","v":-8.4518130331197081E-2},{"$f":"('Base original'!AP89/'Base original'!AP77*100-100)*'Base original'!AP77/('Base original'!$AU77)","v":1.0036748612563067},{"$f":"('Base original'!AQ89/'Base original'!AQ77*100-100)*'Base original'!AQ77/('Base original'!$AU77)","v":-1.0663135652582072},{"$f":"('Base original'!AR89/'Base original'!AR77*100-100)*'Base original'!AR77/('Base original'!$AU77)","v":-6.9285547626623006E-2},{"$f":"-('Base original'!AS89/'Base original'!AS77*100-100)*'Base original'!AS77/('Base original'!$AU77)","v":0.20678150684218383},{"$f":"-('Base original'!AT89/'Base original'!AT77*100-100)*'Base original'!AT77/('Base original'!$AU77)","v":-3.3918288802327487E-2},{"$f":"(('Base original'!AQ89-'Base original'!AS89)/('Base original'!AQ77-'Base original'!AS77)*100-100)*(('Base original'!AQ77-'Base original'!AS77)/'Base original'!AU77)","v":-0.85953205841602387},{"$f":"(('Base original'!AR89-'Base original'!AT89)/('Base original'!AR77-'Base original'!AT77)*100-100)*(('Base original'!AR77-'Base original'!AT77)/'Base original'!AU77)","v":-0.10320383642895042},{"$f":"('Base original'!AU89/'Base original'!AU77*100-100)*'Base original'!AU77/('Base original'!$AU77)","v":15.755536280193567}]
["2012-08-01",{"$f":"'Base original'!B90/'Base original'!B78*100-100","v":16.353560307573616},{"$f":"'Base original'!C90/'Base original'!C78*100-100","v":13.657751729642939},{"$f":"'Base original'!D90/'Base original'!D78*100-100","v":11.263214823586836},{"$f":"'Base original'!E90/'Base original'!E78*100-100","v":16.080273027311833},{"$f":"'Base original'!F90/'Base original'!F78*100-100","v":14.777438492170617},{"$f":"'Base original'!H90","v":23.5},{"$f":"'Base original'!I90","v":36.71},{"$f":"'Base original'!J90","v":28.03},{"$f":"'Base original'!K90","v":24.84},{"$f":"'Base original'!G90","v":27.7289703324582},{"$f":"'Base original'!M90","v":7.99},{"$f":"'Base original'!N90","v":9.01},{"$f":"'Base original'!O90","v":8.2100000000000009},{"$f":"'Base original'!P90","v":11.79},{"$f":"'Base original'!Q90","v":11.34},{"$f":"'Base original'!L90","v":9.6431246179204493},{"$f":"'Base original'!S90","v":2.0299999999999998},{"$f":"'Base original'!T90","v":1.31},{"$f":"'Base original'!U90","v":1.63},{"$f":"'Base original'!V90","v":3.1},{"$f":"'Base original'!W90","v":3.46},{"$f":"'Base original'!R90","v":1.77855340825422},{"$f":"'Base original'!X90","v":4.2699999999999996},{"$f":"('Base original'!Z90/'Base original'!Z78*100-100)*'Base original'!Z78/'Base original'!$AC78","v":3.2737055407694147},{"$f":"('Base original'!AA90/'Base original'!AA78*100-100)*'Base original'!AA78/'Base original'!$AC78","v":4.9594180982337246},{"$f":"('Base original'!AB90/'Base original'!AB78*100-100)*'Base original'!AB78/'Base original'!$AC78","v":-0.51409387853859412},{"$f":"('Base original'!AC90/'Base original'!AC78*100-100)*'Base original'!AC78/'Base original'!$AC78","v":7.7190297604645508},{"$f":"('Base original'!AC90/'Base original'!AC78*100-100)*'Base original'!AC78/('Base original'!$AJ78)","v":2.0462023449125137},{"$f":"('Base original'!AD90/'Base original'!AD78*100-100)*'Base original'!AD78/('Base original'!$AJ78)","v":11.850734709323222},{"$f":"('Base original'!AE90/'Base original'!AE78*100-100)*'Base original'!AE78/('Base original'!$AJ78)","v":0.44719296782800538},{"$f":"('Base original'!AF90/'Base original'!AF78*100-100)*'Base original'!AF78/('Base original'!$AJ78)","v":4.7592877503403201},{"$f":"('Base original'!AG90/'Base original'!AG78*100-100)*'Base original'!AG78/('Base original'!$AJ78)","v":9.7780410282723315E-2},{"$f":"-('Base original'!AH90/'Base original'!AH78*100-100)*'Base original'!AH78/('Base original'!$AJ78)","v":-5.2934438217122386},{"$f":"-('Base original'!AI90/'Base original'!AI78*100-100)*'Base original'!AI78/('Base original'!$AJ78)","v":-1.1471508910475077E-2},{"$f":"(('Base original'!AF90-'Base original'!AH90)/('Base original'!AF78-'Base original'!AH78)*100-100)*(('Base original'!AF78-'Base original'!AH78)/'Base original'!AJ78)","v":-0.53415607137191956},{"$f":"(('Base original'!AG90-'Base original'!AI90)/('Base original'!AG78-'Base original'!AI78)*100-100)*(('Base original'!AG78-'Base original'!AI78)/'Base original'!AJ78)","v":8.6308901372248323E-2},{"$f":"('Base original'!AJ90/'Base original'!AJ78*100-100)*'Base original'!AJ78/('Base original'!$AJ78)","v":13.896282852064076},{"$f":"('Base original'!AJ90/'Base original'!AJ78*100-100)*'Base original'!AJ78/('Base original'!$AU78)","v":8.0844915591697006},{"$f":"('Base original'!AK90/'Base original'!AK78*100-100)*'Base original'!AK78/('Base original'!$AU78)","v":0.50191375374658254},{"$f":"('Base original'!AL90/'Base original'!AL78*100-100)*'Base original'!AL78/('Base original'!$AU78)","v":2.9127773199051856},{"$f":"('Base original'!AM90/'Base original'!AM78*100-100)*'Base original'!AM78/('Base original'!$AU78)","v":1.3173416966968501},{"$f":"('Base original'!AN90/'Base original'!AN78*100-100)*'Base original'!AN78/('Base original'!$AU78)","v":-0.31567841474210728},{"$f":"('Base original'!AO90/'Base original'!AO78*100-100)*'Base original'!AO78/('Base original'!$AU78)","v":-0.1146057825867533},{"$f":"('Base original'!AP90/'Base original'!AP78*100-100)*'Base original'!AP78/('Base original'!$AU78)","v":0.98164288821495438},{"$f":"('Base original'!AQ90/'Base original'!AQ78*100-100)*'Base original'!AQ78/('Base original'!$AU78)","v":-0.76251258377652409},{"$f":"('Base original'!AR90/'Base original'!AR78*100-100)*'Base original'!AR78/('Base original'!$AU78)","v":-4.812445882700845E-2},{"$f":"-('Base original'!AS90/'Base original'!AS78*100-100)*'Base original'!AS78/('Base original'!$AU78)","v":0.1910997523019651},{"$f":"-('Base original'!AT90/'Base original'!AT78*100-100)*'Base original'!AT78/('Base original'!$AU78)","v":-1.5302112871527723E-2},{"$f":"(('Base original'!AQ90-'Base original'!AS90)/('Base original'!AQ78-'Base original'!AS78)*100-100)*(('Base original'!AQ78-'Base original'!AS78)/'Base original'!AU78)","v":-0.57141283147455935},{"$f":"(('Base original'!AR90-'Base original'!AT90)/('Base original'!AR78-'Base original'!AT78)*100-100)*(('Base original'!AR78-'Base original'!AT78)/'Base original'!AU78)","v":-6.3426571698536258E-2},{"$f":"('Base original'!AU90/'Base original'!AU78*100-100)*'Base original'!AU78/('Base original'!$AU78)","v":12.732950339728475}]
["2012-09-01",{"$f":"'Base original'!B91/'Base original'!B79*100-100","v":14.547131815854925},{"$f":"'Base original'!C91/'Base original'!C79*100-100","v":13.319415332209346},{"$f":"'Base original'!D91/'Base original'!D79*100-100","v":11.186938588896638},{"$f":"'Base original'!E91/'Base original'!E79*100-100","v":0.32441582795624413},{"$f":"'Base original'!F91/'Base original'!F79*100-100","v":12.304864722691505},{"$f":"'Base original'!H91","v":22.89},{"$f":"'Base original'!I91","v":36.82},{"$f":"'Base original'!J91","v":28.91},{"$f":"'Base original'!K91","v":26.3},{"$f":"'Base original'!G91","v":28.481981974524398},{"$f":"'Base original'!M91","v":8.14},{"$f":"'Base original'!N91","v":9},{"$f":"'Base original'!O91","v":8.24},{"$f":"'Base original'!P91","v":10.89},{"$f":"'Base original'!Q91","v":11.9},{"$f":"'Base original'!L91","v":9.5346932300959608},{"$f":"'Base original'!S91","v":1.68},{"$f":"'Base original'!T91","v":1.24},{"$f":"'Base original'!U91","v":1.86},{"$f":"'Base original'!V91","v":3.05},{"$f":"'Base original'!W91","v":1.36},{"$f":"'Base original'!R91","v":1.79598059436146},{"$f":"'Base original'!X91","v":4.3099999999999996},{"$f":"('Base original'!Z91/'Base original'!Z79*100-100)*'Base original'!Z79/'Base original'!$AC79","v":3.6184570544848906},{"$f":"('Base original'!AA91/'Base original'!AA79*100-100)*'Base original'!AA79/'Base original'!$AC79","v":7.0103021651201516},{"$f":"('Base original'!AB91/'Base original'!AB79*100-100)*'Base original'!AB79/'Base original'!$AC79","v":0.23691410896978629},{"$f":"('Base original'!AC91/'Base original'!AC79*100-100)*'Base original'!AC79/'Base original'!$AC79","v":10.865673328574843},{"$f":"('Base original'!AC91/'Base original'!AC79*100-100)*'Base original'!AC79/('Base original'!$AJ79)","v":2.9172713916126396},{"$f":"('Base original'!AD91/'Base original'!AD79*100-100)*'Base original'!AD79/('Base original'!$AJ79)","v":10.954018013989581},{"$f":"('Base original'!AE91/'Base original'!AE79*100-100)*'Base original'!AE79/('Base original'!$AJ79)","v":0.32236896738956788},{"$f":"('Base original'!AF91/'Base original'!AF79*100-100)*'Base original'!AF79/('Base original'!$AJ79)","v":2.7601078726285855},{"$f":"('Base original'!AG91/'Base original'!AG79*100-100)*'Base original'!AG79/('Base original'!$AJ79)","v":8.8109479640039554E-2},{"$f":"-('Base original'!AH91/'Base original'!AH79*100-100)*'Base original'!AH79/('Base original'!$AJ79)","v":-3.3090628368725792},{"$f":"-('Base original'!AI91/'Base original'!AI79*100-100)*'Base original'!AI79/('Base original'!$AJ79)","v":-3.295481077326004E-3},{"$f":"(('Base original'!AF91-'Base original'!AH91)/('Base original'!AF79-'Base original'!AH79)*100-100)*(('Base original'!AF79-'Base original'!AH79)/'Base original'!AJ79)","v":-0.54895496424399359},{"$f":"(('Base original'!AG91-'Base original'!AI91)/('Base original'!AG79-'Base original'!AI79)*100-100)*(('Base original'!AG79-'Base original'!AI79)/'Base original'!AJ79)","v":8.4813998562713683E-2},{"$f":"('Base original'!AJ91/'Base original'!AJ79*100-100)*'Base original'!AJ79/('Base original'!$AJ79)","v":13.729517407310524},{"$f":"('Base original'!AJ91/'Base original'!AJ79*100-100)*'Base original'!AJ79/('Base original'!$AU79)","v":7.909206434441943},{"$f":"('Base original'!AK91/'Base original'!AK79*100-100)*'Base original'!AK79/('Base original'!$AU79)","v":0.12727925076818267},{"$f":"('Base original'!AL91/'Base original'!AL79*100-100)*'Base original'!AL79/('Base original'!$AU79)","v":2.0038767962612019},{"$f":"('Base original'!AM91/'Base original'!AM79*100-100)*'Base original'!AM79/('Base original'!$AU79)","v":1.0567443743215137},{"$f":"('Base original'!AN91/'Base original'!AN79*100-100)*'Base original'!AN79/('Base original'!$AU79)","v":-0.45093745975086941},{"$f":"('Base original'!AO91/'Base original'!AO79*100-100)*'Base original'!AO79/('Base original'!$AU79)","v":-0.1231886446852748},{"$f":"('Base original'!AP91/'Base original'!AP79*100-100)*'Base original'!AP79/('Base original'!$AU79)","v":0.90671121667970123},{"$f":"('Base original'!AQ91/'Base original'!AQ79*100-100)*'Base original'!AQ79/('Base original'!$AU79)","v":-0.42503891269282923},{"$f":"('Base original'!AR91/'Base original'!AR79*100-100)*'Base original'!AR79/('Base original'!$AU79)","v":-1.7304230528620665E-2},{"$f":"-('Base original'!AS91/'Base original'!AS79*100-100)*'Base original'!AS79/('Base original'!$AU79)","v":0.31027173631552635},{"$f":"-('Base original'!AT91/'Base original'!AT79*100-100)*'Base original'!AT79/('Base original'!$AU79)","v":-2.6375243065395416E-3},{"$f":"(('Base original'!AQ91-'Base original'!AS91)/('Base original'!AQ79-'Base original'!AS79)*100-100)*(('Base original'!AQ79-'Base original'!AS79)/'Base original'!AU79)","v":-0.11476717637730273},{"$f":"(('Base original'!AR91-'Base original'!AT91)/('Base original'!AR79-'Base original'!AT79)*100-100)*(('Base original'!AR79-'Base original'!AT79)/'Base original'!AU79)","v":-1.994175483516018E-2},{"$f":"('Base original'!AU91/'Base original'!AU79*100-100)*'Base original'!AU79/('Base original'!$AU79)","v":11.294983049805012}]
["2012-10-01",{"$f":"'Base original'!B92/'Base original'!B80*100-100","v":14.321012411702853},{"$f":"'Base original'!C92/'Base original'!C80*100-100","v":13.24621148042047},{"$f":"'Base original'!D92/'Base original'!D80*100-100","v":11.516184280287533},{"$f":"'Base original'!E92/'Base original'!E80*100-100","v":5.3028273060886022},{"$f":"'Base original'!F92/'Base original'!F80*100-100","v":12.75134598249879},{"$f":"'Base original'!H92","v":21.92},{"$f":"'Base original'!I92","v":36.03},{"$f":"'Base original'!J92","v":28.25},{"$f":"'Base original'!K92","v":24.57},{"$f":"'Base original'!G92","v":27.4284071406062},{"$f":"'Base original'!M92","v":8.3699999999999992},{"$f":"'Base original'!N92","v":8.6300000000000008},{"$f":"'Base original'!O92","v":8.5},{"$f":"'Base original'!P92","v":10.88},{"$f":"'Base original'!Q92","v":10.92},{"$f":"'Base original'!L92","v":9.4280744323333803},{"$f":"'Base original'!S92","v":2.3199999999999998},{"$f":"'Base original'!T92","v":1.36},{"$f":"'Base original'!U92","v":1.84},{"$f":"'Base original'!V92","v":2.76},{"$f":"'Base original'!W92","v":3.41},{"$f":"'Base original'!R92","v":1.8064579251033399},{"$f":"'Base original'!X92","v":4.34},{"$f":"('Base original'!Z92/'Base original'!Z80*100-100)*'Base original'!Z80/'Base original'!$AC80","v":3.0455845844662504},{"$f":"('Base original'!AA92/'Base original'!AA80*100-100)*'Base original'!AA80/'Base original'!$AC80","v":4.5385092800567453},{"$f":"('Base original'!AB92/'Base original'!AB80*100-100)*'Base original'!AB80/'Base original'!$AC80","v":0.65977065847026972},{"$f":"('Base original'!AC92/'Base original'!AC80*100-100)*'Base original'!AC80/'Base original'!$AC80","v":8.244455609410096},{"$f":"('Base original'!AC92/'Base original'!AC80*100-100)*'Base original'!AC80/('Base original'!$AJ80)","v":2.1315698584248235},{"$f":"('Base original'!AD92/'Base original'!AD80*100-100)*'Base original'!AD80/('Base original'!$AJ80)","v":7.7305853730102392},{"$f":"('Base original'!AE92/'Base original'!AE80*100-100)*'Base original'!AE80/('Base original'!$AJ80)","v":0.31183522018729931},{"$f":"('Base original'!AF92/'Base original'!AF80*100-100)*'Base original'!AF80/('Base original'!$AJ80)","v":0.76912540545031405},{"$f":"('Base original'!AG92/'Base original'!AG80*100-100)*'Base original'!AG80/('Base original'!$AJ80)","v":5.5237309188326963E-2},{"$f":"-('Base original'!AH92/'Base original'!AH80*100-100)*'Base original'!AH80/('Base original'!$AJ80)","v":-1.2435858725137148},{"$f":"-('Base original'!AI92/'Base original'!AI80*100-100)*'Base original'!AI80/('Base original'!$AJ80)","v":2.5610401144950581E-3},{"$f":"(('Base original'!AF92-'Base original'!AH92)/('Base original'!AF80-'Base original'!AH80)*100-100)*(('Base original'!AF80-'Base original'!AH80)/'Base original'!AJ80)","v":-0.47446046706340045},{"$f":"(('Base original'!AG92-'Base original'!AI92)/('Base original'!AG80-'Base original'!AI80)*100-100)*(('Base original'!AG80-'Base original'!AI80)/'Base original'!AJ80)","v":5.7798349302821996E-2},{"$f":"('Base original'!AJ92/'Base original'!AJ80*100-100)*'Base original'!AJ80/('Base original'!$AJ80)","v":9.7573283338618069},{"$f":"('Base original'!AJ92/'Base original'!AJ80*100-100)*'Base original'!AJ80/('Base original'!$AU80)","v":5.6498711667452524},{"$f":"('Base original'!AK92/'Base original'!AK80*100-100)*'Base original'!AK80/('Base original'!$AU80)","v":8.9463801229308748E-2},{"$f":"('Base original'!AL92/'Base original'!AL80*100-100)*'Base original'!AL80/('Base original'!$AU80)","v":1.1488001585748082},{"$f":"('Base original'!AM92/'Base original'!AM80*100-100)*'Base original'!AM80/('Base original'!$AU80)","v":0.75372588857641909},{"$f":"('Base original'!AN92/'Base original'!AN80*100-100)*'Base original'!AN80/('Base original'!$AU80)","v":-0.45804404344525035},{"$f":"('Base original'!AO92/'Base original'!AO80*100-100)*'Base original'!AO80/('Base original'!$AU80)","v":-0.11019653144152641},{"$f":"('Base original'!AP92/'Base original'!AP80*100-100)*'Base original'!AP80/('Base original'!$AU80)","v":0.66073577101381364},{"$f":"('Base original'!AQ92/'Base original'!AQ80*100-100)*'Base original'!AQ80/('Base original'!$AU80)","v":-0.23290232469481204},{"$f":"('Base original'!AR92/'Base original'!AR80*100-100)*'Base original'!AR80/('Base original'!$AU80)","v":-5.1870957094542133E-3},{"$f":"-('Base original'!AS92/'Base original'!AS80*100-100)*'Base original'!AS80/('Base original'!$AU80)","v":0.24078955680164926},{"$f":"-('Base original'!AT92/'Base original'!AT80*100-100)*'Base original'!AT80/('Base original'!$AU80)","v":-1.8128221201120247E-3},{"$f":"(('Base original'!AQ92-'Base original'!AS92)/('Base original'!AQ80-'Base original'!AS80)*100-100)*(('Base original'!AQ80-'Base original'!AS80)/'Base original'!AU80)","v":7.8872321068373386E-3},{"$f":"(('Base original'!AR92-'Base original'!AT92)/('Base original'!AR80-'Base original'!AT80)*100-100)*(('Base original'!AR80-'Base original'!AT80)/'Base original'!AU80)","v":-6.9999178295662009E-3},{"$f":"('Base original'!AU92/'Base original'!AU80*100-100)*'Base original'!AU80/('Base original'!$AU80)","v":7.7351550351233129}]
["2012-11-01",{"$f":"'Base original'!B93/'Base original'!B81*100-100","v":14.426243600099454},{"$f":"'Base original'!C93/'Base original'!C81*100-100","v":11.933243645897335},{"$f":"'Base original'!D93/'Base original'!D81*100-100","v":11.629699800585882},{"$f":"'Base original'!E93/'Base original'!E81*100-100","v":1.3854293282091987},{"$f":"'Base original'!F93/'Base original'!F81*100-100","v":12.321204802296279},{"$f":"'Base original'!H93","v":17.100000000000001},{"$f":"'Base original'!I93","v":35.53},{"$f":"'Base original'!J93","v":28.6},{"$f":"'Base original'!K93","v":22.53},{"$f":"'Base original'!G93","v":25.904770674609601},{"$f":"'Base original'!M93","v":7.95},{"$f":"'Base original'!N93","v":8.3000000000000007},{"$f":"'Base original'!O93","v":8.44},{"$f":"'Base original'!P93","v":11.16},{"$f":"'Base original'!Q93","v":10.67},{"$f":"'Base original'!L93","v":9.1915253581540899},{"$f":"'Base original'!S93","v":2.16},{"$f":"'Base original'!T93","v":1.6},{"$f":"'Base original'!U93","v":1.89},{"$f":"'Base original'!V93","v":2.68},{"$f":"'Base original'!W93","v":2.2000000000000002},{"$f":"'Base original'!R93","v":1.99207197945793},{"$f":"'Base original'!X93","v":4.34},{"$f":"('Base original'!Z93/'Base original'!Z81*100-100)*'Base original'!Z81/'Base original'!$AC81","v":2.9673695734958128},{"$f":"('Base original'!AA93/'Base original'!AA81*100-100)*'Base original'!AA81/'Base original'!$AC81","v":4.4419149847677071},{"$f":"('Base original'!AB93/'Base original'!AB81*100-100)*'Base original'!AB81/'Base original'!$AC81","v":1.3114051789794336},{"$f":"('Base original'!AC93/'Base original'!AC81*100-100)*'Base original'!AC81/'Base original'!$AC81","v":8.7206897372429353},{"$f":"('Base original'!AC93/'Base original'!AC81*100-100)*'Base original'!AC81/('Base original'!$AJ81)","v":2.2220311950417786},{"$f":"('Base original'!AD93/'Base original'!AD81*100-100)*'Base original'!AD81/('Base original'!$AJ81)","v":6.3412109303933244},{"$f":"('Base original'!AE93/'Base original'!AE81*100-100)*'Base original'!AE81/('Base original'!$AJ81)","v":0.3135468592705799},{"$f":"('Base original'!AF93/'Base original'!AF81*100-100)*'Base original'!AF81/('Base original'!$AJ81)","v":3.0464001351601775},{"$f":"('Base original'!AG93/'Base original'!AG81*100-100)*'Base original'!AG81/('Base original'!$AJ81)","v":4.5995467485203237E-2},{"$f":"-('Base original'!AH93/'Base original'!AH81*100-100)*'Base original'!AH81/('Base original'!$AJ81)","v":-3.3906157792660374},{"$f":"-('Base original'!AI93/'Base original'!AI81*100-100)*'Base original'!AI81/('Base original'!$AJ81)","v":-3.0689042870439983E-3},{"$f":"(('Base original'!AF93-'Base original'!AH93)/('Base original'!AF81-'Base original'!AH81)*100-100)*(('Base original'!AF81-'Base original'!AH81)/'Base original'!AJ81)","v":-0.34421564410585864},{"$f":"(('Base original'!AG93-'Base original'!AI93)/('Base original'!AG81-'Base original'!AI81)*100-100)*(('Base original'!AG81-'Base original'!AI81)/'Base original'!AJ81)","v":4.2926563198159226E-2},{"$f":"('Base original'!AJ93/'Base original'!AJ81*100-100)*'Base original'!AJ81/('Base original'!$AJ81)","v":8.5753482949246376},{"$f":"('Base original'!AJ93/'Base original'!AJ81*100-100)*'Base original'!AJ81/('Base original'!$AU81)","v":4.9563629463444201},{"$f":"('Base original'!AK93/'Base original'!AK81*100-100)*'Base original'!AK81/('Base original'!$AU81)","v":0.47609283512354555},{"$f":"('Base original'!AL93/'Base original'!AL81*100-100)*'Base original'!AL81/('Base original'!$AU81)","v":1.3068630904499301},{"$f":"('Base original'!AM93/'Base original'!AM81*100-100)*'Base original'!AM81/('Base original'!$AU81)","v":0.73685206702383199},{"$f":"('Base original'!AN93/'Base original'!AN81*100-100)*'Base original'!AN81/('Base original'!$AU81)","v":-0.60930279020615019},{"$f":"('Base original'!AO93/'Base original'!AO81*100-100)*'Base original'!AO81/('Base original'!$AU81)","v":-8.0551183572466337E-2},{"$f":"('Base original'!AP93/'Base original'!AP81*100-100)*'Base original'!AP81/('Base original'!$AU81)","v":0.50248125623244022},{"$f":"('Base original'!AQ93/'Base original'!AQ81*100-100)*'Base original'!AQ81/('Base original'!$AU81)","v":-0.10637896028857115},{"$f":"('Base original'!AR93/'Base original'!AR81*100-100)*'Base original'!AR81/('Base original'!$AU81)","v":-1.3482754209143742E-3},{"$f":"-('Base original'!AS93/'Base original'!AS81*100-100)*'Base original'!AS81/('Base original'!$AU81)","v":-9.074356290039079E-2},{"$f":"-('Base original'!AT93/'Base original'!AT81*100-100)*'Base original'!AT81/('Base original'!$AU81)","v":-2.1980026537599881E-3},{"$f":"(('Base original'!AQ93-'Base original'!AS93)/('Base original'!AQ81-'Base original'!AS81)*100-100)*(('Base original'!AQ81-'Base original'!AS81)/'Base original'!AU81)","v":-0.19712252318896159},{"$f":"(('Base original'!AR93-'Base original'!AT93)/('Base original'!AR81-'Base original'!AT81)*100-100)*(('Base original'!AR81-'Base original'!AT81)/'Base original'!AU81)","v":-3.5462780746743318E-3},{"$f":"('Base original'!AU93/'Base original'!AU81*100-100)*'Base original'!AU81/('Base original'!$AU81)","v":7.0881294201319065}]
["2012-12-01",{"$f":"'Base original'!B94/'Base original'!B82*100-100","v":14.12688063607979},{"$f":"'Base original'!C94/'Base original'!C82*100-100","v":11.565110643533203},{"$f":"'Base original'!D94/'Base original'!D82*100-100","v":10.951721531361343},{"$f":"'Base original'!E94/'Base original'!E82*100-100","v":5.8853312202099346},{"$f":"'Base original'!F94/'Base original'!F82*100-100","v":12.388969761637128},{"$f":"'Base original'!H94","v":15.24},{"$f":"'Base original'!I94","v":35.880000000000003},{"$f":"'Base original'!J94","v":28.58},{"$f":"'Base original'!K94","v":22.92},{"$f":"'Base original'!G94","v":25.6580552670092},{"$f":"'Base original'!M94","v":7.52},{"$f":"'Base original'!N94","v":8.82},{"$f":"'Base original'!O94","v":8.32},{"$f":"'Base original'!P94","v":10.64},{"$f":"'Base original'!Q94","v":11.25},{"$f":"'Base original'!L94","v":8.9380054820874104},{"$f":"'Base original'!S94","v":2.09},{"$f":"'Base original'!T94","v":1.76},{"$f":"'Base original'!U94","v":1.88},{"$f":"'Base original'!V94","v":2.0499999999999998},{"$f":"'Base original'!W94","v":2.71},{"$f":"'Base original'!R94","v":1.93347585976437},{"$f":"'Base original'!X94","v":4.38},{"$f":"('Base original'!Z94/'Base original'!Z82*100-100)*'Base original'!Z82/'Base original'!$AC82","v":3.06612212714683},{"$f":"('Base original'!AA94/'Base original'!AA82*100-100)*'Base original'!AA82/'Base original'!$AC82","v":4.5923838503867369},{"$f":"('Base original'!AB94/'Base original'!AB82*100-100)*'Base original'!AB82/'Base original'!$AC82","v":1.1665657917386216},{"$f":"('Base original'!AC94/'Base original'!AC82*100-100)*'Base original'!AC82/'Base original'!$AC82","v":8.825071769272185},{"$f":"('Base original'!AC94/'Base original'!AC82*100-100)*'Base original'!AC82/('Base original'!$AJ82)","v":2.3740977533460756},{"$f":"('Base original'!AD94/'Base original'!AD82*100-100)*'Base original'!AD82/('Base original'!$AJ82)","v":5.1698658580305903},{"$f":"('Base original'!AE94/'Base original'!AE82*100-100)*'Base original'!AE82/('Base original'!$AJ82)","v":0.30619472992351887},{"$f":"('Base original'!AF94/'Base original'!AF82*100-100)*'Base original'!AF82/('Base original'!$AJ82)","v":2.5689843658870788},{"$f":"('Base original'!AG94/'Base original'!AG82*100-100)*'Base original'!AG82/('Base original'!$AJ82)","v":3.4676918229415758E-2},{"$f":"-('Base original'!AH94/'Base original'!AH82*100-100)*'Base original'!AH82/('Base original'!$AJ82)","v":-2.8859271291224604},{"$f":"-('Base original'!AI94/'Base original'!AI82*100-100)*'Base original'!AI82/('Base original'!$AJ82)","v":9.0174111511113764E-3},{"$f":"(('Base original'!AF94-'Base original'!AH94)/('Base original'!AF82-'Base original'!AH82)*100-100)*(('Base original'!AF82-'Base original'!AH82)/'Base original'!AJ82)","v":-0.31694276323538112},{"$f":"(('Base original'!AG94-'Base original'!AI94)/('Base original'!AG82-'Base original'!AI82)*100-100)*(('Base original'!AG82-'Base original'!AI82)/'Base original'!AJ82)","v":4.3694329380527183E-2},{"$f":"('Base original'!AJ94/'Base original'!AJ82*100-100)*'Base original'!AJ82/('Base original'!$AJ82)","v":7.5769099074453266},{"$f":"('Base original'!AJ94/'Base original'!AJ82*100-100)*'Base original'!AJ82/('Base original'!$AU82)","v":4.4107491749358028},{"$f":"('Base original'!AK94/'Base original'!AK82*100-100)*'Base original'!AK82/('Base original'!$AU82)","v":0.85496916041367588},{"$f":"('Base original'!AL94/'Base original'!AL82*100-100)*'Base original'!AL82/('Base original'!$AU82)","v":0.42711935741658846},{"$f":"('Base original'!AM94/'Base original'!AM82*100-100)*'Base original'!AM82/('Base original'!$AU82)","v":0.63882683483147018},{"$f":"('Base original'!AN94/'Base original'!AN82*100-100)*'Base original'!AN82/('Base original'!$AU82)","v":-0.52442514367603721},{"$f":"('Base original'!AO94/'Base original'!AO82*100-100)*'Base original'!AO82/('Base original'!$AU82)","v":-5.781735599569731E-2},{"$f":"('Base original'!AP94/'Base original'!AP82*100-100)*'Base original'!AP82/('Base original'!$AU82)","v":0.46712969480505512},{"$f":"('Base original'!AQ94/'Base original'!AQ82*100-100)*'Base original'!AQ82/('Base original'!$AU82)","v":-9.6415289168588006E-3},{"$f":"('Base original'!AR94/'Base original'!AR82*100-100)*'Base original'!AR82/('Base original'!$AU82)","v":1.055859564880538E-2},{"$f":"-('Base original'!AS94/'Base original'!AS82*100-100)*'Base original'!AS82/('Base original'!$AU82)","v":2.047806791384681E-2},{"$f":"-('Base original'!AT94/'Base original'!AT82*100-100)*'Base original'!AT82/('Base original'!$AU82)","v":1.0228215504731804E-4},{"$f":"(('Base original'!AQ94-'Base original'!AS94)/('Base original'!AQ82-'Base original'!AS82)*100-100)*(('Base original'!AQ82-'Base original'!AS82)/'Base original'!AU82)","v":1.0836538996987874E-2},{"$f":"(('Base original'!AR94-'Base original'!AT94)/('Base original'!AR82-'Base original'!AT82)*100-100)*(('Base original'!AR82-'Base original'!AT82)/'Base original'!AU82)","v":1.0660877803852619E-2},{"$f":"('Base original'!AU94/'Base original'!AU82*100-100)*'Base original'!AU82/('Base original'!$AU82)","v":6.2379621817244981}]
["2013-01-01",{"$f":"'Base original'!B95/'Base original'!B83*100-100","v":12.873185555927449},{"$f":"'Base original'!C95/'Base original'!C83*100-100","v":11.422716204095579},{"$f":"'Base original'!D95/'Base original'!D83*100-100","v":10.584707160025658},{"$f":"'Base original'!E95/'Base original'!E83*100-100","v":12.581421921729927},{"$f":"'Base original'!F95/'Base original'!F83*100-100","v":12.130278156112738},{"$f":"'Base original'!H95","v":14.52},{"$f":"'Base original'!I95","v":36.81},{"$f":"'Base original'!J95","v":29.08},{"$f":"'Base original'!K95","v":23.25},{"$f":"'Base original'!G95","v":25.89170232802476},{"$f":"'Base original'!M95","v":9.4},{"$f":"'Base original'!N95","v":8.3699999999999992},{"$f":"'Base original'!O95","v":8.06},{"$f":"'Base original'!P95","v":10.16},{"$f":"'Base original'!Q95","v":10.62},{"$f":"'Base original'!L95","v":9.3112663279834216},{"$f":"'Base original'!S95","v":2.34},{"$f":"'Base original'!T95","v":1.43},{"$f":"'Base original'!U95","v":1.92},{"$f":"'Base original'!V95","v":2.2200000000000002},{"$f":"'Base original'!W95","v":3.58},{"$f":"'Base original'!R95","v":1.8710290952025586},{"$f":"'Base original'!X95","v":4.43},{"$f":"('Base original'!Z95/'Base original'!Z83*100-100)*'Base original'!Z83/'Base original'!$AC83","v":2.9938235613165425},{"$f":"('Base original'!AA95/'Base original'!AA83*100-100)*'Base original'!AA83/'Base original'!$AC83","v":5.516718345456229},{"$f":"('Base original'!AB95/'Base original'!AB83*100-100)*'Base original'!AB83/'Base original'!$AC83","v":2.0744969585689472},{"$f":"('Base original'!AC95/'Base original'!AC83*100-100)*'Base original'!AC83/'Base original'!$AC83","v":10.585038865341716},{"$f":"('Base original'!AC95/'Base original'!AC83*100-100)*'Base original'!AC83/('Base original'!$AJ83)","v":2.8075212812727153},{"$f":"('Base original'!AD95/'Base original'!AD83*100-100)*'Base original'!AD83/('Base original'!$AJ83)","v":5.0774218655067207},{"$f":"('Base original'!AE95/'Base original'!AE83*100-100)*'Base original'!AE83/('Base original'!$AJ83)","v":0.27391867114318413},{"$f":"('Base original'!AF95/'Base original'!AF83*100-100)*'Base original'!AF83/('Base original'!$AJ83)","v":1.0384541626137906},{"$f":"('Base original'!AG95/'Base original'!AG83*100-100)*'Base original'!AG83/('Base original'!$AJ83)","v":2.8827565585889999E-2},{"$f":"-('Base original'!AH95/'Base original'!AH83*100-100)*'Base original'!AH83/('Base original'!$AJ83)","v":-1.0732840876917236},{"$f":"-('Base original'!AI95/'Base original'!AI83*100-100)*'Base original'!AI83/('Base original'!$AJ83)","v":6.7343932251308237E-3},{"$f":"(('Base original'!AF95-'Base original'!AH95)/('Base original'!AF83-'Base original'!AH83)*100-100)*(('Base original'!AF83-'Base original'!AH83)/'Base original'!AJ83)","v":-3.4829925077932804E-2},{"$f":"(('Base original'!AG95-'Base original'!AI95)/('Base original'!AG83-'Base original'!AI83)*100-100)*(('Base original'!AG83-'Base original'!AI83)/'Base original'!AJ83)","v":3.5561958811020894E-2},{"$f":"('Base original'!AJ95/'Base original'!AJ83*100-100)*'Base original'!AJ83/('Base original'!$AJ83)","v":8.1595938516557283},{"$f":"('Base original'!AJ95/'Base original'!AJ83*100-100)*'Base original'!AJ83/('Base original'!$AU83)","v":4.7503913367091704},{"$f":"('Base original'!AK95/'Base original'!AK83*100-100)*'Base original'!AK83/('Base original'!$AU83)","v":0.57011759706823717},{"$f":"('Base original'!AL95/'Base original'!AL83*100-100)*'Base original'!AL83/('Base original'!$AU83)","v":-3.4876224275256482E-2},{"$f":"('Base original'!AM95/'Base original'!AM83*100-100)*'Base original'!AM83/('Base original'!$AU83)","v":0.99137110773626314},{"$f":"('Base original'!AN95/'Base original'!AN83*100-100)*'Base original'!AN83/('Base original'!$AU83)","v":-0.73432280743762601},{"$f":"('Base original'!AO95/'Base original'!AO83*100-100)*'Base original'!AO83/('Base original'!$AU83)","v":-4.3931966651719029E-2},{"$f":"('Base original'!AP95/'Base original'!AP83*100-100)*'Base original'!AP83/('Base original'!$AU83)","v":0.4878124099805064},{"$f":"('Base original'!AQ95/'Base original'!AQ83*100-100)*'Base original'!AQ83/('Base original'!$AU83)","v":-4.9552640485924976E-2},{"$f":"('Base original'!AR95/'Base original'!AR83*100-100)*'Base original'!AR83/('Base original'!$AU83)","v":1.5586796320909932E-2},{"$f":"-('Base original'!AS95/'Base original'!AS83*100-100)*'Base original'!AS83/('Base original'!$AU83)","v":0.11347648940010027},{"$f":"-('Base original'!AT95/'Base original'!AT83*100-100)*'Base original'!AT83/('Base original'!$AU83)","v":4.6298284801381141E-3},{"$f":"(('Base original'!AQ95-'Base original'!AS95)/('Base original'!AQ83-'Base original'!AS83)*100-100)*(('Base original'!AQ83-'Base original'!AS83)/'Base original'!AU83)","v":6.3923848914175532E-2},{"$f":"(('Base original'!AR95-'Base original'!AT95)/('Base original'!AR83-'Base original'!AT83)*100-100)*(('Base original'!AR83-'Base original'!AT83)/'Base original'!AU83)","v":2.0216624801048147E-2},{"$f":"('Base original'!AU95/'Base original'!AU83*100-100)*'Base original'!AU83/('Base original'!$AU83)","v":6.0707019268448192}]
["2013-02-01",{"$f":"'Base original'!B96/'Base original'!B84*100-100","v":12.887861455173379},{"$f":"'Base original'!C96/'Base original'!C84*100-100","v":11.001522585020652},{"$f":"'Base original'!D96/'Base original'!D84*100-100","v":10.598185470478356},{"$f":"'Base original'!E96/'Base original'!E84*100-100","v":12.259796342747748},{"$f":"'Base original'!F96/'Base original'!F84*100-100","v":12.065884746930237},{"$f":"'Base original'!H96","v":15.51},{"$f":"'Base original'!I96","v":37.94},{"$f":"'Base original'!J96","v":29.62},{"$f":"'Base original'!K96","v":23.29},{"$f":"'Base original'!G96","v":26.686751233779432},{"$f":"'Base original'!M96","v":8.98},{"$f":"'Base original'!N96","v":9.09},{"$f":"'Base original'!O96","v":8.42},{"$f":"'Base original'!P96","v":10.78},{"$f":"'Base original'!Q96","v":11.28},{"$f":"'Base original'!L96","v":9.676705483834187},{"$f":"'Base original'!S96","v":2.2000000000000002},{"$f":"'Base original'!T96","v":1.5},{"$f":"'Base original'!U96","v":2.17},{"$f":"'Base original'!V96","v":2.1},{"$f":"'Base original'!W96","v":3.91},{"$f":"'Base original'!R96","v":1.8413967970039411},{"$f":"'Base original'!X96","v":4.5199999999999996},{"$f":"('Base original'!Z96/'Base original'!Z84*100-100)*'Base original'!Z84/'Base original'!$AC84","v":3.1076581854376637},{"$f":"('Base original'!AA96/'Base original'!AA84*100-100)*'Base original'!AA84/'Base original'!$AC84","v":5.4944507232285345},{"$f":"('Base original'!AB96/'Base original'!AB84*100-100)*'Base original'!AB84/'Base original'!$AC84","v":2.1091032157867908},{"$f":"('Base original'!AC96/'Base original'!AC84*100-100)*'Base original'!AC84/'Base original'!$AC84","v":10.711189571574224},{"$f":"('Base original'!AC96/'Base original'!AC84*100-100)*'Base original'!AC84/('Base original'!$AJ84)","v":2.8123819270532189},{"$f":"('Base original'!AD96/'Base original'!AD84*100-100)*'Base original'!AD84/('Base original'!$AJ84)","v":6.1132575288608964},{"$f":"('Base original'!AE96/'Base original'!AE84*100-100)*'Base original'!AE84/('Base original'!$AJ84)","v":0.26694098557770835},{"$f":"('Base original'!AF96/'Base original'!AF84*100-100)*'Base original'!AF84/('Base original'!$AJ84)","v":0.91121534658237346},{"$f":"('Base original'!AG96/'Base original'!AG84*100-100)*'Base original'!AG84/('Base original'!$AJ84)","v":3.2711094650851348E-2},{"$f":"-('Base original'!AH96/'Base original'!AH84*100-100)*'Base original'!AH84/('Base original'!$AJ84)","v":-0.87278756823389048},{"$f":"-('Base original'!AI96/'Base original'!AI84*100-100)*'Base original'!AI84/('Base original'!$AJ84)","v":-7.8837691362918533E-3},{"$f":"(('Base original'!AF96-'Base original'!AH96)/('Base original'!AF84-'Base original'!AH84)*100-100)*(('Base original'!AF84-'Base original'!AH84)/'Base original'!AJ84)","v":3.842777834848457E-2},{"$f":"(('Base original'!AG96-'Base original'!AI96)/('Base original'!AG84-'Base original'!AI84)*100-100)*(('Base original'!AG84-'Base original'!AI84)/'Base original'!AJ84)","v":2.4827325514559368E-2},{"$f":"('Base original'!AJ96/'Base original'!AJ84*100-100)*'Base original'!AJ84/('Base original'!$AJ84)","v":9.25583554535487},{"$f":"('Base original'!AJ96/'Base original'!AJ84*100-100)*'Base original'!AJ84/('Base original'!$AU84)","v":5.3254358542848443},{"$f":"('Base original'!AK96/'Base original'!AK84*100-100)*'Base original'!AK84/('Base original'!$AU84)","v":0.58979728782878182},{"$f":"('Base original'!AL96/'Base original'!AL84*100-100)*'Base original'!AL84/('Base original'!$AU84)","v":6.938365740658381E-2},{"$f":"('Base original'!AM96/'Base original'!AM84*100-100)*'Base original'!AM84/('Base original'!$AU84)","v":1.0875276520631478},{"$f":"('Base original'!AN96/'Base original'!AN84*100-100)*'Base original'!AN84/('Base original'!$AU84)","v":-0.83781581880290923},{"$f":"('Base original'!AO96/'Base original'!AO84*100-100)*'Base original'!AO84/('Base original'!$AU84)","v":-5.230334663236489E-2},{"$f":"('Base original'!AP96/'Base original'!AP84*100-100)*'Base original'!AP84/('Base original'!$AU84)","v":0.51518762602863288},{"$f":"('Base original'!AQ96/'Base original'!AQ84*100-100)*'Base original'!AQ84/('Base original'!$AU84)","v":1.6614473157585394E-2},{"$f":"('Base original'!AR96/'Base original'!AR84*100-100)*'Base original'!AR84/('Base original'!$AU84)","v":1.4031038762708954E-2},{"$f":"-('Base original'!AS96/'Base original'!AS84*100-100)*'Base original'!AS84/('Base original'!$AU84)","v":-5.2143069918946024E-2},{"$f":"-('Base original'!AT96/'Base original'!AT84*100-100)*'Base original'!AT84/('Base original'!$AU84)","v":7.1895744497642829E-3},{"$f":"(('Base original'!AQ96-'Base original'!AS96)/('Base original'!AQ84-'Base original'!AS84)*100-100)*(('Base original'!AQ84-'Base original'!AS84)/'Base original'!AU84)","v":-3.5528596761361088E-2},{"$f":"(('Base original'!AR96-'Base original'!AT96)/('Base original'!AR84-'Base original'!AT84)*100-100)*(('Base original'!AR84-'Base original'!AT84)/'Base original'!AU84)","v":2.1220613212473188E-2},{"$f":"('Base original'!AU96/'Base original'!AU84*100-100)*'Base original'!AU84/('Base original'!$AU84)","v":6.6829049286278348}]
["2013-03-01",{"$f":"'Base original'!B97/'Base original'!B85*100-100","v":11.733061302700946},{"$f":"'Base original'!C97/'Base original'!C85*100-100","v":10.897134018271188},{"$f":"'Base original'!D97/'Base original'!D85*100-100","v":10.51437280640404},{"$f":"'Base original'!E97/'Base original'!E85*100-100","v":9.8540784019095327},{"$f":"'Base original'!F97/'Base original'!F85*100-100","v":11.196283473642126},{"$f":"'Base original'!H97","v":22.88},{"$f":"'Base original'!I97","v":35.74},{"$f":"'Base original'!J97","v":28.39},{"$f":"'Base original'!K97","v":21.24},{"$f":"'Base original'!G97","v":26.561767147938347},{"$f":"'Base original'!M97","v":8.2899999999999991},{"$f":"'Base original'!N97","v":8.69},{"$f":"'Base original'!O97","v":7.93},{"$f":"'Base original'!P97","v":10.76},{"$f":"'Base original'!Q97","v":11.8},{"$f":"'Base original'!L97","v":9.2852544936548362},{"$f":"'Base original'!S97","v":2.02},{"$f":"'Base original'!T97","v":1.5},{"$f":"'Base original'!U97","v":1.54},{"$f":"'Base original'!V97","v":2.39},{"$f":"'Base original'!W97","v":3.19},{"$f":"'Base original'!R97","v":1.7211954079737886},{"$f":"'Base original'!X97","v":4.53},{"$f":"('Base original'!Z97/'Base original'!Z85*100-100)*'Base original'!Z85/'Base original'!$AC85","v":3.1396678445679749},{"$f":"('Base original'!AA97/'Base original'!AA85*100-100)*'Base original'!AA85/'Base original'!$AC85","v":5.392606462470944},{"$f":"('Base original'!AB97/'Base original'!AB85*100-100)*'Base original'!AB85/'Base original'!$AC85","v":3.0161499635231475},{"$f":"('Base original'!AC97/'Base original'!AC85*100-100)*'Base original'!AC85/'Base original'!$AC85","v":11.548424270562066},{"$f":"('Base original'!AC97/'Base original'!AC85*100-100)*'Base original'!AC85/('Base original'!$AJ85)","v":3.0114316325803867},{"$f":"('Base original'!AD97/'Base original'!AD85*100-100)*'Base original'!AD85/('Base original'!$AJ85)","v":6.2279593961795499},{"$f":"('Base original'!AE97/'Base original'!AE85*100-100)*'Base original'!AE85/('Base original'!$AJ85)","v":0.26431745811212704},{"$f":"('Base original'!AF97/'Base original'!AF85*100-100)*'Base original'!AF85/('Base original'!$AJ85)","v":-0.14726009872507625},{"$f":"('Base original'!AG97/'Base original'!AG85*100-100)*'Base original'!AG85/('Base original'!$AJ85)","v":4.0307786112618933E-2},{"$f":"-('Base original'!AH97/'Base original'!AH85*100-100)*'Base original'!AH85/('Base original'!$AJ85)","v":-0.36509475939687269},{"$f":"-('Base original'!AI97/'Base original'!AI85*100-100)*'Base original'!AI85/('Base original'!$AJ85)","v":-5.1960016130724882E-3},{"$f":"(('Base original'!AF97-'Base original'!AH97)/('Base original'!AF85-'Base original'!AH85)*100-100)*(('Base original'!AF85-'Base original'!AH85)/'Base original'!AJ85)","v":-0.51235485812194936},{"$f":"(('Base original'!AG97-'Base original'!AI97)/('Base original'!AG85-'Base original'!AI85)*100-100)*(('Base original'!AG85-'Base original'!AI85)/'Base original'!AJ85)","v":3.5111784499546474E-2},{"$f":"('Base original'!AJ97/'Base original'!AJ85*100-100)*'Base original'!AJ85/('Base original'!$AJ85)","v":9.0264654132496673},{"$f":"('Base original'!AJ97/'Base original'!AJ85*100-100)*'Base original'!AJ85/('Base original'!$AU85)","v":5.2040051384176298},{"$f":"('Base original'!AK97/'Base original'!AK85*100-100)*'Base original'!AK85/('Base original'!$AU85)","v":0.44548033064886916},{"$f":"('Base original'!AL97/'Base original'!AL85*100-100)*'Base original'!AL85/('Base original'!$AU85)","v":-0.18663356433472017},{"$f":"('Base original'!AM97/'Base original'!AM85*100-100)*'Base original'!AM85/('Base original'!$AU85)","v":1.1041635872217761},{"$f":"('Base original'!AN97/'Base original'!AN85*100-100)*'Base original'!AN85/('Base original'!$AU85)","v":-0.58820038742298708},{"$f":"('Base original'!AO97/'Base original'!AO85*100-100)*'Base original'!AO85/('Base original'!$AU85)","v":-5.5803986985110042E-2},{"$f":"('Base original'!AP97/'Base original'!AP85*100-100)*'Base original'!AP85/('Base original'!$AU85)","v":0.48682605453974165},{"$f":"('Base original'!AQ97/'Base original'!AQ85*100-100)*'Base original'!AQ85/('Base original'!$AU85)","v":0.24952349485684527},{"$f":"('Base original'!AR97/'Base original'!AR85*100-100)*'Base original'!AR85/('Base original'!$AU85)","v":1.3331501614845677E-2},{"$f":"-('Base original'!AS97/'Base original'!AS85*100-100)*'Base original'!AS85/('Base original'!$AU85)","v":-0.17078300649050732},{"$f":"-('Base original'!AT97/'Base original'!AT85*100-100)*'Base original'!AT85/('Base original'!$AU85)","v":1.4534655672910019E-3},{"$f":"(('Base original'!AQ97-'Base original'!AS97)/('Base original'!AQ85-'Base original'!AS85)*100-100)*(('Base original'!AQ85-'Base original'!AS85)/'Base original'!AU85)","v":7.8740488366337694E-2},{"$f":"(('Base original'!AR97-'Base original'!AT97)/('Base original'!AR85-'Base original'!AT85)*100-100)*(('Base original'!AR85-'Base original'!AT85)/'Base original'!AU85)","v":1.4784967182136651E-2},{"$f":"('Base original'!AU97/'Base original'!AU85*100-100)*'Base original'!AU85/('Base original'!$AU85)","v":6.5033626276336918}]
["2013-04-01",{"$f":"'Base original'!B98/'Base original'!B86*100-100","v":10.77172953509023},{"$f":"'Base original'!C98/'Base original'!C86*100-100","v":10.999970786178693},{"$f":"'Base original'!D98/'Base original'!D86*100-100","v":10.638889814354329},{"$f":"'Base original'!E98/'Base original'!E86*100-100","v":9.6686401363545116},{"$f":"'Base original'!F98/'Base original'!F86*100-100","v":10.679277222034472},{"$f":"'Base original'!H98","v":21.77},{"$f":"'Base original'!I98","v":36.07},{"$f":"'Base original'!J98","v":28.66},{"$f":"'Base original'!K98","v":19.59},{"$f":"'Base original'!G98","v":25.74},{"$f":"'Base original'!M98","v":8.43},{"$f":"'Base original'!N98","v":8.82},{"$f":"'Base original'!O98","v":7.29},{"$f":"'Base original'!P98","v":10.49},{"$f":"'Base original'!Q98","v":11.1},{"$f":"'Base original'!L98","v":9.2200000000000006},{"$f":"'Base original'!S98","v":1.83},{"$f":"'Base original'!T98","v":1.1499999999999999},{"$f":"'Base original'!U98","v":1.4},{"$f":"'Base original'!V98","v":2.2400000000000002},{"$f":"'Base original'!W98","v":3.1},{"$f":"'Base original'!R98","v":1.52},{"$f":"'Base original'!X98","v":4.53},{"$f":"('Base original'!Z98/'Base original'!Z86*100-100)*'Base original'!Z86/'Base original'!$AC86","v":2.8651579520819395},{"$f":"('Base original'!AA98/'Base original'!AA86*100-100)*'Base original'!AA86/'Base original'!$AC86","v":4.3175264027059344},{"$f":"('Base original'!AB98/'Base original'!AB86*100-100)*'Base original'!AB86/'Base original'!$AC86","v":2.2435150266726915},{"$f":"('Base original'!AC98/'Base original'!AC86*100-100)*'Base original'!AC86/'Base original'!$AC86","v":9.4261993814605631},{"$f":"('Base original'!AC98/'Base original'!AC86*100-100)*'Base original'!AC86/('Base original'!$AJ86)","v":2.4614492925355993},{"$f":"('Base original'!AD98/'Base original'!AD86*100-100)*'Base original'!AD86/('Base original'!$AJ86)","v":6.0521029499112036},{"$f":"('Base original'!AE98/'Base original'!AE86*100-100)*'Base original'!AE86/('Base original'!$AJ86)","v":0.25599144678555419},{"$f":"('Base original'!AF98/'Base original'!AF86*100-100)*'Base original'!AF86/('Base original'!$AJ86)","v":0.54275579170038535},{"$f":"('Base original'!AG98/'Base original'!AG86*100-100)*'Base original'!AG86/('Base original'!$AJ86)","v":8.310406219802538E-2},{"$f":"-('Base original'!AH98/'Base original'!AH86*100-100)*'Base original'!AH86/('Base original'!$AJ86)","v":-0.7932294614311115},{"$f":"-('Base original'!AI98/'Base original'!AI86*100-100)*'Base original'!AI86/('Base original'!$AJ86)","v":-4.0279626150535094E-3},{"$f":"(('Base original'!AF98-'Base original'!AH98)/('Base original'!AF86-'Base original'!AH86)*100-100)*(('Base original'!AF86-'Base original'!AH86)/'Base original'!AJ86)","v":-0.25047366973072543},{"$f":"(('Base original'!AG98-'Base original'!AI98)/('Base original'!AG86-'Base original'!AI86)*100-100)*(('Base original'!AG86-'Base original'!AI86)/'Base original'!AJ86)","v":7.9076099582971904E-2},{"$f":"('Base original'!AJ98/'Base original'!AJ86*100-100)*'Base original'!AJ86/('Base original'!$AJ86)","v":8.5981461190846318},{"$f":"('Base original'!AJ98/'Base original'!AJ86*100-100)*'Base original'!AJ86/('Base original'!$AU86)","v":4.9866628671872499},{"$f":"('Base original'!AK98/'Base original'!AK86*100-100)*'Base original'!AK86/('Base original'!$AU86)","v":0.4859437349248496},{"$f":"('Base original'!AL98/'Base original'!AL86*100-100)*'Base original'!AL86/('Base original'!$AU86)","v":0.32128223667253525},{"$f":"('Base original'!AM98/'Base original'!AM86*100-100)*'Base original'!AM86/('Base original'!$AU86)","v":1.2637753411978943},{"$f":"('Base original'!AN98/'Base original'!AN86*100-100)*'Base original'!AN86/('Base original'!$AU86)","v":-0.62764098888556297},{"$f":"('Base original'!AO98/'Base original'!AO86*100-100)*'Base original'!AO86/('Base original'!$AU86)","v":-4.3288768472206855E-2},{"$f":"('Base original'!AP98/'Base original'!AP86*100-100)*'Base original'!AP86/('Base original'!$AU86)","v":0.48905444373876716},{"$f":"('Base original'!AQ98/'Base original'!AQ86*100-100)*'Base original'!AQ86/('Base original'!$AU86)","v":0.58832255990127524},{"$f":"('Base original'!AR98/'Base original'!AR86*100-100)*'Base original'!AR86/('Base original'!$AU86)","v":1.7662358329982503E-2},{"$f":"-('Base original'!AS98/'Base original'!AS86*100-100)*'Base original'!AS86/('Base original'!$AU86)","v":-0.24080116123034995},{"$f":"-('Base original'!AT98/'Base original'!AT86*100-100)*'Base original'!AT86/('Base original'!$AU86)","v":-7.9097691720104134E-3},{"$f":"(('Base original'!AQ98-'Base original'!AS98)/('Base original'!AQ86-'Base original'!AS86)*100-100)*(('Base original'!AQ86-'Base original'!AS86)/'Base original'!AU86)","v":0.34752139867092602},{"$f":"(('Base original'!AR98-'Base original'!AT98)/('Base original'!AR86-'Base original'!AT86)*100-100)*(('Base original'!AR86-'Base original'!AT86)/'Base original'!AU86)","v":9.7525891579720528E-3},{"$f":"('Base original'!AU98/'Base original'!AU86*100-100)*'Base original'!AU86/('Base original'!$AU86)","v":7.2330628541924114}]
["2013-05-01",{"$f":"'Base original'!B99/'Base original'!B87*100-100","v":9.8147731060618923},{"$f":"'Base original'!C99/'Base original'!C87*100-100","v":10.778913277553031},{"$f":"'Base original'!D99/'Base original'!D87*100-100","v":10.285565800149229},{"$f":"'Base original'!E99/'Base original'!E87*100-100","v":6.6982561251555524},{"$f":"'Base original'!F99/'Base original'!F87*100-100","v":9.7660467079056446},{"$f":"'Base original'!H99","v":23.03},{"$f":"'Base original'!I99","v":37.01},{"$f":"'Base original'!J99","v":29.56},{"$f":"'Base original'!K99","v":20.32},{"$f":"'Base original'!G99","v":26.62},{"$f":"'Base original'!M99","v":8.35},{"$f":"'Base original'!N99","v":8.85},{"$f":"'Base original'!O99","v":7.75},{"$f":"'Base original'!P99","v":9.73},{"$f":"'Base original'!Q99","v":10.49},{"$f":"'Base original'!L99","v":9.1300000000000008},{"$f":"'Base original'!S99","v":1},{"$f":"'Base original'!T99","v":1.24},{"$f":"'Base original'!U99","v":1.64},{"$f":"'Base original'!V99","v":2.39},{"$f":"'Base original'!W99","v":2.4},{"$f":"'Base original'!R99","v":1.44},{"$f":"'Base original'!X99","v":4.51},{"$f":"('Base original'!Z99/'Base original'!Z87*100-100)*'Base original'!Z87/'Base original'!$AC87","v":3.1317613663531367},{"$f":"('Base original'!AA99/'Base original'!AA87*100-100)*'Base original'!AA87/'Base original'!$AC87","v":4.4123865670061599},{"$f":"('Base original'!AB99/'Base original'!AB87*100-100)*'Base original'!AB87/'Base original'!$AC87","v":1.1635420295497849},{"$f":"('Base original'!AC99/'Base original'!AC87*100-100)*'Base original'!AC87/'Base original'!$AC87","v":8.7076899629090718},{"$f":"('Base original'!AC99/'Base original'!AC87*100-100)*'Base original'!AC87/('Base original'!$AJ87)","v":2.2903043375725547},{"$f":"('Base original'!AD99/'Base original'!AD87*100-100)*'Base original'!AD87/('Base original'!$AJ87)","v":6.1005513918878318},{"$f":"('Base original'!AE99/'Base original'!AE87*100-100)*'Base original'!AE87/('Base original'!$AJ87)","v":0.2391662205062397},{"$f":"('Base original'!AF99/'Base original'!AF87*100-100)*'Base original'!AF87/('Base original'!$AJ87)","v":3.2811511217609581},{"$f":"('Base original'!AG99/'Base original'!AG87*100-100)*'Base original'!AG87/('Base original'!$AJ87)","v":6.1716615594888412E-2},{"$f":"-('Base original'!AH99/'Base original'!AH87*100-100)*'Base original'!AH87/('Base original'!$AJ87)","v":-3.1178688144685367},{"$f":"-('Base original'!AI99/'Base original'!AI87*100-100)*'Base original'!AI87/('Base original'!$AJ87)","v":-6.8640694449381024E-3},{"$f":"(('Base original'!AF99-'Base original'!AH99)/('Base original'!AF87-'Base original'!AH87)*100-100)*(('Base original'!AF87-'Base original'!AH87)/'Base original'!AJ87)","v":0.16328230729242224},{"$f":"(('Base original'!AG99-'Base original'!AI99)/('Base original'!AG87-'Base original'!AI87)*100-100)*(('Base original'!AG87-'Base original'!AI87)/'Base original'!AJ87)","v":5.4852546149950353E-2},{"$f":"('Base original'!AJ99/'Base original'!AJ87*100-100)*'Base original'!AJ87/('Base original'!$AJ87)","v":8.8481568034089975},{"$f":"('Base original'!AJ99/'Base original'!AJ87*100-100)*'Base original'!AJ87/('Base original'!$AU87)","v":5.1662777238114943},{"$f":"('Base original'!AK99/'Base original'!AK87*100-100)*'Base original'!AK87/('Base original'!$AU87)","v":0.6615272315713312},{"$f":"('Base original'!AL99/'Base original'!AL87*100-100)*'Base original'!AL87/('Base original'!$AU87)","v":0.62119084490121379},{"$f":"('Base original'!AM99/'Base original'!AM87*100-100)*'Base original'!AM87/('Base original'!$AU87)","v":1.5808293634819333},{"$f":"('Base original'!AN99/'Base original'!AN87*100-100)*'Base original'!AN87/('Base original'!$AU87)","v":-0.5180879328561504},{"$f":"('Base original'!AO99/'Base original'!AO87*100-100)*'Base original'!AO87/('Base original'!$AU87)","v":-3.7618954754458415E-2},{"$f":"('Base original'!AP99/'Base original'!AP87*100-100)*'Base original'!AP87/('Base original'!$AU87)","v":0.48153767762303951},{"$f":"('Base original'!AQ99/'Base original'!AQ87*100-100)*'Base original'!AQ87/('Base original'!$AU87)","v":-2.3293756091978254E-2},{"$f":"('Base original'!AR99/'Base original'!AR87*100-100)*'Base original'!AR87/('Base original'!$AU87)","v":3.0695024011903698E-2},{"$f":"-('Base original'!AS99/'Base original'!AS87*100-100)*'Base original'!AS87/('Base original'!$AU87)","v":-0.37005472008526236},{"$f":"-('Base original'!AT99/'Base original'!AT87*100-100)*'Base original'!AT87/('Base original'!$AU87)","v":-1.2390657567404042E-2},{"$f":"(('Base original'!AQ99-'Base original'!AS99)/('Base original'!AQ87-'Base original'!AS87)*100-100)*(('Base original'!AQ87-'Base original'!AS87)/'Base original'!AU87)","v":-0.39334847617724039},{"$f":"(('Base original'!AR99-'Base original'!AT99)/('Base original'!AR87-'Base original'!AT87)*100-100)*(('Base original'!AR87-'Base original'!AT87)/'Base original'!AU87)","v":1.8304366444499686E-2},{"$f":"('Base original'!AU99/'Base original'!AU87*100-100)*'Base original'!AU87/('Base original'!$AU87)","v":7.5806118440456629}]
["2013-06-01",{"$f":"'Base original'!B100/'Base original'!B88*100-100","v":9.4013432590260635},{"$f":"'Base original'!C100/'Base original'!C88*100-100","v":10.647731434681702},{"$f":"'Base original'!D100/'Base original'!D88*100-100","v":10.078986281408774},{"$f":"'Base original'!E100/'Base original'!E88*100-100","v":11.627699676599448},{"$f":"'Base original'!F100/'Base original'!F88*100-100","v":9.8922242286932942},{"$f":"'Base original'!H100","v":23.11},{"$f":"'Base original'!I100","v":36.96},{"$f":"'Base original'!J100","v":29.76},{"$f":"'Base original'!K100","v":20.28},{"$f":"'Base original'!G100","v":26.36},{"$f":"'Base original'!M100","v":7.8},{"$f":"'Base original'!N100","v":8.76},{"$f":"'Base original'!O100","v":7.56},{"$f":"'Base original'!P100","v":10.32},{"$f":"'Base original'!Q100","v":9.7200000000000006},{"$f":"'Base original'!L100","v":9.0359999999999996},{"$f":"'Base original'!S100","v":1.69},{"$f":"'Base original'!T100","v":0.98},{"$f":"'Base original'!U100","v":1.95},{"$f":"'Base original'!V100","v":1.89},{"$f":"'Base original'!W100","v":2.42},{"$f":"'Base original'!R100","v":1.43},{"$f":"'Base original'!X100","v":4.45},{"$f":"('Base original'!Z100/'Base original'!Z88*100-100)*'Base original'!Z88/'Base original'!$AC88","v":2.9126788702749531},{"$f":"('Base original'!AA100/'Base original'!AA88*100-100)*'Base original'!AA88/'Base original'!$AC88","v":5.0492545032672869},{"$f":"('Base original'!AB100/'Base original'!AB88*100-100)*'Base original'!AB88/'Base original'!$AC88","v":4.9086395919002461},{"$f":"('Base original'!AC100/'Base original'!AC88*100-100)*'Base original'!AC88/'Base original'!$AC88","v":12.870572965442491},{"$f":"('Base original'!AC100/'Base original'!AC88*100-100)*'Base original'!AC88/('Base original'!$AJ88)","v":3.3204587172338607},{"$f":"('Base original'!AD100/'Base original'!AD88*100-100)*'Base original'!AD88/('Base original'!$AJ88)","v":6.7029011718924334},{"$f":"('Base original'!AE100/'Base original'!AE88*100-100)*'Base original'!AE88/('Base original'!$AJ88)","v":0.14187609147715896},{"$f":"('Base original'!AF100/'Base original'!AF88*100-100)*'Base original'!AF88/('Base original'!$AJ88)","v":2.3496346404714332},{"$f":"('Base original'!AG100/'Base original'!AG88*100-100)*'Base original'!AG88/('Base original'!$AJ88)","v":9.2909612754379131E-2},{"$f":"-('Base original'!AH100/'Base original'!AH88*100-100)*'Base original'!AH88/('Base original'!$AJ88)","v":-2.5193545894024783},{"$f":"-('Base original'!AI100/'Base original'!AI88*100-100)*'Base original'!AI88/('Base original'!$AJ88)","v":-4.0405965038962498E-3},{"$f":"(('Base original'!AF100-'Base original'!AH100)/('Base original'!AF88-'Base original'!AH88)*100-100)*(('Base original'!AF88-'Base original'!AH88)/'Base original'!AJ88)","v":-0.16971994893104567},{"$f":"(('Base original'!AG100-'Base original'!AI100)/('Base original'!AG88-'Base original'!AI88)*100-100)*(('Base original'!AG88-'Base original'!AI88)/'Base original'!AJ88)","v":8.8869016250482769E-2},{"$f":"('Base original'!AJ100/'Base original'!AJ88*100-100)*'Base original'!AJ88/('Base original'!$AJ88)","v":10.084385047922879},{"$f":"('Base original'!AJ100/'Base original'!AJ88*100-100)*'Base original'!AJ88/('Base original'!$AU88)","v":5.9208211738134882},{"$f":"('Base original'!AK100/'Base original'!AK88*100-100)*'Base original'!AK88/('Base original'!$AU88)","v":0.20294617908390272},{"$f":"('Base original'!AL100/'Base original'!AL88*100-100)*'Base original'!AL88/('Base original'!$AU88)","v":0.9410364294224125},{"$f":"('Base original'!AM100/'Base original'!AM88*100-100)*'Base original'!AM88/('Base original'!$AU88)","v":1.8854211670220202},{"$f":"('Base original'!AN100/'Base original'!AN88*100-100)*'Base original'!AN88/('Base original'!$AU88)","v":-0.55466816824454857},{"$f":"('Base original'!AO100/'Base original'!AO88*100-100)*'Base original'!AO88/('Base original'!$AU88)","v":-4.9401680127271148E-2},{"$f":"('Base original'!AP100/'Base original'!AP88*100-100)*'Base original'!AP88/('Base original'!$AU88)","v":0.48221607417933809},{"$f":"('Base original'!AQ100/'Base original'!AQ88*100-100)*'Base original'!AQ88/('Base original'!$AU88)","v":1.5909191012253405},{"$f":"('Base original'!AR100/'Base original'!AR88*100-100)*'Base original'!AR88/('Base original'!$AU88)","v":1.7131022393318845E-2},{"$f":"-('Base original'!AS100/'Base original'!AS88*100-100)*'Base original'!AS88/('Base original'!$AU88)","v":-0.51583171404208994},{"$f":"-('Base original'!AT100/'Base original'!AT88*100-100)*'Base original'!AT88/('Base original'!$AU88)","v":-8.775935135107691E-3},{"$f":"(('Base original'!AQ100-'Base original'!AS100)/('Base original'!AQ88-'Base original'!AS88)*100-100)*(('Base original'!AQ88-'Base original'!AS88)/'Base original'!AU88)","v":1.0750873871832518},{"$f":"(('Base original'!AR100-'Base original'!AT100)/('Base original'!AR88-'Base original'!AT88)*100-100)*(('Base original'!AR88-'Base original'!AT88)/'Base original'!AU88)","v":8.3550872582111302E-3},{"$f":"('Base original'!AU100/'Base original'!AU88*100-100)*'Base original'!AU88/('Base original'!$AU88)","v":9.9118136495907976}]
["2013-07-01",{"$f":"'Base original'!B101/'Base original'!B89*100-100","v":9.8928127233365899},{"$f":"'Base original'!C101/'Base original'!C89*100-100","v":10.485660167524074},{"$f":"'Base original'!D101/'Base original'!D89*100-100","v":10.807024562067923},{"$f":"'Base original'!E101/'Base original'!E89*100-100","v":17.66324153216685},{"$f":"'Base original'!F101/'Base original'!F89*100-100","v":10.813367313627481},{"$f":"'Base original'!H101","v":20.21},{"$f":"'Base original'!I101","v":37.049999999999997},{"$f":"'Base original'!J101","v":29.52},{"$f":"'Base original'!K101","v":23.1},{"$f":"'Base original'!G101","v":26.99},{"$f":"'Base original'!M101","v":8.19},{"$f":"'Base original'!N101","v":9.07},{"$f":"'Base original'!O101","v":7.36},{"$f":"'Base original'!P101","v":10.88},{"$f":"'Base original'!Q101","v":9.64},{"$f":"'Base original'!L101","v":9.2200000000000006},{"$f":"'Base original'!S101","v":2.04},{"$f":"'Base original'!T101","v":0.97},{"$f":"'Base original'!U101","v":1.98},{"$f":"'Base original'!V101","v":2.2599999999999998},{"$f":"'Base original'!W101","v":3.11},{"$f":"'Base original'!R101","v":1.48},{"$f":"'Base original'!X101","v":4.46},{"$f":"('Base original'!Z101/'Base original'!Z89*100-100)*'Base original'!Z89/'Base original'!$AC89","v":3.003635438079447},{"$f":"('Base original'!AA101/'Base original'!AA89*100-100)*'Base original'!AA89/'Base original'!$AC89","v":5.528505839539462},{"$f":"('Base original'!AB101/'Base original'!AB89*100-100)*'Base original'!AB89/'Base original'!$AC89","v":5.7404475184689785},{"$f":"('Base original'!AC101/'Base original'!AC89*100-100)*'Base original'!AC89/'Base original'!$AC89","v":14.272588796087888},{"$f":"('Base original'!AC101/'Base original'!AC89*100-100)*'Base original'!AC89/('Base original'!$AJ89)","v":3.6093565476015388},{"$f":"('Base original'!AD101/'Base original'!AD89*100-100)*'Base original'!AD89/('Base original'!$AJ89)","v":5.1404665884446192},{"$f":"('Base original'!AE101/'Base original'!AE89*100-100)*'Base original'!AE89/('Base original'!$AJ89)","v":0.21391903723989869},{"$f":"('Base original'!AF101/'Base original'!AF89*100-100)*'Base original'!AF89/('Base original'!$AJ89)","v":2.8813082291326402},{"$f":"('Base original'!AG101/'Base original'!AG89*100-100)*'Base original'!AG89/('Base original'!$AJ89)","v":9.1119995879676119E-2},{"$f":"-('Base original'!AH101/'Base original'!AH89*100-100)*'Base original'!AH89/('Base original'!$AJ89)","v":-3.1670586127315992},{"$f":"-('Base original'!AI101/'Base original'!AI89*100-100)*'Base original'!AI89/('Base original'!$AJ89)","v":-4.3437618655227123E-3},{"$f":"(('Base original'!AF101-'Base original'!AH101)/('Base original'!AF89-'Base original'!AH89)*100-100)*(('Base original'!AF89-'Base original'!AH89)/'Base original'!AJ89)","v":-0.28575038359896143},{"$f":"(('Base original'!AG101-'Base original'!AI101)/('Base original'!AG89-'Base original'!AI89)*100-100)*(('Base original'!AG89-'Base original'!AI89)/'Base original'!AJ89)","v":8.6776234014153256E-2},{"$f":"('Base original'!AJ101/'Base original'!AJ89*100-100)*'Base original'!AJ89/('Base original'!$AJ89)","v":8.7647680237012366},{"$f":"('Base original'!AJ101/'Base original'!AJ89*100-100)*'Base original'!AJ89/('Base original'!$AU89)","v":5.1997562536970898},{"$f":"('Base original'!AK101/'Base original'!AK89*100-100)*'Base original'!AK89/('Base original'!$AU89)","v":0.78540905404567829},{"$f":"('Base original'!AL101/'Base original'!AL89*100-100)*'Base original'!AL89/('Base original'!$AU89)","v":1.3238536607329456},{"$f":"('Base original'!AM101/'Base original'!AM89*100-100)*'Base original'!AM89/('Base original'!$AU89)","v":2.0328260327376539},{"$f":"('Base original'!AN101/'Base original'!AN89*100-100)*'Base original'!AN89/('Base original'!$AU89)","v":-0.59401153254859929},{"$f":"('Base original'!AO101/'Base original'!AO89*100-100)*'Base original'!AO89/('Base original'!$AU89)","v":-3.5453381500680829E-2},{"$f":"('Base original'!AP101/'Base original'!AP89*100-100)*'Base original'!AP89/('Base original'!$AU89)","v":0.4822022576805215},{"$f":"('Base original'!AQ101/'Base original'!AQ89*100-100)*'Base original'!AQ89/('Base original'!$AU89)","v":2.1445694276057923},{"$f":"('Base original'!AR101/'Base original'!AR89*100-100)*'Base original'!AR89/('Base original'!$AU89)","v":1.7007182219817955E-2},{"$f":"-('Base original'!AS101/'Base original'!AS89*100-100)*'Base original'!AS89/('Base original'!$AU89)","v":-0.59020447433542034},{"$f":"-('Base original'!AT101/'Base original'!AT89*100-100)*'Base original'!AT89/('Base original'!$AU89)","v":-9.3778591821801274E-3},{"$f":"(('Base original'!AQ101-'Base original'!AS101)/('Base original'!AQ89-'Base original'!AS89)*100-100)*(('Base original'!AQ89-'Base original'!AS89)/'Base original'!AU89)","v":1.5543649532703721},{"$f":"(('Base original'!AR101-'Base original'!AT101)/('Base original'!AR89-'Base original'!AT89)*100-100)*(('Base original'!AR89-'Base original'!AT89)/'Base original'!AU89)","v":7.6293230376378628E-3},{"$f":"('Base original'!AU101/'Base original'!AU89*100-100)*'Base original'!AU89/('Base original'!$AU89)","v":10.756576618931348}]
["2013-08-01",{"$f":"'Base original'!B102/'Base original'!B90*100-100","v":11.071242756491827},{"$f":"'Base original'!C102/'Base original'!C90*100-100","v":10.006201915621645},{"$f":"'Base original'!D102/'Base original'!D90*100-100","v":11.16844405772035},{"$f":"'Base original'!E102/'Base original'!E90*100-100","v":15.517798576035261},{"$f":"'Base original'!F102/'Base original'!F90*100-100","v":11.340535387068897},{"$f":"'Base original'!H102","v":18.309999999999999},{"$f":"'Base original'!I102","v":35.82},{"$f":"'Base original'!J102","v":28.51},{"$f":"'Base original'!K102","v":25.43},{"$f":"'Base original'!G102","v":27.410764499772498},{"$f":"'Base original'!M102","v":7.96},{"$f":"'Base original'!N102","v":8.6300000000000008},{"$f":"'Base original'!O102","v":7.26},{"$f":"'Base original'!P102","v":11.1},{"$f":"'Base original'!Q102","v":10.08},{"$f":"'Base original'!L102","v":8.8965493557184914},{"$f":"'Base original'!S102","v":1.92},{"$f":"'Base original'!T102","v":1.1100000000000001},{"$f":"'Base original'!U102","v":1.89},{"$f":"'Base original'!V102","v":2.21},{"$f":"'Base original'!W102","v":2.98},{"$f":"'Base original'!R102","v":1.6821505055583721},{"$f":"'Base original'!X102","v":4.49},{"$f":"('Base original'!Z102/'Base original'!Z90*100-100)*'Base original'!Z90/'Base original'!$AC90","v":2.9089196947212197},{"$f":"('Base original'!AA102/'Base original'!AA90*100-100)*'Base original'!AA90/'Base original'!$AC90","v":6.5941879182868899},{"$f":"('Base original'!AB102/'Base original'!AB90*100-100)*'Base original'!AB90/'Base original'!$AC90","v":5.5558624694029897},{"$f":"('Base original'!AC102/'Base original'!AC90*100-100)*'Base original'!AC90/'Base original'!$AC90","v":15.058970082411079},{"$f":"('Base original'!AC102/'Base original'!AC90*100-100)*'Base original'!AC90/('Base original'!$AJ90)","v":3.7754090767594208},{"$f":"('Base original'!AD102/'Base original'!AD90*100-100)*'Base original'!AD90/('Base original'!$AJ90)","v":6.9481598627809928},{"$f":"('Base original'!AE102/'Base original'!AE90*100-100)*'Base original'!AE90/('Base original'!$AJ90)","v":0.17091485984976601},{"$f":"('Base original'!AF102/'Base original'!AF90*100-100)*'Base original'!AF90/('Base original'!$AJ90)","v":2.9571445283132141},{"$f":"('Base original'!AG102/'Base original'!AG90*100-100)*'Base original'!AG90/('Base original'!$AJ90)","v":4.4325971908674849E-3},{"$f":"-('Base original'!AH102/'Base original'!AH90*100-100)*'Base original'!AH90/('Base original'!$AJ90)","v":-2.5894221722979616},{"$f":"-('Base original'!AI102/'Base original'!AI90*100-100)*'Base original'!AI90/('Base original'!$AJ90)","v":-1.547369950204505E-2},{"$f":"(('Base original'!AF102-'Base original'!AH102)/('Base original'!AF90-'Base original'!AH90)*100-100)*(('Base original'!AF90-'Base original'!AH90)/'Base original'!AJ90)","v":0.36772235601525088},{"$f":"(('Base original'!AG102-'Base original'!AI102)/('Base original'!AG90-'Base original'!AI90)*100-100)*(('Base original'!AG90-'Base original'!AI90)/'Base original'!AJ90)","v":-1.1041102311177466E-2},{"$f":"('Base original'!AJ102/'Base original'!AJ90*100-100)*'Base original'!AJ90/('Base original'!$AJ90)","v":11.251165053094226},{"$f":"('Base original'!AJ102/'Base original'!AJ90*100-100)*'Base original'!AJ90/('Base original'!$AU90)","v":6.6131784186135416},{"$f":"('Base original'!AK102/'Base original'!AK90*100-100)*'Base original'!AK90/('Base original'!$AU90)","v":1.1289519018664727},{"$f":"('Base original'!AL102/'Base original'!AL90*100-100)*'Base original'!AL90/('Base original'!$AU90)","v":0.9742151984306523},{"$f":"('Base original'!AM102/'Base original'!AM90*100-100)*'Base original'!AM90/('Base original'!$AU90)","v":2.2539382452468169},{"$f":"('Base original'!AN102/'Base original'!AN90*100-100)*'Base original'!AN90/('Base original'!$AU90)","v":-0.59103320634944423},{"$f":"('Base original'!AO102/'Base original'!AO90*100-100)*'Base original'!AO90/('Base original'!$AU90)","v":-2.6247340114141027E-2},{"$f":"('Base original'!AP102/'Base original'!AP90*100-100)*'Base original'!AP90/('Base original'!$AU90)","v":0.44994251896866971},{"$f":"('Base original'!AQ102/'Base original'!AQ90*100-100)*'Base original'!AQ90/('Base original'!$AU90)","v":0.78507096754581474},{"$f":"('Base original'!AR102/'Base original'!AR90*100-100)*'Base original'!AR90/('Base original'!$AU90)","v":3.4853886092029912E-2},{"$f":"-('Base original'!AS102/'Base original'!AS90*100-100)*'Base original'!AS90/('Base original'!$AU90)","v":-0.43901704497305333},{"$f":"-('Base original'!AT102/'Base original'!AT90*100-100)*'Base original'!AT90/('Base original'!$AU90)","v":-1.3303509264920165E-2},{"$f":"(('Base original'!AQ102-'Base original'!AS102)/('Base original'!AQ90-'Base original'!AS90)*100-100)*(('Base original'!AQ90-'Base original'!AS90)/'Base original'!AU90)","v":0.34605392257276091},{"$f":"(('Base original'!AR102-'Base original'!AT102)/('Base original'!AR90-'Base original'!AT90)*100-100)*(('Base original'!AR90-'Base original'!AT90)/'Base original'!AU90)","v":2.1550376827109745E-2},{"$f":"('Base original'!AU102/'Base original'!AU90*100-100)*'Base original'!AU90/('Base original'!$AU90)","v":11.170550028894397}]

{"sheet":"Base gráficos 2","index":2,"n_rows":98,"n_cols":6,"rows_kept":98,"cut":false,"hidden":false,"merged":[[4,1,4,5],[3,1,3,5],[0,1,0,5],[1,1,1,5]]}
[null,"COLOCACIONES "]
[null,"Colocaciones balances individuales"]
[null,"comercial","consumo","vivienda","comex","Total"]
[null,"Variación  mensual, porcentaje"]
[null,"Fuente: Banco Central de Chile y Superintendencia de Bancos e Instituciones Financieras."]
[]
["2006-01-01"]
["2006-02-01"]
["2006-03-01"]
["2006-04-01"]
["2006-05-01"]
["2006-06-01"]
["2006-07-01"]
["2006-08-01"]
["2006-09-01"]
["2006-10-01"]
["2006-11-01"]
["2006-12-01"]
["2007-01-01",{"$f":"('Base original'!B23/'Base original'!B22*100-100)","v":0.64692885236952691},{"$f":"('Base original'!C23/'Base original'!C22*100-100)","v":1.1501099065297353},{"$f":"('Base original'!D23/'Base original'!D22*100-100)","v":1.1975595460214947},{"$f":"('Base original'!E23/'Base original'!E22*100-100)","v":3.0122496390157352},{"$f":"('Base original'!F23/'Base original'!F22*100-100)","v":1.0432435212535154}]
["2007-02-01",{"$f":"('Base original'!B24/'Base original'!B23*100-100)","v":1.1614522075634},{"$f":"('Base original'!C24/'Base original'!C23*100-100)","v":0.88831004607918373},{"$f":"('Base original'!D24/'Base original'!D23*100-100)","v":1.2926662202686714},{"$f":"('Base original'!E24/'Base original'!E23*100-100)","v":0.63375086458216856},{"$f":"('Base original'!F24/'Base original'!F23*100-100)","v":1.1036786785238348}]
["2007-03-01",{"$f":"('Base original'!B25/'Base original'!B24*100-100)","v":1.1299062138438813},{"$f":"('Base original'!C25/'Base original'!C24*100-100)","v":1.9031670499502837},{"$f":"('Base original'!D25/'Base original'!D24*100-100)","v":1.5085584888562096},{"$f":"('Base original'!E25/'Base original'!E24*100-100)","v":-0.13655868500590884},{"$f":"('Base original'!F25/'Base original'!F24*100-100)","v":1.1905000084314139}]
["2007-04-01",{"$f":"('Base original'!B26/'Base original'!B25*100-100)","v":1.5898360784019587},{"$f":"('Base original'!C26/'Base original'!C25*100-100)","v":1.2542926961639012},{"$f":"('Base original'!D26/'Base original'!D25*100-100)","v":1.3759430920658531},{"$f":"('Base original'!E26/'Base original'!E25*100-100)","v":3.3801627276561135},{"$f":"('Base original'!F26/'Base original'!F25*100-100)","v":1.6663196908971258}]
["2007-05-01",{"$f":"('Base original'!B27/'Base original'!B26*100-100)","v":1.2736486719719551},{"$f":"('Base original'!C27/'Base original'!C26*100-100)","v":0.58416686947322205},{"$f":"('Base original'!D27/'Base original'!D26*100-100)","v":1.9763241389287174},{"$f":"('Base original'!E27/'Base original'!E26*100-100)","v":3.4256194562850055},{"$f":"('Base original'!F27/'Base original'!F26*100-100)","v":1.5309950271528407}]
["2007-06-01",{"$f":"('Base original'!B28/'Base original'!B27*100-100)","v":1.5924592264251203},{"$f":"('Base original'!C28/'Base original'!C27*100-100)","v":0.73361315085784895},{"$f":"('Base original'!D28/'Base original'!D27*100-100)","v":2.3430497867090736},{"$f":"('Base original'!E28/'Base original'!E27*100-100)","v":-0.607093212956201},{"$f":"('Base original'!F28/'Base original'!F27*100-100)","v":1.4284514544765159}]
["2007-07-01",{"$f":"('Base original'!B29/'Base original'!B28*100-100)","v":1.5436334138266403},{"$f":"('Base original'!C29/'Base original'!C28*100-100)","v":1.2323705840997974},{"$f":"('Base original'!D29/'Base original'!D28*100-100)","v":1.9659542771129708},{"$f":"('Base original'!E29/'Base original'!E28*100-100)","v":-0.45076696773908509},{"$f":"('Base original'!F29/'Base original'!F28*100-100)","v":1.4062495335152079}]
["2007-08-01",{"$f":"('Base original'!B30/'Base original'!B29*100-100)","v":2.0088057910680419},{"$f":"('Base original'!C30/'Base original'!C29*100-100)","v":1.7312812463587761},{"$f":"('Base original'!D30/'Base original'!D29*100-100)","v":2.3630355184937031},{"$f":"('Base original'!E30/'Base original'!E29*100-100)","v":1.8390293126349775},{"$f":"('Base original'!F30/'Base original'!F29*100-100)","v":2.0326145457944023}]
["2007-09-01",{"$f":"('Base original'!B31/'Base original'!B30*100-100)","v":2.1597062878382758},{"$f":"('Base original'!C31/'Base original'!C30*100-100)","v":0.98474492981894457},{"$f":"('Base original'!D31/'Base original'!D30*100-100)","v":2.5112831868569145},{"$f":"('Base original'!E31/'Base original'!E30*100-100)","v":-0.91665068392455851},{"$f":"('Base original'!F31/'Base original'!F30*100-100)","v":1.8030894646113467}]
["2007-10-01",{"$f":"('Base original'!B32/'Base original'!B31*100-100)","v":1.8925271046586971},{"$f":"('Base original'!C32/'Base original'!C31*100-100)","v":1.3075916174739319},{"$f":"('Base original'!D32/'Base original'!D31*100-100)","v":2.0583320781936862},{"$f":"('Base original'!E32/'Base original'!E31*100-100)","v":-1.3752500557352931},{"$f":"('Base original'!F32/'Base original'!F31*100-100)","v":1.5629771689782643}]
["2007-11-01",{"$f":"('Base original'!B33/'Base original'!B32*100-100)","v":3.0409987904010336},{"$f":"('Base original'!C33/'Base original'!C32*100-100)","v":1.4769093542442988},{"$f":"('Base original'!D33/'Base original'!D32*100-100)","v":1.5381037889236922},{"$f":"('Base original'!E33/'Base original'!E32*100-100)","v":5.8404716961139229},{"$f":"('Base original'!F33/'Base original'!F32*100-100)","v":2.7639112954363441}]
["2007-12-01",{"$f":"('Base original'!B34/'Base original'!B33*100-100)","v":2.529157034799141},{"$f":"('Base original'!C34/'Base original'!C33*100-100)","v":1.11659282520678},{"$f":"('Base original'!D34/'Base original'!D33*100-100)","v":1.8895420835969787},{"$f":"('Base original'!E34/'Base original'!E33*100-100)","v":-2.5346114230774077},{"$f":"('Base original'!F34/'Base original'!F33*100-100)","v":1.7668747656028643}]
["2008-01-01",{"$f":"('Base original'!B35/'Base original'!B34*100-100)","v":-0.37123522589857316},{"$f":"('Base original'!C35/'Base original'!C34*100-100)","v":1.1404064206922016},{"$f":"('Base original'!D35/'Base original'!D34*100-100)","v":2.0837619416647897},{"$f":"('Base original'!E35/'Base original'!E34*100-100)","v":-5.6887016513796738},{"$f":"('Base original'!F35/'Base original'!F34*100-100)","v":-0.11740648266896869}]
["2008-02-01",{"$f":"('Base original'!B36/'Base original'!B35*100-100)","v":1.0118368387398675},{"$f":"('Base original'!C36/'Base original'!C35*100-100)","v":0.75180092839231349},{"$f":"('Base original'!D36/'Base original'!D35*100-100)","v":1.0433009516698917},{"$f":"('Base original'!E36/'Base original'!E35*100-100)","v":1.976586455426002},{"$f":"('Base original'!F36/'Base original'!F35*100-100)","v":1.0638322853313298}]
["2008-03-01",{"$f":"('Base original'!B37/'Base original'!B36*100-100)","v":0.4427012698967161},{"$f":"('Base original'!C37/'Base original'!C36*100-100)","v":1.0480058554569922},{"$f":"('Base original'!D37/'Base original'!D36*100-100)","v":1.4442825821055152},{"$f":"('Base original'!E37/'Base original'!E36*100-100)","v":-0.8733343105069622},{"$f":"('Base original'!F37/'Base original'!F36*100-100)","v":0.62830414526058576}]
["2008-04-01",{"$f":"('Base original'!B38/'Base original'!B37*100-100)","v":2.3290922516081736},{"$f":"('Base original'!C38/'Base original'!C37*100-100)","v":1.2191996366391464},{"$f":"('Base original'!D38/'Base original'!D37*100-100)","v":1.9845457932549095},{"$f":"('Base original'!E38/'Base original'!E37*100-100)","v":12.964812308278397},{"$f":"('Base original'!F38/'Base original'!F37*100-100)","v":2.966395414723408}]
["2008-05-01",{"$f":"('Base original'!B39/'Base original'!B38*100-100)","v":1.4544651069814165},{"$f":"('Base original'!C39/'Base original'!C38*100-100)","v":-2.5354411370855701E-2},{"$f":"('Base original'!D39/'Base original'!D38*100-100)","v":1.3661324857876025},{"$f":"('Base original'!E39/'Base original'!E38*100-100)","v":8.8745541883111372},{"$f":"('Base original'!F39/'Base original'!F38*100-100)","v":1.9049400801773828}]
["2008-06-01",{"$f":"('Base original'!B40/'Base original'!B39*100-100)","v":2.0780517455981027},{"$f":"('Base original'!C40/'Base original'!C39*100-100)","v":0.42553889825978786},{"$f":"('Base original'!D40/'Base original'!D39*100-100)","v":2.1862453690691126},{"$f":"('Base original'!E40/'Base original'!E39*100-100)","v":10.790129445247217},{"$f":"('Base original'!F40/'Base original'!F39*100-100)","v":2.7193580354841913}]
["2008-07-01",{"$f":"('Base original'!B41/'Base original'!B40*100-100)","v":1.1748388509719092},{"$f":"('Base original'!C41/'Base original'!C40*100-100)","v":0.48828911262326358},{"$f":"('Base original'!D41/'Base original'!D40*100-100)","v":2.2329845365015331},{"$f":"('Base original'!E41/'Base original'!E40*100-100)","v":-4.6229316022729279},{"$f":"('Base original'!F41/'Base original'!F40*100-100)","v":0.73341179666029177}]
["2008-08-01",{"$f":"('Base original'!B42/'Base original'!B41*100-100)","v":1.297917187258534},{"$f":"('Base original'!C42/'Base original'!C41*100-100)","v":0.71003856844180291},{"$f":"('Base original'!D42/'Base original'!D41*100-100)","v":1.9993748015224071},{"$f":"('Base original'!E42/'Base original'!E41*100-100)","v":0.18338904211276486},{"$f":"('Base original'!F42/'Base original'!F41*100-100)","v":1.2742574468637144}]
["2008-09-01",{"$f":"('Base original'!B43/'Base original'!B42*100-100)","v":1.7387871687221121},{"$f":"('Base original'!C43/'Base original'!C42*100-100)","v":0.32389584961617857},{"$f":"('Base original'!D43/'Base original'!D42*100-100)","v":1.6775170598836127},{"$f":"('Base original'!E43/'Base original'!E42*100-100)","v":8.3808506439507795},{"$f":"('Base original'!F43/'Base original'!F42*100-100)","v":2.1893461038959146}]
["2008-10-01",{"$f":"('Base original'!B44/'Base original'!B43*100-100)","v":3.5310895478893372},{"$f":"('Base original'!C44/'Base original'!C43*100-100)","v":0.12262883401945146},{"$f":"('Base original'!D44/'Base original'!D43*100-100)","v":1.5546871970395983},{"$f":"('Base original'!E44/'Base original'!E43*100-100)","v":16.443040405320758},{"$f":"('Base original'!F44/'Base original'!F43*100-100)","v":4.0069831454909064}]
["2008-11-01",{"$f":"('Base original'!B45/'Base original'!B44*100-100)","v":0.82015176028666303},{"$f":"('Base original'!C45/'Base original'!C44*100-100)","v":0.48111559368115309},{"$f":"('Base original'!D45/'Base original'!D44*100-100)","v":1.197683895557617},{"$f":"('Base original'!E45/'Base original'!E44*100-100)","v":-0.8365400227124411},{"$f":"('Base original'!F45/'Base original'!F44*100-100)","v":0.67636829018962885}]
["2008-12-01",{"$f":"('Base original'!B46/'Base original'!B45*100-100)","v":-1.1450054224792012},{"$f":"('Base original'!C46/'Base original'!C45*100-100)","v":-0.11148192582548688},{"$f":"('Base original'!D46/'Base original'!D45*100-100)","v":0.60002672740868945},{"$f":"('Base original'!E46/'Base original'!E45*100-100)","v":-6.734408667426834},{"$f":"('Base original'!F46/'Base original'!F45*100-100)","v":-1.277600156855101}]
["2009-01-01",{"$f":"('Base original'!B47/'Base original'!B46*100-100)","v":-1.5187869957304656},{"$f":"('Base original'!C47/'Base original'!C46*100-100)","v":-0.17074864770299314},{"$f":"('Base original'!D47/'Base original'!D46*100-100)","v":-5.2171813294492608E-2},{"$f":"('Base original'!E47/'Base original'!E46*100-100)","v":-4.3349290047919595},{"$f":"('Base original'!F47/'Base original'!F46*100-100)","v":-1.3436131421808852}]
["2009-02-01",{"$f":"('Base original'!B48/'Base original'!B47*100-100)","v":-1.2040866973137554},{"$f":"('Base original'!C48/'Base original'!C47*100-100)","v":-0.71120746430531767},{"$f":"('Base original'!D48/'Base original'!D47*100-100)","v":-0.69206056486612511},{"$f":"('Base original'!E48/'Base original'!E47*100-100)","v":-5.6127184751608894},{"$f":"('Base original'!F48/'Base original'!F47*100-100)","v":-1.4831807545140947}]
["2009-03-01",{"$f":"('Base original'!B49/'Base original'!B48*100-100)","v":-1.6398672795344567},{"$f":"('Base original'!C49/'Base original'!C48*100-100)","v":4.5574179678936844E-2},{"$f":"('Base original'!D49/'Base original'!D48*100-100)","v":0.14749133989894858},{"$f":"('Base original'!E49/'Base original'!E48*100-100)","v":-4.7318511599974613},{"$f":"('Base original'!F49/'Base original'!F48*100-100)","v":-1.3510107179751856}]
["2009-04-01",{"$f":"('Base original'!B50/'Base original'!B49*100-100)","v":1.0283327338270141},{"$f":"('Base original'!C50/'Base original'!C49*100-100)","v":0.43412936866677398},{"$f":"('Base original'!D50/'Base original'!D49*100-100)","v":0.24229965060776237},{"$f":"('Base original'!E50/'Base original'!E49*100-100)","v":-4.9752944797151315},{"$f":"('Base original'!F50/'Base original'!F49*100-100)","v":0.21781650721931101}]
["2009-05-01",{"$f":"('Base original'!B51/'Base original'!B50*100-100)","v":-0.35458877024477431},{"$f":"('Base original'!C51/'Base original'!C50*100-100)","v":-0.69777678920094388},{"$f":"('Base original'!D51/'Base original'!D50*100-100)","v":0.49741165131398191},{"$f":"('Base original'!E51/'Base original'!E50*100-100)","v":-3.3680001824803583},{"$f":"('Base original'!F51/'Base original'!F50*100-100)","v":-0.47049238825735529}]
["2009-06-01",{"$f":"('Base original'!B52/'Base original'!B51*100-100)","v":-0.77784618516363935},{"$f":"('Base original'!C52/'Base original'!C51*100-100)","v":-0.73801430204625262},{"$f":"('Base original'!D52/'Base original'!D51*100-100)","v":0.88146453014658732},{"$f":"('Base original'!E52/'Base original'!E51*100-100)","v":-12.608114342021707},{"$f":"('Base original'!F52/'Base original'!F51*100-100)","v":-1.4184519331190302}]
["2009-07-01",{"$f":"('Base original'!B53/'Base original'!B52*100-100)","v":0.11259210655232721},{"$f":"('Base original'!C53/'Base original'!C52*100-100)","v":0.12484098492609519},{"$f":"('Base original'!D53/'Base original'!D52*100-100)","v":0.84210440357961147},{"$f":"('Base original'!E53/'Base original'!E52*100-100)","v":-0.75530721664864586},{"$f":"('Base original'!F53/'Base original'!F52*100-100)","v":0.21770095404025369}]
["2009-08-01",{"$f":"('Base original'!B54/'Base original'!B53*100-100)","v":1.0083302098128399},{"$f":"('Base original'!C54/'Base original'!C53*100-100)","v":8.0822498321992953E-2},{"$f":"('Base original'!D54/'Base original'!D53*100-100)","v":0.67707654445288767},{"$f":"('Base original'!E54/'Base original'!E53*100-100)","v":0.49556185786090623},{"$f":"('Base original'!F54/'Base original'!F53*100-100)","v":0.78368163633790289}]
["2009-09-01",{"$f":"('Base original'!B55/'Base original'!B54*100-100)","v":0.44836897377318508},{"$f":"('Base original'!C55/'Base original'!C54*100-100)","v":0.26201969224604227},{"$f":"('Base original'!D55/'Base original'!D54*100-100)","v":0.71065535691097637},{"$f":"('Base original'!E55/'Base original'!E54*100-100)","v":-2.65191682410385},{"$f":"('Base original'!F55/'Base original'!F54*100-100)","v":0.2535420837023139}]
["2009-10-01",{"$f":"('Base original'!B56/'Base original'!B55*100-100)","v":0.10528905451919002},{"$f":"('Base original'!C56/'Base original'!C55*100-100)","v":0.7122552448733046},{"$f":"('Base original'!D56/'Base original'!D55*100-100)","v":1.4361372789642957},{"$f":"('Base original'!E56/'Base original'!E55*100-100)","v":-0.41221365530226706},{"$f":"('Base original'!F56/'Base original'!F55*100-100)","v":0.45098084147959128}]
["2009-11-01",{"$f":"('Base original'!B57/'Base original'!B56*100-100)","v":-0.25603898236785483},{"$f":"('Base original'!C57/'Base original'!C56*100-100)","v":0.54588637896306125},{"$f":"('Base original'!D57/'Base original'!D56*100-100)","v":1.4073708256923538},{"$f":"('Base original'!E57/'Base original'!E56*100-100)","v":-7.7677641931656751},{"$f":"('Base original'!F57/'Base original'!F56*100-100)","v":-0.31503300702139825}]
["2009-12-01",{"$f":"('Base original'!B58/'Base original'!B57*100-100)","v":3.7012120985090036},{"$f":"('Base original'!C58/'Base original'!C57*100-100)","v":0.93438966698384718},{"$f":"('Base original'!D58/'Base original'!D57*100-100)","v":0.83097819571760567},{"$f":"('Base original'!E58/'Base original'!E57*100-100)","v":-4.0480142060104924},{"$f":"('Base original'!F58/'Base original'!F57*100-100)","v":2.160303682741187}]
["2010-01-01",{"$f":"('Base original'!B59/'Base original'!B58*100-100)","v":-0.37992209829211276},{"$f":"('Base original'!C59/'Base original'!C58*100-100)","v":0.42212957586768596},{"$f":"('Base original'!D59/'Base original'!D58*100-100)","v":0.27435665587898939},{"$f":"('Base original'!E59/'Base original'!E58*100-100)","v":13.441743411951038},{"$f":"('Base original'!F59/'Base original'!F58*100-100)","v":0.74480598721360991}]
["2010-02-01",{"$f":"('Base original'!B60/'Base original'!B59*100-100)","v":0.55927935391353856},{"$f":"('Base original'!C60/'Base original'!C59*100-100)","v":0.17521390941750781},{"$f":"('Base original'!D60/'Base original'!D59*100-100)","v":0.6529080145352566},{"$f":"('Base original'!E60/'Base original'!E59*100-100)","v":-2.428819986093572},{"$f":"('Base original'!F60/'Base original'!F59*100-100)","v":0.3241470555491901}]
["2010-03-01",{"$f":"('Base original'!B61/'Base original'!B60*100-100)","v":-0.36286105826728488},{"$f":"('Base original'!C61/'Base original'!C60*100-100)","v":0.67217536752409046},{"$f":"('Base original'!D61/'Base original'!D60*100-100)","v":0.64854077270611299},{"$f":"('Base original'!E61/'Base original'!E60*100-100)","v":0.45754611460606043},{"$f":"('Base original'!F61/'Base original'!F60*100-100)","v":5.4308216180174895E-2}]
["2010-04-01",{"$f":"('Base original'!B62/'Base original'!B61*100-100)","v":0.73162938986686754},{"$f":"('Base original'!C62/'Base original'!C61*100-100)","v":1.3911672279303104},{"$f":"('Base original'!D62/'Base original'!D61*100-100)","v":0.61846343174121898},{"$f":"('Base original'!E62/'Base original'!E61*100-100)","v":3.9829360258877102},{"$f":"('Base original'!F62/'Base original'!F61*100-100)","v":1.0072441889615646}]
["2010-05-01",{"$f":"('Base original'!B63/'Base original'!B62*100-100)","v":0.69097424605732272},{"$f":"('Base original'!C63/'Base original'!C62*100-100)","v":0.16412482768114955},{"$f":"('Base original'!D63/'Base original'!D62*100-100)","v":1.2334273137213785},{"$f":"('Base original'!E63/'Base original'!E62*100-100)","v":5.391812217300469},{"$f":"('Base original'!F63/'Base original'!F62*100-100)","v":1.0966982925998252}]
["2010-06-01",{"$f":"('Base original'!B64/'Base original'!B63*100-100)","v":0.65280175660755901},{"$f":"('Base original'!C64/'Base original'!C63*100-100)","v":0.6191824529575598},{"$f":"('Base original'!D64/'Base original'!D63*100-100)","v":1.4144097584171078},{"$f":"('Base original'!E64/'Base original'!E63*100-100)","v":3.8652358934981237},{"$f":"('Base original'!F64/'Base original'!F63*100-100)","v":1.071475951893035}]
["2010-07-01",{"$f":"('Base original'!B65/'Base original'!B64*100-100)","v":-0.77576549871342593},{"$f":"('Base original'!C65/'Base original'!C64*100-100)","v":0.93307818232915452},{"$f":"('Base original'!D65/'Base original'!D64*100-100)","v":0.76082706117612986},{"$f":"('Base original'!E65/'Base original'!E64*100-100)","v":-4.7500492651361412},{"$f":"('Base original'!F65/'Base original'!F64*100-100)","v":-0.51642472937525952}]
["2010-08-01",{"$f":"('Base original'!B66/'Base original'!B65*100-100)","v":0.47545992531996717},{"$f":"('Base original'!C66/'Base original'!C65*100-100)","v":1.4588695440505859},{"$f":"('Base original'!D66/'Base original'!D65*100-100)","v":1.3408200298492829},{"$f":"('Base original'!E66/'Base original'!E65*100-100)","v":-1.2209438594606468},{"$f":"('Base original'!F66/'Base original'!F65*100-100)","v":0.67540794588880715}]
["2010-09-01",{"$f":"('Base original'!B67/'Base original'!B66*100-100)","v":0.73447622699842441},{"$f":"('Base original'!C67/'Base original'!C66*100-100)","v":0.86129918541828943},{"$f":"('Base original'!D67/'Base original'!D66*100-100)","v":0.89936766639570465},{"$f":"('Base original'!E67/'Base original'!E66*100-100)","v":-3.3715352110430956},{"$f":"('Base original'!F67/'Base original'!F66*100-100)","v":0.49331559332816255}]
["2010-10-01",{"$f":"('Base original'!B68/'Base original'!B67*100-100)","v":1.1634432348785424},{"$f":"('Base original'!C68/'Base original'!C67*100-100)","v":1.2432898424101779},{"$f":"('Base original'!D68/'Base original'!D67*100-100)","v":1.1534926418076594},{"$f":"('Base original'!E68/'Base original'!E67*100-100)","v":7.2706410448771095},{"$f":"('Base original'!F68/'Base original'!F67*100-100)","v":1.5942620467221928}]
["2010-11-01",{"$f":"('Base original'!B69/'Base original'!B68*100-100)","v":0.52025122029660054},{"$f":"('Base original'!C69/'Base original'!C68*100-100)","v":1.6047501735329917},{"$f":"('Base original'!D69/'Base original'!D68*100-100)","v":0.92243552714367638},{"$f":"('Base original'!E69/'Base original'!E68*100-100)","v":2.0436397484765649},{"$f":"('Base original'!F69/'Base original'!F68*100-100)","v":0.85731170276990554}]
["2010-12-01",{"$f":"('Base original'!B70/'Base original'!B69*100-100)","v":1.3761090722961455},{"$f":"('Base original'!C70/'Base original'!C69*100-100)","v":1.381062446171228},{"$f":"('Base original'!D70/'Base original'!D69*100-100)","v":1.232534665365975},{"$f":"('Base original'!E70/'Base original'!E69*100-100)","v":-9.2790684123541638},{"$f":"('Base original'!F70/'Base original'!F69*100-100)","v":0.55146039389416046}]
["2011-01-01",{"$f":"('Base original'!B71/'Base original'!B70*100-100)","v":0.70046699536770518},{"$f":"('Base original'!C71/'Base original'!C70*100-100)","v":1.3238618615033033},{"$f":"('Base original'!D71/'Base original'!D70*100-100)","v":0.60822002078867854},{"$f":"('Base original'!E71/'Base original'!E70*100-100)","v":13.753265366779004},{"$f":"('Base original'!F71/'Base original'!F70*100-100)","v":1.6250478981573337}]
["2011-02-01",{"$f":"('Base original'!B72/'Base original'!B71*100-100)","v":0.38588506372995823},{"$f":"('Base original'!C72/'Base original'!C71*100-100)","v":1.0986444468683345},{"$f":"('Base original'!D72/'Base original'!D71*100-100)","v":0.77787972187061882},{"$f":"('Base original'!E72/'Base original'!E71*100-100)","v":2.859537257017692},{"$f":"('Base original'!F72/'Base original'!F71*100-100)","v":0.75133239367674776}]
["2011-03-01",{"$f":"('Base original'!B73/'Base original'!B72*100-100)","v":1.2712837676928359},{"$f":"('Base original'!C73/'Base original'!C72*100-100)","v":2.2107126431664739},{"$f":"('Base original'!D73/'Base original'!D72*100-100)","v":1.0040945607542966},{"$f":"('Base original'!E73/'Base original'!E72*100-100)","v":4.6970983753661386},{"$f":"('Base original'!F73/'Base original'!F72*100-100)","v":1.5796719992033843}]
["2011-04-01",{"$f":"('Base original'!B74/'Base original'!B73*100-100)","v":1.3374786931966725},{"$f":"('Base original'!C74/'Base original'!C73*100-100)","v":1.6853883423178786},{"$f":"('Base original'!D74/'Base original'!D73*100-100)","v":1.091731265745139},{"$f":"('Base original'!E74/'Base original'!E73*100-100)","v":1.0037058904905081},{"$f":"('Base original'!F74/'Base original'!F73*100-100)","v":1.2931368007079698}]
["2011-05-01",{"$f":"('Base original'!B75/'Base original'!B74*100-100)","v":1.7434148901253081},{"$f":"('Base original'!C75/'Base original'!C74*100-100)","v":0.63354723053110718},{"$f":"('Base original'!D75/'Base original'!D74*100-100)","v":1.0275910231642911},{"$f":"('Base original'!E75/'Base original'!E74*100-100)","v":6.605306873480373},{"$f":"('Base original'!F75/'Base original'!F74*100-100)","v":1.8185538860648052}]
["2011-06-01",{"$f":"('Base original'!B76/'Base original'!B75*100-100)","v":0.67888736294416674},{"$f":"('Base original'!C76/'Base original'!C75*100-100)","v":1.1528335620149477},{"$f":"('Base original'!D76/'Base original'!D75*100-100)","v":1.1779795693548181},{"$f":"('Base original'!E76/'Base original'!E75*100-100)","v":-2.3552839952673708},{"$f":"('Base original'!F76/'Base original'!F75*100-100)","v":0.60560086145730452}]
["2011-07-01",{"$f":"('Base original'!B77/'Base original'!B76*100-100)","v":0.33147207071972673},{"$f":"('Base original'!C77/'Base original'!C76*100-100)","v":1.1755675984413045},{"$f":"('Base original'!D77/'Base original'!D76*100-100)","v":0.89475000365241897},{"$f":"('Base original'!E77/'Base original'!E76*100-100)","v":2.3340814059989157},{"$f":"('Base original'!F77/'Base original'!F76*100-100)","v":0.72839482452724269}]
["2011-08-01",{"$f":"('Base original'!B78/'Base original'!B77*100-100)","v":0.91709179566838372},{"$f":"('Base original'!C78/'Base original'!C77*100-100)","v":1.6798624057108924},{"$f":"('Base original'!D78/'Base original'!D77*100-100)","v":0.82949428361922628},{"$f":"('Base original'!E78/'Base original'!E77*100-100)","v":3.6642499476256631},{"$f":"('Base original'!F78/'Base original'!F77*100-100)","v":1.2101895288525242}]
["2011-09-01",{"$f":"('Base original'!B79/'Base original'!B78*100-100)","v":2.5531225572538148},{"$f":"('Base original'!C79/'Base original'!C78*100-100)","v":0.92772577769571285},{"$f":"('Base original'!D79/'Base original'!D78*100-100)","v":0.78829448922301992},{"$f":"('Base original'!E79/'Base original'!E78*100-100)","v":13.30657223236733},{"$f":"('Base original'!F79/'Base original'!F78*100-100)","v":2.8247483133032603}]
["2011-10-01",{"$f":"('Base original'!B80/'Base original'!B79*100-100)","v":1.3951262961743822},{"$f":"('Base original'!C80/'Base original'!C79*100-100)","v":1.1417704773906792},{"$f":"('Base original'!D80/'Base original'!D79*100-100)","v":0.92880202407971524},{"$f":"('Base original'!E80/'Base original'!E79*100-100)","v":-5.3620527882431901},{"$f":"('Base original'!F80/'Base original'!F79*100-100)","v":0.63620646074630827}]
["2011-11-01",{"$f":"('Base original'!B81/'Base original'!B80*100-100)","v":1.6421172479566053},{"$f":"('Base original'!C81/'Base original'!C80*100-100)","v":2.3564158497456162},{"$f":"('Base original'!D81/'Base original'!D80*100-100)","v":1.2499805320385491},{"$f":"('Base original'!E81/'Base original'!E80*100-100)","v":4.0979586271443935},{"$f":"('Base original'!F81/'Base original'!F80*100-100)","v":1.8454151990912493}]
["2011-12-01",{"$f":"('Base original'!B82/'Base original'!B81*100-100)","v":1.6243357841958499},{"$f":"('Base original'!C82/'Base original'!C81*100-100)","v":1.0496195368699546},{"$f":"('Base original'!D82/'Base original'!D81*100-100)","v":1.3639110093210007},{"$f":"('Base original'!E82/'Base original'!E81*100-100)","v":-5.6367758450836476},{"$f":"('Base original'!F82/'Base original'!F81*100-100)","v":0.8552787967558686}]
["2012-01-01",{"$f":"('Base original'!B83/'Base original'!B82*100-100)","v":0.99844670668404945},{"$f":"('Base original'!C83/'Base original'!C82*100-100)","v":0.91755600011273941},{"$f":"('Base original'!D83/'Base original'!D82*100-100)","v":0.94197574593329136},{"$f":"('Base original'!E83/'Base original'!E82*100-100)","v":-7.23417646152771},{"$f":"('Base original'!F83/'Base original'!F82*100-100)","v":0.2975449529370735}]
["2012-02-01",{"$f":"('Base original'!B84/'Base original'!B83*100-100)","v":0.67032978233918072},{"$f":"('Base original'!C84/'Base original'!C83*100-100)","v":0.86351998227121385},{"$f":"('Base original'!D84/'Base original'!D83*100-100)","v":0.82767974255774845},{"$f":"('Base original'!E84/'Base original'!E83*100-100)","v":1.42412667562472},{"$f":"('Base original'!F84/'Base original'!F83*100-100)","v":0.78854088191715732}]
["2012-03-01",{"$f":"('Base original'!B85/'Base original'!B84*100-100)","v":1.8688010338201195},{"$f":"('Base original'!C85/'Base original'!C84*100-100)","v":1.3238140065597008},{"$f":"('Base original'!D85/'Base original'!D84*100-100)","v":1.0418646950670905},{"$f":"('Base original'!E85/'Base original'!E84*100-100)","v":4.5184749749657129},{"$f":"('Base original'!F85/'Base original'!F84*100-100)","v":1.8087944727054719}]
["2012-04-01",{"$f":"('Base original'!B86/'Base original'!B85*100-100)","v":1.0580524181412159},{"$f":"('Base original'!C86/'Base original'!C85*100-100)","v":0.8937827469649875},{"$f":"('Base original'!D86/'Base original'!D85*100-100)","v":0.85836776181548657},{"$f":"('Base original'!E86/'Base original'!E85*100-100)","v":3.0085275639814029},{"$f":"('Base original'!F86/'Base original'!F85*100-100)","v":1.1444944343598848}]
["2012-05-01",{"$f":"('Base original'!B87/'Base original'!B86*100-100)","v":2.1777519968277517},{"$f":"('Base original'!C87/'Base original'!C86*100-100)","v":0.56102181209605817},{"$f":"('Base original'!D87/'Base original'!D86*100-100)","v":0.77130209959281615},{"$f":"('Base original'!E87/'Base original'!E86*100-100)","v":11.316102835446529},{"$f":"('Base original'!F87/'Base original'!F86*100-100)","v":2.3842716627852951}]
["2012-06-01",{"$f":"('Base original'!B88/'Base original'!B87*100-100)","v":1.2608535335554905},{"$f":"('Base original'!C88/'Base original'!C87*100-100)","v":0.67536769835092514},{"$f":"('Base original'!D88/'Base original'!D87*100-100)","v":0.86690280892194949},{"$f":"('Base original'!E88/'Base original'!E87*100-100)","v":-3.023335202251161},{"$f":"('Base original'!F88/'Base original'!F87*100-100)","v":0.7272563588695391}]
["2012-07-01",{"$f":"('Base original'!B89/'Base original'!B88*100-100)","v":-2.746533112627958E-2},{"$f":"('Base original'!C89/'Base original'!C88*100-100)","v":0.78876147522264262},{"$f":"('Base original'!D89/'Base original'!D88*100-100)","v":0.38474294832082023},{"$f":"('Base original'!E89/'Base original'!E88*100-100)","v":-2.3404905605815145},{"$f":"('Base original'!F89/'Base original'!F88*100-100)","v":-2.9615006527833998E-2}]
["2012-08-01",{"$f":"('Base original'!B90/'Base original'!B89*100-100)","v":5.4205886068970699E-2},{"$f":"('Base original'!C90/'Base original'!C89*100-100)","v":1.3833132323835144},{"$f":"('Base original'!D90/'Base original'!D89*100-100)","v":0.70011184071034904},{"$f":"('Base original'!E90/'Base original'!E89*100-100)","v":3.1947785278336909},{"$f":"('Base original'!F90/'Base original'!F89*100-100)","v":0.61989979635383463}]
["2012-09-01",{"$f":"('Base original'!B91/'Base original'!B90*100-100)","v":0.9609505428140892},{"$f":"('Base original'!C91/'Base original'!C90*100-100)","v":0.62728412174939763},{"$f":"('Base original'!D91/'Base original'!D90*100-100)","v":0.71919931148009653},{"$f":"('Base original'!E91/'Base original'!E90*100-100)","v":-2.0728038259712633},{"$f":"('Base original'!F91/'Base original'!F90*100-100)","v":0.60966337263255355}]
["2012-10-01",{"$f":"('Base original'!B92/'Base original'!B91*100-100)","v":1.1949693373875476},{"$f":"('Base original'!C92/'Base original'!C91*100-100)","v":1.0764333314656938},{"$f":"('Base original'!D92/'Base original'!D91*100-100)","v":1.2276714203002541},{"$f":"('Base original'!E92/'Base original'!E91*100-100)","v":-0.66582167862127051},{"$f":"('Base original'!F92/'Base original'!F91*100-100)","v":1.0362975908479939}]
["2012-11-01",{"$f":"('Base original'!B93/'Base original'!B92*100-100)","v":1.7356776579241711},{"$f":"('Base original'!C93/'Base original'!C92*100-100)","v":1.1697034651902811},{"$f":"('Base original'!D93/'Base original'!D92*100-100)","v":1.3530457892877195},{"$f":"('Base original'!E93/'Base original'!E92*100-100)","v":0.22538328363536664},{"$f":"('Base original'!F93/'Base original'!F92*100-100)","v":1.456879641398217}]
["2012-12-01",{"$f":"('Base original'!B94/'Base original'!B93*100-100)","v":1.3584652861376583},{"$f":"('Base original'!C94/'Base original'!C93*100-100)","v":0.71728127331043368},{"$f":"('Base original'!D94/'Base original'!D93*100-100)","v":0.74828157494384584},{"$f":"('Base original'!E94/'Base original'!E93*100-100)","v":-1.4485482691527665},{"$f":"('Base original'!F94/'Base original'!F93*100-100)","v":0.91612620200764638}]
["2013-01-01",{"$f":"('Base original'!B95/'Base original'!B94*100-100)","v":-0.11103122729154791},{"$f":"('Base original'!C95/'Base original'!C94*100-100)","v":0.78875140579862091},{"$f":"('Base original'!D95/'Base original'!D94*100-100)","v":0.60807235751849475},{"$f":"('Base original'!E95/'Base original'!E94*100-100)","v":-1.3677513273137407},{"$f":"('Base original'!F95/'Base original'!F94*100-100)","v":6.6684816136657332E-2}]
["2013-02-01",{"$f":"('Base original'!B96/'Base original'!B95*100-100)","v":0.68341905247596912},{"$f":"('Base original'!C96/'Base original'!C95*100-100)","v":0.48224161766779616},{"$f":"('Base original'!D96/'Base original'!D95*100-100)","v":0.8399688447735798},{"$f":"('Base original'!E96/'Base original'!E95*100-100)","v":1.1343755523222541},{"$f":"('Base original'!F96/'Base original'!F95*100-100)","v":0.73066072804041937}]
["2013-03-01",{"$f":"('Base original'!B97/'Base original'!B96*100-100)","v":0.82672170438972614},{"$f":"('Base original'!C97/'Base original'!C96*100-100)","v":1.228526595401604},{"$f":"('Base original'!D97/'Base original'!D96*100-100)","v":0.96529392831259031},{"$f":"('Base original'!E97/'Base original'!E96*100-100)","v":2.2786528962882073},{"$f":"('Base original'!F97/'Base original'!F96*100-100)","v":1.0187854748260605}]
["2013-04-01",{"$f":"('Base original'!B98/'Base original'!B97*100-100)","v":0.18856656471743349},{"$f":"('Base original'!C98/'Base original'!C97*100-100)","v":0.98734323986238337},{"$f":"('Base original'!D98/'Base original'!D97*100-100)","v":0.9720053083312763},{"$f":"('Base original'!E98/'Base original'!E97*100-100)","v":2.8346448737188013},{"$f":"('Base original'!F98/'Base original'!F97*100-100)","v":0.67422389738953825}]
["2013-05-01",{"$f":"('Base original'!B99/'Base original'!B98*100-100)","v":1.295038897669599},{"$f":"('Base original'!C99/'Base original'!C98*100-100)","v":0.36075357067953462},{"$f":"('Base original'!D99/'Base original'!D98*100-100)","v":0.44949011255783944},{"$f":"('Base original'!E99/'Base original'!E98*100-100)","v":8.3010971634487731},{"$f":"('Base original'!F99/'Base original'!F98*100-100)","v":1.5394844235106859}]
["2013-06-01",{"$f":"('Base original'!B100/'Base original'!B99*100-100)","v":0.87962741977332826},{"$f":"('Base original'!C100/'Base original'!C99*100-100)","v":0.55615024192643148},{"$f":"('Base original'!D100/'Base original'!D99*100-100)","v":0.6779656974519952},{"$f":"('Base original'!E100/'Base original'!E99*100-100)","v":1.4569722768801086},{"$f":"('Base original'!F100/'Base original'!F99*100-100)","v":0.84304367074136621}]
["2013-07-01",{"$f":"('Base original'!B101/'Base original'!B100*100-100)","v":0.42164659561802864},{"$f":"('Base original'!C101/'Base original'!C100*100-100)","v":0.64113113453936421},{"$f":"('Base original'!D101/'Base original'!D100*100-100)","v":1.0486656290191547},{"$f":"('Base original'!E101/'Base original'!E100*100-100)","v":2.939812254252459},{"$f":"('Base original'!F101/'Base original'!F100*100-100)","v":0.80836083281185722}]
["2013-08-01",{"$f":"('Base original'!B102/'Base original'!B101*100-100)","v":1.127132115161686},{"$f":"('Base original'!C102/'Base original'!C101*100-100)","v":0.94335508703893822},{"$f":"('Base original'!D102/'Base original'!D101*100-100)","v":1.0285655987410678},{"$f":"('Base original'!E102/'Base original'!E101*100-100)","v":1.3131500105573366},{"$f":"('Base original'!F102/'Base original'!F101*100-100)","v":1.0985748877386783}]

{"sheet":"FAME Persistence2","index":3,"n_rows":55,"n_cols":14,"rows_kept":55,"cut":false,"hidden":true,"merged":[]}
[54,"Gráficos"]
["Base original","$BA$11","A1:A96",6.24,"2013-09-06T14:00:17",true,"F022.CAP.TIN.AN03.NO.Z.M","2006","2013",0,"Monthly",false,false,false]
["Base original","$AW$11","A1:A96",4.92,"2013-09-06T14:00:17",true,"F022.CAP.TIN.D089.NO.Z.M","2006","2013",0,"Monthly",false,false,false]
["Base original","$AR$11","A1:A96",408.65,"2013-09-06T14:00:17",true,"F021.CAV.STO.N.CLP.0.M","2006","2013",0,"Monthly",false,false,false]
["Base original","$AN$11","A1:A96",4253.96,"2013-09-06T14:00:17",true,"F021.LCR.STO.N.CLP.0.M","2006","2013",0,"Monthly",false,false,false]
["Base original","$AJ$11","A1:A96",33036.230000000003,"2013-09-06T14:00:17",true,"F021.M2.STO.N.CLP.0.M","2006","2013",0,"Monthly",false,false,false]
["Base original","$AF$11","A1:A96",3330.57,"2013-09-06T14:00:17",true,"F021.FM.STO.N.CLP.0.M","2006","2013",0,"Monthly",false,false,false]
["Base original","$AB$11","A1:A96",1619.63,"2013-09-06T14:00:17",true,"F021.DA.STO.N.CLP.0.M","2006","2013",0,"Monthly",false,false,false]
["Base original","$X$11","A1:A96",5.31,"2013-09-06T14:00:17",true,"F022.VIV.TIP.MA03.UF.Z.M","2006","2013",0,"Monthly",false,false,false]
["Base original","$T$11","A1:A96",5.05,"2013-09-06T14:00:17",true,"F022.CMX.TIP.M1M3.US.Z.M","2006","2013",0,"Monthly",false,false,false]
["Base original","$P$11","A1:A96",12.71,"2013-09-06T14:00:17",true,"F022.COM.TIP.M6A1.NO.Z.M","2006","2013",0,"Monthly",false,false,false]
["Base original","$L$11","A1:A96",10.2731725726366,"2013-09-06T14:00:17",true,"F022.COM.TIP.Z.NO.Z.M","2006","2013",0,"Monthly",false,false,false]
["Base original","$H$11","A1:A96",27.02,"2013-09-06T14:00:17",true,"F022.CON.TIP.HM06.NO.Z.M","2006","2013",0,"Monthly",false,false,false]
["Base original","$D$11","A1:A96",9317.4879999999994,"2013-09-06T14:00:17",true,"F022.VIVBI.STO.Z.Z.CLP.M","2006","2013",0,"Monthly",false,false,false]
["Base original","$BB$11","A1:A96",17.64,"2013-09-06T14:00:17",true,"F022.COL.TIN.AN03.NO.Z.M","2006","2013",0,"Monthly",false,false,false]
["Base original","$AX$11","A1:A96",7.56,"2013-09-06T14:00:17",true,"F022.COL.TIN.D089.NO.Z.M","2006","2013",0,"Monthly",false,false,false]
["Base original","$AS$11","A1:A96",2312.86,"2013-09-06T14:00:17",true,"F021.FM3.STO.N.CLP.0.M","2006","2013",0,"Monthly",false,false,false]
["Base original","$AO$11","A1:A96",352.74,"2013-09-06T14:00:17",true,"F021.ECO.STO.N.CLP.0.M","2006","2013",0,"Monthly",false,false,false]
["Base original","$AK$11","A1:A96",3263.92,"2013-09-06T14:00:17",true,"F021.DME.STO.N.CLP.0.M","2006","2013",0,"Monthly",false,false,false]
["Base original","$AG$11","A1:A96",110.16,"2013-09-06T14:00:17",true,"F021.CAC.STO.N.CLP.0.M","2006","2013",0,"Monthly",false,false,false]
["Base original","$AC$11","A1:A96",7577.57,"2013-09-06T14:00:17",true,"F021.M1.STO.N.CLP.0.M","2006","2013",0,"Monthly",false,false,false]
["Base original","$Y$11","A1:A96",2757.7,"2013-09-06T14:00:17",true,"F021.BMO.STO.N.CLP.0.M","2006","2013",0,"Monthly",false,false,false]
["Base original","$U$11","A1:A96",5.75,"2013-09-06T14:00:17",true,"F022.CMX.TIP.M3M6.US.Z.M","2006","2013",0,"Monthly",false,false,false]
["Base original","$Q$11","A1:A96",14.03,"2013-09-06T14:00:17",true,"F022.COM.TIP.MA01.NO.Z.M","2006","2013",0,"Monthly",false,false,false]
["Base original","$M$11","A1:A96",9.25,"2013-09-06T14:00:17",true,"F022.COM.TIP.HM01.NO.Z.M","2006","2013",0,"Monthly",false,false,false]
["Base original","$I$11","A1:A96",31.99,"2013-09-06T14:00:17",true,"F022.CON.TIP.M6A1.NO.Z.M","2006","2013",0,"Monthly",false,false,false]
["Base original","$E$11","A1:A96",3905.4259999999999,"2013-09-06T14:00:17",true,"F022.CMXBI.STO.Z.Z.CLP.M","2006","2013",0,"Monthly",false,false,false]
["Base original","$BC$11","A1:A96",6.36,"2013-09-06T14:00:17",true,"F022.CAP.TIN.MA03.NO.Z.M","2006","2013",0,"Monthly",false,false,false]
["Base original","$AY$11","A1:A96",5.52,"2013-09-06T14:00:17",true,"F022.CAP.TIN.AN01.NO.Z.M","2006","2013",0,"Monthly",false,false,false]
["Base original","$AT$11","A1:A96",161.41,"2013-09-06T14:00:17",true,"F021.AF3.STO.N.CLP.0.M","2006","2013",0,"Monthly",false,false,false]
["Base original","$AP$11","A1:A96",8243.9500000000007,"2013-09-06T14:00:17",true,"F021.BOE.STO.N.CLP.0.M","2006","2013",0,"Monthly",false,false,false]
["Base original","$AL$11","A1:A96",6603.07,"2013-09-06T14:00:17",true,"F021.DBC.STO.N.CLP.0.M","2006","2013",0,"Monthly",false,false,false]
["Base original","$AH$11","A1:A96",3111.66,"2013-09-06T14:00:17",true,"F021.FM2.STO.N.CLP.0.M","2006","2013",0,"Monthly",false,false,false]
["Base original","$AD$11","A1:A96",22893.1,"2013-09-06T14:00:17",true,"F021.DP.STO.N.CLP.0.M","2006","2013",0,"Monthly",false,false,false]
["Base original","$Z$11","A1:A96",1694,"2013-09-06T14:00:17",true,"F021.CIR.STO.N.CLP.0.M","2006","2013",0,"Monthly",false,false,false]
["Base original","$V$11","A1:A96",6.03,"2013-09-06T14:00:17",true,"F022.CMX.TIP.M6A1.US.Z.M","2006","2013",0,"Monthly",false,false,false]
["Base original","$R$11","A1:A96",5.28923438819597,"2013-09-06T14:00:17",true,"F022.CMX.TIP.Z.US.Z.M","2006","2013",0,"Monthly",false,false,false]
["Base original","$N$11","A1:A96",7.9,"2013-09-06T14:00:17",true,"F022.COM.TIP.M1M3.NO.Z.M","2006","2013",0,"Monthly",false,false,false]
["Base original","$J$11","A1:A96",24.95,"2013-09-06T14:00:17",true,"F022.CON.TIP.A1A3.NO.Z.M","2006","2013",0,"Monthly",false,false,false]
["Base original","$F$11","A1:A96",44671.106,"2013-09-06T14:00:17",true,"F022.CTOBI.STO.Z.Z.CLP.M","2006","2013",0,"Monthly",false,false,false]
["Base original","$B$11","A1:A96",25877.188999999998,"2013-09-06T14:00:17",true,"F022.COMBI.STO.Z.Z.CLP.M","2006","2013",0,"Monthly",false,false,false]
["Base original","$BD$11","A1:A96",19.920000000000002,"2013-09-06T14:00:17",true,"F022.COL.TIN.MA03.NO.Z.M","2006","2013",0,"Monthly",false,false,false]
["Base original","$AZ$11","A1:A96",14.76,"2013-09-06T14:00:17",true,"F022.CAP.TIN.Z.NO.Z.M","2006","2013",0,"Monthly",false,false,false]
["Base original","$AU$11","A1:A96",58173,"2013-09-06T14:00:17",true,"F021.M3.STO.N.CLP.0.M","2006","2013",0,"Monthly",false,false,false]
["Base original","$AQ$11","A1:A96",3443.76,"2013-09-06T14:00:17",true,"F021.FMR.STO.N.CLP.0.M","2006","2013",0,"Monthly",false,false,false]
["Base original","$AM$11","A1:A96",1040.99,"2013-09-06T14:00:17",true,"F021.BOT.STO.N.CLP.0.M","2006","2013",0,"Monthly",false,false,false]
["Base original","$AI$11","A1:A96",8.4700000000000006,"2013-09-06T14:00:17",true,"F021.CA2.STO.N.CLP.0.M","2006","2013",0,"Monthly",false,false,false]
["Base original","$AE$11","A1:A96",2244.9699999999998,"2013-09-06T14:00:17",true,"F021.AHP.STO.N.CLP.0.M","2006","2013",0,"Monthly",false,false,false]
["Base original","$AA$11","A1:A96",4263.9799999999996,"2013-09-06T14:00:17",true,"F021.DCC.STO.N.CLP.0.M","2006","2013",0,"Monthly",false,false,false]
["Base original","$W$11","A1:A96",6.1,"2013-09-06T14:00:17",true,"F022.CMX.TIP.MA01.US.Z.M","2006","2013",0,"Monthly",false,false,false]
["Base original","$S$11","A1:A96",5.03,"2013-09-06T14:00:17",true,"F022.CMX.TIP.HM01.US.Z.M","2006","2013",0,"Monthly",false,false,false]
["Base original","$O$11","A1:A96",8.66,"2013-09-06T14:00:17",true,"F022.COM.TIP.M3M6.NO.Z.M","2006","2013",0,"Monthly",false,false,false]
["Base original","$K$11","A1:A96",22.13,"2013-09-06T14:00:17",true,"F022.CON.TIP.MA03.NO.Z.M","2006","2013",0,"Monthly",false,false,false]
["Base original","$G$11","A1:A96",26.840105511345499,"2013-09-06T14:00:17",true,"F022.CON.TIP.Z.NO.Z.M","2006","2013",0,"Monthly",false,false,false]
["Base original","$C$11","A1:A96",5571.0029999999997,"2013-09-06T14:00:17",true,"F022.CONBI.STO.Z.Z.CLP.M","2006","2013",0,"Monthly",false,false,false]

{"sheet":"Gráficos","index":4,"n_rows":93,"n_cols":17,"rows_kept":93,"cut":false,"hidden":false,"merged":[[75,1,75,4],[75,7,75,10],[75,13,75,16],[39,1,39,4],[39,6,39,9],[39,11,39,14],[39,16,39,19],[56,1,56,4],[56,6,56,9],[56,11,56,14],[56,16,56,19],[22,1,22,4],[22,6,22,9],[22,11,22,14],[22,16,22,19],[19,0,19,19],[3,16,6,20],[7,16,9,20],[10,16,10,20],[2,16,2,20],[16,6,17,9]]}
[]
[null,"Gráfico 1: Tasas de interés por tipo de deudor (1)",null,null,null,null,"Gráfico 2: Colocaciones nominales por tipo de deudor (2)",null,null,null,null,"Gráfico 3: Agregados monetarios nominales (3)"]
[null," (tasas base anual 360 días, porcentaje)",null,null,null,null,"(variación anual,  porcentaje)",null,null,null,null,"(variación anual, porcentaje)"]
[]
[]
[]
[]
[]
[]
[]
[]
[]
[]
[]
[]
[]
[null,"Fuentes: Banco Central de Chile",null,null,null,null,"Fuente: Banco Central de Chile en base a balances individuales reportados por la Superintendencia de Bancos e Instituciones Financieras.",null,null,null,null,"Fuentes: Banco Central de Chile"]
[]
[]
["Anexo  gráficos"]
[null,"1.- Tasas de interés (1) (tasa base anual 360 días, porcentaje) "]
[null,"Por tipo de deudor"]
[null,"Consumo ($)",null,null,null,null,"Comerciales($)",null,null,null,null,"Comercio exterior (US$)",null,null,null,null,"Vivienda (UF)"]
[]
[]
[]
[]
[]
[]
[]
[]
[]
[]
[]
[]
[]
[null,"Fuente: Banco Central de Chile."]
[]
[null,"Nominales por plazo"]
[null,"30 a 89 días",null,null,null,null,"90 días a 1 año",null,null,null,null,"1 a 3 años",null,null,null,null,"Más de 3 años"]
[]
[]
[]
[]
[]
[]
[]
[]
[]
[]
[]
[]
[]
[null,"Fuente: Banco Central de Chile."]
[]
[null,"2.- Colocaciones nominales por tipo de deudor (2) (variación anual y mensual, porcentaje)"]
[null,"Consumo ",null,null,null,null,"Comerciales",null,null,null,null,"Comercio exterior ",null,null,null,null,"Vivienda "]
[]
[]
[]
[]
[]
[]
[]
[]
[]
[]
[]
[]
[]
[]
[null,"Fuente: Banco Central de Chile en base a balances individuales reportados por la Superintendencia de Bancos e Instituciones Financieras."]
[]
[]
[null,"3.- Agregados monetarios nominales y sus componentes (3) (incidencia en la variación  anual, porcentaje)"]
[null,"M1",null,null,null,null,null,"M2",null,null,null,null,null,"M3"]
[]
[]
[]
[]
[]
[]
[]
[]
[]
[]
[]
[]
[]
[null,"Fuente: Banco Central de Chile"]
[]
[]
[null,"Notas:"]

{"sheet":"Tablas","index":5,"n_rows":28,"n_cols":7,"rows_kept":28,"cut":false,"hidden":false,"merged":[]}
[null,null,"2013-08-01",null,"2013-07-01"]
[null,null,null,null,null,null,"Dif"]
[null,"Tasas de interés por tipo de"]
[null,"deudor (1):"]
[null,"(tasas base anual 360 días)    "]
[null,"consumo ($):              ",{"$f":"+'Base gráficos 1'!$K$98/100","v":0.274107644997725},{"$f":"C6-E6","v":4.2076449977250241E-3},{"$f":"+'Base gráficos 1'!$K$97/100","v":0.26989999999999997},{"$f":"C6-E6","v":4.2076449977250241E-3},{"$f":"C6/E6*100-100","v":1.5589644304279489}]
[null,"comerciales ($):",{"$f":"+'Base gráficos 1'!$Q$98/100","v":8.8965493557184916E-2},{"$f":"C7-E7","v":-3.2345064428150883E-3},{"$f":"+'Base gráficos 1'!$Q$97/100","v":9.2200000000000004E-2},{"$f":"C7-E7","v":-3.2345064428150883E-3},{"$f":"C7/E7*100-100","v":-3.5081414781074756}]
[null,"comercio exterior (US$):",{"$f":"+'Base gráficos 1'!$W$98/100","v":1.6821505055583722E-2},2.0215050555837215E-3,{"$f":"+'Base gráficos 1'!$W$97/100","v":1.4800000000000001E-2},2.0215050555837215E-3,13.658817943133258]
[null,"vivienda (UF):",{"$f":"+'Base gráficos 1'!$X$98/100","v":4.4900000000000002E-2},3.0000000000000165E-4,{"$f":"+'Base gráficos 1'!$X$97/100","v":4.4600000000000001E-2},3.0000000000000165E-4,0.6726457399103225]
[]
[]
[null,null,null,null,null,null,"Dif"]
[null,"Colocaciones nominales por"]
[null,"tipo de deudor (2):"]
[null,"(variación anual)    "]
[null,"consumo:              ",{"$f":"+'Base gráficos 1'!$C$98/100","v":0.10006201915621644},{"$f":"F16","v":-4.5725137401209821},{"$f":"+'Base gráficos 1'!$C$97/100","v":0.10485660167524075},{"$f":"C16/E16*100-100","v":-4.5725137401209821},{"$f":"C16/F16*100-100","v":-102.18833720013204}]
[null,"comerciales:",{"$f":"+'Base gráficos 1'!$B$98/100","v":0.11071242756491827},{"$f":"F17","v":11.911981618487388},{"$f":"+'Base gráficos 1'!$B$97/100","v":9.8928127233365901E-2},{"$f":"C17/E17*100-100","v":11.911981618487388},{"$f":"C17/F17*100-100","v":-99.070579261194524}]
[null,"comercio exterior:",{"$f":"+'Base gráficos 1'!$E$98/100","v":0.1551779857603526},-12.146371617149015,{"$f":"+'Base gráficos 1'!$E$97/100","v":0.17663241532166851},-12.146371617149015,{"$f":"C18/F18*100-100","v":-101.2775665906785}]
[null,"vivienda:",{"$f":"+'Base gráficos 1'!$D$98/100","v":0.1116844405772035},3.3443016028758876,{"$f":"+'Base gráficos 1'!$D$97/100","v":0.10807024562067923},3.3443016028758876,{"$f":"C19/F19*100-100","v":-96.660455489984457}]
[null,"total:",{"$f":"+'Base gráficos 1'!$F$98/100","v":0.11340535387068897},4.8751518204422268,{"$f":"+'Base gráficos 1'!$F$97/100","v":0.10813367313627481},4.8751518204422268,{"$f":"C20/F20*100-100","v":-97.673808774628029}]
[]
[]
[null,null,null,null,null,null,"Dif"]
[null,"Agregados monetarios (3)"]
[null,"(variación anual)    "]
[null,"M1:              ",{"$f":"+'Base gráficos 1'!$AB$98/100","v":0.1505897008241108},{"$f":"F26","v":5.5097312586959646},{"$f":"+'Base gráficos 1'!$AB$97/100","v":0.14272588796087887},{"$f":"C26/E26*100-100","v":5.5097312586959646},{"$f":"C26/F26*100-100","v":-97.266841271315428}]
[null,"M2:              ",{"$f":"+'Base gráficos 1'!$AL$98/100","v":0.11251165053094227},{"$f":"F27","v":28.368087126429401},{"$f":"+'Base gráficos 1'!$AL$97/100","v":8.764768023701236E-2},{"$f":"C27/E27*100-100","v":28.368087126429401},{"$f":"C27/F27*100-100","v":-99.603386544783561}]
[null,"M3:              ",{"$f":"+'Base gráficos 1'!$AZ$98/100","v":0.11170550028894397},3.8485609746363565,{"$f":"+'Base gráficos 1'!$AZ$97/100","v":0.10756576618931347},3.8485609746363565,{"$f":"C28/F28*100-100","v":-97.097473548551505}]